{"text_format":"1","workbook":"xlsx","n_sheets":6,"sheets":["Family Tree","DATA","DATA1","Doplnění a změny","CISEL","Přehled databáze"],"not_rendered":{"charts":0,"images":1,"macros":1,"external_links":0,"defined_names":19,"comments":0,"pivot_tables":0},"unopened":[],"bounds":{"document_bytes":16777216,"sheet_cells":100000,"rows_first":2000,"rows_last":500,"rows_between":2000,"halvings":0,"cell_chars":16384,"cell_head_chars":4096},"cells_cut":0,"cells_raw":0,"read":"whole","date_system":"1900"}

{"sheet":"Family Tree","index":0,"n_rows":34,"n_cols":6,"rows_kept":34,"cut":false,"hidden":false,"merged":[]}
[null,"Vyberte evidenční číslo",null,{"$f":"DATA!Q1","v":"BERAN_REG | JMENO | NAROZENI | VRH | Majitel | Bonita | POHLAVI | GENOTYP | V100D"}]
[null,null,null,{"$f":"VLOOKUP(F19,DATA!$C$2:$Q$1900,15,0)","v":"FLI-0001 | FLIP | 2009.2.7 | 2 | Berkovcová L | ER |  | ARR/ARR | "}]
[]
[null,{"$f":"DATA1!B68","v":""},{"$f":"IFERROR(VLOOKUP(B4,DATA!$C$2:$Q$1900,15,0),\"\")","v":""}]
[null,null,{"$f":"DATA1!B66","v":"99002DAW00034400"},{"$f":"IFERROR(VLOOKUP(C5,DATA!$C$2:$Q$1900,15,0),\"\")","v":" |  |  |  |  |  | Mal |  | "},null,"NL"]
[null,{"$f":"DATA1!B67","v":""},{"$f":"IFERROR(VLOOKUP(B6,DATA!$C$2:$Q$1900,15,0),\"\")","v":""}]
[null,null,null,{"$f":"DATA1!B8","v":"NL00216477900143"},{"$f":"IFERROR(VLOOKUP(D7,DATA!$C$2:$Q$1900,15,0),\"\")","v":" |  |  | 2 |  |  | Mal |  | "}]
[null,{"$f":"DATA1!B60","v":""},{"$f":"IFERROR(VLOOKUP(B8,DATA!$C$2:$Q$1900,15,0),\"\")","v":""}]
[null,null,{"$f":"DATA1!B58","v":"9901200ESI000110"},{"$f":"IFERROR(VLOOKUP(C9,DATA!$C$2:$Q$1900,15,0),\"\")","v":" |  |  |  |  |  | Fem |  | "}]
[null,{"$f":"DATA1!B59","v":""},{"$f":"IFERROR(VLOOKUP(B10,DATA!$C$2:$Q$1900,15,0),\"\")","v":""}]
[null,null,null,null,{"$f":"DATA1!B4","v":"NL00255933900049"},{"$f":"IFERROR(VLOOKUP(E11,DATA!$C$2:$Q$1900,15,0),\"\")","v":" |  |  | 3 |  |  | Mal |  | "}]
[null,{"$f":"DATA1!B44","v":"9901200VSB000010"},{"$f":"IFERROR(VLOOKUP(B12,DATA!$C$2:$Q$1900,15,0),\"\")","v":" |  |  |  |  |  | Mal |  | "}]
[null,null,{"$f":"DATA1!B50","v":"NL00255933900006"},{"$f":"IFERROR(VLOOKUP(C13,DATA!$C$2:$Q$1900,15,0),\"\")","v":" |  |  |  |  |  | Mal |  | "}]
[null,{"$f":"DATA1!B43","v":"9901200SBN000170"},{"$f":"IFERROR(VLOOKUP(B14,DATA!$C$2:$Q$1900,15,0),\"\")","v":" |  |  |  |  |  | Fem |  | "}]
[null,null,null,{"$f":"DATA1!B7","v":"NL00109990803101"},{"$f":"IFERROR(VLOOKUP(D15,DATA!$C$2:$Q$1900,15,0),\"\")","v":" |  |  | 3 |  |  | Fem |  | "}]
[null,{"$f":"DATA1!B52","v":""},{"$f":"IFERROR(VLOOKUP(B16,DATA!$C$2:$Q$1900,15,0),\"\")","v":""}]
[null,null,{"$f":"DATA1!B42","v":"NL00202181200218"},{"$f":"IFERROR(VLOOKUP(C17,DATA!$C$2:$Q$1900,15,0),\"\")","v":" |  |  |  |  |  | Fem |  | "}]
[null,{"$f":"DATA1!B51","v":""},{"$f":"IFERROR(VLOOKUP(B18,DATA!$C$2:$Q$1900,15,0),\"\")","v":""}]
[null,null,null,null,null,"NL00109990360000"]
[null,{"$f":"DATA1!B36","v":""},{"$f":"IFERROR(VLOOKUP(B20,DATA!$C$2:$Q$1900,15,0),\"\")","v":""}]
[null,null,{"$f":"DATA1!B34","v":""},{"$f":"IFERROR(VLOOKUP(C21,DATA!$C$2:$Q$1900,15,0),\"\")","v":""}]
[null,{"$f":"DATA1!B35","v":""},{"$f":"IFERROR(VLOOKUP(B22,DATA!$C$2:$Q$1900,15,0),\"\")","v":""}]
[null,null,null,{"$f":"DATA1!B6","v":"9901200CHA000010"},{"$f":"IFERROR(VLOOKUP(D23,DATA!$C$2:$Q$1900,15,0),\"\")","v":" |  |  |  |  |  | Mal |  | "}]
[null,{"$f":"DATA1!B28","v":""},{"$f":"IFERROR(VLOOKUP(B24,DATA!$C$2:$Q$1900,15,0),\"\")","v":""}]
[null,null,{"$f":"DATA1!B26","v":""},{"$f":"IFERROR(VLOOKUP(C25,DATA!$C$2:$Q$1900,15,0),\"\")","v":""}]
[null,{"$f":"DATA1!B27","v":""},{"$f":"IFERROR(VLOOKUP(B26,DATA!$C$2:$Q$1900,15,0),\"\")","v":""}]
[null,null,null,null,{"$f":"DATA1!B3","v":"NL00109990603330"},{"$f":"IFERROR(VLOOKUP(E27,DATA!$C$2:$Q$1900,15,0),\"\")","v":" |  |  | 3 |  |  | Fem |  | "}]
[null,{"$f":"DATA1!B20","v":"0000000000000000"},{"$f":"IFERROR(VLOOKUP(B28,DATA!$C$2:$Q$1900,15,0),\"\")","v":"XNA | XNA |  |  |  |  | Mal |  | "}]
[null,null,{"$f":"DATA1!B18","v":"9901200VSB000010"},{"$f":"IFERROR(VLOOKUP(C29,DATA!$C$2:$Q$1900,15,0),\"\")","v":" |  |  |  |  |  | Mal |  | "}]
[null,{"$f":"DATA1!B19","v":"0000000000000000"},{"$f":"IFERROR(VLOOKUP(B30,DATA!$C$2:$Q$1900,15,0),\"\")","v":"XNA | XNA |  |  |  |  | Mal |  | "}]
[null,null,null,{"$f":"DATA1!B5","v":"9901200SBN002190"},{"$f":"IFERROR(VLOOKUP(D31,DATA!$C$2:$Q$1900,15,0),\"\")","v":" |  |  | 4 |  |  | Fem |  | "}]
[null,{"$f":"DATA1!B12","v":"0000000000000000"},{"$f":"IFERROR(VLOOKUP(B32,DATA!$C$2:$Q$1900,15,0),\"\")","v":"XNA | XNA |  |  |  |  | Mal |  | "}]
[null,null,{"$f":"DATA1!B10","v":"9901200SBN000170"},{"$f":"IFERROR(VLOOKUP(C33,DATA!$C$2:$Q$1900,15,0),\"\")","v":" |  |  |  |  |  | Fem |  | "}]
[null,{"$f":"DATA1!B11","v":"0000000000000000"},{"$f":"IFERROR(VLOOKUP(B34,DATA!$C$2:$Q$1900,15,0),\"\")","v":"XNA | XNA |  |  |  |  | Mal |  | "}]

{"sheet":"DATA","index":1,"n_rows":944,"n_cols":20,"rows_kept":944,"cut":false,"hidden":true,"merged":[]}
[null,"ID","UC","BERAN_REG","JMENO","FEMALE_ID","MALE_ID","NAROZENI","VRH","Majitel","Bonita","POHLAVI","GENOTYP","V100D","FEMALE","MALE",{"$f":"D1&\" | \"&E1&\" | \"&H1&\" | \"&I1&\" | \"&J1&\" | \"&K1&\" | \"&L1&\" | \"&M1&\" | \"&N1","v":"BERAN_REG | JMENO | NAROZENI | VRH | Majitel | Bonita | POHLAVI | GENOTYP | V100D"}]
[1,607,"0000000000000000","XNA","XNA",null,null,null,null,"","","Mal","",null,"","",{"$f":"D2&\" | \"&E2&\" | \"&IF(H2<1,\"\",YEAR(H2)&\".\"&MONTH(H2)&\".\"&DAY(H2))&\" | \"&I2&\" | \"&J2&\" | \"&K2&\" | \"&L2&\" | \"&M2&\" | \"&N2","v":"XNA | XNA |  |  |  |  | Mal |  | "},null,null,{"$f":"IF(H2<1,\"\",3)","v":""}]
[{"$f":"A2+1","v":2},14,"2030400OHA000650","","",489,581,null,null,"","","Mal","",null,"NL00109990603330","NL00255933900049",{"$f":"D3&\" | \"&E3&\" | \"&IF(H3<1,\"\",YEAR(H3)&\".\"&MONTH(H3)&\".\"&DAY(H3))&\" | \"&I3&\" | \"&J3&\" | \"&K3&\" | \"&L3&\" | \"&M3&\" | \"&N3","v":" |  |  |  |  |  | Mal |  | "}]
[{"$f":"A3+1","v":3},13,"5053400870000000","","",605,1197,null,null,"","","Fem","",null,"9902180690000000","9901280940000000"," |  |  |  |  |  | Fem |  | "]
[4,671,"5053403650000000","","",null,null,null,null,"","","Fem","",null,"",""," |  |  |  |  |  | Fem |  | "]
[5,662,"50534052511FR000","","",null,null,null,null,"","","Fem","",null,"",""," |  |  |  |  |  | Fem |  | "]
[6,644,"5053431140087020","","",null,null,null,null,"","","Fem","",null,"",""," |  |  |  |  |  | Fem |  | "]
[7,1308,"5053462320052000","","",null,null,null,null,"","","Mal","",null,"",""," |  |  |  |  |  | Mal |  | "]
[8,1788,"9900103300000000","","",null,null,null,null,"","","Mal","",null,"",""," |  |  |  |  |  | Mal |  | "]
[9,1193,"9900122300000000","","",null,null,null,null,"","","Fem","",null,"",""," |  |  |  |  |  | Fem |  | "]
[10,1620,"9900137690000000","","",null,null,null,null,"","","Mal","",null,"",""," |  |  |  |  |  | Mal |  | "]
[11,1623,"9900138700000000","","",null,null,null,null,"","","Mal","",null,"",""," |  |  |  |  |  | Mal |  | "]
[12,1785,"9900150360000000","","",null,null,null,null,"","","Mal","",null,"",""," |  |  |  |  |  | Mal |  | "]
[13,1196,"9900197025000000","","",null,null,null,null,"","","Fem","",null,"",""," |  |  |  |  |  | Fem |  | "]
[14,1747,"99001F9586005700","","",null,null,null,null,"","","Mal","",null,"",""," |  |  |  |  |  | Mal |  | "]
[15,1155,"99001RA000033770","","",null,null,null,null,"","","Fem","",null,"",""," |  |  |  |  |  | Fem |  | "]
[16,1739,"99002DAW00034400","","",null,null,null,null,"","","Mal","",null,"",""," |  |  |  |  |  | Mal |  | "]
[17,1113,"99012000DZ000560","","",null,null,null,null,"","","Fem","",null,"",""," |  |  |  |  |  | Fem |  | "]
[18,1122,"99012000FA00N430","","",null,null,null,null,"","","Fem","",null,"",""," |  |  |  |  |  | Fem |  | "]
[19,1102,"99012000WB000400","","",null,null,null,null,"","","Fem","",null,"",""," |  |  |  |  |  | Fem |  | "]
[20,1704,"99012000WB000600","","",null,null,null,null,"","","Mal","",null,"",""," |  |  |  |  |  | Mal |  | "]
[21,15,"99012000WB000740","","",607,607,null,null,"","","Fem","",null,"0000000000000000","0000000000000000"," |  |  |  |  |  | Fem |  | "]
[22,16,"99012000WB001190","","",607,607,null,null,"","","Fem","",null,"0000000000000000","0000000000000000"," |  |  |  |  |  | Fem |  | "]
[23,1705,"99012000WB001600","","",null,null,null,null,"","","Mal","",null,"",""," |  |  |  |  |  | Mal |  | "]
[24,1109,"99012000WB001930","","",null,null,null,null,"","","Fem","",null,"",""," |  |  |  |  |  | Fem |  | "]
[25,1110,"99012000WB002160","","",null,null,null,null,"","","Fem","",null,"",""," |  |  |  |  |  | Fem |  | "]
[26,17,"9901200BTV000990","","",607,607,null,null,"","","Mal","",null,"0000000000000000","0000000000000000"," |  |  |  |  |  | Mal |  | "]
[27,1161,"9901200DPU000260","","",null,null,null,null,"","","Fem","",null,"",""," |  |  |  |  |  | Fem |  | "]
[28,1147,"9901200ESI000110","","",null,null,null,null,"","","Fem","",null,"",""," |  |  |  |  |  | Fem |  | "]
[29,1118,"9901200FAF00N760","","",null,null,null,null,"","","Fem","",null,"",""," |  |  |  |  |  | Fem |  | "]
[30,1709,"9901200FAF970710","","",null,null,null,null,"","","Mal","",null,"",""," |  |  |  |  |  | Mal |  | "]
[31,1130,"9901200FAF990160","","",null,null,null,null,"","","Fem","",null,"",""," |  |  |  |  |  | Fem |  | "]
[32,1128,"9901200FAF990590","","",null,null,null,null,"","","Fem","",null,"",""," |  |  |  |  |  | Fem |  | "]
[33,1171,"9901200FBB000530","","",null,null,null,null,"","","Fem","",null,"",""," |  |  |  |  |  | Fem |  | "]
[34,1152,"9901200FBB000750","","",null,null,null,null,"","","Fem","",null,"",""," |  |  |  |  |  | Fem |  | "]
[35,1151,"9901200FBB000800","","",null,null,null,null,"","","Fem","",null,"",""," |  |  |  |  |  | Fem |  | "]
[36,1100,"9901200GRW000320","","",null,null,null,null,"","","Fem","",null,"",""," |  |  |  |  |  | Fem |  | "]
[37,1162,"9901200HAZ000020","","",null,null,null,null,"","","Fem","",null,"",""," |  |  |  |  |  | Fem |  | "]
[38,18,"9901200HAZ001030","","",16,31,null,null,"","","Mal","",null,"99012000WB001190","9901200TBV000710"," |  |  |  |  |  | Mal |  | "]
[39,1111,"9901200HHF001210","","",null,null,null,null,"","","Fem","",null,"",""," |  |  |  |  |  | Fem |  | "]
[40,1673,"9901200CHA000010","","",null,null,null,null,"","","Mal","",null,"",""," |  |  |  |  |  | Mal |  | "]
[41,1159,"9901200JBA000010","","",null,null,null,null,"","","Fem","",null,"",""," |  |  |  |  |  | Fem |  | "]
[42,1112,"9901200KGL000550","","",null,null,null,null,"","","Fem","",null,"",""," |  |  |  |  |  | Fem |  | "]
[43,1695,"9901200KGL000660","","",null,null,null,null,"","","Mal","",null,"",""," |  |  |  |  |  | Mal |  | "]
[44,1042,"9901200KGP000250","","",null,null,null,null,"","","Fem","",null,"",""," |  |  |  |  |  | Fem |  | "]
[45,1634,"9901200KGP001310","","",null,null,null,null,"","","Mal","",null,"",""," |  |  |  |  |  | Mal |  | "]
[46,1746,"9901200KVH000320","","",null,null,null,null,"","","Mal","",null,"",""," |  |  |  |  |  | Mal |  | "]
[47,1103,"9901200KVH000470","","",null,null,null,null,"","","Fem","",null,"",""," |  |  |  |  |  | Fem |  | "]
[48,1715,"9901200MGI005280","","",null,null,null,null,"","","Mal","",null,"",""," |  |  |  |  |  | Mal |  | "]
[49,1778,"9901200MGI005360","","",null,null,null,null,"","","Mal","",null,"",""," |  |  |  |  |  | Mal |  | "]
[50,1156,"9901200MPU000610","","",null,null,null,null,"","","Fem","",null,"",""," |  |  |  |  |  | Fem |  | "]
[51,1767,"9901200ODZ001210","","",null,null,null,null,"","","Mal","",null,"",""," |  |  |  |  |  | Mal |  | "]
[52,19,"9901200OHA000170","","",26,585,null,null,"","","Fem","",null,"9901200SBN002190","NL00262826000001"," |  |  |  |  |  | Fem |  | "]
[53,20,"9901200OHA000190","","",586,17,null,null,"","","Fem","",null,"NL00262826000003","9901200BTV000990"," |  |  |  |  |  | Fem |  | "]
[54,21,"9901200OHA000650","","",489,581,null,null,"","","Mal","",null,"NL00109990603330","NL00255933900049"," |  |  |  |  |  | Mal |  | "]
[55,1095,"9901200OWE000030","","",null,null,null,null,"","","Fem","",null,"",""," |  |  |  |  |  | Fem |  | "]
[56,1141,"9901200OWE001310","","",null,null,null,null,"","","Fem","",null,"",""," |  |  |  |  |  | Fem |  | "]
[57,1703,"9901200OWE001800","","",null,null,null,null,"","","Mal","",null,"",""," |  |  |  |  |  | Mal |  | "]
[58,1740,"9901200OWE003180","","",null,null,null,null,"","","Mal","",null,"",""," |  |  |  |  |  | Mal |  | "]
[59,1117,"9901200PYWF95860","","",null,null,null,null,"","","Mal","",null,"",""," |  |  |  |  |  | Mal |  | "]
[60,1116,"9901200SAN000220","","",null,null,null,null,"","","Fem","",null,"",""," |  |  |  |  |  | Fem |  | "]
[61,1187,"9901200SAN000940","","",null,null,null,null,"","","Fem","",null,"",""," |  |  |  |  |  | Fem |  | "]
[62,22,"9901200SAN001010","","",607,607,null,null,"","","Mal","",null,"0000000000000000","0000000000000000"," |  |  |  |  |  | Mal |  | "]
[63,1047,"9901200SAN001170","","",null,null,null,null,"","","Fem","",null,"",""," |  |  |  |  |  | Fem |  | "]
[64,23,"9901200SBN000170","","",607,607,null,null,"","","Fem","",null,"0000000000000000","0000000000000000"," |  |  |  |  |  | Fem |  | "]
[65,1694,"9901200SBN000320","","",null,null,null,null,"","","Mal","",null,"",""," |  |  |  |  |  | Mal |  | "]
[66,1164,"9901200SBN000860","","",null,null,null,null,"","","Fem","",null,"","",{"$f":"D67&\" | \"&E67&\" | \"&IF(H67<1,\"\",YEAR(H67)&\".\"&MONTH(H67)&\".\"&DAY(H67))&\" | \"&I67&\" | \"&J67&\" | \"&K67&\" | \"&L67&\" | \"&M67&\" | \"&N67","v":" |  |  |  |  |  | Fem |  | "}]
[{"$f":"A67+1","v":67},1733,"9901200SBN001310","","",null,null,null,null,"","","Mal","",null,"",""," |  |  |  |  |  | Mal |  | "]
[68,24,"9901200SBN002000","","",607,607,null,null,"","","Fem","",null,"0000000000000000","0000000000000000"," |  |  |  |  |  | Fem |  | "]
[69,1753,"9901200SBN002090","","",null,null,null,null,"","","Mal","",null,"",""," |  |  |  |  |  | Mal |  | "]
[70,25,"9901200SBN002160","","",607,607,null,null,"","","Fem","",null,"0000000000000000","0000000000000000"," |  |  |  |  |  | Fem |  | "]
[71,26,"9901200SBN002190","","",23,32,null,4,"","","Fem","",null,"9901200SBN000170","9901200VSB000010"," |  |  | 4 |  |  | Fem |  | "]
[72,1682,"9901200SBN002220","","",null,null,null,null,"","","Mal","",null,"",""," |  |  |  |  |  | Mal |  | "]
[73,1756,"9901200SBN002250","","",null,null,null,null,"","","Mal","",null,"",""," |  |  |  |  |  | Mal |  | "]
[74,27,"9901200SBN002340","","",607,607,null,null,"","","Mal","",null,"0000000000000000","0000000000000000"," |  |  |  |  |  | Mal |  | "]
[75,28,"9901200SBN002500","","",25,27,null,null,"","","Fem","",null,"9901200SBN002160","9901200SBN002340"," |  |  |  |  |  | Fem |  | "]
[76,1123,"9901200SBN002710","","",null,null,null,null,"","","Fem","",null,"",""," |  |  |  |  |  | Fem |  | "]
[77,1186,"9901200SBN002940","","",null,null,null,null,"","","Fem","",null,"",""," |  |  |  |  |  | Fem |  | "]
[78,1716,"9901200SBN003230","","",null,null,null,null,"","","Mal","",null,"",""," |  |  |  |  |  | Mal |  | "]
[79,1127,"9901200SBN003240","","",null,null,null,null,"","","Fem","",null,"",""," |  |  |  |  |  | Fem |  | "]
[80,29,"9901200SBN003520","","",603,602,null,null,"","","Mal","",null,"UK00030351303358","UK00030342200057"," |  |  |  |  |  | Mal |  | "]
[81,1718,"9901200SBN003600","","",null,null,null,null,"","","Mal","",null,"",""," |  |  |  |  |  | Mal |  | "]
[82,1133,"9901200SBN003640","","",null,null,null,null,"","","Fem","",null,"",""," |  |  |  |  |  | Fem |  | "]
[83,30,"9901200SRE000930","","",607,607,null,null,"","","","",null,"0000000000000000","0000000000000000"," |  |  |  |  |  |  |  | "]
[84,1090,"9901200SRU000830","","",null,null,null,null,"","","Fem","",null,"",""," |  |  |  |  |  | Fem |  | "]
[85,1701,"9901200SRU000840","","",null,null,null,null,"","","Mal","",null,"",""," |  |  |  |  |  | Mal |  | "]
[86,1154,"9901200TBV000180","","",null,null,null,null,"","","Fem","",null,"",""," |  |  |  |  |  | Fem |  | "]
[87,1146,"9901200TBV000430","","",null,null,null,null,"","","Fem","",null,"",""," |  |  |  |  |  | Fem |  | "]
[88,1638,"9901200TBV000600","","",null,null,null,null,"","","Mal","",null,"",""," |  |  |  |  |  | Mal |  | "]
[89,31,"9901200TBV000710","","",607,607,null,null,"","","Mal","",null,"0000000000000000","0000000000000000"," |  |  |  |  |  | Mal |  | "]
[90,1692,"9901200TBV000780","","",null,null,null,null,"","","Mal","",null,"",""," |  |  |  |  |  | Mal |  | "]
[91,1114,"9901200TBV000790","","",null,null,null,null,"","","Fem","",null,"",""," |  |  |  |  |  | Fem |  | "]
[92,1738,"9901200TBV000840","","",null,null,null,null,"","","Mal","",null,"",""," |  |  |  |  |  | Mal |  | "]
[93,1706,"9901200TBV001070","","",null,null,null,null,"","","Mal","",null,"",""," |  |  |  |  |  | Mal |  | "]
[94,1763,"9901200TBV001170","","",null,null,null,null,"","","Mal","",null,"",""," |  |  |  |  |  | Mal |  | "]
[95,1148,"9901200TBV001460","","",null,null,null,null,"","","Fem","",null,"",""," |  |  |  |  |  | Fem |  | "]
[96,1751,"9901200TBV001540","","",null,null,null,null,"","","Mal","",null,"",""," |  |  |  |  |  | Mal |  | "]
[97,1771,"9901200TGI000030","","",null,null,null,null,"","","Mal","",null,"",""," |  |  |  |  |  | Mal |  | "]
[98,32,"9901200VSB000010","","",607,607,null,null,"","","Mal","",null,"0000000000000000","0000000000000000"," |  |  |  |  |  | Mal |  | "]
[99,1142,"9901200VWT000640","","",null,null,null,null,"","","Fem","",null,"",""," |  |  |  |  |  | Fem |  | "]
[100,1115,"9901200VWT000800","","",null,null,null,null,"","","Fem","",null,"",""," |  |  |  |  |  | Fem |  | "]
[101,1197,"9901280940000000","","",null,null,null,null,"","","Mal","",null,"",""," |  |  |  |  |  | Mal |  | "]
[102,1043,"99012C0KGL001940","","",null,null,null,null,"","","Fem","",null,"",""," |  |  |  |  |  | Fem |  | "]
[103,1743,"99012DOB00011500","","",null,null,null,null,"","","Mal","",null,"",""," |  |  |  |  |  | Mal |  | "]
[104,33,"99012f9586005700","","",607,607,null,null,"","","","",null,"0000000000000000","0000000000000000"," |  |  |  |  |  |  |  | "]
[105,1030,"990210001100KGL0","","",null,null,null,null,"","","Fem","",null,"",""," |  |  |  |  |  | Fem |  | "]
[106,1032,"990210002400BRL0","","",null,null,null,null,"","","Fem","",null,"",""," |  |  |  |  |  | Fem |  | "]
[107,1248,"9902100051000000","","",null,null,null,null,"","","Mal","",null,"",""," |  |  |  |  |  | Mal |  | "]
[108,1622,"990210008700RGE0","","",null,null,null,null,"","","Mal","",null,"",""," |  |  |  |  |  | Mal |  | "]
[109,1624,"990210013200KGP0","","",null,null,null,null,"","","Mal","",null,"",""," |  |  |  |  |  | Mal |  | "]
[110,1029,"9902120040000000","","",null,null,null,null,"","","Fem","",null,"",""," |  |  |  |  |  | Fem |  | "]
[111,1028,"9902140250000000","","",null,null,null,null,"","","Fem","",null,"",""," |  |  |  |  |  | Fem |  | "]
[112,1255,"9902140550JS0000","","",null,null,null,null,"","","Mal","",null,"",""," |  |  |  |  |  | Mal |  | "]
[113,1621,"9902160580000000","","",null,null,null,null,"","","Mal","",null,"",""," |  |  |  |  |  | Mal |  | "]
[114,663,"9902161040JS0000","","",null,null,null,null,"","","Fem","",null,"",""," |  |  |  |  |  | Fem |  | "]
[115,605,"9902180690000000","","",null,null,null,null,"","","Fem","",null,"",""," |  |  |  |  |  | Fem |  | "]
[116,657,"9902198012000000","","",null,null,null,null,"","","Fem","",null,"",""," |  |  |  |  |  | Fem |  | "]
[117,1249,"9902198094000000","","",null,null,null,null,"","","Mal","",null,"",""," |  |  |  |  |  | Mal |  | "]
[118,656,"9902199077000000","","",null,null,null,null,"","","Fem","",null,"",""," |  |  |  |  |  | Fem |  | "]
[119,34,"CZ00000001507525","","",439,438,null,null,"","","","",32,"FR00000000990113","FR00000000980094"," |  |  |  |  |  |  |  | 32"]
[120,35,"CZ00000001508525","","",13,438,null,null,"","","","",32,"5053400870000000","FR00000000980094"," |  |  |  |  |  |  |  | 32"]
[121,36,"CZ00000001509525","","",436,440,null,null,"","","","",33,"FR00000000970035","FR00000000990161"," |  |  |  |  |  |  |  | 33"]
[122,37,"CZ00000002551052","","",13,71,null,null,"","","","",36,"5053400870000000","CZ00000006700052"," |  |  |  |  |  |  |  | 36"]
[123,38,"CZ00000002552052","","",41,71,null,null,"","","","",null,"CZ00000003113505","CZ00000006700052"," |  |  |  |  |  |  |  | "]
[124,39,"CZ00000002554052","","",439,71,null,null,"","","","",35,"FR00000000990113","CZ00000006700052"," |  |  |  |  |  |  |  | 35"]
[125,40,"CZ00000002556052","","",43,71,null,null,"","","","",31,"CZ00000003115505","CZ00000006700052"," |  |  |  |  |  |  |  | 31"]
[126,41,"CZ00000003113505","","",439,438,null,null,"","","Fem","",29,"FR00000000990113","FR00000000980094"," |  |  |  |  |  | Fem |  | 29"]
[127,42,"CZ00000003114505","","",13,438,null,null,"","","Fem","",null,"5053400870000000","FR00000000980094"," |  |  |  |  |  | Fem |  | "]
[128,43,"CZ00000003115505","","",436,440,null,null,"","","Fem","",30,"FR00000000970035","FR00000000990161"," |  |  |  |  |  | Fem |  | 30"]
[129,44,"CZ00000003552952","","",439,71,null,null,"","","","",null,"FR00000000990113","CZ00000006700052"," |  |  |  |  |  |  |  | "]
[130,45,"CZ00000003554952","","",41,71,null,null,"","","","",null,"CZ00000003113505","CZ00000006700052",{"$f":"D131&\" | \"&E131&\" | \"&IF(H131<1,\"\",YEAR(H131)&\".\"&MONTH(H131)&\".\"&DAY(H131))&\" | \"&I131&\" | \"&J131&\" | \"&K131&\" | \"&L131&\" | \"&M131&\" | \"&N131","v":" |  |  |  |  |  |  |  | "}]
[{"$f":"A131+1","v":131},46,"CZ00000003555952","","",437,71,null,null,"","","","",null,"FR00000000980011","CZ00000006700052"," |  |  |  |  |  |  |  | "]
[132,47,"CZ00000003556952","","",436,71,null,null,"","","","",null,"FR00000000970035","CZ00000006700052"," |  |  |  |  |  |  |  | "]
[133,48,"CZ00000003557952","","",41,71,null,null,"","","","",null,"CZ00000003113505","CZ00000006700052"," |  |  |  |  |  |  |  | "]
[134,49,"CZ00000003558952","","",42,71,null,null,"","","Fem","",null,"CZ00000003114505","CZ00000006700052"," |  |  |  |  |  | Fem |  | "]
[135,50,"CZ00000003560952","","",607,71,null,null,"","","Fem","",null,"0000000000000000","CZ00000006700052"," |  |  |  |  |  | Fem |  | "]
[136,51,"CZ00000004181052","","",13,71,null,null,"","","","",31,"5053400870000000","CZ00000006700052"," |  |  |  |  |  |  |  | 31"]
[137,52,"CZ00000004183052","","",644,71,null,null,"","","","",32,"5053431140087020","CZ00000006700052"," |  |  |  |  |  |  |  | 32"]
[138,53,"CZ00000004184052","","",43,71,null,null,"","","","",31,"CZ00000003115505","CZ00000006700052"," |  |  |  |  |  |  |  | 31"]
[139,54,"CZ00000004185052","","",41,71,null,null,"","","","",31,"CZ00000003113505","CZ00000006700052"," |  |  |  |  |  |  |  | 31"]
[140,55,"CZ00000004186052","BEL-0006","BELIER",41,71,"2004-02-10",null,"","EB","Mal","ARR/ARR",30,"CZ00000003113505","CZ00000006700052","BEL-0006 | BELIER | 2004.2.10 |  |  | EB | Mal | ARR/ARR | 30"]
[141,56,"CZ00000004199052","","",436,64,null,null,"","","","",null,"FR00000000970035","CZ00000006232052"," |  |  |  |  |  |  |  | "]
[142,57,"CZ00000004200052","","",50,65,null,null,"","","","",null,"CZ00000003560952","CZ00000006233052"," |  |  |  |  |  |  |  | "]
[143,58,"CZ00000005241952","","",439,71,null,null,"","","","",31,"FR00000000990113","CZ00000006700052"," |  |  |  |  |  |  |  | 31"]
[144,59,"CZ00000005246952","","",439,71,null,null,"","","Fem","",null,"FR00000000990113","CZ00000006700052"," |  |  |  |  |  | Fem |  | "]
[145,60,"CZ00000005251952","","",437,71,null,null,"","","Fem","",null,"FR00000000980011","CZ00000006700052"," |  |  |  |  |  | Fem |  | "]
[146,61,"CZ00000005252952","","",436,71,null,null,"","","","",35,"FR00000000970035","CZ00000006700052"," |  |  |  |  |  |  |  | 35"]
[147,62,"CZ00000005267952","","",41,71,null,null,"","","","",29,"CZ00000003113505","CZ00000006700052"," |  |  |  |  |  |  |  | 29"]
[148,63,"CZ00000005280952","","",41,71,null,null,"","","","",27,"CZ00000003113505","CZ00000006700052"," |  |  |  |  |  |  |  | 27"]
[149,64,"CZ00000006232052","EMI-0001","EMILIO",656,1248,"2003-02-19",null,"","ER","Mal","ARR/ARR",null,"9902199077000000","9902100051000000","EMI-0001 | EMILIO | 2003.2.19 |  |  | ER | Mal | ARR/ARR | "]
[150,65,"CZ00000006233052","ERR-0001","ERROL",657,1249,"2003-02-19",2,"","ER","Mal","ARR/ARR",null,"9902198012000000","9902198094000000","ERR-0001 | ERROL | 2003.2.19 | 2 |  | ER | Mal | ARR/ARR | "]
[151,66,"CZ00000006691052","BEL-0003","BELIER",437,71,"2003-02-27",null,"","EB","","ALRR/ALHQ",null,"FR00000000980011","CZ00000006700052","BEL-0003 | BELIER | 2003.2.27 |  |  | EB |  | ALRR/ALHQ | "]
[152,67,"CZ00000006693052","","",436,71,null,null,"","","","",34,"FR00000000970035","CZ00000006700052"," |  |  |  |  |  |  |  | 34"]
[153,68,"CZ00000006694052","","",13,71,null,null,"","","","",36,"5053400870000000","CZ00000006700052"," |  |  |  |  |  |  |  | 36"]
[154,69,"CZ00000006695052","","",43,71,null,null,"","","","",31,"CZ00000003115505","CZ00000006700052"," |  |  |  |  |  |  |  | 31"]
[155,70,"CZ00000006696052","","",662,64,null,null,"","","","",34,"50534052511FR000","CZ00000006232052"," |  |  |  |  |  |  |  | 34"]
[156,71,"CZ00000006700052","","",663,1255,null,null,"","","Mal","",null,"9902161040JS0000","9902140550JS0000"," |  |  |  |  |  | Mal |  | "]
[157,72,"CZ00000018222052","","",439,65,null,null,"","","","",null,"FR00000000990113","CZ00000006233052"," |  |  |  |  |  |  |  | "]
[158,73,"CZ00000018223052","","",662,64,null,null,"","","","",39,"50534052511FR000","CZ00000006232052"," |  |  |  |  |  |  |  | 39"]
[159,74,"CZ00000021252952","","",42,71,null,null,"","","","",28,"CZ00000003114505","CZ00000006700052"," |  |  |  |  |  |  |  | 28"]
[160,75,"CZ00000021253952","","",436,64,null,null,"","","Fem","",33,"FR00000000970035","CZ00000006232052"," |  |  |  |  |  | Fem |  | 33"]
[161,76,"CZ00000021269952","","",437,65,null,null,"","","","",31,"FR00000000980011","CZ00000006233052"," |  |  |  |  |  |  |  | 31"]
[162,77,"CZ00000021270952","","",43,71,null,null,"","","","",null,"CZ00000003115505","CZ00000006700052"," |  |  |  |  |  |  |  | "]
[163,78,"CZ00000021271952","","",49,64,null,null,"","","","",null,"CZ00000003558952","CZ00000006232052"," |  |  |  |  |  |  |  | "]
[164,79,"CZ00000021279952","","",671,65,null,null,"","","Fem","",null,"5053403650000000","CZ00000006233052"," |  |  |  |  |  | Fem |  | "]
[165,80,"CZ00000021280952","","",439,65,null,null,"","","Fem","",null,"FR00000000990113","CZ00000006233052"," |  |  |  |  |  | Fem |  | "]
[166,81,"CZ00000021285952","","",60,607,null,null,"","","Fem","",33,"CZ00000005251952","0000000000000000"," |  |  |  |  |  | Fem |  | 33"]
[167,82,"CZ00000021289952","","",79,607,null,null,"","","Fem","",31,"CZ00000021279952","0000000000000000"," |  |  |  |  |  | Fem |  | 31"]
[168,83,"CZ00000021298952","","",43,607,null,null,"","","Fem","",null,"CZ00000003115505","0000000000000000"," |  |  |  |  |  | Fem |  | "]
[169,84,"CZ00000021299952","","",43,71,null,null,"","","","",null,"CZ00000003115505","CZ00000006700052"," |  |  |  |  |  |  |  | "]
[170,85,"CZ00000021738052","","",439,65,null,null,"","","","",27,"FR00000000990113","CZ00000006233052"," |  |  |  |  |  |  |  | 27"]
[171,86,"CZ00000021749052","","",59,64,null,null,"","","","",26,"CZ00000005246952","CZ00000006232052"," |  |  |  |  |  |  |  | 26"]
[172,87,"CZ00000021753052","","",60,64,null,null,"","","","",28,"CZ00000005251952","CZ00000006232052"," |  |  |  |  |  |  |  | 28"]
[173,88,"CZ00000021754052","","",43,64,null,null,"","","","",28,"CZ00000003115505","CZ00000006232052"," |  |  |  |  |  |  |  | 28"]
[174,89,"CZ00000022722053","","",75,55,null,null,"","","","",34,"CZ00000021253952","CZ00000004186052"," |  |  |  |  |  |  |  | 34"]
[175,90,"CZ00000022800053","","",590,533,null,null,"","","","",37,"NL00262826040000","NL00202181200360"," |  |  |  |  |  |  |  | 37"]
[176,694,"CZ00000023333953","","",null,null,null,null,"","","Fem","",null,"",""," |  |  |  |  |  | Fem |  | "]
[177,91,"CZ00000025217952","","",42,607,null,null,"","","","",29,"CZ00000003114505","0000000000000000"," |  |  |  |  |  |  |  | 29"]
[178,92,"CZ00000025222952","","",80,607,null,null,"","","","",29,"CZ00000021280952","0000000000000000"," |  |  |  |  |  |  |  | 29"]
[179,93,"CZ00000025228952","","",60,607,null,null,"","","Fem","",33,"CZ00000005251952","0000000000000000"," |  |  |  |  |  | Fem |  | 33"]
[180,94,"CZ00000025231952","","",59,607,null,null,"","","Fem","",28,"CZ00000005246952","0000000000000000"," |  |  |  |  |  | Fem |  | 28"]
[181,95,"CZ00000025246952","","",59,64,null,null,"","","Fem","",25,"CZ00000005246952","CZ00000006232052"," |  |  |  |  |  | Fem |  | 25"]
[182,96,"CZ00000025255952","","",93,65,null,null,"","","","",26,"CZ00000025228952","CZ00000006233052"," |  |  |  |  |  |  |  | 26"]
[183,97,"CZ00000025259952","","",43,64,null,null,"","","Fem","",27,"CZ00000003115505","CZ00000006232052"," |  |  |  |  |  | Fem |  | 27"]
[184,98,"CZ00000025261952","","",94,65,null,null,"","","","",26,"CZ00000025231952","CZ00000006233052"," |  |  |  |  |  |  |  | 26"]
[185,730,"CZ00000026104953","","",null,null,null,null,"","","Fem","",null,"",""," |  |  |  |  |  | Fem |  | "]
[186,99,"CZ00000026150953","","",75,537,null,null,"","","Fem","",30,"CZ00000021253952","NL00202181200391"," |  |  |  |  |  | Fem |  | 30"]
[187,100,"CZ00000026151953","","",589,533,null,null,"","","","",29,"NL00262826036000","NL00202181200360"," |  |  |  |  |  |  |  | 29"]
[188,101,"CZ00000026155953","","",593,533,null,null,"","","Fem","",30,"NL00262826044000","NL00202181200360"," |  |  |  |  |  | Fem |  | 30"]
[189,102,"CZ00000026970053","","",694,537,null,null,"","","","",30,"CZ00000023333953","NL00202181200391"," |  |  |  |  |  |  |  | 30"]
[190,103,"CZ00000026998053","","",694,537,null,null,"","","","",29,"CZ00000023333953","NL00202181200391"," |  |  |  |  |  |  |  | 29"]
[191,104,"CZ00000027649052","","",42,65,null,null,"","","","",null,"CZ00000003114505","CZ00000006233052"," |  |  |  |  |  |  |  | "]
[192,105,"CZ00000027653052","","",49,65,null,null,"","","","",30,"CZ00000003558952","CZ00000006233052"," |  |  |  |  |  |  |  | 30"]
[193,106,"CZ00000027678052","","",94,64,null,null,"","","","",27,"CZ00000025231952","CZ00000006232052"," |  |  |  |  |  |  |  | 27"]
[194,107,"CZ00000027684052","","",79,64,null,null,"","","","",41,"CZ00000021279952","CZ00000006232052",{"$f":"D195&\" | \"&E195&\" | \"&IF(H195<1,\"\",YEAR(H195)&\".\"&MONTH(H195)&\".\"&DAY(H195))&\" | \"&I195&\" | \"&J195&\" | \"&K195&\" | \"&L195&\" | \"&M195&\" | \"&N195","v":" |  |  |  |  |  |  |  | 41"}]
[{"$f":"A195+1","v":195},108,"CZ00000027685052","","",644,64,null,1,"","","","",47,"5053431140087020","CZ00000006232052"," |  |  | 1 |  |  |  |  | 47"]
[196,109,"CZ00000027687052","","",436,64,null,null,"","","","",24,"FR00000000970035","CZ00000006232052"," |  |  |  |  |  |  |  | 24"]
[197,110,"CZ00000027688052","","",93,64,null,null,"","","","",null,"CZ00000025228952","CZ00000006232052"," |  |  |  |  |  |  |  | "]
[198,111,"CZ00000027690052","","",83,64,null,null,"","","","",32,"CZ00000021298952","CZ00000006232052"," |  |  |  |  |  |  |  | 32"]
[199,112,"CZ00000027693052","","",97,65,null,null,"","","","",36,"CZ00000025259952","CZ00000006233052"," |  |  |  |  |  |  |  | 36"]
[200,113,"CZ00000027700052","","",436,64,null,null,"","","","",24,"FR00000000970035","CZ00000006232052"," |  |  |  |  |  |  |  | 24"]
[201,114,"CZ00000030998953","","",694,537,null,null,"","","","",28,"CZ00000023333953","NL00202181200391"," |  |  |  |  |  |  |  | 28"]
[202,115,"CZ00000031765952","","",81,65,null,null,"","","Fem","",null,"CZ00000021285952","CZ00000006233052"," |  |  |  |  |  | Fem |  | "]
[203,116,"CZ00000031766952","","",79,65,null,null,"","","Fem","",null,"CZ00000021279952","CZ00000006233052"," |  |  |  |  |  | Fem |  | "]
[204,117,"CZ00000031767952","","",82,65,null,null,"","","","",26,"CZ00000021289952","CZ00000006233052"," |  |  |  |  |  |  |  | 26"]
[205,118,"CZ00000031774952","","",49,65,null,null,"","","","",31,"CZ00000003558952","CZ00000006233052"," |  |  |  |  |  |  |  | 31"]
[206,119,"CZ00000031777952","","",41,65,null,null,"","","Fem","",null,"CZ00000003113505","CZ00000006233052"," |  |  |  |  |  | Fem |  | "]
[207,120,"CZ00000031791952","","",437,65,null,null,"","","Fem","",null,"FR00000000980011","CZ00000006233052"," |  |  |  |  |  | Fem |  | "]
[208,121,"CZ00000031798952","","",82,64,null,null,"","","","",null,"CZ00000021289952","CZ00000006232052"," |  |  |  |  |  |  |  | "]
[209,122,"CZ00000031809952","","",439,64,null,null,"","","Fem","",null,"FR00000000990113","CZ00000006232052"," |  |  |  |  |  | Fem |  | "]
[210,123,"CZ00000031819952","","",94,64,null,null,"","","Fem","",null,"CZ00000025231952","CZ00000006232052"," |  |  |  |  |  | Fem |  | "]
[211,124,"CZ00000031823952","","",43,1308,null,null,"","","Fem","",null,"CZ00000003115505","5053462320052000"," |  |  |  |  |  | Fem |  | "]
[212,125,"CZ00000031824952","","",41,64,null,null,"","","Fem","",27,"CZ00000003113505","CZ00000006232052"," |  |  |  |  |  | Fem |  | 27"]
[213,126,"CZ00000031825952","","",41,64,null,null,"","","Fem","",28,"CZ00000003113505","CZ00000006232052"," |  |  |  |  |  | Fem |  | 28"]
[214,127,"CZ00000031831952","","",79,64,null,null,"","","","",null,"CZ00000021279952","CZ00000006232052"," |  |  |  |  |  |  |  | "]
[215,128,"CZ00000031836952","","",95,64,null,null,"","","","",null,"CZ00000025246952","CZ00000006232052"," |  |  |  |  |  |  |  | "]
[216,129,"CZ00000031837952","","",95,1308,null,null,"","","Fem","",null,"CZ00000025246952","5053462320052000"," |  |  |  |  |  | Fem |  | "]
[217,130,"CZ00000031841952","","",83,64,null,null,"","","Fem","",null,"CZ00000021298952","CZ00000006232052"," |  |  |  |  |  | Fem |  | "]
[218,131,"CZ00000031846952","","",115,64,null,null,"","","Fem","",null,"CZ00000031765952","CZ00000006232052"," |  |  |  |  |  | Fem |  | "]
[219,132,"CZ00000031848952","","",115,64,null,null,"","","Fem","",null,"CZ00000031765952","CZ00000006232052"," |  |  |  |  |  | Fem |  | "]
[220,870,"CZ00000033522932","","",null,null,null,null,"","","Fem","",null,"",""," |  |  |  |  |  | Fem |  | "]
[221,988,"CZ00000033528932","","",null,null,null,null,"","","Fem","",null,"",""," |  |  |  |  |  | Fem |  | "]
[222,989,"CZ00000033530932","","",null,null,null,null,"","","Fem","",null,"",""," |  |  |  |  |  | Fem |  | "]
[223,992,"CZ00000033531932","","",null,null,null,null,"","","Fem","",null,"",""," |  |  |  |  |  | Fem |  | "]
[224,979,"CZ00000033532932","","",null,null,null,null,"","","Fem","",null,"",""," |  |  |  |  |  | Fem |  | "]
[225,985,"CZ00000033533932","","",null,null,null,null,"","","Fem","",null,"",""," |  |  |  |  |  | Fem |  | "]
[226,991,"CZ00000033535932","","",null,null,null,null,"","","Fem","",null,"",""," |  |  |  |  |  | Fem |  | "]
[227,987,"CZ00000033536932","","",null,null,null,null,"","","Fem","",null,"",""," |  |  |  |  |  | Fem |  | "]
[228,983,"CZ00000033538932","","",null,null,null,null,"","","Fem","",null,"",""," |  |  |  |  |  | Fem |  | "]
[229,982,"CZ00000033542932","","",null,null,null,null,"","","Fem","",null,"",""," |  |  |  |  |  | Fem |  | "]
[230,133,"CZ00000033756061","","",116,139,null,null,"","","","",28,"CZ00000031766952","CZ00000033819053"," |  |  |  |  |  |  |  | 28"]
[231,134,"CZ00000033757061","","",116,139,null,null,"","","","",32,"CZ00000031766952","CZ00000033819053"," |  |  |  |  |  |  |  | 32"]
[232,135,"CZ00000033758061","","",131,139,null,null,"","","","",36,"CZ00000031846952","CZ00000033819053"," |  |  |  |  |  |  |  | 36"]
[233,136,"CZ00000033759061","","",131,533,null,null,"","","","",21,"CZ00000031846952","NL00202181200360"," |  |  |  |  |  |  |  | 21"]
[234,137,"CZ00000033800053","GER-0002","GERALD",75,537,"2008-02-10",1,"","EA","Mal","ARR/AHQ",37,"CZ00000021253952","NL00202181200391","GER-0002 | GERALD | 2008.2.10 | 1 |  | EA | Mal | ARR/AHQ | 37"]
[235,138,"CZ00000033803053","","",730,537,null,null,"","","","",20,"CZ00000026104953","NL00202181200391"," |  |  |  |  |  |  |  | 20"]
[236,139,"CZ00000033819053","GER-0003","GERALD",593,537,"2008-03-19",null,"","ER","Mal","ARR/ARR",32,"NL00262826044000","NL00202181200391","GER-0003 | GERALD | 2008.3.19 |  |  | ER | Mal | ARR/ARR | 32"]
[237,140,"CZ00000033820053","","",591,533,null,null,"","","","",29,"NL00262826041000","NL00202181200360"," |  |  |  |  |  |  |  | 29"]
[238,141,"CZ00000035187052","FRA-0005","FRASER",115,533,"2009-04-21",null,"","EA","Mal","ARR/AHQ",38,"CZ00000031765952","NL00202181200360","FRA-0005 | FRASER | 2009.4.21 |  |  | EA | Mal | ARR/AHQ | 38"]
[239,142,"CZ00000035190052","","",83,533,null,null,"","","","",28,"CZ00000021298952","NL00202181200360"," |  |  |  |  |  |  |  | 28"]
[240,143,"CZ00000035193052","","",59,533,null,null,"","","","",35,"CZ00000005246952","NL00202181200360"," |  |  |  |  |  |  |  | 35"]
[241,144,"CZ00000035200052","","",42,533,null,null,"","","","",30,"CZ00000003114505","NL00202181200360"," |  |  |  |  |  |  |  | 30"]
[242,145,"CZ00000035208052","","",120,533,null,null,"","","","",37,"CZ00000031791952","NL00202181200360"," |  |  |  |  |  |  |  | 37"]
[243,146,"CZ00000035233052","","",119,174,null,null,"","","","",30,"CZ00000031777952","CZ00000038506053"," |  |  |  |  |  |  |  | 30"]
[244,147,"CZ00000035241052","","",120,174,null,null,"","","","",30,"CZ00000031791952","CZ00000038506053"," |  |  |  |  |  |  |  | 30"]
[245,148,"CZ00000038191953","","",730,537,null,null,"","","","",null,"CZ00000026104953","NL00202181200391"," |  |  |  |  |  |  |  | "]
[246,149,"CZ00000038208953","","",593,537,null,null,"","","Fem","",29,"NL00262826044000","NL00202181200391"," |  |  |  |  |  | Fem |  | 29"]
[247,150,"CZ00000038209953","","",590,537,null,null,"","","Fem","",33,"NL00262826040000","NL00202181200391"," |  |  |  |  |  | Fem |  | 33"]
[248,151,"CZ00000038210953","","",591,533,null,null,"","","Fem","",40,"NL00262826041000","NL00202181200360"," |  |  |  |  |  | Fem |  | 40"]
[249,152,"CZ00000038211953","","",592,533,null,null,"","","Fem","",30,"NL00262826043000","NL00202181200360"," |  |  |  |  |  | Fem |  | 30"]
[250,153,"CZ00000038212953","","",592,533,null,null,"","","Fem","",28,"NL00262826043000","NL00202181200360"," |  |  |  |  |  | Fem |  | 28"]
[251,154,"CZ00000038213953","","",99,533,null,null,"","","Fem","",40,"CZ00000026150953","NL00202181200360"," |  |  |  |  |  | Fem |  | 40"]
[252,155,"CZ00000038252953","","",75,537,null,null,"","","Fem","",27,"CZ00000021253952","NL00202181200391"," |  |  |  |  |  | Fem |  | 27"]
[253,156,"CZ00000038270953","","",439,537,null,null,"","","Fem","",32,"FR00000000990113","NL00202181200391"," |  |  |  |  |  | Fem |  | 32"]
[254,157,"CZ00000038280953","","",99,65,null,null,"","","Fem","",32,"CZ00000026150953","CZ00000006233052"," |  |  |  |  |  | Fem |  | 32"]
[255,158,"CZ00000038281953","","",589,533,null,null,"","","Fem","",36,"NL00262826036000","NL00202181200360"," |  |  |  |  |  | Fem |  | 36"]
[256,159,"CZ00000038282953","","",590,65,null,null,"","","","",32,"NL00262826040000","CZ00000006233052"," |  |  |  |  |  |  |  | 32"]
[257,160,"CZ00000038283953","","",590,65,null,null,"","","Fem","",30,"NL00262826040000","CZ00000006233052"," |  |  |  |  |  | Fem |  | 30"]
[258,161,"CZ00000038459053","","",126,533,null,null,"","","","",24,"CZ00000031825952","NL00202181200360",{"$f":"D259&\" | \"&E259&\" | \"&IF(H259<1,\"\",YEAR(H259)&\".\"&MONTH(H259)&\".\"&DAY(H259))&\" | \"&I259&\" | \"&J259&\" | \"&K259&\" | \"&L259&\" | \"&M259&\" | \"&N259","v":" |  |  |  |  |  |  |  | 24"}]
[{"$f":"A259+1","v":259},162,"CZ00000038460053","","",153,65,null,null,"","","","",27,"CZ00000038212953","CZ00000006233052"," |  |  |  |  |  |  |  | 27"]
[260,163,"CZ00000038461053","","",439,537,null,null,"","","","",41,"FR00000000990113","NL00202181200391"," |  |  |  |  |  |  |  | 41"]
[261,164,"CZ00000038466053","","",150,65,null,null,"","","","",30,"CZ00000038209953","CZ00000006233052"," |  |  |  |  |  |  |  | 30"]
[262,165,"CZ00000038467053","","",150,65,null,null,"","","","",27,"CZ00000038209953","CZ00000006233052"," |  |  |  |  |  |  |  | 27"]
[263,166,"CZ00000038468053","","",593,533,null,null,"","","","",28,"NL00262826044000","NL00202181200360"," |  |  |  |  |  |  |  | 28"]
[264,167,"CZ00000038471053","","",149,65,null,null,"","","","",19,"CZ00000038208953","CZ00000006233052"," |  |  |  |  |  |  |  | 19"]
[265,168,"CZ00000038472053","","",75,537,null,null,"","","","",29,"CZ00000021253952","NL00202181200391"," |  |  |  |  |  |  |  | 29"]
[266,169,"CZ00000038473053","","",589,533,null,null,"","","","",null,"NL00262826036000","NL00202181200360"," |  |  |  |  |  |  |  | "]
[267,170,"CZ00000038494053","GER-0005","GERALD",41,537,"2009-01-27",null,"","ER","","ARR/ARR",29,"CZ00000003113505","NL00202181200391","GER-0005 | GERALD | 2009.1.27 |  |  | ER |  | ARR/ARR | 29"]
[268,171,"CZ00000038495053","","",41,537,null,null,"","","","",28,"CZ00000003113505","NL00202181200391"," |  |  |  |  |  |  |  | 28"]
[269,172,"CZ00000038504053","","",75,537,null,2,"","","","",30,"CZ00000021253952","NL00202181200391"," |  |  | 2 |  |  |  |  | 30"]
[270,173,"CZ00000038505053","","",95,533,null,null,"","","","",36,"CZ00000025246952","NL00202181200360"," |  |  |  |  |  |  |  | 36"]
[271,174,"CZ00000038506053","FRA-0002","FRASER",593,533,"2009-02-02",null,"","ER","Mal","ARR/ARR",37,"NL00262826044000","NL00202181200360","FRA-0002 | FRASER | 2009.2.2 |  |  | ER | Mal | ARR/ARR | 37"]
[272,175,"CZ00000038515053","","",592,65,null,null,"","","","",24,"NL00262826043000","CZ00000006233052"," |  |  |  |  |  |  |  | 24"]
[273,176,"CZ00000038516053","","",591,65,null,null,"","","","",26,"NL00262826041000","CZ00000006233052"," |  |  |  |  |  |  |  | 26"]
[274,177,"CZ00000038520053","","",97,65,null,2,"","","","",29,"CZ00000025259952","CZ00000006233052"," |  |  | 2 |  |  |  |  | 29"]
[275,178,"CZ00000038535061","","",116,533,null,null,"","","","",34,"CZ00000031766952","NL00202181200360"," |  |  |  |  |  |  |  | 34"]
[276,179,"CZ00000038536061","","",228,533,null,null,"","","","",25,"CZ00000043851953","NL00202181200360"," |  |  |  |  |  |  |  | 25"]
[277,180,"CZ00000038537061","","",132,533,null,null,"","","","",26,"CZ00000031848952","NL00202181200360"," |  |  |  |  |  |  |  | 26"]
[278,181,"CZ00000039138031","","",499,139,null,null,"","","","",37,"NL00109990902408","CZ00000033819053"," |  |  |  |  |  |  |  | 37"]
[279,182,"CZ00000039139031","","",464,443,null,null,"","","","",28,"NL00109990202416","FR00025081900018"," |  |  |  |  |  |  |  | 28"]
[280,183,"CZ00000039510961","","",116,139,null,null,"","","Fem","",28,"CZ00000031766952","CZ00000033819053"," |  |  |  |  |  | Fem |  | 28"]
[281,184,"CZ00000039513961","","",123,139,null,null,"","","","",28,"CZ00000031819952","CZ00000033819053"," |  |  |  |  |  |  |  | 28"]
[282,185,"CZ00000040224952","","",95,533,null,null,"","","","",31,"CZ00000025246952","NL00202181200360"," |  |  |  |  |  |  |  | 31"]
[283,186,"CZ00000040225952","","",95,533,null,null,"","","","",32,"CZ00000025246952","NL00202181200360"," |  |  |  |  |  |  |  | 32"]
[284,924,"CZ00000040449952","","",null,null,null,null,"","","Fem","",null,"",""," |  |  |  |  |  | Fem |  | "]
[285,858,"CZ00000040454952","","",null,null,null,null,"","","Fem","",null,"",""," |  |  |  |  |  | Fem |  | "]
[286,857,"CZ00000040456952","","",null,null,null,null,"","","Fem","",null,"",""," |  |  |  |  |  | Fem |  | "]
[287,187,"CZ00000040458952","","",83,533,null,null,"","","","",27,"CZ00000021298952","NL00202181200360"," |  |  |  |  |  |  |  | 27"]
[288,188,"CZ00000040459952","","",83,533,null,null,"","","Fem","",27,"CZ00000021298952","NL00202181200360"," |  |  |  |  |  | Fem |  | 27"]
[289,189,"CZ00000040461952","","",59,533,null,null,"","","Fem","",31,"CZ00000005246952","NL00202181200360"," |  |  |  |  |  | Fem |  | 31"]
[290,927,"CZ00000040466952","","",null,null,null,null,"","","Fem","",null,"",""," |  |  |  |  |  | Fem |  | "]
[291,860,"CZ00000040471952","","",null,null,null,null,"","","Fem","",null,"",""," |  |  |  |  |  | Fem |  | "]
[292,855,"CZ00000040472952","","",null,null,null,null,"","","Fem","",null,"",""," |  |  |  |  |  | Fem |  | "]
[293,190,"CZ00000040473952","","",42,533,null,null,"","","Fem","",31,"CZ00000003114505","NL00202181200360"," |  |  |  |  |  | Fem |  | 31"]
[294,191,"CZ00000040475952","","",60,533,null,null,"","","Fem","",31,"CZ00000005251952","NL00202181200360"," |  |  |  |  |  | Fem |  | 31"]
[295,192,"CZ00000040479952","","",120,533,null,null,"","","","",38,"CZ00000031791952","NL00202181200360"," |  |  |  |  |  |  |  | 38"]
[296,919,"CZ00000040483952","","",null,null,null,null,"","","Fem","",null,"",""," |  |  |  |  |  | Fem |  | "]
[297,193,"CZ00000040499952","","",83,174,null,null,"","","","",25,"CZ00000021298952","CZ00000038506053"," |  |  |  |  |  |  |  | 25"]
[298,194,"CZ00000040500952","","",83,174,null,null,"","","","",25,"CZ00000021298952","CZ00000038506053"," |  |  |  |  |  |  |  | 25"]
[299,926,"CZ00000040511952","","",null,null,null,null,"","","Fem","",null,"",""," |  |  |  |  |  | Fem |  | "]
[300,195,"CZ00000040513952","","",189,446,null,null,"","","","",24,"CZ00000040461952","FR00025081900082"," |  |  |  |  |  |  |  | 24"]
[301,196,"CZ00000040514952","","",189,446,null,null,"","","","",23,"CZ00000040461952","FR00025081900082"," |  |  |  |  |  |  |  | 23"]
[302,197,"CZ00000040516952","","",120,446,null,null,"","","","",33,"CZ00000031791952","FR00025081900082"," |  |  |  |  |  |  |  | 33"]
[303,198,"CZ00000041999061","","",130,533,null,null,"","","","",25,"CZ00000031841952","NL00202181200360"," |  |  |  |  |  |  |  | 25"]
[304,199,"CZ00000042003061","","",485,533,null,null,"","","","",23,"NL00109990602399","NL00202181200360"," |  |  |  |  |  |  |  | 23"]
[305,200,"CZ00000043366053","","",157,533,null,null,"","","","",34,"CZ00000038280953","NL00202181200360"," |  |  |  |  |  |  |  | 34"]
[306,201,"CZ00000043367053","","",591,65,null,null,"","","","",null,"NL00262826041000","CZ00000006233052"," |  |  |  |  |  |  |  | "]
[307,202,"CZ00000043370053","","",101,65,null,null,"","","","",33,"CZ00000026155953","CZ00000006233052"," |  |  |  |  |  |  |  | 33"]
[308,203,"CZ00000043374053","","",589,537,null,null,"","","","",20,"NL00262826036000","NL00202181200391"," |  |  |  |  |  |  |  | 20"]
[309,204,"CZ00000043375053","","",589,537,null,null,"","","","",25,"NL00262826036000","NL00202181200391"," |  |  |  |  |  |  |  | 25"]
[310,205,"CZ00000043376053","","",593,537,null,null,"","","","",24,"NL00262826044000","NL00202181200391"," |  |  |  |  |  |  |  | 24"]
[311,206,"CZ00000043377053","ERR-0007","ERROL",99,65,"2011-02-03",null,"","EA","","ARR/ARR",35,"CZ00000026150953","CZ00000006233052","ERR-0007 | ERROL | 2011.2.3 |  |  | EA |  | ARR/ARR | 35"]
[312,207,"CZ00000043378053","ERR 0011","ERROL",153,65,"2011-02-03",1,"","EA","Mal","ARR/ARR",34,"CZ00000038212953","CZ00000006233052","ERR 0011 | ERROL | 2011.2.3 | 1 |  | EA | Mal | ARR/ARR | 34"]
[313,208,"CZ00000043379053","","",41,537,null,null,"","","","",28,"CZ00000003113505","NL00202181200391"," |  |  |  |  |  |  |  | 28"]
[314,209,"CZ00000043380053","","",229,65,null,null,"","","","",null,"CZ00000043852953","CZ00000006233052"," |  |  |  |  |  |  |  | "]
[315,210,"CZ00000043382053","","",101,537,null,null,"","","","",40,"CZ00000026155953","NL00202181200391"," |  |  |  |  |  |  |  | 40"]
[316,211,"CZ00000043383053","","",156,65,null,null,"","","","",36,"CZ00000038270953","CZ00000006233052"," |  |  |  |  |  |  |  | 36"]
[317,212,"CZ00000043384053","","",157,533,null,null,"","","","",21,"CZ00000038280953","NL00202181200360"," |  |  |  |  |  |  |  | 21"]
[318,213,"CZ00000043393053","","",122,537,null,null,"","","","",32,"CZ00000031809952","NL00202181200391"," |  |  |  |  |  |  |  | 32"]
[319,214,"CZ00000043398053","","",75,537,null,null,"","","","",29,"CZ00000021253952","NL00202181200391"," |  |  |  |  |  |  |  | 29"]
[320,215,"CZ00000043399053","","",75,537,null,null,"","","","",28,"CZ00000021253952","NL00202181200391"," |  |  |  |  |  |  |  | 28"]
[321,216,"CZ00000043406053","GER-0017","GERALD",439,537,"2011-02-17",null,"","EA","","ARR/ARR",41,"FR00000000990113","NL00202181200391","GER-0017 | GERALD | 2011.2.17 |  |  | EA |  | ARR/ARR | 41"]
[322,217,"CZ00000043410053","","",590,65,null,null,"","","","",24,"NL00262826040000","CZ00000006233052",{"$f":"D323&\" | \"&E323&\" | \"&IF(H323<1,\"\",YEAR(H323)&\".\"&MONTH(H323)&\".\"&DAY(H323))&\" | \"&I323&\" | \"&J323&\" | \"&K323&\" | \"&L323&\" | \"&M323&\" | \"&N323","v":" |  |  |  |  |  |  |  | 24"}]
[{"$f":"A323+1","v":323},218,"CZ00000043411053","GER-0015","GERALD",160,537,"2011-02-19",null,"","EA","Mal","ARR/ARR",32,"CZ00000038283953","NL00202181200391","GER-0015 | GERALD | 2011.2.19 |  |  | EA | Mal | ARR/ARR | 32"]
[324,219,"CZ00000043412053","","",149,65,null,null,"","","","",19,"CZ00000038208953","CZ00000006233052"," |  |  |  |  |  |  |  | 19"]
[325,220,"CZ00000043413053","ERR-0012","ERROL",149,65,"2011-02-19",null,"","ER","Mal","ARR/ARR",34,"CZ00000038208953","CZ00000006233052","ERR-0012 | ERROL | 2011.2.19 |  |  | ER | Mal | ARR/ARR | 34"]
[326,221,"CZ00000043414053","","",225,537,null,null,"","","","",26,"CZ00000043843953","NL00202181200391"," |  |  |  |  |  |  |  | 26"]
[327,222,"CZ00000043415053","","",225,537,null,null,"","","","",20,"CZ00000043843953","NL00202181200391"," |  |  |  |  |  |  |  | 20"]
[328,223,"CZ00000043416053","","",79,537,null,null,"","","","",27,"CZ00000021279952","NL00202181200391"," |  |  |  |  |  |  |  | 27"]
[329,224,"CZ00000043417053","","",79,537,null,null,"","","","",27,"CZ00000021279952","NL00202181200391"," |  |  |  |  |  |  |  | 27"]
[330,225,"CZ00000043843953","","",592,65,null,null,"","","Fem","",29,"NL00262826043000","CZ00000006233052"," |  |  |  |  |  | Fem |  | 29"]
[331,226,"CZ00000043844953","","",591,65,null,null,"","","Fem","",26,"NL00262826041000","CZ00000006233052"," |  |  |  |  |  | Fem |  | 26"]
[332,227,"CZ00000043848953","","",97,65,null,null,"","","","",29,"CZ00000025259952","CZ00000006233052"," |  |  |  |  |  |  |  | 29"]
[333,228,"CZ00000043851953","","",79,537,null,null,"","","Fem","",30,"CZ00000021279952","NL00202181200391"," |  |  |  |  |  | Fem |  | 30"]
[334,229,"CZ00000043852953","","",79,537,null,null,"","","Fem","",29,"CZ00000021279952","NL00202181200391"," |  |  |  |  |  | Fem |  | 29"]
[335,230,"CZ00000043876953","","",126,533,"2010-01-30",null,"Berkovcová L","","Fem","",25,"CZ00000031825952","NL00202181200360"," |  | 2010.1.30 |  | Berkovcová L |  | Fem |  | 25"]
[336,231,"CZ00000043877953","","",153,65,null,null,"","","Fem","",27,"CZ00000038212953","CZ00000006233052"," |  |  |  |  |  | Fem |  | 27"]
[337,232,"CZ00000043886953","","",590,65,null,null,"","","","",38,"NL00262826040000","CZ00000006233052"," |  |  |  |  |  |  |  | 38"]
[338,233,"CZ00000043889953","","",149,65,null,null,"","","","",23,"CZ00000038208953","CZ00000006233052"," |  |  |  |  |  |  |  | 23"]
[339,234,"CZ00000043890953","","",75,537,null,null,"","","Fem","",29,"CZ00000021253952","NL00202181200391"," |  |  |  |  |  | Fem |  | 29"]
[340,235,"CZ00000043891953","","",592,537,"2010-02-03",null,"Berkovcová L","","Fem","",36,"NL00262826043000","NL00202181200391"," |  | 2010.2.3 |  | Berkovcová L |  | Fem |  | 36"]
[341,236,"CZ00000043892953","","",592,537,null,null,"","","","",26,"NL00262826043000","NL00202181200391"," |  |  |  |  |  |  |  | 26"]
[342,237,"CZ00000043893953","","",589,533,"2010-02-04",null,"Berkovcová L","","Fem","",27,"NL00262826036000","NL00202181200360"," |  | 2010.2.4 |  | Berkovcová L |  | Fem |  | 27"]
[343,238,"CZ00000043894953","","",41,537,"2010-02-05",null,"Berkovcová L","","Fem","",36,"CZ00000003113505","NL00202181200391"," |  | 2010.2.5 |  | Berkovcová L |  | Fem |  | 36"]
[344,239,"CZ00000043895953","","",125,537,null,null,"","","","",30,"CZ00000031824952","NL00202181200391"," |  |  |  |  |  |  |  | 30"]
[345,240,"CZ00000043896953","","",79,537,"2010-02-08",null,"Berkovcová L","","Fem","",37,"CZ00000021279952","NL00202181200391"," |  | 2010.2.8 |  | Berkovcová L |  | Fem |  | 37"]
[346,241,"CZ00000043897953","","",99,65,null,null,"","","Fem","",37,"CZ00000026150953","CZ00000006233052"," |  |  |  |  |  | Fem |  | 37"]
[347,242,"CZ00000043898953","","",593,537,null,null,"","","","",32,"NL00262826044000","NL00202181200391"," |  |  |  |  |  |  |  | 32"]
[348,243,"CZ00000043899953","","",156,65,null,null,"","","Fem","",30,"CZ00000038270953","CZ00000006233052"," |  |  |  |  |  | Fem |  | 30"]
[349,244,"CZ00000043900953","","",151,65,null,null,"","","","",24,"CZ00000038210953","CZ00000006233052"," |  |  |  |  |  |  |  | 24"]
[350,245,"CZ00000043904953","","",152,65,null,null,"","","","",26,"CZ00000038211953","CZ00000006233052"," |  |  |  |  |  |  |  | 26"]
[351,246,"CZ00000043907953","","",591,65,null,null,"","","","",31,"NL00262826041000","CZ00000006233052"," |  |  |  |  |  |  |  | 31"]
[352,247,"CZ00000044940961","","",132,139,null,null,"","","","",30,"CZ00000031848952","CZ00000033819053"," |  |  |  |  |  |  |  | 30"]
[353,248,"CZ00000044941961","","",132,139,null,null,"","","","",28,"CZ00000031848952","CZ00000033819053"," |  |  |  |  |  |  |  | 28"]
[354,249,"CZ00000044942961","","",130,139,null,null,"","","","",29,"CZ00000031841952","CZ00000033819053"," |  |  |  |  |  |  |  | 29"]
[355,250,"CZ00000044943961","","",123,533,null,null,"","","","",24,"CZ00000031819952","NL00202181200360"," |  |  |  |  |  |  |  | 24"]
[356,251,"CZ00000044944961","","",493,533,null,null,"","","","",29,"NL00109990702396","NL00202181200360"," |  |  |  |  |  |  |  | 29"]
[357,252,"CZ00000044945961","","",131,533,null,null,"","","","",19,"CZ00000031846952","NL00202181200360"," |  |  |  |  |  |  |  | 19"]
[358,253,"CZ00000044947961","","",116,533,null,null,"","","","",26,"CZ00000031766952","NL00202181200360"," |  |  |  |  |  |  |  | 26"]
[359,254,"CZ00000048511053","","",154,65,null,null,"","","","",32,"CZ00000038213953","CZ00000006233052"," |  |  |  |  |  |  |  | 32"]
[360,255,"CZ00000048512053","","",154,65,null,null,"","","","",29,"CZ00000038213953","CZ00000006233052"," |  |  |  |  |  |  |  | 29"]
[361,256,"CZ00000048513053","","",158,537,null,null,"","","","",23,"CZ00000038281953","NL00202181200391"," |  |  |  |  |  |  |  | 23"]
[362,257,"CZ00000048517052","","",83,446,null,null,"","","","",32,"CZ00000021298952","FR00025081900082"," |  |  |  |  |  |  |  | 32"]
[363,258,"CZ00000048517053","ERR-0010","ERROL",150,65,"2011-03-08",null,"","ER","Mal","ARR/ARR",31,"CZ00000038209953","CZ00000006233052","ERR-0010 | ERROL | 2011.3.8 |  |  | ER | Mal | ARR/ARR | 31"]
[364,259,"CZ00000048518052","","",83,446,null,null,"","","","",31,"CZ00000021298952","FR00025081900082"," |  |  |  |  |  |  |  | 31"]
[365,260,"CZ00000048530052","","",129,446,null,null,"","","","",36,"CZ00000031837952","FR00025081900082"," |  |  |  |  |  |  |  | 36"]
[366,261,"CZ00000048531052","","",119,446,null,null,"","","","",28,"CZ00000031777952","FR00025081900082"," |  |  |  |  |  |  |  | 28"]
[367,262,"CZ00000048532052","","",119,446,null,null,"","","","",29,"CZ00000031777952","FR00025081900082"," |  |  |  |  |  |  |  | 29"]
[368,263,"CZ00000048534052","","",855,446,null,null,"","","","",29,"CZ00000040472952","FR00025081900082"," |  |  |  |  |  |  |  | 29"]
[369,264,"CZ00000048535052","","",855,446,null,null,"","","","",31,"CZ00000040472952","FR00025081900082"," |  |  |  |  |  |  |  | 31"]
[370,265,"CZ00000048536052","","",857,446,null,null,"","","","",24,"CZ00000040456952","FR00025081900082"," |  |  |  |  |  |  |  | 24"]
[371,266,"CZ00000048539052","","",858,446,null,null,"","","","",null,"CZ00000040454952","FR00025081900082"," |  |  |  |  |  |  |  | "]
[372,267,"CZ00000048540052","","",191,446,null,null,"","","","",32,"CZ00000040475952","FR00025081900082"," |  |  |  |  |  |  |  | 32"]
[373,268,"CZ00000048550052","","",860,446,null,null,"","","","",28,"CZ00000040471952","FR00025081900082"," |  |  |  |  |  |  |  | 28"]
[374,269,"CZ00000048558052","","",188,446,null,null,"","","","",null,"CZ00000040459952","FR00025081900082"," |  |  |  |  |  |  |  | "]
[375,270,"CZ00000048722052","","",336,258,null,null,"","","","",null,"CZ00000057032952","CZ00000048517053"," |  |  |  |  |  |  |  | "]
[376,271,"CZ00000048723052","","",336,258,null,null,"","","","",null,"CZ00000057032952","CZ00000048517053"," |  |  |  |  |  |  |  | "]
[377,272,"CZ00000048724052","","",864,258,null,null,"","","","",null,"CZ00000051771952","CZ00000048517053"," |  |  |  |  |  |  |  | "]
[378,273,"CZ00000048726052","","",444,258,null,null,"","","","",null,"FR00025081900031","CZ00000048517053"," |  |  |  |  |  |  |  | "]
[379,274,"CZ00000048729052","","",444,258,null,null,"","","","",null,"FR00025081900031","CZ00000048517053"," |  |  |  |  |  |  |  | "]
[380,275,"CZ00000049041961","","",132,533,null,null,"","","","",20,"CZ00000031848952","NL00202181200360"," |  |  |  |  |  |  |  | 20"]
[381,276,"CZ00000049042961","","",183,533,null,null,"","","","",12,"CZ00000039510961","NL00202181200360"," |  |  |  |  |  |  |  | 12"]
[382,277,"CZ00000049045961","","",231,533,null,null,"","","","",null,"CZ00000043877953","NL00202181200360"," |  |  |  |  |  |  |  | "]
[383,986,"CZ00000049137932","","",null,null,null,null,"","","Fem","",null,"",""," |  |  |  |  |  | Fem |  | "]
[384,994,"CZ00000049138932","","",null,null,null,null,"","","Fem","",null,"",""," |  |  |  |  |  | Fem |  | "]
[385,990,"CZ00000049142932","","",null,null,null,null,"","","Fem","",null,"",""," |  |  |  |  |  | Fem |  | "]
[386,980,"CZ00000049145932","","",null,null,null,null,"","","Fem","",null,"","",{"$f":"D387&\" | \"&E387&\" | \"&IF(H387<1,\"\",YEAR(H387)&\".\"&MONTH(H387)&\".\"&DAY(H387))&\" | \"&I387&\" | \"&J387&\" | \"&K387&\" | \"&L387&\" | \"&M387&\" | \"&N387","v":" |  |  |  |  |  | Fem |  | "}]
[{"$f":"A387+1","v":387},981,"CZ00000049148932","","",null,null,null,null,"","","Fem","",null,"",""," |  |  |  |  |  | Fem |  | "]
[388,993,"CZ00000049152932","","",null,null,null,null,"","","Fem","",null,"",""," |  |  |  |  |  | Fem |  | "]
[389,278,"CZ00000049175932","","",870,137,null,null,"","","Fem","",null,"CZ00000033522932","CZ00000033800053"," |  |  |  |  |  | Fem |  | "]
[390,279,"CZ00000049621953","","",593,537,null,null,"","","Fem","",28,"NL00262826044000","NL00202181200391"," |  |  |  |  |  | Fem |  | 28"]
[391,280,"CZ00000049622953","","",41,537,null,null,"","","Fem","",25,"CZ00000003113505","NL00202181200391"," |  |  |  |  |  | Fem |  | 25"]
[392,281,"CZ00000049624953","","",122,537,null,null,"","","","",null,"CZ00000031809952","NL00202181200391"," |  |  |  |  |  |  |  | "]
[393,282,"CZ00000049625953","","",152,65,null,null,"","","","",24,"CZ00000038211953","CZ00000006233052"," |  |  |  |  |  |  |  | 24"]
[394,283,"CZ00000049626953","","",226,537,null,null,"","","Fem","",26,"CZ00000043844953","NL00202181200391"," |  |  |  |  |  | Fem |  | 26"]
[395,284,"CZ00000049627953","","",125,537,null,null,"","","","",15,"CZ00000031824952","NL00202181200391"," |  |  |  |  |  |  |  | 15"]
[396,285,"CZ00000049628953","","",157,533,null,null,"","","Fem","",23,"CZ00000038280953","NL00202181200360"," |  |  |  |  |  | Fem |  | 23"]
[397,286,"CZ00000049630953","","",229,65,null,null,"","","Fem","",23,"CZ00000043852953","CZ00000006233052"," |  |  |  |  |  | Fem |  | 23"]
[398,287,"CZ00000049631953","","",125,537,null,null,"","","","",27,"CZ00000031824952","NL00202181200391"," |  |  |  |  |  |  |  | 27"]
[399,288,"CZ00000049654953","","",590,65,null,null,"","","","",23,"NL00262826040000","CZ00000006233052"," |  |  |  |  |  |  |  | 23"]
[400,289,"CZ00000049660953","","",126,537,null,null,"","","","",31,"CZ00000031825952","NL00202181200391"," |  |  |  |  |  |  |  | 31"]
[401,290,"CZ00000049665953","","",592,65,null,null,"","","","",27,"NL00262826043000","CZ00000006233052"," |  |  |  |  |  |  |  | 27"]
[402,291,"CZ00000049670953","","",158,537,null,null,"","","Fem","",24,"CZ00000038281953","NL00202181200391"," |  |  |  |  |  | Fem |  | 24"]
[403,292,"CZ00000049671953","","",155,65,null,null,"","","Fem","",23,"CZ00000038252953","CZ00000006233052"," |  |  |  |  |  | Fem |  | 23"]
[404,293,"CZ00000049672953","","",155,65,null,null,"","","","",24,"CZ00000038252953","CZ00000006233052"," |  |  |  |  |  |  |  | 24"]
[405,294,"CZ00000049674953","","",150,65,null,null,"","","Fem","",28,"CZ00000038209953","CZ00000006233052"," |  |  |  |  |  | Fem |  | 28"]
[406,295,"CZ00000049960052","","",230,443,"2011-12-23",null,"Berkovcová L","","Mal","",28,"CZ00000043876953","FR00025081900018"," |  | 2011.12.23 |  | Berkovcová L |  | Mal |  | 28"]
[407,296,"CZ00000049961052","","",230,443,"2011-12-23",null,"Berkovcová L","","Mal","",30,"CZ00000043876953","FR00025081900018"," |  | 2011.12.23 |  | Berkovcová L |  | Mal |  | 30"]
[408,297,"CZ00000051694052","","",294,443,null,null,"","","","",null,"CZ00000049674953","FR00025081900018"," |  |  |  |  |  |  |  | "]
[409,298,"CZ00000051695052","","",294,443,null,null,"","","","",null,"CZ00000049674953","FR00025081900018"," |  |  |  |  |  |  |  | "]
[410,299,"CZ00000051696052","","",283,443,null,null,"","","","",null,"CZ00000049626953","FR00025081900018"," |  |  |  |  |  |  |  | "]
[411,300,"CZ00000051697052","","",283,443,null,null,"","","","",null,"CZ00000049626953","FR00025081900018"," |  |  |  |  |  |  |  | "]
[412,301,"CZ00000051698052","JOE-0007","JOEL",286,443,"2012-04-15",null,"","ER","","ARR/ARR",null,"CZ00000049630953","FR00025081900018","JOE-0007 | JOEL | 2012.4.15 |  |  | ER |  | ARR/ARR | "]
[413,302,"CZ00000051699052","","",292,443,null,null,"","","","",null,"CZ00000049671953","FR00025081900018"," |  |  |  |  |  |  |  | "]
[414,303,"CZ00000051700052","","",285,443,null,null,"","","","",null,"CZ00000049628953","FR00025081900018"," |  |  |  |  |  |  |  | "]
[415,304,"CZ00000051701052","","",279,443,null,null,"","","","",null,"CZ00000049621953","FR00025081900018"," |  |  |  |  |  |  |  | "]
[416,864,"CZ00000051771952","","",null,null,null,null,"","","Fem","",null,"",""," |  |  |  |  |  | Fem |  | "]
[417,932,"CZ00000051772952","","",null,null,null,null,"","","Fem","",null,"",""," |  |  |  |  |  | Fem |  | "]
[418,305,"CZ00000052183053","","",225,494,null,null,"","","","",28,"CZ00000043843953","NL00109990802191"," |  |  |  |  |  |  |  | 28"]
[419,306,"CZ00000052184053","","",150,533,null,null,"","","","",23,"CZ00000038209953","NL00202181200360"," |  |  |  |  |  |  |  | 23"]
[420,307,"CZ00000052188053","TOO-0003","TOORN",99,494,"2012-01-28",null,"","ER","","ARR/ARR",32,"CZ00000026150953","NL00109990802191","TOO-0003 | TOORN | 2012.1.28 |  |  | ER |  | ARR/ARR | 32"]
[421,308,"CZ00000052189053","","",99,494,null,null,"","","","",18,"CZ00000026150953","NL00109990802191"," |  |  |  |  |  |  |  | 18"]
[422,309,"CZ00000052192053","","",122,533,null,null,"","","","",36,"CZ00000031809952","NL00202181200360"," |  |  |  |  |  |  |  | 36"]
[423,310,"CZ00000052194053","","",593,65,null,null,"","","","",26,"NL00262826044000","CZ00000006233052"," |  |  |  |  |  |  |  | 26"]
[424,311,"CZ00000052195053","","",593,65,null,null,"","","","",22,"NL00262826044000","CZ00000006233052"," |  |  |  |  |  |  |  | 22"]
[425,312,"CZ00000052200053","","",439,65,null,null,"","","","",39,"FR00000000990113","CZ00000006233052"," |  |  |  |  |  |  |  | 39"]
[426,313,"CZ00000052202053","","",75,494,null,null,"","","","",43,"CZ00000021253952","NL00109990802191"," |  |  |  |  |  |  |  | 43"]
[427,314,"CZ00000052206053","","",153,65,null,null,"","","","",22,"CZ00000038212953","CZ00000006233052"," |  |  |  |  |  |  |  | 22"]
[428,315,"CZ00000052207053","","",153,65,null,null,"","","","",18,"CZ00000038212953","CZ00000006233052"," |  |  |  |  |  |  |  | 18"]
[429,316,"CZ00000052208053","","",243,494,null,null,"","","","",25,"CZ00000043899953","NL00109990802191"," |  |  |  |  |  |  |  | 25"]
[430,317,"CZ00000052210053","","",41,494,null,null,"","","","",34,"CZ00000003113505","NL00109990802191"," |  |  |  |  |  |  |  | 34"]
[431,318,"CZ00000052211053","","",149,533,null,null,"","","","",30,"CZ00000038208953","NL00202181200360"," |  |  |  |  |  |  |  | 30"]
[432,319,"CZ00000052212053","","",226,494,null,null,"","","","",21,"CZ00000043844953","NL00109990802191"," |  |  |  |  |  |  |  | 21"]
[433,320,"CZ00000052213053","","",152,494,null,null,"","","","",33,"CZ00000038211953","NL00109990802191"," |  |  |  |  |  |  |  | 33"]
[434,321,"CZ00000052214053","TOO-0008","TOORN",155,494,"2012-02-15",null,"","ER","","ARR/AHQ",31,"CZ00000038252953","NL00109990802191","TOO-0008 | TOORN | 2012.2.15 |  |  | ER |  | ARR/AHQ | 31"]
[435,322,"CZ00000052215053","","",241,494,null,null,"","","","",33,"CZ00000043897953","NL00109990802191"," |  |  |  |  |  |  |  | 33"]
[436,323,"CZ00000052216053","","",241,494,null,null,"","","","",23,"CZ00000043897953","NL00109990802191"," |  |  |  |  |  |  |  | 23"]
[437,324,"CZ00000052217053","","",154,494,null,null,"","","","",39,"CZ00000038213953","NL00109990802191"," |  |  |  |  |  |  |  | 39"]
[438,325,"CZ00000052218053","","",229,494,null,null,"","","","",30,"CZ00000043852953","NL00109990802191"," |  |  |  |  |  |  |  | 30"]
[439,326,"CZ00000052638053","","",466,465,null,null,"","","","",null,"NL00109990202896","NL00109990202531"," |  |  |  |  |  |  |  | "]
[440,327,"CZ00000056838952","","",919,446,null,null,"","","","",32,"CZ00000040483952","FR00025081900082"," |  |  |  |  |  |  |  | 32"]
[441,328,"CZ00000056842952","","",190,446,null,null,"","","","",31,"CZ00000040473952","FR00025081900082"," |  |  |  |  |  |  |  | 31"]
[442,329,"CZ00000056843952","","",124,446,null,null,"","","","",37,"CZ00000031823952","FR00025081900082"," |  |  |  |  |  |  |  | 37"]
[443,330,"CZ00000056848952","","",858,446,null,null,"","","","",38,"CZ00000040454952","FR00025081900082"," |  |  |  |  |  |  |  | 38"]
[444,331,"CZ00000056849952","","",191,446,null,null,"","","","",21,"CZ00000040475952","FR00025081900082"," |  |  |  |  |  |  |  | 21"]
[445,332,"CZ00000056851952","","",924,446,null,null,"","","","",35,"CZ00000040449952","FR00025081900082"," |  |  |  |  |  |  |  | 35"]
[446,333,"CZ00000056853952","","",860,446,null,null,"","","","",24,"CZ00000040471952","FR00025081900082"," |  |  |  |  |  |  |  | 24"]
[447,334,"CZ00000056855952","","",926,446,null,null,"","","","",30,"CZ00000040511952","FR00025081900082"," |  |  |  |  |  |  |  | 30"]
[448,335,"CZ00000056857952","","",927,446,null,null,"","","","",null,"CZ00000040466952","FR00025081900082"," |  |  |  |  |  |  |  | "]
[449,978,"CZ00000057026952","","",null,null,null,null,"","","Fem","",null,"",""," |  |  |  |  |  | Fem |  | "]
[450,933,"CZ00000057027952","","",null,null,null,null,"","","Fem","",null,"","",{"$f":"D451&\" | \"&E451&\" | \"&IF(H451<1,\"\",YEAR(H451)&\".\"&MONTH(H451)&\".\"&DAY(H451))&\" | \"&I451&\" | \"&J451&\" | \"&K451&\" | \"&L451&\" | \"&M451&\" | \"&N451","v":" |  |  |  |  |  | Fem |  | "}]
[{"$f":"A451+1","v":451},336,"CZ00000057032952","","",444,141,null,null,"","","Fem","",28,"FR00025081900031","CZ00000035187052"," |  |  |  |  |  | Fem |  | 28"]
[452,337,"CZ00000057037952","","",447,141,null,null,"","","Fem","",33,"FR00025081900093","CZ00000035187052"," |  |  |  |  |  | Fem |  | 33"]
[453,338,"CZ00000057040952","","",447,258,null,null,"","","","",null,"FR00025081900093","CZ00000048517053"," |  |  |  |  |  |  |  | "]
[454,339,"CZ00000057042952","","",447,258,null,null,"","","","",null,"FR00025081900093","CZ00000048517053"," |  |  |  |  |  |  |  | "]
[455,340,"CZ00000057043952","","",932,258,null,null,"","","","",null,"CZ00000051772952","CZ00000048517053"," |  |  |  |  |  |  |  | "]
[456,341,"CZ00000057045952","","",933,258,null,null,"","","","",null,"CZ00000057027952","CZ00000048517053"," |  |  |  |  |  |  |  | "]
[457,342,"CZ00000057598031","","",448,443,null,null,"","","","",26,"FR00025081900112","FR00025081900018"," |  |  |  |  |  |  |  | 26"]
[458,343,"CZ00000057599031","","",448,443,null,null,"","","","",34,"FR00025081900112","FR00025081900018"," |  |  |  |  |  |  |  | 34"]
[459,344,"CZ00000057600031","","",448,443,null,null,"","","","",null,"FR00025081900112","FR00025081900018"," |  |  |  |  |  |  |  | "]
[460,345,"CZ00000057601031","","",449,443,null,null,"","","","",34,"FR00025081900120","FR00025081900018"," |  |  |  |  |  |  |  | 34"]
[461,346,"CZ00000057602031","","",449,443,null,null,"","","","",32,"FR00025081900120","FR00025081900018"," |  |  |  |  |  |  |  | 32"]
[462,347,"CZ00000057603031","","",478,65,null,null,"","","","",null,"NL00109990403545","CZ00000006233052"," |  |  |  |  |  |  |  | "]
[463,348,"CZ00000058495952","","",238,443,"2011-12-25",null,"Berkovcová L","","Fem","",34,"CZ00000043894953","FR00025081900018"," |  | 2011.12.25 |  | Berkovcová L |  | Fem |  | 34"]
[464,349,"CZ00000059758953","","",156,533,null,null,"","","","",30,"CZ00000038270953","NL00202181200360"," |  |  |  |  |  |  |  | 30"]
[465,350,"CZ00000059759953","","",156,533,null,null,"","","","",33,"CZ00000038270953","NL00202181200360"," |  |  |  |  |  |  |  | 33"]
[466,351,"CZ00000059763953","","",150,533,null,null,"","","","",29,"CZ00000038209953","NL00202181200360"," |  |  |  |  |  |  |  | 29"]
[467,352,"CZ00000059764953","","",225,494,null,null,"","","","",28,"CZ00000043843953","NL00109990802191"," |  |  |  |  |  |  |  | 28"]
[468,353,"CZ00000059765953","","",590,494,null,null,"","","","",34,"NL00262826040000","NL00109990802191"," |  |  |  |  |  |  |  | 34"]
[469,354,"CZ00000059768953","","",99,494,null,null,"","","","",23,"CZ00000026150953","NL00109990802191"," |  |  |  |  |  |  |  | 23"]
[470,355,"CZ00000059775953","","",122,533,null,null,"","","","",31,"CZ00000031809952","NL00202181200360"," |  |  |  |  |  |  |  | 31"]
[471,356,"CZ00000059787953","","",591,494,null,null,"","","","",24,"NL00262826041000","NL00109990802191"," |  |  |  |  |  |  |  | 24"]
[472,357,"CZ00000059788953","","",591,494,null,null,"","","","",23,"NL00262826041000","NL00109990802191"," |  |  |  |  |  |  |  | 23"]
[473,358,"CZ00000059789953","","",153,65,null,null,"","","","",18,"CZ00000038212953","CZ00000006233052"," |  |  |  |  |  |  |  | 18"]
[474,359,"CZ00000059790953","","",243,494,null,null,"","","","",21,"CZ00000043899953","NL00109990802191"," |  |  |  |  |  |  |  | 21"]
[475,360,"CZ00000059793953","","",157,494,null,null,"","","","",21,"CZ00000038280953","NL00109990802191"," |  |  |  |  |  |  |  | 21"]
[476,361,"CZ00000059794953","","",157,494,null,null,"","","","",29,"CZ00000038280953","NL00109990802191"," |  |  |  |  |  |  |  | 29"]
[477,362,"CZ00000059795953","","",149,533,null,null,"","","","",24,"CZ00000038208953","NL00202181200360"," |  |  |  |  |  |  |  | 24"]
[478,363,"CZ00000059796953","","",101,494,null,null,"","","","",38,"CZ00000026155953","NL00109990802191"," |  |  |  |  |  |  |  | 38"]
[479,364,"CZ00000059797953","","",226,494,null,null,"","","","",24,"CZ00000043844953","NL00109990802191"," |  |  |  |  |  |  |  | 24"]
[480,365,"CZ00000059798953","","",592,65,null,null,"","","","",25,"NL00262826043000","CZ00000006233052"," |  |  |  |  |  |  |  | 25"]
[481,366,"CZ00000059799953","","",592,65,null,null,"","","","",22,"NL00262826043000","CZ00000006233052"," |  |  |  |  |  |  |  | 22"]
[482,367,"CZ00000059800953","","",155,494,null,null,"","","","",23,"CZ00000038252953","NL00109990802191"," |  |  |  |  |  |  |  | 23"]
[483,368,"CZ00000059801953","","",476,494,null,null,"","","","",29,"NL00109990402410","NL00109990802191"," |  |  |  |  |  |  |  | 29"]
[484,369,"CZ00000059802953","","",476,494,null,null,"","","","",25,"NL00109990402410","NL00109990802191"," |  |  |  |  |  |  |  | 25"]
[485,370,"CZ00000059803953","","",79,494,null,null,"","","","",28,"CZ00000021279952","NL00109990802191"," |  |  |  |  |  |  |  | 28"]
[486,371,"CZ00000059804953","","",79,494,null,null,"","","","",2,"CZ00000021279952","NL00109990802191"," |  |  |  |  |  |  |  | 2"]
[487,372,"CZ00000059805953","","",229,494,null,null,"","","","",25,"CZ00000043852953","NL00109990802191"," |  |  |  |  |  |  |  | 25"]
[488,373,"CZ00000059815953","","",160,494,null,null,"","","","",null,"CZ00000038283953","NL00109990802191"," |  |  |  |  |  |  |  | "]
[489,374,"CZ00000060280953","","",470,465,null,null,"","","","",null,"NL00109990302406","NL00109990202531"," |  |  |  |  |  |  |  | "]
[490,375,"CZ00000060281953","","",470,465,null,null,"","","","",null,"NL00109990302406","NL00109990202531"," |  |  |  |  |  |  |  | "]
[491,376,"CZ00000060285953","","",486,7,null,null,"","","","",null,"NL00109990602414","NL00109990502037"," |  |  |  |  |  |  |  | "]
[492,377,"CZ00000060286953","","",486,7,null,null,"","","","",null,"NL00109990602414","NL00109990502037"," |  |  |  |  |  |  |  | "]
[493,378,"CZ00000060292953","","",458,7,null,null,"","","","",null,"NL00109990002412","NL00109990502037"," |  |  |  |  |  |  |  | "]
[494,379,"CZ00000060296953","","",463,465,null,null,"","","","",null,"NL00109990202409","NL00109990202531"," |  |  |  |  |  |  |  | "]
[495,380,"CZ00000060297953","","",463,465,null,null,"","","","",null,"NL00109990202409","NL00109990202531"," |  |  |  |  |  |  |  | "]
[496,381,"CZ00000060298953","","",466,465,null,null,"","","","",null,"NL00109990202896","NL00109990202531"," |  |  |  |  |  |  |  | "]
[497,382,"CZ00000060622952","","",280,443,null,null,"","","","",null,"CZ00000049622953","FR00025081900018"," |  |  |  |  |  |  |  | "]
[498,383,"CZ00000060623952","","",291,443,null,null,"","","","",null,"CZ00000049670953","FR00025081900018"," |  |  |  |  |  |  |  | "]
[499,384,"CZ00000060624952","","",292,443,null,null,"","","","",null,"CZ00000049671953","FR00025081900018"," |  |  |  |  |  |  |  | "]
[500,385,"CZ00000063424952","","",337,258,null,null,"","","","",null,"CZ00000057037952","CZ00000048517053"," |  |  |  |  |  |  |  | "]
[501,386,"CZ00000063426952","","",978,258,null,null,"","","","",null,"CZ00000057026952","CZ00000048517053"," |  |  |  |  |  |  |  | "]
[502,387,"CZ00000064179932","","",979,137,null,null,"","","Fem","",null,"CZ00000033532932","CZ00000033800053"," |  |  |  |  |  | Fem |  | "]
[503,388,"CZ00000064181932","","",980,137,null,null,"","","","",null,"CZ00000049145932","CZ00000033800053"," |  |  |  |  |  |  |  | "]
[504,389,"CZ00000064184932","","",981,137,null,null,"","","","",30,"CZ00000049148932","CZ00000033800053"," |  |  |  |  |  |  |  | 30"]
[505,390,"CZ00000064185932","","",982,137,null,null,"","","","",31,"CZ00000033542932","CZ00000033800053"," |  |  |  |  |  |  |  | 31"]
[506,391,"CZ00000064187932","","",983,137,null,null,"","","","",25,"CZ00000033538932","CZ00000033800053"," |  |  |  |  |  |  |  | 25"]
[507,392,"CZ00000064188932","","",983,137,null,null,"","","","",26,"CZ00000033538932","CZ00000033800053"," |  |  |  |  |  |  |  | 26"]
[508,393,"CZ00000064193932","","",985,137,null,null,"","","","",26,"CZ00000033533932","CZ00000033800053"," |  |  |  |  |  |  |  | 26"]
[509,394,"CZ00000064195932","","",986,137,null,null,"","","","",22,"CZ00000049137932","CZ00000033800053"," |  |  |  |  |  |  |  | 22"]
[510,395,"CZ00000064198932","","",987,137,null,null,"","","","",25,"CZ00000033536932","CZ00000033800053"," |  |  |  |  |  |  |  | 25"]
[511,396,"CZ00000064200932","","",988,137,null,null,"","","","",36,"CZ00000033528932","CZ00000033800053"," |  |  |  |  |  |  |  | 36"]
[512,397,"CZ00000064204932","","",989,137,null,null,"","","","",29,"CZ00000033530932","CZ00000033800053"," |  |  |  |  |  |  |  | 29"]
[513,398,"CZ00000064207932","","",990,137,null,null,"","","","",30,"CZ00000049142932","CZ00000033800053"," |  |  |  |  |  |  |  | 30"]
[514,399,"CZ00000064208932","","",991,137,null,null,"","","","",29,"CZ00000033535932","CZ00000033800053",{"$f":"D515&\" | \"&E515&\" | \"&IF(H515<1,\"\",YEAR(H515)&\".\"&MONTH(H515)&\".\"&DAY(H515))&\" | \"&I515&\" | \"&J515&\" | \"&K515&\" | \"&L515&\" | \"&M515&\" | \"&N515","v":" |  |  |  |  |  |  |  | 29"}]
[{"$f":"A515+1","v":515},400,"CZ00000064209932","","",992,137,null,null,"","","","",29,"CZ00000033531932","CZ00000033800053"," |  |  |  |  |  |  |  | 29"]
[516,401,"CZ00000064211932","","",993,137,null,null,"","","","",31,"CZ00000049152932","CZ00000033800053"," |  |  |  |  |  |  |  | 31"]
[517,402,"CZ00000064212932","","",994,137,null,null,"","","","",32,"CZ00000049138932","CZ00000033800053"," |  |  |  |  |  |  |  | 32"]
[518,403,"CZ00000065774072","","",445,218,null,null,"","","","",null,"FR00025081900059","CZ00000043411053"," |  |  |  |  |  |  |  | "]
[519,404,"CZ00000066950931","","",441,443,null,null,"","","","",32,"FR00025034190050","FR00025081900018"," |  |  |  |  |  |  |  | 32"]
[520,405,"CZ00000066951931","","",441,443,null,null,"","","","",23,"FR00025034190050","FR00025081900018"," |  |  |  |  |  |  |  | 23"]
[521,406,"CZ00000066952931","","",449,443,null,null,"","","","",36,"FR00025081900120","FR00025081900018"," |  |  |  |  |  |  |  | 36"]
[522,407,"CZ00000066953931","","",445,443,null,null,"","","","",null,"FR00025081900059","FR00025081900018"," |  |  |  |  |  |  |  | "]
[523,408,"CZ00000066954931","","",445,443,null,null,"","","","",null,"FR00025081900059","FR00025081900018"," |  |  |  |  |  |  |  | "]
[524,409,"CZ00000066955931","","",234,443,null,null,"","","","",28,"CZ00000043890953","FR00025081900018"," |  |  |  |  |  |  |  | 28"]
[525,410,"CZ00000066956931","","",234,443,null,null,"","","","",23,"CZ00000043890953","FR00025081900018"," |  |  |  |  |  |  |  | 23"]
[526,411,"CZ00000066957931","","",448,443,null,null,"","","","",22,"FR00025081900112","FR00025081900018"," |  |  |  |  |  |  |  | 22"]
[527,412,"CZ00000066958931","","",234,443,null,null,"","","","",38,"CZ00000043890953","FR00025081900018"," |  |  |  |  |  |  |  | 38"]
[528,413,"CZ00000066959931","","",459,65,null,null,"","","","",null,"NL00109990003718","CZ00000006233052"," |  |  |  |  |  |  |  | "]
[529,414,"CZ00000070916072","","",462,220,null,null,"","","","",null,"NL00109990104307","CZ00000043413053"," |  |  |  |  |  |  |  | "]
[530,415,"CZ00000070917072","","",479,220,null,null,"","","","",null,"NL00109990403716","CZ00000043413053"," |  |  |  |  |  |  |  | "]
[531,416,"CZ00000070918072","","",474,220,null,null,"","","","",null,"NL00109990304325","CZ00000043413053"," |  |  |  |  |  |  |  | "]
[532,417,"CZ00000070919072","","",496,220,null,null,"","","","",null,"NL00109990803529","CZ00000043413053"," |  |  |  |  |  |  |  | "]
[533,418,"CZ00000070920072","","",480,220,null,null,"","","","",null,"NL00109990403932","CZ00000043413053"," |  |  |  |  |  |  |  | "]
[534,419,"CZ00000073200031","","",464,601,null,null,"","","","",39,"NL00109990202416","UK00028747700060"," |  |  |  |  |  |  |  | 39"]
[535,420,"CZ00000073201031","","",499,601,null,null,"","","","",25,"NL00109990902408","UK00028747700060"," |  |  |  |  |  |  |  | 25"]
[536,421,"CZ00000075594932","","",278,207,null,null,"","","","",null,"CZ00000049175932","CZ00000043378053"," |  |  |  |  |  |  |  | "]
[537,422,"CZ00000075599932","","",387,207,null,null,"","","","",null,"CZ00000064179932","CZ00000043378053"," |  |  |  |  |  |  |  | "]
[538,423,"CZ00000075600932","","",387,207,null,null,"","","","",null,"CZ00000064179932","CZ00000043378053"," |  |  |  |  |  |  |  | "]
[539,424,"CZ00000081738972","","",490,220,null,null,"","","","",null,"NL00109990603549","CZ00000043413053"," |  |  |  |  |  |  |  | "]
[540,425,"CZ00000081739972","","",474,220,null,null,"","","","",null,"NL00109990304325","CZ00000043413053"," |  |  |  |  |  |  |  | "]
[541,426,"CZ00000081740972","","",481,220,null,null,"","","","",null,"NL00109990459997","CZ00000043413053"," |  |  |  |  |  |  |  | "]
[542,427,"CZ00000081741972","","",492,220,null,null,"","","","",null,"NL00109990603943","CZ00000043413053"," |  |  |  |  |  |  |  | "]
[543,428,"CZ00000081742972","","",469,220,null,null,"","","","",null,"NL00109990204328","CZ00000043413053"," |  |  |  |  |  |  |  | "]
[544,429,"CZ00000081743972","","",467,220,null,null,"","","","",null,"NL00109990203534","CZ00000043413053"," |  |  |  |  |  |  |  | "]
[545,430,"CZ00000081744972","","",473,220,null,null,"","","","",null,"NL00109990303942","CZ00000043413053"," |  |  |  |  |  |  |  | "]
[546,431,"CZ00000081745972","","",480,220,null,null,"","","","",null,"NL00109990403932","CZ00000043413053"," |  |  |  |  |  |  |  | "]
[547,432,"CZ00000081746972","","",496,220,null,null,"","","","",null,"NL00109990803529","CZ00000043413053"," |  |  |  |  |  |  |  | "]
[548,433,"CZ00000084899931","","",499,601,null,null,"","","","",27,"NL00109990902408","UK00028747700060"," |  |  |  |  |  |  |  | 27"]
[549,434,"CZ00000084900931","","",441,601,null,null,"","","","",32,"FR00025034190050","UK00028747700060"," |  |  |  |  |  |  |  | 32"]
[550,435,"CZ00000084901931","","",441,601,null,null,"","","","",25,"FR00025034190050","UK00028747700060"," |  |  |  |  |  |  |  | 25"]
[551,436,"FR00000000970035","","",1028,1620,null,null,"","","Fem","",null,"9902140250000000","9900137690000000"," |  |  |  |  |  | Fem |  | "]
[552,437,"FR00000000980011","","",1029,1621,null,null,"","","Fem","",null,"9902120040000000","9902160580000000"," |  |  |  |  |  | Fem |  | "]
[553,438,"FR00000000980094","","",1030,1622,null,null,"","","Mal","",null,"990210001100KGL0","990210008700RGE0"," |  |  |  |  |  | Mal |  | "]
[554,439,"FR00000000990113","","",1028,1623,null,null,"","","Fem","",null,"9902140250000000","9900138700000000"," |  |  |  |  |  | Fem |  | "]
[555,440,"FR00000000990161","","",1032,1624,null,null,"","","Mal","",null,"990210002400BRL0","990210013200KGP0"," |  |  |  |  |  | Mal |  | "]
[556,1626,"FR00002503410024","","",null,null,null,null,"","","Mal","",null,"",""," |  |  |  |  |  | Mal |  | "]
[557,1628,"FR00023867460090","","",null,null,null,null,"","","Mal","",null,"",""," |  |  |  |  |  | Mal |  | "]
[558,1035,"FR00025034107015","","",null,null,null,null,"","","Fem","",null,"",""," |  |  |  |  |  | Fem |  | "]
[559,1033,"FR00025034107082","","",null,null,null,null,"","","Fem","",null,"",""," |  |  |  |  |  | Fem |  | "]
[560,1036,"FR00025034160003","","",null,null,null,null,"","","Fem","",null,"",""," |  |  |  |  |  | Fem |  | "]
[561,1625,"FR00025034160047","","",null,null,null,null,"","","Mal","",null,"",""," |  |  |  |  |  | Mal |  | "]
[562,441,"FR00025034190050","","",1033,1625,null,null,"","","Fem","",null,"FR00025034107082","FR00025034160047"," |  |  |  |  |  | Fem |  | "]
[563,442,"FR00025081900011","","",1034,1626,null,null,"","","","",null,"FR00282803390110","FR00002503410024"," |  |  |  |  |  |  |  | "]
[564,443,"FR00025081900018","JOE-0001","JOEL",1035,577,"2010-02-22",1,"","EA","Mal","",null,"FR00025034107015","NL00245594500078","JOE-0001 | JOEL | 2010.2.22 | 1 |  | EA | Mal |  | "]
[565,444,"FR00025081900031","","",1036,1628,null,null,"","","Fem","",null,"FR00025034160003","FR00023867460090"," |  |  |  |  |  | Fem |  | "]
[566,445,"FR00025081900059","","",1037,1625,null,null,"","","Fem","",null,"FR00282803390016","FR00025034160047"," |  |  |  |  |  | Fem |  | "]
[567,446,"FR00025081900082","SIM-0001","SIMON",1038,1626,"2010-03-05",1,"","EA","Mal","",null,"FR00282803390111","FR00002503410024","SIM-0001 | SIMON | 2010.3.5 | 1 |  | EA | Mal |  | "]
[568,447,"FR00025081900093","","",1039,1626,null,null,"","","Fem","",null,"FR00282803390036","FR00002503410024"," |  |  |  |  |  | Fem |  | "]
[569,448,"FR00025081900112","","",1040,1626,null,null,"","","Fem","",null,"FR00282803390003","FR00002503410024"," |  |  |  |  |  | Fem |  | "]
[570,449,"FR00025081900120","","",1041,1626,null,null,"","","Fem","",null,"FR00282803390122","FR00002503410024"," |  |  |  |  |  | Fem |  | "]
[571,450,"FR00187306100163","","",1042,1634,null,null,"","","Fem","",null,"9901200KGP000250","9901200KGP001310"," |  |  |  |  |  | Fem |  | "]
[572,1040,"FR00282803390003","","",null,null,null,null,"","","Fem","",null,"",""," |  |  |  |  |  | Fem |  | "]
[573,1037,"FR00282803390016","","",null,null,null,null,"","","Fem","",null,"",""," |  |  |  |  |  | Fem |  | "]
[574,1039,"FR00282803390036","","",null,null,null,null,"","","Fem","",null,"",""," |  |  |  |  |  | Fem |  | "]
[575,1034,"FR00282803390110","","",null,null,null,null,"","","Fem","",null,"",""," |  |  |  |  |  | Fem |  | "]
[576,1038,"FR00282803390111","","",null,null,null,null,"","","Fem","",null,"",""," |  |  |  |  |  | Fem |  | "]
[577,1041,"FR00282803390122","","",null,null,null,null,"","","Fem","",null,"",""," |  |  |  |  |  | Fem |  | "]
[578,4,"NL00100990703104","","",1043,555,null,2,"","","Fem","",null,"99012C0KGL001940","NL00216477900143",{"$f":"D579&\" | \"&E579&\" | \"&IF(H579<1,\"\",YEAR(H579)&\".\"&MONTH(H579)&\".\"&DAY(H579))&\" | \"&I579&\" | \"&J579&\" | \"&K579&\" | \"&L579&\" | \"&M579&\" | \"&N579","v":" |  |  | 2 |  |  | Fem |  | "}]
[{"$f":"A579+1","v":579},452,"NL00101033698561","","",607,607,null,null,"","","Mal","",null,"0000000000000000","0000000000000000"," |  |  |  |  |  | Mal |  | "]
[580,453,"NL00101033698575","","",454,585,null,null,"","","Fem","",null,"NL00101033698577","NL00262826000001"," |  |  |  |  |  | Fem |  | "]
[581,454,"NL00101033698577","","",15,1638,null,null,"","","Fem","",null,"99012000WB000740","9901200TBV000600"," |  |  |  |  |  | Fem |  | "]
[582,455,"NL00101033698582","","",1047,558,null,null,"","","Fem","",null,"9901200SAN001170","NL00219622800042"," |  |  |  |  |  | Fem |  | "]
[583,456,"NL00101632168625","","",578,14,null,null,"","","","",null,"NL00245594500091","2030400OHA000650"," |  |  |  |  |  |  |  | "]
[584,457,"NL00109990002397","","",603,538,null,null,"","","Fem","",null,"UK00030351303358","NL00202181200432"," |  |  |  |  |  | Fem |  | "]
[585,458,"NL00109990002412","","",472,588,null,null,"","","Fem","",null,"NL00109990302420","NL00262826000072"," |  |  |  |  |  | Fem |  | "]
[586,459,"NL00109990003718","","",580,14,null,null,"","","Fem","",null,"NL00245594500103","2030400OHA000650"," |  |  |  |  |  | Fem |  | "]
[587,460,"NL00109990003725","","",576,21,null,null,"","","","",null,"NL00245594500074","9901200OHA000650"," |  |  |  |  |  |  |  | "]
[588,461,"NL00109990003941","","",562,572,null,null,"","","Fem","",null,"NL00234676200066","NL00244678900011"," |  |  |  |  |  | Fem |  | "]
[589,462,"NL00109990104307","","",505,546,null,null,"","","Fem","",null,"NL00150668200328","NL00202181200497"," |  |  |  |  |  | Fem |  | "]
[590,463,"NL00109990202409","","",539,506,null,null,"","","Fem","",null,"NL00202181200433","NL00150668200363"," |  |  |  |  |  | Fem |  | "]
[591,464,"NL00109990202416","","",542,506,null,null,"","","Fem","",null,"NL00202181200478","NL00150668200363"," |  |  |  |  |  | Fem |  | "]
[592,465,"NL00109990202531","WE-00001","WEWER",515,553,"2010-02-28",2,"","ER","Mal","",null,"NL00189617200228","NL00206005500122","WE-00001 | WEWER | 2010.2.28 | 2 |  | ER | Mal |  | "]
[593,466,"NL00109990202896","","",596,551,null,null,"","","Fem","",null,"NL00269547500030","NL00206005500111"," |  |  |  |  |  | Fem |  | "]
[594,467,"NL00109990203534","","",516,497,null,null,"","","Fem","",null,"NL00189617200230","NL00109990803550"," |  |  |  |  |  | Fem |  | "]
[595,468,"NL00109990203541","","",598,497,null,null,"","","","",null,"NL00604301600009","NL00109990803550"," |  |  |  |  |  |  |  | "]
[596,469,"NL00109990204328","","",504,502,null,null,"","","Fem","",null,"NL00150668200327","NL00109990904048"," |  |  |  |  |  | Fem |  | "]
[597,470,"NL00109990302406","","",547,506,null,null,"","","Fem","",null,"NL00205537600079","NL00150668200363"," |  |  |  |  |  | Fem |  | "]
[598,471,"NL00109990302413","","",543,588,null,null,"","","","",null,"NL00202181200482","NL00262826000072"," |  |  |  |  |  |  |  | "]
[599,472,"NL00109990302420","","",607,607,null,null,"","","Fem","",null,"0000000000000000","0000000000000000"," |  |  |  |  |  | Fem |  | "]
[600,473,"NL00109990303942","","",509,579,null,null,"","","Fem","",null,"NL00159650600364","NL00245594500101"," |  |  |  |  |  | Fem |  | "]
[601,474,"NL00109990304325","","",507,502,null,null,"","","Fem","",null,"NL00150668200364","NL00109990904048"," |  |  |  |  |  | Fem |  | "]
[602,1819,"NL00109990360000","FLI-0001","FLIP",489,581,"2009-02-07",2,"Berkovcová L","ER","","ARR/ARR",null,"NL00109990603330","NL00255933900049","FLI-0001 | FLIP | 2009.2.7 | 2 | Berkovcová L | ER |  | ARR/ARR | "]
[603,475,"NL00109990402319","FRU-0001","FRUMAU",453,604,"2010-03-12",null,"","ER","","",null,"NL00101033698575","UK00303422062516","FRU-0001 | FRUMAU | 2010.3.12 |  |  | ER |  |  | "]
[604,476,"NL00109990402410","","",539,506,null,null,"","","Fem","",null,"NL00202181200433","NL00150668200363"," |  |  |  |  |  | Fem |  | "]
[605,477,"NL00109990403127","","",487,500,null,null,"","","","",null,"NL00109990603107","NL00109990903106"," |  |  |  |  |  |  |  | "]
[606,478,"NL00109990403545","","",600,497,null,null,"","","Fem","",null,"NL00604301600017","NL00109990803550"," |  |  |  |  |  | Fem |  | "]
[607,479,"NL00109990403716","","",574,21,null,null,"","","Fem","",null,"NL00245594500054","9901200OHA000650"," |  |  |  |  |  | Fem |  | "]
[608,480,"NL00109990403932","","",565,568,null,null,"","","Fem","",null,"NL00234676200173","NL00234676200212"," |  |  |  |  |  | Fem |  | "]
[609,481,"NL00109990459997","","",576,21,null,null,"","","Fem","",null,"NL00245594500074","9901200OHA000650"," |  |  |  |  |  | Fem |  | "]
[610,7,"NL00109990502037","HAZ-0001","HAZMAN",3,6,"2010-03-04",3,"","ER","Mal","",null,"NL00238724000161","NL00255933900070","HAZ-0001 | HAZMAN | 2010.3.4 | 3 |  | ER | Mal |  | "]
[611,483,"NL00109990502417","","",544,506,null,null,"","","","",null,"NL00202181200490","NL00150668200363"," |  |  |  |  |  |  |  | "]
[612,484,"NL00109990503953","","",461,597,null,null,"","","","",null,"NL00109990003941","NL00269547500074"," |  |  |  |  |  |  |  | "]
[613,485,"NL00109990602399","","",540,506,null,null,"","","Fem","",null,"NL00202181200450","NL00150668200363"," |  |  |  |  |  | Fem |  | "]
[614,486,"NL00109990602414","","",545,506,null,null,"","","Fem","",null,"NL00202181200493","NL00150668200363"," |  |  |  |  |  | Fem |  | "]
[615,487,"NL00109990603107","","",501,581,null,null,"","","Fem","",null,"NL00109990903331","NL00255933900049"," |  |  |  |  |  | Fem |  | "]
[616,488,"NL00109990603121","TOO-0002","TOORN",584,500,"2010-03-23",2,"","ER","","ARR/ARR",null,"NL00255933900078","NL00109990903106","TOO-0002 | TOORN | 2010.3.23 | 2 |  | ER |  | ARR/ARR | "]
[617,489,"NL00109990603330","","",26,1673,null,3,"","","Fem","",null,"9901200SBN002190","9901200CHA000010"," |  |  | 3 |  |  | Fem |  | "]
[618,490,"NL00109990603549","","",599,497,null,null,"","","Fem","",null,"NL00604301600011","NL00109990803550"," |  |  |  |  |  | Fem |  | "]
[619,491,"NL00109990603929","","",566,568,null,null,"","","","",null,"NL00234676200178","NL00234676200212"," |  |  |  |  |  |  |  | "]
[620,492,"NL00109990603943","","",509,579,null,null,"","","Fem","",null,"NL00159650600364","NL00245594500101"," |  |  |  |  |  | Fem |  | "]
[621,493,"NL00109990702396","","",513,573,null,null,"","","Fem","",null,"NL00189617200183","NL00245594500047"," |  |  |  |  |  | Fem |  | "]
[622,494,"NL00109990802191","TOO-0001","TOORN",557,561,"2010-03-20",null,"","EA","Mal","",null,"NL00216477900193","NL00219622800156","TOO-0001 | TOORN | 2010.3.20 |  |  | EA | Mal |  | "]
[623,495,"NL00109990803101","","",527,1679,null,3,"","","Fem","",null,"NL00202181200218","NL00255933900006"," |  |  | 3 |  |  | Fem |  | "]
[624,496,"NL00109990803529","","",514,497,null,null,"","","Fem","",null,"NL00189617200227","NL00109990803550"," |  |  |  |  |  | Fem |  | "]
[625,497,"NL00109990803550","","",552,452,null,null,"","","Mal","",null,"NL00206005500117","NL00101033698561"," |  |  |  |  |  | Mal |  | "]
[626,498,"NL00109990804058","","",1090,1682,null,null,"","","Fem","",null,"9901200SRU000830","9901200SBN002220"," |  |  |  |  |  | Fem |  | "]
[627,499,"NL00109990902408","","",457,506,null,null,"","","Fem","",null,"NL00109990002397","NL00150668200363"," |  |  |  |  |  | Fem |  | "]
[628,500,"NL00109990903106","","",548,452,null,null,"","","Mal","",null,"NL00205970500012","NL00101033698561"," |  |  |  |  |  | Mal |  | "]
[629,501,"NL00109990903331","","",489,558,null,null,"","","Fem","",null,"NL00109990603330","NL00219622800042"," |  |  |  |  |  | Fem |  | "]
[630,502,"NL00109990904048","","",498,452,null,null,"","","Mal","",null,"NL00109990804058","NL00101033698561"," |  |  |  |  |  | Mal |  | "]
[631,503,"NL00150668200245","","",1095,1682,null,null,"","","Fem","",null,"9901200OWE000030","9901200SBN002220"," |  |  |  |  |  | Fem |  | "]
[632,504,"NL00150668200327","","",503,554,null,null,"","","Fem","",null,"NL00150668200245","NL00216477900091"," |  |  |  |  |  | Fem |  | "]
[633,505,"NL00150668200328","","",503,554,null,null,"","","Fem","",null,"NL00150668200245","NL00216477900091"," |  |  |  |  |  | Fem |  | "]
[634,506,"NL00150668200363","","",503,554,null,null,"","","Mal","",null,"NL00150668200245","NL00216477900091"," |  |  |  |  |  | Mal |  | "]
[635,507,"NL00150668200364","","",504,560,null,null,"","","Fem","",null,"NL00150668200327","NL00219622800155"," |  |  |  |  |  | Fem |  | "]
[636,508,"NL00159605060104","","",1100,1692,null,null,"","","Fem","",null,"9901200GRW000320","9901200TBV000780"," |  |  |  |  |  | Fem |  | "]
[637,509,"NL00159650600364","","",508,519,null,null,"","","Fem","",null,"NL00159605060104","NL00191312700152"," |  |  |  |  |  | Fem |  | "]
[638,1,"NL00189617200051","","",1102,1694,null,1,"","","Fem","",null,"99012000WB000400","9901200SBN000320"," |  |  | 1 |  |  | Fem |  | "]
[639,511,"NL00189617200130","","",1103,1695,null,null,"","","Fem","",null,"9901200KVH000470","9901200KGL000660"," |  |  |  |  |  | Fem |  | "]
[640,512,"NL00189617200165","","",1103,520,null,null,"","","Fem","",null,"9901200KVH000470","NL00191974300123"," |  |  |  |  |  | Fem |  | "]
[641,513,"NL00189617200183","","",511,520,null,null,"","","Fem","",null,"NL00189617200130","NL00191974300123"," |  |  |  |  |  | Fem |  | "]
[642,514,"NL00189617200227","","",512,559,null,null,"","","Fem","",null,"NL00189617200165","NL00219622800102",{"$f":"D643&\" | \"&E643&\" | \"&IF(H643<1,\"\",YEAR(H643)&\".\"&MONTH(H643)&\".\"&DAY(H643))&\" | \"&I643&\" | \"&J643&\" | \"&K643&\" | \"&L643&\" | \"&M643&\" | \"&N643","v":" |  |  |  |  |  | Fem |  | "}]
[{"$f":"A643+1","v":643},515,"NL00189617200228","","",512,559,null,null,"","","Fem","",null,"NL00189617200165","NL00219622800102"," |  |  |  |  |  | Fem |  | "]
[644,516,"NL00189617200230","","",513,559,null,null,"","","Fem","",null,"NL00189617200183","NL00219622800102"," |  |  |  |  |  | Fem |  | "]
[645,517,"NL00189617200235","","",1109,1701,null,null,"","","Fem","",null,"99012000WB001930","9901200SRU000840"," |  |  |  |  |  | Fem |  | "]
[646,518,"NL00189617200237","","",1110,559,null,null,"","","Fem","",null,"99012000WB002160","NL00219622800102"," |  |  |  |  |  | Fem |  | "]
[647,519,"NL00191312700152","","",1111,1703,null,null,"","","Mal","",null,"9901200HHF001210","9901200OWE001800"," |  |  |  |  |  | Mal |  | "]
[648,520,"NL00191974300123","","",1112,1704,null,null,"","","Mal","",null,"9901200KGL000550","99012000WB000600"," |  |  |  |  |  | Mal |  | "]
[649,521,"NL00196490100121","","",1113,1705,null,null,"","","Mal","",null,"99012000DZ000560","99012000WB001600"," |  |  |  |  |  | Mal |  | "]
[650,522,"NL00197359000014","","",1114,1706,null,null,"","","Mal","",null,"9901200TBV000790","9901200TBV001070"," |  |  |  |  |  | Mal |  | "]
[651,523,"NL00200005500119","","",1115,594,null,null,"","","Mal","",null,"9901200VWT000800","NL00268488800002"," |  |  |  |  |  | Mal |  | "]
[652,524,"NL00202093000118","","",1116,520,null,null,"","","Fem","",null,"9901200SAN000220","NL00191974300123"," |  |  |  |  |  | Fem |  | "]
[653,525,"NL00202181200069","","",1117,1709,null,null,"","","Fem","",null,"9901200PYWF95860","9901200FAF970710"," |  |  |  |  |  | Fem |  | "]
[654,526,"NL00202181200092","","",1118,1117,null,null,"","","Fem","",null,"9901200FAF00N760","9901200PYWF95860"," |  |  |  |  |  | Fem |  | "]
[655,527,"NL00202181200218","","",23,32,null,null,"","","Fem","",null,"9901200SBN000170","9901200VSB000010"," |  |  |  |  |  | Fem |  | "]
[656,528,"NL00202181200261","","",23,530,null,null,"","","Fem","",null,"9901200SBN000170","NL00202181200316"," |  |  |  |  |  | Fem |  | "]
[657,529,"NL00202181200304","","",525,530,null,null,"","","Mal","",null,"NL00202181200069","NL00202181200316"," |  |  |  |  |  | Mal |  | "]
[658,530,"NL00202181200316","","",1122,1117,null,null,"","","Mal","",null,"99012000FA00N430","9901200PYWF95860"," |  |  |  |  |  | Mal |  | "]
[659,531,"NL00202181200329","","",1123,1715,null,null,"","","Fem","",null,"9901200SBN002710","9901200MGI005280"," |  |  |  |  |  | Fem |  | "]
[660,532,"NL00202181200354","","",1123,1716,null,null,"","","Fem","",null,"9901200SBN002710","9901200SBN003230"," |  |  |  |  |  | Fem |  | "]
[661,533,"NL00202181200360","FRA-0001","FRASER",28,18,"2005-03-16",3,"","ER","Mal","ARR/ARR",null,"9901200SBN002500","9901200HAZ001030","FRA-0001 | FRASER | 2005.3.16 | 3 |  | ER | Mal | ARR/ARR | "]
[662,534,"NL00202181200379","","",472,1718,null,null,"","","Mal","",null,"NL00109990302420","9901200SBN003600"," |  |  |  |  |  | Mal |  | "]
[663,535,"NL00202181200381","","",1127,1718,null,null,"","","Mal","",null,"9901200SBN003240","9901200SBN003600"," |  |  |  |  |  | Mal |  | "]
[664,536,"NL00202181200389","","",1128,1718,null,null,"","","Fem","",null,"9901200FAF990590","9901200SBN003600"," |  |  |  |  |  | Fem |  | "]
[665,537,"NL00202181200391","GER-0001","GERALD",526,29,"2006-03-21",2,"","ER","Mal","ARR/ARR",null,"NL00202181200092","9901200SBN003520","GER-0001 | GERALD | 2006.3.21 | 2 |  | ER | Mal | ARR/ARR | "]
[666,538,"NL00202181200432","","",1130,534,null,null,"","","Mal","",null,"9901200FAF990160","NL00202181200379"," |  |  |  |  |  | Mal |  | "]
[667,539,"NL00202181200433","","",525,534,null,null,"","","Fem","",null,"NL00202181200069","NL00202181200379"," |  |  |  |  |  | Fem |  | "]
[668,540,"NL00202181200450","","",532,558,null,null,"","","Fem","",null,"NL00202181200354","NL00219622800042"," |  |  |  |  |  | Fem |  | "]
[669,541,"NL00202181200455","","",1133,558,null,null,"","","Mal","",null,"9901200SBN003640","NL00219622800042"," |  |  |  |  |  | Mal |  | "]
[670,542,"NL00202181200478","","",526,558,null,null,"","","Fem","",null,"NL00202181200092","NL00219622800042"," |  |  |  |  |  | Fem |  | "]
[671,543,"NL00202181200482","","",531,538,null,null,"","","Fem","",null,"NL00202181200329","NL00202181200432"," |  |  |  |  |  | Fem |  | "]
[672,544,"NL00202181200490","","",528,587,null,null,"","","Fem","",null,"NL00202181200261","NL00262826000061"," |  |  |  |  |  | Fem |  | "]
[673,545,"NL00202181200493","","",603,587,null,null,"","","Fem","",null,"UK00030351303358","NL00262826000061"," |  |  |  |  |  | Fem |  | "]
[674,546,"NL00202181200497","","",536,587,null,null,"","","Mal","",null,"NL00202181200389","NL00262826000061"," |  |  |  |  |  | Mal |  | "]
[675,1139,"NL00205537600046","","",null,null,null,null,"","","Fem","",null,"",""," |  |  |  |  |  | Fem |  | "]
[676,547,"NL00205537600079","","",1139,535,null,null,"","","Fem","",null,"NL00205537600046","NL00202181200381"," |  |  |  |  |  | Fem |  | "]
[677,548,"NL00205970500012","","",1090,1682,null,null,"","","Fem","",null,"9901200SRU000830","9901200SBN002220"," |  |  |  |  |  | Fem |  | "]
[678,549,"NL00206005500092","","",1141,1733,null,null,"","","Fem","",null,"9901200OWE001310","9901200SBN001310"," |  |  |  |  |  | Fem |  | "]
[679,550,"NL00206005500095","","",1142,520,null,null,"","","Fem","",null,"9901200VWT000640","NL00191974300123"," |  |  |  |  |  | Fem |  | "]
[680,551,"NL00206005500111","","",549,594,null,null,"","","Mal","",null,"NL00206005500092","NL00268488800002"," |  |  |  |  |  | Mal |  | "]
[681,552,"NL00206005500117","","",1142,594,null,null,"","","Fem","",null,"9901200VWT000640","NL00268488800002"," |  |  |  |  |  | Fem |  | "]
[682,553,"NL00206005500122","","",550,523,null,null,"","","Mal","",null,"NL00206005500095","NL00200005500119"," |  |  |  |  |  | Mal |  | "]
[683,554,"NL00216477900091","","",1146,1738,null,null,"","","Mal","",null,"9901200TBV000430","9901200TBV000840"," |  |  |  |  |  | Mal |  | "]
[684,555,"NL00216477900143","","",1147,1739,null,2,"","","Mal","",null,"9901200ESI000110","99002DAW00034400"," |  |  | 2 |  |  | Mal |  | "]
[685,556,"NL00216477900185","","",1148,1740,null,null,"","","Mal","",null,"9901200TBV001460","9901200OWE003180"," |  |  |  |  |  | Mal |  | "]
[686,557,"NL00216477900193","","",450,529,null,null,"","","Fem","",null,"FR00187306100163","NL00202181200304"," |  |  |  |  |  | Fem |  | "]
[687,558,"NL00219622800042","","",15,22,null,null,"","","Mal","",null,"99012000WB000740","9901200SAN001010"," |  |  |  |  |  | Mal |  | "]
[688,559,"NL00219622800102","","",1151,1743,null,null,"","","Mal","",null,"9901200FBB000800","99012DOB00011500"," |  |  |  |  |  | Mal |  | "]
[689,560,"NL00219622800155","","",1152,452,null,null,"","","Mal","",null,"9901200FBB000750","NL00101033698561"," |  |  |  |  |  | Mal |  | "]
[690,561,"NL00219622800156","","",455,452,null,null,"","","Mal","",null,"NL00101033698582","NL00101033698561"," |  |  |  |  |  | Mal |  | "]
[691,562,"NL00234676200066","","",1154,1746,null,null,"","","Fem","",null,"9901200TBV000180","9901200KVH000320"," |  |  |  |  |  | Fem |  | "]
[692,563,"NL00234676200155","","",1155,1747,null,null,"","","Fem","",null,"99001RA000033770","99001F9586005700"," |  |  |  |  |  | Fem |  | "]
[693,564,"NL00234676200156","","",1156,530,null,null,"","","Fem","",null,"9901200MPU000610","NL00202181200316"," |  |  |  |  |  | Fem |  | "]
[694,565,"NL00234676200173","","",563,567,null,null,"","","Fem","",null,"NL00234676200155","NL00234676200194"," |  |  |  |  |  | Fem |  | "]
[695,566,"NL00234676200178","","",564,567,null,null,"","","Fem","",null,"NL00234676200156","NL00234676200194"," |  |  |  |  |  | Fem |  | "]
[696,567,"NL00234676200194","","",1159,1751,null,null,"","","Mal","",null,"9901200JBA000010","9901200TBV001540"," |  |  |  |  |  | Mal |  | "]
[697,568,"NL00234676200212","","",569,556,null,null,"","","Mal","",null,"NL00238674600043","NL00216477900185"," |  |  |  |  |  | Mal |  | "]
[698,569,"NL00238674600043","","",1161,1753,null,null,"","","Fem","",null,"9901200DPU000260","9901200SBN002090"," |  |  |  |  |  | Fem |  | "]
[699,2,"NL00238724000042","","",1162,31,null,1,"","","Mal","",null,"9901200HAZ000020","9901200TBV000710"," |  |  | 1 |  |  | Mal |  | "]
[700,3,"NL00238724000161","","",1,2,null,2,"","","Fem","",null,"NL00189617200051","NL00238724000042"," |  |  | 2 |  |  | Fem |  | "]
[701,572,"NL00244678900011","","",1164,1756,null,null,"","","Mal","",null,"9901200SBN000860","9901200SBN002250"," |  |  |  |  |  | Mal |  | "]
[702,573,"NL00245594500047","","",575,602,null,null,"","","Mal","",null,"NL00245594500056","UK00030342200057"," |  |  |  |  |  | Mal |  | "]
[703,574,"NL00245594500054","","",580,521,null,null,"","","Fem","",null,"NL00245594500103","NL00196490100121"," |  |  |  |  |  | Fem |  | "]
[704,575,"NL00245594500056","","",607,607,null,null,"","","Fem","",null,"0000000000000000","0000000000000000"," |  |  |  |  |  | Fem |  | "]
[705,576,"NL00245594500074","","",575,530,null,null,"","","Fem","",null,"NL00245594500056","NL00202181200316"," |  |  |  |  |  | Fem |  | "]
[706,577,"NL00245594500078","","",580,579,null,null,"","","Mal","",null,"NL00245594500103","NL00245594500101",{"$f":"D707&\" | \"&E707&\" | \"&IF(H707<1,\"\",YEAR(H707)&\".\"&MONTH(H707)&\".\"&DAY(H707))&\" | \"&I707&\" | \"&J707&\" | \"&K707&\" | \"&L707&\" | \"&M707&\" | \"&N707","v":" |  |  |  |  |  | Mal |  | "}]
[{"$f":"A707+1","v":707},578,"NL00245594500091","","",580,579,null,null,"","","Fem","",null,"NL00245594500103","NL00245594500101"," |  |  |  |  |  | Fem |  | "]
[708,579,"NL00245594500101","","",1171,1763,null,null,"","","Mal","",null,"9901200FBB000530","9901200TBV001170"," |  |  |  |  |  | Mal |  | "]
[709,580,"NL00245594500103","","",525,530,null,null,"","","Fem","",null,"NL00202181200069","NL00202181200316"," |  |  |  |  |  | Fem |  | "]
[710,1679,"NL00255933900006","","",null,null,null,null,"","","Mal","",null,"",""," |  |  |  |  |  | Mal |  | "]
[711,581,"NL00255933900049","","",495,555,null,3,"","","Mal","",null,"NL00109990803101","NL00216477900143"," |  |  | 3 |  |  | Mal |  | "]
[712,6,"NL00255933900070","","",4,5,null,2,"","","Mal","",null,"NL00100990703104","NL00255933900074"," |  |  | 2 |  |  | Mal |  | "]
[713,5,"NL00255933900074","","",580,1767,null,2,"","","Mal","",null,"NL00245594500103","9901200ODZ001210"," |  |  | 2 |  |  | Mal |  | "]
[714,584,"NL00255933900078","","",527,1679,null,null,"","","Fem","",null,"NL00202181200218","NL00255933900006"," |  |  |  |  |  | Fem |  | "]
[715,585,"NL00262826000001","","",24,530,null,null,"","","Mal","",null,"9901200SBN002000","NL00202181200316"," |  |  |  |  |  | Mal |  | "]
[716,586,"NL00262826000003","","",24,530,null,null,"","","Fem","",null,"9901200SBN002000","NL00202181200316"," |  |  |  |  |  | Fem |  | "]
[717,587,"NL00262826000061","","",501,1771,null,null,"","","Mal","",null,"NL00109990903331","9901200TGI000030"," |  |  |  |  |  | Mal |  | "]
[718,588,"NL00262826000072","","",586,581,null,null,"","","Mal","",null,"NL00262826000003","NL00255933900049"," |  |  |  |  |  | Mal |  | "]
[719,589,"NL00262826036000","","",26,558,null,null,"","","Fem","",null,"9901200SBN002190","NL00219622800042"," |  |  |  |  |  | Fem |  | "]
[720,590,"NL00262826040000","","",19,558,null,null,"","","Fem","",null,"9901200OHA000170","NL00219622800042"," |  |  |  |  |  | Fem |  | "]
[721,591,"NL00262826041000","","",19,558,null,null,"","","Fem","",null,"9901200OHA000170","NL00219622800042"," |  |  |  |  |  | Fem |  | "]
[722,592,"NL00262826043000","","",586,558,null,null,"","","Fem","",null,"NL00262826000003","NL00219622800042"," |  |  |  |  |  | Fem |  | "]
[723,593,"NL00262826044000","","",20,558,null,null,"","","Fem","",null,"9901200OHA000190","NL00219622800042"," |  |  |  |  |  | Fem |  | "]
[724,594,"NL00268488800002","","",1186,1778,null,null,"","","Mal","",null,"9901200SBN002940","9901200MGI005360"," |  |  |  |  |  | Mal |  | "]
[725,595,"NL00269547500017","","",1187,522,null,null,"","","Fem","",null,"9901200SAN000940","NL00197359000014"," |  |  |  |  |  | Fem |  | "]
[726,596,"NL00269547500030","","",524,522,null,null,"","","Fem","",null,"NL00202093000118","NL00197359000014"," |  |  |  |  |  | Fem |  | "]
[727,597,"NL00269547500074","","",595,551,null,null,"","","Mal","",null,"NL00269547500017","NL00206005500111"," |  |  |  |  |  | Mal |  | "]
[728,598,"NL00604301600009","","",517,541,null,null,"","","Fem","",null,"NL00189617200235","NL00202181200455"," |  |  |  |  |  | Fem |  | "]
[729,599,"NL00604301600011","","",516,541,null,null,"","","Fem","",null,"NL00189617200230","NL00202181200455"," |  |  |  |  |  | Fem |  | "]
[730,600,"NL00604301600017","","",518,541,null,null,"","","Fem","",null,"NL00189617200237","NL00202181200455"," |  |  |  |  |  | Fem |  | "]
[731,601,"UK00028747700060","","",1193,1785,null,1,"","","Mal","",null,"9900122300000000","9900150360000000"," |  |  | 1 |  |  | Mal |  | "]
[732,602,"UK00030342200057","","",607,607,null,null,"","","Mal","",null,"0000000000000000","0000000000000000"," |  |  |  |  |  | Mal |  | "]
[733,603,"UK00030351303358","","",607,607,null,null,"","","Fem","",null,"0000000000000000","0000000000000000"," |  |  |  |  |  | Fem |  | "]
[734,604,"UK00303422062516","","",1196,1788,null,null,"","","Mal","",null,"9900197025000000","9900103300000000"," |  |  |  |  |  | Mal |  | "]
[735,601,"UK00028747700060","","",1193,1785,null,null,"","","Mal","",null,"9900122300000000","9900150360000000"," |  |  |  |  |  | Mal |  | "]
[736,602,"UK00030342200057","","",607,607,null,null,"","","Mal","",null,"0000000000000000","0000000000000000"," |  |  |  |  |  | Mal |  | "]
[737,603,"UK00030351303358","","",607,607,null,null,"","","Fem","",null,"0000000000000000","0000000000000000"," |  |  |  |  |  | Fem |  | "]
[738,604,"UK00303422062516","","",1196,1788,null,null,"","","Mal","",null,"9900197025000000","9900103300000000"," |  |  |  |  |  | Mal |  | "]
[739,null,null,null,null,null,null,null,null,null,null,null,null,null,null,null," |  |  |  |  |  |  |  | "]
[740,null,null,null,null,null,null,null,null,null,null,null,null,null,null,null," |  |  |  |  |  |  |  | "]
[741,null,null,null,null,null,null,null,null,null,null,null,null,null,null,null," |  |  |  |  |  |  |  | "]
[742,null,null,null,null,null,null,null,null,null,null,null,null,null,null,null," |  |  |  |  |  |  |  | "]
[743,null,null,null,null,null,null,null,null,null,null,null,null,null,null,null," |  |  |  |  |  |  |  | "]
[744,null,null,null,null,null,null,null,null,null,null,null,null,null,null,null," |  |  |  |  |  |  |  | "]
[745,null,null,null,null,null,null,null,null,null,null,null,null,null,null,null," |  |  |  |  |  |  |  | "]
[746,null,null,null,null,null,null,null,null,null,null,null,null,null,null,null," |  |  |  |  |  |  |  | "]
[747,null,null,null,null,null,null,null,null,null,null,null,null,null,null,null," |  |  |  |  |  |  |  | "]
[748,null,null,null,null,null,null,null,null,null,null,null,null,null,null,null," |  |  |  |  |  |  |  | "]
[749,null,null,null,null,null,null,null,null,null,null,null,null,null,null,null," |  |  |  |  |  |  |  | "]
[750,null,null,null,null,null,null,null,null,null,null,null,null,null,null,null," |  |  |  |  |  |  |  | "]
[751,null,null,null,null,null,null,null,null,null,null,null,null,null,null,null," |  |  |  |  |  |  |  | "]
[752,null,null,null,null,null,null,null,null,null,null,null,null,null,null,null," |  |  |  |  |  |  |  | "]
[753,null,null,null,null,null,null,null,null,null,null,null,null,null,null,null," |  |  |  |  |  |  |  | "]
[754,null,null,null,null,null,null,null,null,null,null,null,null,null,null,null," |  |  |  |  |  |  |  | "]
[755,null,null,null,null,null,null,null,null,null,null,null,null,null,null,null," |  |  |  |  |  |  |  | "]
[756,null,null,null,null,null,null,null,null,null,null,null,null,null,null,null," |  |  |  |  |  |  |  | "]
[757,null,null,null,null,null,null,null,null,null,null,null,null,null,null,null," |  |  |  |  |  |  |  | "]
[758,null,null,null,null,null,null,null,null,null,null,null,null,null,null,null," |  |  |  |  |  |  |  | "]
[759,null,null,null,null,null,null,null,null,null,null,null,null,null,null,null," |  |  |  |  |  |  |  | "]
[760,null,null,null,null,null,null,null,null,null,null,null,null,null,null,null," |  |  |  |  |  |  |  | "]
[761,null,null,null,null,null,null,null,null,null,null,null,null,null,null,null," |  |  |  |  |  |  |  | "]
[762,null,null,null,null,null,null,null,null,null,null,null,null,null,null,null," |  |  |  |  |  |  |  | "]
[763,null,null,null,null,null,null,null,null,null,null,null,null,null,null,null," |  |  |  |  |  |  |  | "]
[764,null,null,null,null,null,null,null,null,null,null,null,null,null,null,null," |  |  |  |  |  |  |  | "]
[765,null,null,null,null,null,null,null,null,null,null,null,null,null,null,null," |  |  |  |  |  |  |  | "]
[766,null,null,null,null,null,null,null,null,null,null,null,null,null,null,null," |  |  |  |  |  |  |  | "]
[767,null,null,null,null,null,null,null,null,null,null,null,null,null,null,null," |  |  |  |  |  |  |  | "]
[768,null,null,null,null,null,null,null,null,null,null,null,null,null,null,null," |  |  |  |  |  |  |  | "]
[769,null,null,null,null,null,null,null,null,null,null,null,null,null,null,null," |  |  |  |  |  |  |  | "]
[770,null,null,null,null,null,null,null,null,null,null,null,null,null,null,null,{"$f":"D771&\" | \"&E771&\" | \"&IF(H771<1,\"\",YEAR(H771)&\".\"&MONTH(H771)&\".\"&DAY(H771))&\" | \"&I771&\" | \"&J771&\" | \"&K771&\" | \"&L771&\" | \"&M771&\" | \"&N771","v":" |  |  |  |  |  |  |  | "}]
[{"$f":"A771+1","v":771},null,null,null,null,null,null,null,null,null,null,null,null,null,null,null," |  |  |  |  |  |  |  | "]
[772,null,null,null,null,null,null,null,null,null,null,null,null,null,null,null," |  |  |  |  |  |  |  | "]
[773,null,null,null,null,null,null,null,null,null,null,null,null,null,null,null," |  |  |  |  |  |  |  | "]
[774,null,null,null,null,null,null,null,null,null,null,null,null,null,null,null," |  |  |  |  |  |  |  | "]
[775,null,null,null,null,null,null,null,null,null,null,null,null,null,null,null," |  |  |  |  |  |  |  | "]
[776,null,null,null,null,null,null,null,null,null,null,null,null,null,null,null," |  |  |  |  |  |  |  | "]
[777,null,null,null,null,null,null,null,null,null,null,null,null,null,null,null," |  |  |  |  |  |  |  | "]
[778,null,null,null,null,null,null,null,null,null,null,null,null,null,null,null," |  |  |  |  |  |  |  | "]
[779,null,null,null,null,null,null,null,null,null,null,null,null,null,null,null," |  |  |  |  |  |  |  | "]
[780,null,null,null,null,null,null,null,null,null,null,null,null,null,null,null," |  |  |  |  |  |  |  | "]
[781,null,null,null,null,null,null,null,null,null,null,null,null,null,null,null," |  |  |  |  |  |  |  | "]
[782,null,null,null,null,null,null,null,null,null,null,null,null,null,null,null," |  |  |  |  |  |  |  | "]
[783,null,null,null,null,null,null,null,null,null,null,null,null,null,null,null," |  |  |  |  |  |  |  | "]
[784,null,null,null,null,null,null,null,null,null,null,null,null,null,null,null," |  |  |  |  |  |  |  | "]
[785,null,null,null,null,null,null,null,null,null,null,null,null,null,null,null," |  |  |  |  |  |  |  | "]
[786,null,null,null,null,null,null,null,null,null,null,null,null,null,null,null," |  |  |  |  |  |  |  | "]
[787,null,null,null,null,null,null,null,null,null,null,null,null,null,null,null," |  |  |  |  |  |  |  | "]
[788,null,null,null,null,null,null,null,null,null,null,null,null,null,null,null," |  |  |  |  |  |  |  | "]
[789,null,null,null,null,null,null,null,null,null,null,null,null,null,null,null," |  |  |  |  |  |  |  | "]
[790,null,null,null,null,null,null,null,null,null,null,null,null,null,null,null," |  |  |  |  |  |  |  | "]
[791,null,null,null,null,null,null,null,null,null,null,null,null,null,null,null," |  |  |  |  |  |  |  | "]
[792,null,null,null,null,null,null,null,null,null,null,null,null,null,null,null," |  |  |  |  |  |  |  | "]
[793,null,null,null,null,null,null,null,null,null,null,null,null,null,null,null," |  |  |  |  |  |  |  | "]
[794,null,null,null,null,null,null,null,null,null,null,null,null,null,null,null," |  |  |  |  |  |  |  | "]
[795,null,null,null,null,null,null,null,null,null,null,null,null,null,null,null," |  |  |  |  |  |  |  | "]
[796,null,null,null,null,null,null,null,null,null,null,null,null,null,null,null," |  |  |  |  |  |  |  | "]
[797,null,null,null,null,null,null,null,null,null,null,null,null,null,null,null," |  |  |  |  |  |  |  | "]
[798,null,null,null,null,null,null,null,null,null,null,null,null,null,null,null," |  |  |  |  |  |  |  | "]
[799,null,null,null,null,null,null,null,null,null,null,null,null,null,null,null," |  |  |  |  |  |  |  | "]
[800,null,null,null,null,null,null,null,null,null,null,null,null,null,null,null," |  |  |  |  |  |  |  | "]
[801,null,null,null,null,null,null,null,null,null,null,null,null,null,null,null," |  |  |  |  |  |  |  | "]
[802,null,null,null,null,null,null,null,null,null,null,null,null,null,null,null," |  |  |  |  |  |  |  | "]
[803,null,null,null,null,null,null,null,null,null,null,null,null,null,null,null," |  |  |  |  |  |  |  | "]
[804,null,null,null,null,null,null,null,null,null,null,null,null,null,null,null," |  |  |  |  |  |  |  | "]
[805,null,null,null,null,null,null,null,null,null,null,null,null,null,null,null," |  |  |  |  |  |  |  | "]
[806,null,null,null,null,null,null,null,null,null,null,null,null,null,null,null," |  |  |  |  |  |  |  | "]
[807,null,null,null,null,null,null,null,null,null,null,null,null,null,null,null," |  |  |  |  |  |  |  | "]
[808,null,null,null,null,null,null,null,null,null,null,null,null,null,null,null," |  |  |  |  |  |  |  | "]
[809,null,null,null,null,null,null,null,null,null,null,null,null,null,null,null," |  |  |  |  |  |  |  | "]
[810,null,null,null,null,null,null,null,null,null,null,null,null,null,null,null," |  |  |  |  |  |  |  | "]
[811,null,null,null,null,null,null,null,null,null,null,null,null,null,null,null," |  |  |  |  |  |  |  | "]
[812,null,null,null,null,null,null,null,null,null,null,null,null,null,null,null," |  |  |  |  |  |  |  | "]
[813,null,null,null,null,null,null,null,null,null,null,null,null,null,null,null," |  |  |  |  |  |  |  | "]
[814,null,null,null,null,null,null,null,null,null,null,null,null,null,null,null," |  |  |  |  |  |  |  | "]
[815,null,null,null,null,null,null,null,null,null,null,null,null,null,null,null," |  |  |  |  |  |  |  | "]
[816,null,null,null,null,null,null,null,null,null,null,null,null,null,null,null," |  |  |  |  |  |  |  | "]
[817,null,null,null,null,null,null,null,null,null,null,null,null,null,null,null," |  |  |  |  |  |  |  | "]
[818,null,null,null,null,null,null,null,null,null,null,null,null,null,null,null," |  |  |  |  |  |  |  | "]
[819,null,null,null,null,null,null,null,null,null,null,null,null,null,null,null," |  |  |  |  |  |  |  | "]
[820,null,null,null,null,null,null,null,null,null,null,null,null,null,null,null," |  |  |  |  |  |  |  | "]
[821,null,null,null,null,null,null,null,null,null,null,null,null,null,null,null," |  |  |  |  |  |  |  | "]
[822,null,null,null,null,null,null,null,null,null,null,null,null,null,null,null," |  |  |  |  |  |  |  | "]
[823,null,null,null,null,null,null,null,null,null,null,null,null,null,null,null," |  |  |  |  |  |  |  | "]
[824,null,null,null,null,null,null,null,null,null,null,null,null,null,null,null," |  |  |  |  |  |  |  | "]
[825,null,null,null,null,null,null,null,null,null,null,null,null,null,null,null," |  |  |  |  |  |  |  | "]
[826,null,null,null,null,null,null,null,null,null,null,null,null,null,null,null," |  |  |  |  |  |  |  | "]
[827,null,null,null,null,null,null,null,null,null,null,null,null,null,null,null," |  |  |  |  |  |  |  | "]
[828,null,null,null,null,null,null,null,null,null,null,null,null,null,null,null," |  |  |  |  |  |  |  | "]
[829,null,null,null,null,null,null,null,null,null,null,null,null,null,null,null," |  |  |  |  |  |  |  | "]
[830,null,null,null,null,null,null,null,null,null,null,null,null,null,null,null," |  |  |  |  |  |  |  | "]
[831,null,null,null,null,null,null,null,null,null,null,null,null,null,null,null," |  |  |  |  |  |  |  | "]
[832,null,null,null,null,null,null,null,null,null,null,null,null,null,null,null," |  |  |  |  |  |  |  | "]
[833,null,null,null,null,null,null,null,null,null,null,null,null,null,null,null," |  |  |  |  |  |  |  | "]
[834,null,null,null,null,null,null,null,null,null,null,null,null,null,null,null,{"$f":"D835&\" | \"&E835&\" | \"&IF(H835<1,\"\",YEAR(H835)&\".\"&MONTH(H835)&\".\"&DAY(H835))&\" | \"&I835&\" | \"&J835&\" | \"&K835&\" | \"&L835&\" | \"&M835&\" | \"&N835","v":" |  |  |  |  |  |  |  | "}]
[{"$f":"A835+1","v":835},null,null,null,null,null,null,null,null,null,null,null,null,null,null,null," |  |  |  |  |  |  |  | "]
[836,null,null,null,null,null,null,null,null,null,null,null,null,null,null,null," |  |  |  |  |  |  |  | "]
[837,null,null,null,null,null,null,null,null,null,null,null,null,null,null,null," |  |  |  |  |  |  |  | "]
[838,null,null,null,null,null,null,null,null,null,null,null,null,null,null,null," |  |  |  |  |  |  |  | "]
[839,null,null,null,null,null,null,null,null,null,null,null,null,null,null,null," |  |  |  |  |  |  |  | "]
[840,null,null,null,null,null,null,null,null,null,null,null,null,null,null,null," |  |  |  |  |  |  |  | "]
[841,null,null,null,null,null,null,null,null,null,null,null,null,null,null,null," |  |  |  |  |  |  |  | "]
[842,null,null,null,null,null,null,null,null,null,null,null,null,null,null,null," |  |  |  |  |  |  |  | "]
[843,null,null,null,null,null,null,null,null,null,null,null,null,null,null,null," |  |  |  |  |  |  |  | "]
[844,null,null,null,null,null,null,null,null,null,null,null,null,null,null,null," |  |  |  |  |  |  |  | "]
[845,null,null,null,null,null,null,null,null,null,null,null,null,null,null,null," |  |  |  |  |  |  |  | "]
[846,null,null,null,null,null,null,null,null,null,null,null,null,null,null,null," |  |  |  |  |  |  |  | "]
[847,null,null,null,null,null,null,null,null,null,null,null,null,null,null,null," |  |  |  |  |  |  |  | "]
[848,null,null,null,null,null,null,null,null,null,null,null,null,null,null,null," |  |  |  |  |  |  |  | "]
[849,null,null,null,null,null,null,null,null,null,null,null,null,null,null,null," |  |  |  |  |  |  |  | "]
[850,null,null,null,null,null,null,null,null,null,null,null,null,null,null,null," |  |  |  |  |  |  |  | "]
[851,null,null,null,null,null,null,null,null,null,null,null,null,null,null,null," |  |  |  |  |  |  |  | "]
[852,null,null,null,null,null,null,null,null,null,null,null,null,null,null,null," |  |  |  |  |  |  |  | "]
[853,null,null,null,null,null,null,null,null,null,null,null,null,null,null,null," |  |  |  |  |  |  |  | "]
[854,null,null,null,null,null,null,null,null,null,null,null,null,null,null,null," |  |  |  |  |  |  |  | "]
[855,null,null,null,null,null,null,null,null,null,null,null,null,null,null,null," |  |  |  |  |  |  |  | "]
[856,null,null,null,null,null,null,null,null,null,null,null,null,null,null,null," |  |  |  |  |  |  |  | "]
[857,null,null,null,null,null,null,null,null,null,null,null,null,null,null,null," |  |  |  |  |  |  |  | "]
[858,null,null,null,null,null,null,null,null,null,null,null,null,null,null,null," |  |  |  |  |  |  |  | "]
[859,null,null,null,null,null,null,null,null,null,null,null,null,null,null,null," |  |  |  |  |  |  |  | "]
[860,null,null,null,null,null,null,null,null,null,null,null,null,null,null,null," |  |  |  |  |  |  |  | "]
[861,null,null,null,null,null,null,null,null,null,null,null,null,null,null,null," |  |  |  |  |  |  |  | "]
[862,null,null,null,null,null,null,null,null,null,null,null,null,null,null,null," |  |  |  |  |  |  |  | "]
[863,null,null,null,null,null,null,null,null,null,null,null,null,null,null,null," |  |  |  |  |  |  |  | "]
[864,null,null,null,null,null,null,null,null,null,null,null,null,null,null,null," |  |  |  |  |  |  |  | "]
[865,null,null,null,null,null,null,null,null,null,null,null,null,null,null,null," |  |  |  |  |  |  |  | "]
[866,null,null,null,null,null,null,null,null,null,null,null,null,null,null,null," |  |  |  |  |  |  |  | "]
[867,null,null,null,null,null,null,null,null,null,null,null,null,null,null,null," |  |  |  |  |  |  |  | "]
[868,null,null,null,null,null,null,null,null,null,null,null,null,null,null,null," |  |  |  |  |  |  |  | "]
[869,null,null,null,null,null,null,null,null,null,null,null,null,null,null,null," |  |  |  |  |  |  |  | "]
[870,null,null,null,null,null,null,null,null,null,null,null,null,null,null,null," |  |  |  |  |  |  |  | "]
[871,null,null,null,null,null,null,null,null,null,null,null,null,null,null,null," |  |  |  |  |  |  |  | "]
[872,null,null,null,null,null,null,null,null,null,null,null,null,null,null,null," |  |  |  |  |  |  |  | "]
[873,null,null,null,null,null,null,null,null,null,null,null,null,null,null,null," |  |  |  |  |  |  |  | "]
[874,null,null,null,null,null,null,null,null,null,null,null,null,null,null,null," |  |  |  |  |  |  |  | "]
[875,null,null,null,null,null,null,null,null,null,null,null,null,null,null,null," |  |  |  |  |  |  |  | "]
[876,null,null,null,null,null,null,null,null,null,null,null,null,null,null,null," |  |  |  |  |  |  |  | "]
[877,null,null,null,null,null,null,null,null,null,null,null,null,null,null,null," |  |  |  |  |  |  |  | "]
[878,null,null,null,null,null,null,null,null,null,null,null,null,null,null,null," |  |  |  |  |  |  |  | "]
[879,null,null,null,null,null,null,null,null,null,null,null,null,null,null,null," |  |  |  |  |  |  |  | "]
[880,null,null,null,null,null,null,null,null,null,null,null,null,null,null,null," |  |  |  |  |  |  |  | "]
[881,null,null,null,null,null,null,null,null,null,null,null,null,null,null,null," |  |  |  |  |  |  |  | "]
[882,null,null,null,null,null,null,null,null,null,null,null,null,null,null,null," |  |  |  |  |  |  |  | "]
[883,null,null,null,null,null,null,null,null,null,null,null,null,null,null,null," |  |  |  |  |  |  |  | "]
[884,null,null,null,null,null,null,null,null,null,null,null,null,null,null,null," |  |  |  |  |  |  |  | "]
[885,null,null,null,null,null,null,null,null,null,null,null,null,null,null,null," |  |  |  |  |  |  |  | "]
[886,null,null,null,null,null,null,null,null,null,null,null,null,null,null,null," |  |  |  |  |  |  |  | "]
[887,null,null,null,null,null,null,null,null,null,null,null,null,null,null,null," |  |  |  |  |  |  |  | "]
[888,null,null,null,null,null,null,null,null,null,null,null,null,null,null,null," |  |  |  |  |  |  |  | "]
[889,null,null,null,null,null,null,null,null,null,null,null,null,null,null,null," |  |  |  |  |  |  |  | "]
[890,null,null,null,null,null,null,null,null,null,null,null,null,null,null,null," |  |  |  |  |  |  |  | "]
[891,null,null,null,null,null,null,null,null,null,null,null,null,null,null,null," |  |  |  |  |  |  |  | "]
[892,null,null,null,null,null,null,null,null,null,null,null,null,null,null,null," |  |  |  |  |  |  |  | "]
[893,null,null,null,null,null,null,null,null,null,null,null,null,null,null,null," |  |  |  |  |  |  |  | "]
[894,null,null,null,null,null,null,null,null,null,null,null,null,null,null,null," |  |  |  |  |  |  |  | "]
[895,null,null,null,null,null,null,null,null,null,null,null,null,null,null,null," |  |  |  |  |  |  |  | "]
[896,null,null,null,null,null,null,null,null,null,null,null,null,null,null,null," |  |  |  |  |  |  |  | "]
[897,null,null,null,null,null,null,null,null,null,null,null,null,null,null,null," |  |  |  |  |  |  |  | "]
[898,null,null,null,null,null,null,null,null,null,null,null,null,null,null,null,{"$f":"D899&\" | \"&E899&\" | \"&IF(H899<1,\"\",YEAR(H899)&\".\"&MONTH(H899)&\".\"&DAY(H899))&\" | \"&I899&\" | \"&J899&\" | \"&K899&\" | \"&L899&\" | \"&M899&\" | \"&N899","v":" |  |  |  |  |  |  |  | "}]
[{"$f":"A899+1","v":899},null,null,null,null,null,null,null,null,null,null,null,null,null,null,null," |  |  |  |  |  |  |  | "]
[900,null,null,null,null,null,null,null,null,null,null,null,null,null,null,null," |  |  |  |  |  |  |  | "]
[901,null,null,null,null,null,null,null,null,null,null,null,null,null,null,null," |  |  |  |  |  |  |  | "]
[902,null,null,null,null,null,null,null,null,null,null,null,null,null,null,null," |  |  |  |  |  |  |  | "]
[903,null,null,null,null,null,null,null,null,null,null,null,null,null,null,null," |  |  |  |  |  |  |  | "]
[904,null,null,null,null,null,null,null,null,null,null,null,null,null,null,null," |  |  |  |  |  |  |  | "]
[905,null,null,null,null,null,null,null,null,null,null,null,null,null,null,null," |  |  |  |  |  |  |  | "]
[906,null,null,null,null,null,null,null,null,null,null,null,null,null,null,null," |  |  |  |  |  |  |  | "]
[907,null,null,null,null,null,null,null,null,null,null,null,null,null,null,null," |  |  |  |  |  |  |  | "]
[908,null,null,null,null,null,null,null,null,null,null,null,null,null,null,null," |  |  |  |  |  |  |  | "]
[909,null,null,null,null,null,null,null,null,null,null,null,null,null,null,null," |  |  |  |  |  |  |  | "]
[910,null,null,null,null,null,null,null,null,null,null,null,null,null,null,null," |  |  |  |  |  |  |  | "]
[911,null,null,null,null,null,null,null,null,null,null,null,null,null,null,null," |  |  |  |  |  |  |  | "]
[912,null,null,null,null,null,null,null,null,null,null,null,null,null,null,null," |  |  |  |  |  |  |  | "]
[913,null,null,null,null,null,null,null,null,null,null,null,null,null,null,null," |  |  |  |  |  |  |  | "]
[914,null,null,null,null,null,null,null,null,null,null,null,null,null,null,null," |  |  |  |  |  |  |  | "]
[915,null,null,null,null,null,null,null,null,null,null,null,null,null,null,null," |  |  |  |  |  |  |  | "]
[916,null,null,null,null,null,null,null,null,null,null,null,null,null,null,null," |  |  |  |  |  |  |  | "]
[917,null,null,null,null,null,null,null,null,null,null,null,null,null,null,null," |  |  |  |  |  |  |  | "]
[918,null,null,null,null,null,null,null,null,null,null,null,null,null,null,null," |  |  |  |  |  |  |  | "]
[919,null,null,null,null,null,null,null,null,null,null,null,null,null,null,null," |  |  |  |  |  |  |  | "]
[920,null,null,null,null,null,null,null,null,null,null,null,null,null,null,null," |  |  |  |  |  |  |  | "]
[921,null,null,null,null,null,null,null,null,null,null,null,null,null,null,null," |  |  |  |  |  |  |  | "]
[922,null,null,null,null,null,null,null,null,null,null,null,null,null,null,null," |  |  |  |  |  |  |  | "]
[923,null,null,null,null,null,null,null,null,null,null,null,null,null,null,null," |  |  |  |  |  |  |  | "]
[924,null,null,null,null,null,null,null,null,null,null,null,null,null,null,null," |  |  |  |  |  |  |  | "]
[925,null,null,null,null,null,null,null,null,null,null,null,null,null,null,null," |  |  |  |  |  |  |  | "]
[926,null,null,null,null,null,null,null,null,null,null,null,null,null,null,null," |  |  |  |  |  |  |  | "]
[927,null,null,null,null,null,null,null,null,null,null,null,null,null,null,null," |  |  |  |  |  |  |  | "]
[928,null,null,null,null,null,null,null,null,null,null,null,null,null,null,null," |  |  |  |  |  |  |  | "]
[929,null,null,null,null,null,null,null,null,null,null,null,null,null,null,null," |  |  |  |  |  |  |  | "]
[930,null,null,null,null,null,null,null,null,null,null,null,null,null,null,null," |  |  |  |  |  |  |  | "]
[931,null,null,null,null,null,null,null,null,null,null,null,null,null,null,null," |  |  |  |  |  |  |  | "]
[932,null,null,null,null,null,null,null,null,null,null,null,null,null,null,null," |  |  |  |  |  |  |  | "]
[933,null,null,null,null,null,null,null,null,null,null,null,null,null,null,null," |  |  |  |  |  |  |  | "]
[934,null,null,null,null,null,null,null,null,null,null,null,null,null,null,null," |  |  |  |  |  |  |  | "]
[935,null,null,null,null,null,null,null,null,null,null,null,null,null,null,null," |  |  |  |  |  |  |  | "]
[936,null,null,null,null,null,null,null,null,null,null,null,null,null,null,null," |  |  |  |  |  |  |  | "]
[937,null,null,null,null,null,null,null,null,null,null,null,null,null,null,null," |  |  |  |  |  |  |  | "]
[938,null,null,null,null,null,null,null,null,null,null,null,null,null,null,null," |  |  |  |  |  |  |  | "]
[939,null,null,null,null,null,null,null,null,null,null,null,null,null,null,null," |  |  |  |  |  |  |  | "]
[940,null,null,null,null,null,null,null,null,null,null,null,null,null,null,null," |  |  |  |  |  |  |  | "]
[941,null,null,null,null,null,null,null,null,null,null,null,null,null,null,null," |  |  |  |  |  |  |  | "]
[942,null,null,null,null,null,null,null,null,null,null,null,null,null,null,null," |  |  |  |  |  |  |  | "]
[943,null,null,null,null,null,null,null,null,null,null,null,null,null,null,null," |  |  |  |  |  |  |  | "]

{"sheet":"DATA1","index":2,"n_rows":72,"n_cols":7,"rows_kept":72,"cut":false,"hidden":true,"merged":[]}
[null,null,"FEMALE","MALE"]
[null,{"$f":"'Family Tree'!F19","v":"NL00109990360000"},{"$f":"IFERROR(VLOOKUP(B2,DATA!$C$1:$P$1999,13,0),\"\")","v":"NL00109990603330"},{"$f":"IFERROR(VLOOKUP(B2,DATA!$C$1:$P$1999,14,0),\"\")","v":"NL00255933900049"},1]
["FEMALE",{"$f":"C2","v":"NL00109990603330"},{"$f":"IFERROR(VLOOKUP(B3,DATA!$C$1:$P$1999,13,0),\"\")","v":"9901200SBN002190"},{"$f":"IFERROR(VLOOKUP(B3,DATA!$C$1:$P$1999,14,0),\"\")","v":"9901200CHA000010"},2]
["MALE",{"$f":"D2","v":"NL00255933900049"},{"$f":"IFERROR(VLOOKUP(B4,DATA!$C$1:$P$1999,13,0),\"\")","v":"NL00109990803101"},{"$f":"IFERROR(VLOOKUP(B4,DATA!$C$1:$P$1999,14,0),\"\")","v":"NL00216477900143"},2]
["FEMALE",{"$f":"C3","v":"9901200SBN002190"},{"$f":"IFERROR(VLOOKUP(B5,DATA!$C$1:$P$1999,13,0),\"\")","v":"9901200SBN000170"},{"$f":"IFERROR(VLOOKUP(B5,DATA!$C$1:$P$1999,14,0),\"\")","v":"9901200VSB000010"},3]
["MALE",{"$f":"D3","v":"9901200CHA000010"},{"$f":"IFERROR(VLOOKUP(B6,DATA!$C$1:$P$1999,13,0),\"\")","v":""},{"$f":"IFERROR(VLOOKUP(B6,DATA!$C$1:$P$1999,14,0),\"\")","v":""},3]
["FEMALE",{"$f":"C4","v":"NL00109990803101"},{"$f":"IFERROR(VLOOKUP(B7,DATA!$C$1:$P$1999,13,0),\"\")","v":"NL00202181200218"},{"$f":"IFERROR(VLOOKUP(B7,DATA!$C$1:$P$1999,14,0),\"\")","v":"NL00255933900006"},3]
["MALE",{"$f":"D4","v":"NL00216477900143"},{"$f":"IFERROR(VLOOKUP(B8,DATA!$C$1:$P$1999,13,0),\"\")","v":"9901200ESI000110"},{"$f":"IFERROR(VLOOKUP(B8,DATA!$C$1:$P$1999,14,0),\"\")","v":"99002DAW00034400"},3]
[]
["FEMALE",{"$f":"C5","v":"9901200SBN000170"},{"$f":"IFERROR(VLOOKUP(B10,DATA!$C$1:$P$1999,13,0),\"\")","v":"0000000000000000"},{"$f":"IFERROR(VLOOKUP(B10,DATA!$C$1:$P$1999,14,0),\"\")","v":"0000000000000000"},3]
["FEMALE",{"$f":"C10","v":"0000000000000000"},{"$f":"IFERROR(VLOOKUP(B11,DATA!$C$1:$P$1999,13,0),\"\")","v":""},{"$f":"IFERROR(VLOOKUP(B11,DATA!$C$1:$P$1999,14,0),\"\")","v":""},4,null,{"$f":"IFERROR(C11,\"\")","v":""}]
["MALE",{"$f":"D10","v":"0000000000000000"},{"$f":"IFERROR(VLOOKUP(B12,DATA!$C$1:$P$1999,13,0),\"\")","v":""},{"$f":"IFERROR(VLOOKUP(B12,DATA!$C$1:$P$1999,14,0),\"\")","v":""},4]
["FEMALE",{"$f":"C11","v":""},{"$f":"IFERROR(VLOOKUP(B13,DATA!$C$1:$P$1999,13,0),\"\")","v":""},{"$f":"IFERROR(VLOOKUP(B13,DATA!$C$1:$P$1999,14,0),\"\")","v":""},5]
["MALE",{"$f":"D11","v":""},{"$f":"IFERROR(VLOOKUP(B14,DATA!$C$1:$P$1999,13,0),\"\")","v":""},{"$f":"IFERROR(VLOOKUP(B14,DATA!$C$1:$P$1999,14,0),\"\")","v":""},5]
["FEMALE",{"$f":"C12","v":""},{"$f":"IFERROR(VLOOKUP(B15,DATA!$C$1:$P$1999,13,0),\"\")","v":""},{"$f":"IFERROR(VLOOKUP(B15,DATA!$C$1:$P$1999,14,0),\"\")","v":""},5]
["MALE",{"$f":"D12","v":""},{"$f":"IFERROR(VLOOKUP(B16,DATA!$C$1:$P$1999,13,0),\"\")","v":""},{"$f":"IFERROR(VLOOKUP(B16,DATA!$C$1:$P$1999,14,0),\"\")","v":""},5]
[]
["MALE",{"$f":"D5","v":"9901200VSB000010"},{"$f":"IFERROR(VLOOKUP(B18,DATA!$C$1:$P$1999,13,0),\"\")","v":"0000000000000000"},{"$f":"IFERROR(VLOOKUP(B18,DATA!$C$1:$P$1999,14,0),\"\")","v":"0000000000000000"},3]
["FEMALE",{"$f":"C18","v":"0000000000000000"},{"$f":"IFERROR(VLOOKUP(B19,DATA!$C$1:$P$1999,13,0),\"\")","v":""},{"$f":"IFERROR(VLOOKUP(B19,DATA!$C$1:$P$1999,14,0),\"\")","v":""},4]
["MALE",{"$f":"D18","v":"0000000000000000"},{"$f":"IFERROR(VLOOKUP(B20,DATA!$C$1:$P$1999,13,0),\"\")","v":""},{"$f":"IFERROR(VLOOKUP(B20,DATA!$C$1:$P$1999,14,0),\"\")","v":""},4]
["FEMALE",{"$f":"C19","v":""},{"$f":"IFERROR(VLOOKUP(B21,DATA!$C$1:$P$1999,13,0),\"\")","v":""},{"$f":"IFERROR(VLOOKUP(B21,DATA!$C$1:$P$1999,14,0),\"\")","v":""},5]
["MALE",{"$f":"D19","v":""},{"$f":"IFERROR(VLOOKUP(B22,DATA!$C$1:$P$1999,13,0),\"\")","v":""},{"$f":"IFERROR(VLOOKUP(B22,DATA!$C$1:$P$1999,14,0),\"\")","v":""},5]
["FEMALE",{"$f":"C20","v":""},{"$f":"IFERROR(VLOOKUP(B23,DATA!$C$1:$P$1999,13,0),\"\")","v":""},{"$f":"IFERROR(VLOOKUP(B23,DATA!$C$1:$P$1999,14,0),\"\")","v":""},5]
["MALE",{"$f":"D20","v":""},{"$f":"IFERROR(VLOOKUP(B24,DATA!$C$1:$P$1999,13,0),\"\")","v":""},{"$f":"IFERROR(VLOOKUP(B24,DATA!$C$1:$P$1999,14,0),\"\")","v":""},5]
[]
["FEMALE",{"$f":"C6","v":""},{"$f":"IFERROR(VLOOKUP(B26,DATA!$C$1:$P$1999,13,0),\"\")","v":""},{"$f":"IFERROR(VLOOKUP(B26,DATA!$C$1:$P$1999,14,0),\"\")","v":""},3]
["FEMALE",{"$f":"C26","v":""},{"$f":"IFERROR(VLOOKUP(B27,DATA!$C$1:$P$1999,13,0),\"\")","v":""},{"$f":"IFERROR(VLOOKUP(B27,DATA!$C$1:$P$1999,14,0),\"\")","v":""},4]
["MALE",{"$f":"D26","v":""},{"$f":"IFERROR(VLOOKUP(B28,DATA!$C$1:$P$1999,13,0),\"\")","v":""},{"$f":"IFERROR(VLOOKUP(B28,DATA!$C$1:$P$1999,14,0),\"\")","v":""},4]
["FEMALE",{"$f":"C27","v":""},{"$f":"IFERROR(VLOOKUP(B29,DATA!$C$1:$P$1999,13,0),\"\")","v":""},{"$f":"IFERROR(VLOOKUP(B29,DATA!$C$1:$P$1999,14,0),\"\")","v":""},5]
["MALE",{"$f":"D27","v":""},{"$f":"IFERROR(VLOOKUP(B30,DATA!$C$1:$P$1999,13,0),\"\")","v":""},{"$f":"IFERROR(VLOOKUP(B30,DATA!$C$1:$P$1999,14,0),\"\")","v":""},5]
["FEMALE",{"$f":"C28","v":""},{"$f":"IFERROR(VLOOKUP(B31,DATA!$C$1:$P$1999,13,0),\"\")","v":""},{"$f":"IFERROR(VLOOKUP(B31,DATA!$C$1:$P$1999,14,0),\"\")","v":""},5]
["MALE",{"$f":"D28","v":""},{"$f":"IFERROR(VLOOKUP(B32,DATA!$C$1:$P$1999,13,0),\"\")","v":""},{"$f":"IFERROR(VLOOKUP(B32,DATA!$C$1:$P$1999,14,0),\"\")","v":""},5]
[]
["MALE",{"$f":"D6","v":""},{"$f":"IFERROR(VLOOKUP(B34,DATA!$C$1:$P$1999,13,0),\"\")","v":""},{"$f":"IFERROR(VLOOKUP(B34,DATA!$C$1:$P$1999,14,0),\"\")","v":""},3]
["FEMALE",{"$f":"C34","v":""},{"$f":"IFERROR(VLOOKUP(B35,DATA!$C$1:$P$1999,13,0),\"\")","v":""},{"$f":"IFERROR(VLOOKUP(B35,DATA!$C$1:$P$1999,14,0),\"\")","v":""},4]
["MALE",{"$f":"D34","v":""},{"$f":"IFERROR(VLOOKUP(B36,DATA!$C$1:$P$1999,13,0),\"\")","v":""},{"$f":"IFERROR(VLOOKUP(B36,DATA!$C$1:$P$1999,14,0),\"\")","v":""},4]
["FEMALE",{"$f":"C35","v":""},{"$f":"IFERROR(VLOOKUP(B37,DATA!$C$1:$P$1999,13,0),\"\")","v":""},{"$f":"IFERROR(VLOOKUP(B37,DATA!$C$1:$P$1999,14,0),\"\")","v":""},5]
["MALE",{"$f":"D35","v":""},{"$f":"IFERROR(VLOOKUP(B38,DATA!$C$1:$P$1999,13,0),\"\")","v":""},{"$f":"IFERROR(VLOOKUP(B38,DATA!$C$1:$P$1999,14,0),\"\")","v":""},5]
["FEMALE",{"$f":"C36","v":""},{"$f":"IFERROR(VLOOKUP(B39,DATA!$C$1:$P$1999,13,0),\"\")","v":""},{"$f":"IFERROR(VLOOKUP(B39,DATA!$C$1:$P$1999,14,0),\"\")","v":""},5]
["MALE",{"$f":"D36","v":""},{"$f":"IFERROR(VLOOKUP(B40,DATA!$C$1:$P$1999,13,0),\"\")","v":""},{"$f":"IFERROR(VLOOKUP(B40,DATA!$C$1:$P$1999,14,0),\"\")","v":""},5]
[]
["FEMALE",{"$f":"C7","v":"NL00202181200218"},{"$f":"IFERROR(VLOOKUP(B42,DATA!$C$1:$P$1999,13,0),\"\")","v":"9901200SBN000170"},{"$f":"IFERROR(VLOOKUP(B42,DATA!$C$1:$P$1999,14,0),\"\")","v":"9901200VSB000010"},3]
["FEMALE",{"$f":"C42","v":"9901200SBN000170"},{"$f":"IFERROR(VLOOKUP(B43,DATA!$C$1:$P$1999,13,0),\"\")","v":"0000000000000000"},{"$f":"IFERROR(VLOOKUP(B43,DATA!$C$1:$P$1999,14,0),\"\")","v":"0000000000000000"},4]
["MALE",{"$f":"D42","v":"9901200VSB000010"},{"$f":"IFERROR(VLOOKUP(B44,DATA!$C$1:$P$1999,13,0),\"\")","v":"0000000000000000"},{"$f":"IFERROR(VLOOKUP(B44,DATA!$C$1:$P$1999,14,0),\"\")","v":"0000000000000000"},4]
["FEMALE",{"$f":"C43","v":"0000000000000000"},{"$f":"IFERROR(VLOOKUP(B45,DATA!$C$1:$P$1999,13,0),\"\")","v":""},{"$f":"IFERROR(VLOOKUP(B45,DATA!$C$1:$P$1999,14,0),\"\")","v":""},5]
["MALE",{"$f":"D43","v":"0000000000000000"},{"$f":"IFERROR(VLOOKUP(B46,DATA!$C$1:$P$1999,13,0),\"\")","v":""},{"$f":"IFERROR(VLOOKUP(B46,DATA!$C$1:$P$1999,14,0),\"\")","v":""},5]
["FEMALE",{"$f":"C44","v":"0000000000000000"},{"$f":"IFERROR(VLOOKUP(B47,DATA!$C$1:$P$1999,13,0),\"\")","v":""},{"$f":"IFERROR(VLOOKUP(B47,DATA!$C$1:$P$1999,14,0),\"\")","v":""},5]
["MALE",{"$f":"D44","v":"0000000000000000"},{"$f":"IFERROR(VLOOKUP(B48,DATA!$C$1:$P$1999,13,0),\"\")","v":""},{"$f":"IFERROR(VLOOKUP(B48,DATA!$C$1:$P$1999,14,0),\"\")","v":""},5]
[]
["MALE",{"$f":"D7","v":"NL00255933900006"},{"$f":"IFERROR(VLOOKUP(B50,DATA!$C$1:$P$1999,13,0),\"\")","v":""},{"$f":"IFERROR(VLOOKUP(B50,DATA!$C$1:$P$1999,14,0),\"\")","v":""},3]
["FEMALE",{"$f":"C50","v":""},{"$f":"IFERROR(VLOOKUP(B51,DATA!$C$1:$P$1999,13,0),\"\")","v":""},{"$f":"IFERROR(VLOOKUP(B51,DATA!$C$1:$P$1999,14,0),\"\")","v":""},4]
["MALE",{"$f":"D50","v":""},{"$f":"IFERROR(VLOOKUP(B52,DATA!$C$1:$P$1999,13,0),\"\")","v":""},{"$f":"IFERROR(VLOOKUP(B52,DATA!$C$1:$P$1999,14,0),\"\")","v":""},4]
["FEMALE",{"$f":"C51","v":""},{"$f":"IFERROR(VLOOKUP(B53,DATA!$C$1:$P$1999,13,0),\"\")","v":""},{"$f":"IFERROR(VLOOKUP(B53,DATA!$C$1:$P$1999,14,0),\"\")","v":""},5]
["MALE",{"$f":"D51","v":""},{"$f":"IFERROR(VLOOKUP(B54,DATA!$C$1:$P$1999,13,0),\"\")","v":""},{"$f":"IFERROR(VLOOKUP(B54,DATA!$C$1:$P$1999,14,0),\"\")","v":""},5]
["FEMALE",{"$f":"C52","v":""},{"$f":"IFERROR(VLOOKUP(B55,DATA!$C$1:$P$1999,13,0),\"\")","v":""},{"$f":"IFERROR(VLOOKUP(B55,DATA!$C$1:$P$1999,14,0),\"\")","v":""},5]
["MALE",{"$f":"D52","v":""},{"$f":"IFERROR(VLOOKUP(B56,DATA!$C$1:$P$1999,13,0),\"\")","v":""},{"$f":"IFERROR(VLOOKUP(B56,DATA!$C$1:$P$1999,14,0),\"\")","v":""},5]
[]
["FEMALE",{"$f":"C8","v":"9901200ESI000110"},{"$f":"IFERROR(VLOOKUP(B58,DATA!$C$1:$P$1999,13,0),\"\")","v":""},{"$f":"IFERROR(VLOOKUP(B58,DATA!$C$1:$P$1999,14,0),\"\")","v":""},3]
["FEMALE",{"$f":"C58","v":""},{"$f":"IFERROR(VLOOKUP(B59,DATA!$C$1:$P$1999,13,0),\"\")","v":""},{"$f":"IFERROR(VLOOKUP(B59,DATA!$C$1:$P$1999,14,0),\"\")","v":""},4]
["MALE",{"$f":"D58","v":""},{"$f":"IFERROR(VLOOKUP(B60,DATA!$C$1:$P$1999,13,0),\"\")","v":""},{"$f":"IFERROR(VLOOKUP(B60,DATA!$C$1:$P$1999,14,0),\"\")","v":""},4]
["FEMALE",{"$f":"C59","v":""},{"$f":"IFERROR(VLOOKUP(B61,DATA!$C$1:$P$1999,13,0),\"\")","v":""},{"$f":"IFERROR(VLOOKUP(B61,DATA!$C$1:$P$1999,14,0),\"\")","v":""},5]
["MALE",{"$f":"D59","v":""},{"$f":"IFERROR(VLOOKUP(B62,DATA!$C$1:$P$1999,13,0),\"\")","v":""},{"$f":"IFERROR(VLOOKUP(B62,DATA!$C$1:$P$1999,14,0),\"\")","v":""},5]
["FEMALE",{"$f":"C60","v":""},{"$f":"IFERROR(VLOOKUP(B63,DATA!$C$1:$P$1999,13,0),\"\")","v":""},{"$f":"IFERROR(VLOOKUP(B63,DATA!$C$1:$P$1999,14,0),\"\")","v":""},5]
["MALE",{"$f":"D60","v":""},{"$f":"IFERROR(VLOOKUP(B64,DATA!$C$1:$P$1999,13,0),\"\")","v":""},{"$f":"IFERROR(VLOOKUP(B64,DATA!$C$1:$P$1999,14,0),\"\")","v":""},5]
[]
["MALE",{"$f":"D8","v":"99002DAW00034400"},{"$f":"IFERROR(VLOOKUP(B66,DATA!$C$1:$P$1999,13,0),\"\")","v":""},{"$f":"IFERROR(VLOOKUP(B66,DATA!$C$1:$P$1999,14,0),\"\")","v":""},3]
["FEMALE",{"$f":"C66","v":""},{"$f":"IFERROR(VLOOKUP(B67,DATA!$C$1:$P$1999,13,0),\"\")","v":""},{"$f":"IFERROR(VLOOKUP(B67,DATA!$C$1:$P$1999,14,0),\"\")","v":""},4]
["MALE",{"$f":"D66","v":""},{"$f":"IFERROR(VLOOKUP(B68,DATA!$C$1:$P$1999,13,0),\"\")","v":""},{"$f":"IFERROR(VLOOKUP(B68,DATA!$C$1:$P$1999,14,0),\"\")","v":""},4]
["FEMALE",{"$f":"C67","v":""},{"$f":"IFERROR(VLOOKUP(B69,DATA!$C$1:$P$1999,13,0),\"\")","v":""},{"$f":"IFERROR(VLOOKUP(B69,DATA!$C$1:$P$1999,14,0),\"\")","v":""},5]
["MALE",{"$f":"D67","v":""},{"$f":"IFERROR(VLOOKUP(B70,DATA!$C$1:$P$1999,13,0),\"\")","v":""},{"$f":"IFERROR(VLOOKUP(B70,DATA!$C$1:$P$1999,14,0),\"\")","v":""},5]
["FEMALE",{"$f":"C68","v":""},{"$f":"IFERROR(VLOOKUP(B71,DATA!$C$1:$P$1999,13,0),\"\")","v":""},{"$f":"IFERROR(VLOOKUP(B71,DATA!$C$1:$P$1999,14,0),\"\")","v":""},5]
["MALE",{"$f":"D68","v":""},{"$f":"IFERROR(VLOOKUP(B72,DATA!$C$1:$P$1999,13,0),\"\")","v":""},{"$f":"IFERROR(VLOOKUP(B72,DATA!$C$1:$P$1999,14,0),\"\")","v":""},5]

{"sheet":"Doplnění a změny","index":3,"n_rows":5,"n_cols":12,"rows_kept":5,"cut":false,"hidden":false,"merged":[[3,3,3,4]]}
["U ušních čísel je nutno používat to, které je v registru - ve stejném formátu"]
["Povinné pole"]
[]
["Jedinec - 16znaků","Evidence beran",null,"Ušní číslo - 16 znaků",null,null,"Z kolika sourozenců",null,null,"M / F",null,"Přepočtená váha na 100 dnech"]
["Ušní číslo","BERAN_REG","JMENO","Matka","Otec","NAROZENI","VRH","Chovatel","Bonita","POHLAVI","GENOTYP","V100D"]

{"sheet":"CISEL","index":4,"n_rows":12,"n_cols":5,"rows_kept":12,"cut":false,"hidden":true,"merged":[]}
["Mal",null,"ID","Chovatel","CHOV_ID"]
["Fem",null,1,"Kvisová M",""]
[null,null,2,"Holandsko","99012"]
[null,null,3,"Pokorná I",""]
[null,null,4,"Berkovcová L",""]
[null,null,5,"Martin Tuček",""]
[null,null,6,"Kováč Jan",""]
[null,null,7,"GB",""]
[null,null,8,"Francie",""]
[null,null,9,"Horáčková P",""]
[null,null,10,"Neuwirth M",""]
[null,null,11,"Junek Jan",""]

{"sheet":"Přehled databáze","index":5,"n_rows":1637,"n_cols":12,"rows_kept":1637,"cut":false,"hidden":false,"merged":[]}
[{"$f":"DATA!C1","v":"UC"},{"$f":"DATA!D1","v":"BERAN_REG"},{"$f":"DATA!E1","v":"JMENO"},{"$f":"DATA!H1","v":"NAROZENI"},{"$f":"DATA!I1","v":"VRH"},{"$f":"DATA!J1","v":"Majitel"},{"$f":"DATA!K1","v":"Bonita"},{"$f":"DATA!L1","v":"POHLAVI"},{"$f":"DATA!M1","v":"GENOTYP"},{"$f":"DATA!N1","v":"V100D"},{"$f":"DATA!O1","v":"FEMALE"},{"$f":"DATA!P1","v":"MALE"}]
[{"$f":"DATA!C2","v":"0000000000000000"},{"$f":"DATA!D2","v":"XNA"},{"$f":"DATA!E2","v":"XNA"},{"$f":"DATA!H2","v":0},{"$f":"DATA!I2","v":0},{"$f":"DATA!J2","v":""},{"$f":"DATA!K2","v":""},{"$f":"DATA!L2","v":"Mal"},{"$f":"DATA!M2","v":""},{"$f":"DATA!N2","v":0},{"$f":"DATA!O2","v":""},{"$f":"DATA!P2","v":""}]
[{"$f":"DATA!C3","v":"2030400OHA000650"},{"$f":"DATA!D3","v":""},{"$f":"DATA!E3","v":""},{"$f":"DATA!H3","v":0},{"$f":"DATA!I3","v":0},{"$f":"DATA!J3","v":""},{"$f":"DATA!K3","v":""},{"$f":"DATA!L3","v":"Mal"},{"$f":"DATA!M3","v":""},{"$f":"DATA!N3","v":0},{"$f":"DATA!O3","v":"NL00109990603330"},{"$f":"DATA!P3","v":"NL00255933900049"}]
[{"$f":"DATA!C4","v":"5053400870000000"},{"$f":"DATA!D4","v":""},{"$f":"DATA!E4","v":""},{"$f":"DATA!H4","v":0},{"$f":"DATA!I4","v":0},{"$f":"DATA!J4","v":""},{"$f":"DATA!K4","v":""},{"$f":"DATA!L4","v":"Fem"},{"$f":"DATA!M4","v":""},{"$f":"DATA!N4","v":0},{"$f":"DATA!O4","v":"9902180690000000"},{"$f":"DATA!P4","v":"9901280940000000"}]
[{"$f":"DATA!C5","v":"5053403650000000"},{"$f":"DATA!D5","v":""},{"$f":"DATA!E5","v":""},{"$f":"DATA!H5","v":0},{"$f":"DATA!I5","v":0},{"$f":"DATA!J5","v":""},{"$f":"DATA!K5","v":""},{"$f":"DATA!L5","v":"Fem"},{"$f":"DATA!M5","v":""},{"$f":"DATA!N5","v":0},{"$f":"DATA!O5","v":""},{"$f":"DATA!P5","v":""}]
[{"$f":"DATA!C6","v":"50534052511FR000"},{"$f":"DATA!D6","v":""},{"$f":"DATA!E6","v":""},{"$f":"DATA!H6","v":0},{"$f":"DATA!I6","v":0},{"$f":"DATA!J6","v":""},{"$f":"DATA!K6","v":""},{"$f":"DATA!L6","v":"Fem"},{"$f":"DATA!M6","v":""},{"$f":"DATA!N6","v":0},{"$f":"DATA!O6","v":""},{"$f":"DATA!P6","v":""}]
[{"$f":"DATA!C7","v":"5053431140087020"},{"$f":"DATA!D7","v":""},{"$f":"DATA!E7","v":""},{"$f":"DATA!H7","v":0},{"$f":"DATA!I7","v":0},{"$f":"DATA!J7","v":""},{"$f":"DATA!K7","v":""},{"$f":"DATA!L7","v":"Fem"},{"$f":"DATA!M7","v":""},{"$f":"DATA!N7","v":0},{"$f":"DATA!O7","v":""},{"$f":"DATA!P7","v":""}]
[{"$f":"DATA!C8","v":"5053462320052000"},{"$f":"DATA!D8","v":""},{"$f":"DATA!E8","v":""},{"$f":"DATA!H8","v":0},{"$f":"DATA!I8","v":0},{"$f":"DATA!J8","v":""},{"$f":"DATA!K8","v":""},{"$f":"DATA!L8","v":"Mal"},{"$f":"DATA!M8","v":""},{"$f":"DATA!N8","v":0},{"$f":"DATA!O8","v":""},{"$f":"DATA!P8","v":""}]
[{"$f":"DATA!C9","v":"9900103300000000"},{"$f":"DATA!D9","v":""},{"$f":"DATA!E9","v":""},{"$f":"DATA!H9","v":0},{"$f":"DATA!I9","v":0},{"$f":"DATA!J9","v":""},{"$f":"DATA!K9","v":""},{"$f":"DATA!L9","v":"Mal"},{"$f":"DATA!M9","v":""},{"$f":"DATA!N9","v":0},{"$f":"DATA!O9","v":""},{"$f":"DATA!P9","v":""}]
[{"$f":"DATA!C10","v":"9900122300000000"},{"$f":"DATA!D10","v":""},{"$f":"DATA!E10","v":""},{"$f":"DATA!H10","v":0},{"$f":"DATA!I10","v":0},{"$f":"DATA!J10","v":""},{"$f":"DATA!K10","v":""},{"$f":"DATA!L10","v":"Fem"},{"$f":"DATA!M10","v":""},{"$f":"DATA!N10","v":0},{"$f":"DATA!O10","v":""},{"$f":"DATA!P10","v":""}]
[{"$f":"DATA!C11","v":"9900137690000000"},{"$f":"DATA!D11","v":""},{"$f":"DATA!E11","v":""},{"$f":"DATA!H11","v":0},{"$f":"DATA!I11","v":0},{"$f":"DATA!J11","v":""},{"$f":"DATA!K11","v":""},{"$f":"DATA!L11","v":"Mal"},{"$f":"DATA!M11","v":""},{"$f":"DATA!N11","v":0},{"$f":"DATA!O11","v":""},{"$f":"DATA!P11","v":""}]
[{"$f":"DATA!C12","v":"9900138700000000"},{"$f":"DATA!D12","v":""},{"$f":"DATA!E12","v":""},{"$f":"DATA!H12","v":0},{"$f":"DATA!I12","v":0},{"$f":"DATA!J12","v":""},{"$f":"DATA!K12","v":""},{"$f":"DATA!L12","v":"Mal"},{"$f":"DATA!M12","v":""},{"$f":"DATA!N12","v":0},{"$f":"DATA!O12","v":""},{"$f":"DATA!P12","v":""}]
[{"$f":"DATA!C13","v":"9900150360000000"},{"$f":"DATA!D13","v":""},{"$f":"DATA!E13","v":""},{"$f":"DATA!H13","v":0},{"$f":"DATA!I13","v":0},{"$f":"DATA!J13","v":""},{"$f":"DATA!K13","v":""},{"$f":"DATA!L13","v":"Mal"},{"$f":"DATA!M13","v":""},{"$f":"DATA!N13","v":0},{"$f":"DATA!O13","v":""},{"$f":"DATA!P13","v":""}]
[{"$f":"DATA!C14","v":"9900197025000000"},{"$f":"DATA!D14","v":""},{"$f":"DATA!E14","v":""},{"$f":"DATA!H14","v":0},{"$f":"DATA!I14","v":0},{"$f":"DATA!J14","v":""},{"$f":"DATA!K14","v":""},{"$f":"DATA!L14","v":"Fem"},{"$f":"DATA!M14","v":""},{"$f":"DATA!N14","v":0},{"$f":"DATA!O14","v":""},{"$f":"DATA!P14","v":""}]
[{"$f":"DATA!C15","v":"99001F9586005700"},{"$f":"DATA!D15","v":""},{"$f":"DATA!E15","v":""},{"$f":"DATA!H15","v":0},{"$f":"DATA!I15","v":0},{"$f":"DATA!J15","v":""},{"$f":"DATA!K15","v":""},{"$f":"DATA!L15","v":"Mal"},{"$f":"DATA!M15","v":""},{"$f":"DATA!N15","v":0},{"$f":"DATA!O15","v":""},{"$f":"DATA!P15","v":""}]
[{"$f":"DATA!C16","v":"99001RA000033770"},{"$f":"DATA!D16","v":""},{"$f":"DATA!E16","v":""},{"$f":"DATA!H16","v":0},{"$f":"DATA!I16","v":0},{"$f":"DATA!J16","v":""},{"$f":"DATA!K16","v":""},{"$f":"DATA!L16","v":"Fem"},{"$f":"DATA!M16","v":""},{"$f":"DATA!N16","v":0},{"$f":"DATA!O16","v":""},{"$f":"DATA!P16","v":""}]
[{"$f":"DATA!C17","v":"99002DAW00034400"},{"$f":"DATA!D17","v":""},{"$f":"DATA!E17","v":""},{"$f":"DATA!H17","v":0},{"$f":"DATA!I17","v":0},{"$f":"DATA!J17","v":""},{"$f":"DATA!K17","v":""},{"$f":"DATA!L17","v":"Mal"},{"$f":"DATA!M17","v":""},{"$f":"DATA!N17","v":0},{"$f":"DATA!O17","v":""},{"$f":"DATA!P17","v":""}]
[{"$f":"DATA!C18","v":"99012000DZ000560"},{"$f":"DATA!D18","v":""},{"$f":"DATA!E18","v":""},{"$f":"DATA!H18","v":0},{"$f":"DATA!I18","v":0},{"$f":"DATA!J18","v":""},{"$f":"DATA!K18","v":""},{"$f":"DATA!L18","v":"Fem"},{"$f":"DATA!M18","v":""},{"$f":"DATA!N18","v":0},{"$f":"DATA!O18","v":""},{"$f":"DATA!P18","v":""}]
[{"$f":"DATA!C19","v":"99012000FA00N430"},{"$f":"DATA!D19","v":""},{"$f":"DATA!E19","v":""},{"$f":"DATA!H19","v":0},{"$f":"DATA!I19","v":0},{"$f":"DATA!J19","v":""},{"$f":"DATA!K19","v":""},{"$f":"DATA!L19","v":"Fem"},{"$f":"DATA!M19","v":""},{"$f":"DATA!N19","v":0},{"$f":"DATA!O19","v":""},{"$f":"DATA!P19","v":""}]
[{"$f":"DATA!C20","v":"99012000WB000400"},{"$f":"DATA!D20","v":""},{"$f":"DATA!E20","v":""},{"$f":"DATA!H20","v":0},{"$f":"DATA!I20","v":0},{"$f":"DATA!J20","v":""},{"$f":"DATA!K20","v":""},{"$f":"DATA!L20","v":"Fem"},{"$f":"DATA!M20","v":""},{"$f":"DATA!N20","v":0},{"$f":"DATA!O20","v":""},{"$f":"DATA!P20","v":""}]
[{"$f":"DATA!C21","v":"99012000WB000600"},{"$f":"DATA!D21","v":""},{"$f":"DATA!E21","v":""},{"$f":"DATA!H21","v":0},{"$f":"DATA!I21","v":0},{"$f":"DATA!J21","v":""},{"$f":"DATA!K21","v":""},{"$f":"DATA!L21","v":"Mal"},{"$f":"DATA!M21","v":""},{"$f":"DATA!N21","v":0},{"$f":"DATA!O21","v":""},{"$f":"DATA!P21","v":""}]
[{"$f":"DATA!C22","v":"99012000WB000740"},{"$f":"DATA!D22","v":""},{"$f":"DATA!E22","v":""},{"$f":"DATA!H22","v":0},{"$f":"DATA!I22","v":0},{"$f":"DATA!J22","v":""},{"$f":"DATA!K22","v":""},{"$f":"DATA!L22","v":"Fem"},{"$f":"DATA!M22","v":""},{"$f":"DATA!N22","v":0},{"$f":"DATA!O22","v":"0000000000000000"},{"$f":"DATA!P22","v":"0000000000000000"}]
[{"$f":"DATA!C23","v":"99012000WB001190"},{"$f":"DATA!D23","v":""},{"$f":"DATA!E23","v":""},{"$f":"DATA!H23","v":0},{"$f":"DATA!I23","v":0},{"$f":"DATA!J23","v":""},{"$f":"DATA!K23","v":""},{"$f":"DATA!L23","v":"Fem"},{"$f":"DATA!M23","v":""},{"$f":"DATA!N23","v":0},{"$f":"DATA!O23","v":"0000000000000000"},{"$f":"DATA!P23","v":"0000000000000000"}]
[{"$f":"DATA!C24","v":"99012000WB001600"},{"$f":"DATA!D24","v":""},{"$f":"DATA!E24","v":""},{"$f":"DATA!H24","v":0},{"$f":"DATA!I24","v":0},{"$f":"DATA!J24","v":""},{"$f":"DATA!K24","v":""},{"$f":"DATA!L24","v":"Mal"},{"$f":"DATA!M24","v":""},{"$f":"DATA!N24","v":0},{"$f":"DATA!O24","v":""},{"$f":"DATA!P24","v":""}]
[{"$f":"DATA!C25","v":"99012000WB001930"},{"$f":"DATA!D25","v":""},{"$f":"DATA!E25","v":""},{"$f":"DATA!H25","v":0},{"$f":"DATA!I25","v":0},{"$f":"DATA!J25","v":""},{"$f":"DATA!K25","v":""},{"$f":"DATA!L25","v":"Fem"},{"$f":"DATA!M25","v":""},{"$f":"DATA!N25","v":0},{"$f":"DATA!O25","v":""},{"$f":"DATA!P25","v":""}]
[{"$f":"DATA!C26","v":"99012000WB002160"},{"$f":"DATA!D26","v":""},{"$f":"DATA!E26","v":""},{"$f":"DATA!H26","v":0},{"$f":"DATA!I26","v":0},{"$f":"DATA!J26","v":""},{"$f":"DATA!K26","v":""},{"$f":"DATA!L26","v":"Fem"},{"$f":"DATA!M26","v":""},{"$f":"DATA!N26","v":0},{"$f":"DATA!O26","v":""},{"$f":"DATA!P26","v":""}]
[{"$f":"DATA!C27","v":"9901200BTV000990"},{"$f":"DATA!D27","v":""},{"$f":"DATA!E27","v":""},{"$f":"DATA!H27","v":0},{"$f":"DATA!I27","v":0},{"$f":"DATA!J27","v":""},{"$f":"DATA!K27","v":""},{"$f":"DATA!L27","v":"Mal"},{"$f":"DATA!M27","v":""},{"$f":"DATA!N27","v":0},{"$f":"DATA!O27","v":"0000000000000000"},{"$f":"DATA!P27","v":"0000000000000000"}]
[{"$f":"DATA!C28","v":"9901200DPU000260"},{"$f":"DATA!D28","v":""},{"$f":"DATA!E28","v":""},{"$f":"DATA!H28","v":0},{"$f":"DATA!I28","v":0},{"$f":"DATA!J28","v":""},{"$f":"DATA!K28","v":""},{"$f":"DATA!L28","v":"Fem"},{"$f":"DATA!M28","v":""},{"$f":"DATA!N28","v":0},{"$f":"DATA!O28","v":""},{"$f":"DATA!P28","v":""}]
[{"$f":"DATA!C29","v":"9901200ESI000110"},{"$f":"DATA!D29","v":""},{"$f":"DATA!E29","v":""},{"$f":"DATA!H29","v":0},{"$f":"DATA!I29","v":0},{"$f":"DATA!J29","v":""},{"$f":"DATA!K29","v":""},{"$f":"DATA!L29","v":"Fem"},{"$f":"DATA!M29","v":""},{"$f":"DATA!N29","v":0},{"$f":"DATA!O29","v":""},{"$f":"DATA!P29","v":""}]
[{"$f":"DATA!C30","v":"9901200FAF00N760"},{"$f":"DATA!D30","v":""},{"$f":"DATA!E30","v":""},{"$f":"DATA!H30","v":0},{"$f":"DATA!I30","v":0},{"$f":"DATA!J30","v":""},{"$f":"DATA!K30","v":""},{"$f":"DATA!L30","v":"Fem"},{"$f":"DATA!M30","v":""},{"$f":"DATA!N30","v":0},{"$f":"DATA!O30","v":""},{"$f":"DATA!P30","v":""}]
[{"$f":"DATA!C31","v":"9901200FAF970710"},{"$f":"DATA!D31","v":""},{"$f":"DATA!E31","v":""},{"$f":"DATA!H31","v":0},{"$f":"DATA!I31","v":0},{"$f":"DATA!J31","v":""},{"$f":"DATA!K31","v":""},{"$f":"DATA!L31","v":"Mal"},{"$f":"DATA!M31","v":""},{"$f":"DATA!N31","v":0},{"$f":"DATA!O31","v":""},{"$f":"DATA!P31","v":""}]
[{"$f":"DATA!C32","v":"9901200FAF990160"},{"$f":"DATA!D32","v":""},{"$f":"DATA!E32","v":""},{"$f":"DATA!H32","v":0},{"$f":"DATA!I32","v":0},{"$f":"DATA!J32","v":""},{"$f":"DATA!K32","v":""},{"$f":"DATA!L32","v":"Fem"},{"$f":"DATA!M32","v":""},{"$f":"DATA!N32","v":0},{"$f":"DATA!O32","v":""},{"$f":"DATA!P32","v":""}]
[{"$f":"DATA!C33","v":"9901200FAF990590"},{"$f":"DATA!D33","v":""},{"$f":"DATA!E33","v":""},{"$f":"DATA!H33","v":0},{"$f":"DATA!I33","v":0},{"$f":"DATA!J33","v":""},{"$f":"DATA!K33","v":""},{"$f":"DATA!L33","v":"Fem"},{"$f":"DATA!M33","v":""},{"$f":"DATA!N33","v":0},{"$f":"DATA!O33","v":""},{"$f":"DATA!P33","v":""}]
[{"$f":"DATA!C34","v":"9901200FBB000530"},{"$f":"DATA!D34","v":""},{"$f":"DATA!E34","v":""},{"$f":"DATA!H34","v":0},{"$f":"DATA!I34","v":0},{"$f":"DATA!J34","v":""},{"$f":"DATA!K34","v":""},{"$f":"DATA!L34","v":"Fem"},{"$f":"DATA!M34","v":""},{"$f":"DATA!N34","v":0},{"$f":"DATA!O34","v":""},{"$f":"DATA!P34","v":""}]
[{"$f":"DATA!C35","v":"9901200FBB000750"},{"$f":"DATA!D35","v":""},{"$f":"DATA!E35","v":""},{"$f":"DATA!H35","v":0},{"$f":"DATA!I35","v":0},{"$f":"DATA!J35","v":""},{"$f":"DATA!K35","v":""},{"$f":"DATA!L35","v":"Fem"},{"$f":"DATA!M35","v":""},{"$f":"DATA!N35","v":0},{"$f":"DATA!O35","v":""},{"$f":"DATA!P35","v":""}]
[{"$f":"DATA!C36","v":"9901200FBB000800"},{"$f":"DATA!D36","v":""},{"$f":"DATA!E36","v":""},{"$f":"DATA!H36","v":0},{"$f":"DATA!I36","v":0},{"$f":"DATA!J36","v":""},{"$f":"DATA!K36","v":""},{"$f":"DATA!L36","v":"Fem"},{"$f":"DATA!M36","v":""},{"$f":"DATA!N36","v":0},{"$f":"DATA!O36","v":""},{"$f":"DATA!P36","v":""}]
[{"$f":"DATA!C37","v":"9901200GRW000320"},{"$f":"DATA!D37","v":""},{"$f":"DATA!E37","v":""},{"$f":"DATA!H37","v":0},{"$f":"DATA!I37","v":0},{"$f":"DATA!J37","v":""},{"$f":"DATA!K37","v":""},{"$f":"DATA!L37","v":"Fem"},{"$f":"DATA!M37","v":""},{"$f":"DATA!N37","v":0},{"$f":"DATA!O37","v":""},{"$f":"DATA!P37","v":""}]
[{"$f":"DATA!C38","v":"9901200HAZ000020"},{"$f":"DATA!D38","v":""},{"$f":"DATA!E38","v":""},{"$f":"DATA!H38","v":0},{"$f":"DATA!I38","v":0},{"$f":"DATA!J38","v":""},{"$f":"DATA!K38","v":""},{"$f":"DATA!L38","v":"Fem"},{"$f":"DATA!M38","v":""},{"$f":"DATA!N38","v":0},{"$f":"DATA!O38","v":""},{"$f":"DATA!P38","v":""}]
[{"$f":"DATA!C39","v":"9901200HAZ001030"},{"$f":"DATA!D39","v":""},{"$f":"DATA!E39","v":""},{"$f":"DATA!H39","v":0},{"$f":"DATA!I39","v":0},{"$f":"DATA!J39","v":""},{"$f":"DATA!K39","v":""},{"$f":"DATA!L39","v":"Mal"},{"$f":"DATA!M39","v":""},{"$f":"DATA!N39","v":0},{"$f":"DATA!O39","v":"99012000WB001190"},{"$f":"DATA!P39","v":"9901200TBV000710"}]
[{"$f":"DATA!C40","v":"9901200HHF001210"},{"$f":"DATA!D40","v":""},{"$f":"DATA!E40","v":""},{"$f":"DATA!H40","v":0},{"$f":"DATA!I40","v":0},{"$f":"DATA!J40","v":""},{"$f":"DATA!K40","v":""},{"$f":"DATA!L40","v":"Fem"},{"$f":"DATA!M40","v":""},{"$f":"DATA!N40","v":0},{"$f":"DATA!O40","v":""},{"$f":"DATA!P40","v":""}]
[{"$f":"DATA!C41","v":"9901200CHA000010"},{"$f":"DATA!D41","v":""},{"$f":"DATA!E41","v":""},{"$f":"DATA!H41","v":0},{"$f":"DATA!I41","v":0},{"$f":"DATA!J41","v":""},{"$f":"DATA!K41","v":""},{"$f":"DATA!L41","v":"Mal"},{"$f":"DATA!M41","v":""},{"$f":"DATA!N41","v":0},{"$f":"DATA!O41","v":""},{"$f":"DATA!P41","v":""}]
[{"$f":"DATA!C42","v":"9901200JBA000010"},{"$f":"DATA!D42","v":""},{"$f":"DATA!E42","v":""},{"$f":"DATA!H42","v":0},{"$f":"DATA!I42","v":0},{"$f":"DATA!J42","v":""},{"$f":"DATA!K42","v":""},{"$f":"DATA!L42","v":"Fem"},{"$f":"DATA!M42","v":""},{"$f":"DATA!N42","v":0},{"$f":"DATA!O42","v":""},{"$f":"DATA!P42","v":""}]
[{"$f":"DATA!C43","v":"9901200KGL000550"},{"$f":"DATA!D43","v":""},{"$f":"DATA!E43","v":""},{"$f":"DATA!H43","v":0},{"$f":"DATA!I43","v":0},{"$f":"DATA!J43","v":""},{"$f":"DATA!K43","v":""},{"$f":"DATA!L43","v":"Fem"},{"$f":"DATA!M43","v":""},{"$f":"DATA!N43","v":0},{"$f":"DATA!O43","v":""},{"$f":"DATA!P43","v":""}]
[{"$f":"DATA!C44","v":"9901200KGL000660"},{"$f":"DATA!D44","v":""},{"$f":"DATA!E44","v":""},{"$f":"DATA!H44","v":0},{"$f":"DATA!I44","v":0},{"$f":"DATA!J44","v":""},{"$f":"DATA!K44","v":""},{"$f":"DATA!L44","v":"Mal"},{"$f":"DATA!M44","v":""},{"$f":"DATA!N44","v":0},{"$f":"DATA!O44","v":""},{"$f":"DATA!P44","v":""}]
[{"$f":"DATA!C45","v":"9901200KGP000250"},{"$f":"DATA!D45","v":""},{"$f":"DATA!E45","v":""},{"$f":"DATA!H45","v":0},{"$f":"DATA!I45","v":0},{"$f":"DATA!J45","v":""},{"$f":"DATA!K45","v":""},{"$f":"DATA!L45","v":"Fem"},{"$f":"DATA!M45","v":""},{"$f":"DATA!N45","v":0},{"$f":"DATA!O45","v":""},{"$f":"DATA!P45","v":""}]
[{"$f":"DATA!C46","v":"9901200KGP001310"},{"$f":"DATA!D46","v":""},{"$f":"DATA!E46","v":""},{"$f":"DATA!H46","v":0},{"$f":"DATA!I46","v":0},{"$f":"DATA!J46","v":""},{"$f":"DATA!K46","v":""},{"$f":"DATA!L46","v":"Mal"},{"$f":"DATA!M46","v":""},{"$f":"DATA!N46","v":0},{"$f":"DATA!O46","v":""},{"$f":"DATA!P46","v":""}]
[{"$f":"DATA!C47","v":"9901200KVH000320"},{"$f":"DATA!D47","v":""},{"$f":"DATA!E47","v":""},{"$f":"DATA!H47","v":0},{"$f":"DATA!I47","v":0},{"$f":"DATA!J47","v":""},{"$f":"DATA!K47","v":""},{"$f":"DATA!L47","v":"Mal"},{"$f":"DATA!M47","v":""},{"$f":"DATA!N47","v":0},{"$f":"DATA!O47","v":""},{"$f":"DATA!P47","v":""}]
[{"$f":"DATA!C48","v":"9901200KVH000470"},{"$f":"DATA!D48","v":""},{"$f":"DATA!E48","v":""},{"$f":"DATA!H48","v":0},{"$f":"DATA!I48","v":0},{"$f":"DATA!J48","v":""},{"$f":"DATA!K48","v":""},{"$f":"DATA!L48","v":"Fem"},{"$f":"DATA!M48","v":""},{"$f":"DATA!N48","v":0},{"$f":"DATA!O48","v":""},{"$f":"DATA!P48","v":""}]
[{"$f":"DATA!C49","v":"9901200MGI005280"},{"$f":"DATA!D49","v":""},{"$f":"DATA!E49","v":""},{"$f":"DATA!H49","v":0},{"$f":"DATA!I49","v":0},{"$f":"DATA!J49","v":""},{"$f":"DATA!K49","v":""},{"$f":"DATA!L49","v":"Mal"},{"$f":"DATA!M49","v":""},{"$f":"DATA!N49","v":0},{"$f":"DATA!O49","v":""},{"$f":"DATA!P49","v":""}]
[{"$f":"DATA!C50","v":"9901200MGI005360"},{"$f":"DATA!D50","v":""},{"$f":"DATA!E50","v":""},{"$f":"DATA!H50","v":0},{"$f":"DATA!I50","v":0},{"$f":"DATA!J50","v":""},{"$f":"DATA!K50","v":""},{"$f":"DATA!L50","v":"Mal"},{"$f":"DATA!M50","v":""},{"$f":"DATA!N50","v":0},{"$f":"DATA!O50","v":""},{"$f":"DATA!P50","v":""}]
[{"$f":"DATA!C51","v":"9901200MPU000610"},{"$f":"DATA!D51","v":""},{"$f":"DATA!E51","v":""},{"$f":"DATA!H51","v":0},{"$f":"DATA!I51","v":0},{"$f":"DATA!J51","v":""},{"$f":"DATA!K51","v":""},{"$f":"DATA!L51","v":"Fem"},{"$f":"DATA!M51","v":""},{"$f":"DATA!N51","v":0},{"$f":"DATA!O51","v":""},{"$f":"DATA!P51","v":""}]
[{"$f":"DATA!C52","v":"9901200ODZ001210"},{"$f":"DATA!D52","v":""},{"$f":"DATA!E52","v":""},{"$f":"DATA!H52","v":0},{"$f":"DATA!I52","v":0},{"$f":"DATA!J52","v":""},{"$f":"DATA!K52","v":""},{"$f":"DATA!L52","v":"Mal"},{"$f":"DATA!M52","v":""},{"$f":"DATA!N52","v":0},{"$f":"DATA!O52","v":""},{"$f":"DATA!P52","v":""}]
[{"$f":"DATA!C53","v":"9901200OHA000170"},{"$f":"DATA!D53","v":""},{"$f":"DATA!E53","v":""},{"$f":"DATA!H53","v":0},{"$f":"DATA!I53","v":0},{"$f":"DATA!J53","v":""},{"$f":"DATA!K53","v":""},{"$f":"DATA!L53","v":"Fem"},{"$f":"DATA!M53","v":""},{"$f":"DATA!N53","v":0},{"$f":"DATA!O53","v":"9901200SBN002190"},{"$f":"DATA!P53","v":"NL00262826000001"}]
[{"$f":"DATA!C54","v":"9901200OHA000190"},{"$f":"DATA!D54","v":""},{"$f":"DATA!E54","v":""},{"$f":"DATA!H54","v":0},{"$f":"DATA!I54","v":0},{"$f":"DATA!J54","v":""},{"$f":"DATA!K54","v":""},{"$f":"DATA!L54","v":"Fem"},{"$f":"DATA!M54","v":""},{"$f":"DATA!N54","v":0},{"$f":"DATA!O54","v":"NL00262826000003"},{"$f":"DATA!P54","v":"9901200BTV000990"}]
[{"$f":"DATA!C55","v":"9901200OHA000650"},{"$f":"DATA!D55","v":""},{"$f":"DATA!E55","v":""},{"$f":"DATA!H55","v":0},{"$f":"DATA!I55","v":0},{"$f":"DATA!J55","v":""},{"$f":"DATA!K55","v":""},{"$f":"DATA!L55","v":"Mal"},{"$f":"DATA!M55","v":""},{"$f":"DATA!N55","v":0},{"$f":"DATA!O55","v":"NL00109990603330"},{"$f":"DATA!P55","v":"NL00255933900049"}]
[{"$f":"DATA!C56","v":"9901200OWE000030"},{"$f":"DATA!D56","v":""},{"$f":"DATA!E56","v":""},{"$f":"DATA!H56","v":0},{"$f":"DATA!I56","v":0},{"$f":"DATA!J56","v":""},{"$f":"DATA!K56","v":""},{"$f":"DATA!L56","v":"Fem"},{"$f":"DATA!M56","v":""},{"$f":"DATA!N56","v":0},{"$f":"DATA!O56","v":""},{"$f":"DATA!P56","v":""}]
[{"$f":"DATA!C57","v":"9901200OWE001310"},{"$f":"DATA!D57","v":""},{"$f":"DATA!E57","v":""},{"$f":"DATA!H57","v":0},{"$f":"DATA!I57","v":0},{"$f":"DATA!J57","v":""},{"$f":"DATA!K57","v":""},{"$f":"DATA!L57","v":"Fem"},{"$f":"DATA!M57","v":""},{"$f":"DATA!N57","v":0},{"$f":"DATA!O57","v":""},{"$f":"DATA!P57","v":""}]
[{"$f":"DATA!C58","v":"9901200OWE001800"},{"$f":"DATA!D58","v":""},{"$f":"DATA!E58","v":""},{"$f":"DATA!H58","v":0},{"$f":"DATA!I58","v":0},{"$f":"DATA!J58","v":""},{"$f":"DATA!K58","v":""},{"$f":"DATA!L58","v":"Mal"},{"$f":"DATA!M58","v":""},{"$f":"DATA!N58","v":0},{"$f":"DATA!O58","v":""},{"$f":"DATA!P58","v":""}]
[{"$f":"DATA!C59","v":"9901200OWE003180"},{"$f":"DATA!D59","v":""},{"$f":"DATA!E59","v":""},{"$f":"DATA!H59","v":0},{"$f":"DATA!I59","v":0},{"$f":"DATA!J59","v":""},{"$f":"DATA!K59","v":""},{"$f":"DATA!L59","v":"Mal"},{"$f":"DATA!M59","v":""},{"$f":"DATA!N59","v":0},{"$f":"DATA!O59","v":""},{"$f":"DATA!P59","v":""}]
[{"$f":"DATA!C60","v":"9901200PYWF95860"},{"$f":"DATA!D60","v":""},{"$f":"DATA!E60","v":""},{"$f":"DATA!H60","v":0},{"$f":"DATA!I60","v":0},{"$f":"DATA!J60","v":""},{"$f":"DATA!K60","v":""},{"$f":"DATA!L60","v":"Mal"},{"$f":"DATA!M60","v":""},{"$f":"DATA!N60","v":0},{"$f":"DATA!O60","v":""},{"$f":"DATA!P60","v":""}]
[{"$f":"DATA!C61","v":"9901200SAN000220"},{"$f":"DATA!D61","v":""},{"$f":"DATA!E61","v":""},{"$f":"DATA!H61","v":0},{"$f":"DATA!I61","v":0},{"$f":"DATA!J61","v":""},{"$f":"DATA!K61","v":""},{"$f":"DATA!L61","v":"Fem"},{"$f":"DATA!M61","v":""},{"$f":"DATA!N61","v":0},{"$f":"DATA!O61","v":""},{"$f":"DATA!P61","v":""}]
[{"$f":"DATA!C62","v":"9901200SAN000940"},{"$f":"DATA!D62","v":""},{"$f":"DATA!E62","v":""},{"$f":"DATA!H62","v":0},{"$f":"DATA!I62","v":0},{"$f":"DATA!J62","v":""},{"$f":"DATA!K62","v":""},{"$f":"DATA!L62","v":"Fem"},{"$f":"DATA!M62","v":""},{"$f":"DATA!N62","v":0},{"$f":"DATA!O62","v":""},{"$f":"DATA!P62","v":""}]
[{"$f":"DATA!C63","v":"9901200SAN001010"},{"$f":"DATA!D63","v":""},{"$f":"DATA!E63","v":""},{"$f":"DATA!H63","v":0},{"$f":"DATA!I63","v":0},{"$f":"DATA!J63","v":""},{"$f":"DATA!K63","v":""},{"$f":"DATA!L63","v":"Mal"},{"$f":"DATA!M63","v":""},{"$f":"DATA!N63","v":0},{"$f":"DATA!O63","v":"0000000000000000"},{"$f":"DATA!P63","v":"0000000000000000"}]
[{"$f":"DATA!C64","v":"9901200SAN001170"},{"$f":"DATA!D64","v":""},{"$f":"DATA!E64","v":""},{"$f":"DATA!H64","v":0},{"$f":"DATA!I64","v":0},{"$f":"DATA!J64","v":""},{"$f":"DATA!K64","v":""},{"$f":"DATA!L64","v":"Fem"},{"$f":"DATA!M64","v":""},{"$f":"DATA!N64","v":0},{"$f":"DATA!O64","v":""},{"$f":"DATA!P64","v":""}]
[{"$f":"DATA!C65","v":"9901200SBN000170"},{"$f":"DATA!D65","v":""},{"$f":"DATA!E65","v":""},{"$f":"DATA!H65","v":0},{"$f":"DATA!I65","v":0},{"$f":"DATA!J65","v":""},{"$f":"DATA!K65","v":""},{"$f":"DATA!L65","v":"Fem"},{"$f":"DATA!M65","v":""},{"$f":"DATA!N65","v":0},{"$f":"DATA!O65","v":"0000000000000000"},{"$f":"DATA!P65","v":"0000000000000000"}]
[{"$f":"DATA!C66","v":"9901200SBN000320"},{"$f":"DATA!D66","v":""},{"$f":"DATA!E66","v":""},{"$f":"DATA!H66","v":0},{"$f":"DATA!I66","v":0},{"$f":"DATA!J66","v":""},{"$f":"DATA!K66","v":""},{"$f":"DATA!L66","v":"Mal"},{"$f":"DATA!M66","v":""},{"$f":"DATA!N66","v":0},{"$f":"DATA!O66","v":""},{"$f":"DATA!P66","v":""}]
[{"$f":"DATA!C67","v":"9901200SBN000860"},{"$f":"DATA!D67","v":""},{"$f":"DATA!E67","v":""},{"$f":"DATA!H67","v":0},{"$f":"DATA!I67","v":0},{"$f":"DATA!J67","v":""},{"$f":"DATA!K67","v":""},{"$f":"DATA!L67","v":"Fem"},{"$f":"DATA!M67","v":""},{"$f":"DATA!N67","v":0},{"$f":"DATA!O67","v":""},{"$f":"DATA!P67","v":""}]
[{"$f":"DATA!C68","v":"9901200SBN001310"},{"$f":"DATA!D68","v":""},{"$f":"DATA!E68","v":""},{"$f":"DATA!H68","v":0},{"$f":"DATA!I68","v":0},{"$f":"DATA!J68","v":""},{"$f":"DATA!K68","v":""},{"$f":"DATA!L68","v":"Mal"},{"$f":"DATA!M68","v":""},{"$f":"DATA!N68","v":0},{"$f":"DATA!O68","v":""},{"$f":"DATA!P68","v":""}]
[{"$f":"DATA!C69","v":"9901200SBN002000"},{"$f":"DATA!D69","v":""},{"$f":"DATA!E69","v":""},{"$f":"DATA!H69","v":0},{"$f":"DATA!I69","v":0},{"$f":"DATA!J69","v":""},{"$f":"DATA!K69","v":""},{"$f":"DATA!L69","v":"Fem"},{"$f":"DATA!M69","v":""},{"$f":"DATA!N69","v":0},{"$f":"DATA!O69","v":"0000000000000000"},{"$f":"DATA!P69","v":"0000000000000000"}]
[{"$f":"DATA!C70","v":"9901200SBN002090"},{"$f":"DATA!D70","v":""},{"$f":"DATA!E70","v":""},{"$f":"DATA!H70","v":0},{"$f":"DATA!I70","v":0},{"$f":"DATA!J70","v":""},{"$f":"DATA!K70","v":""},{"$f":"DATA!L70","v":"Mal"},{"$f":"DATA!M70","v":""},{"$f":"DATA!N70","v":0},{"$f":"DATA!O70","v":""},{"$f":"DATA!P70","v":""}]
[{"$f":"DATA!C71","v":"9901200SBN002160"},{"$f":"DATA!D71","v":""},{"$f":"DATA!E71","v":""},{"$f":"DATA!H71","v":0},{"$f":"DATA!I71","v":0},{"$f":"DATA!J71","v":""},{"$f":"DATA!K71","v":""},{"$f":"DATA!L71","v":"Fem"},{"$f":"DATA!M71","v":""},{"$f":"DATA!N71","v":0},{"$f":"DATA!O71","v":"0000000000000000"},{"$f":"DATA!P71","v":"0000000000000000"}]
[{"$f":"DATA!C72","v":"9901200SBN002190"},{"$f":"DATA!D72","v":""},{"$f":"DATA!E72","v":""},{"$f":"DATA!H72","v":0},{"$f":"DATA!I72","v":4},{"$f":"DATA!J72","v":""},{"$f":"DATA!K72","v":""},{"$f":"DATA!L72","v":"Fem"},{"$f":"DATA!M72","v":""},{"$f":"DATA!N72","v":0},{"$f":"DATA!O72","v":"9901200SBN000170"},{"$f":"DATA!P72","v":"9901200VSB000010"}]
[{"$f":"DATA!C73","v":"9901200SBN002220"},{"$f":"DATA!D73","v":""},{"$f":"DATA!E73","v":""},{"$f":"DATA!H73","v":0},{"$f":"DATA!I73","v":0},{"$f":"DATA!J73","v":""},{"$f":"DATA!K73","v":""},{"$f":"DATA!L73","v":"Mal"},{"$f":"DATA!M73","v":""},{"$f":"DATA!N73","v":0},{"$f":"DATA!O73","v":""},{"$f":"DATA!P73","v":""}]
[{"$f":"DATA!C74","v":"9901200SBN002250"},{"$f":"DATA!D74","v":""},{"$f":"DATA!E74","v":""},{"$f":"DATA!H74","v":0},{"$f":"DATA!I74","v":0},{"$f":"DATA!J74","v":""},{"$f":"DATA!K74","v":""},{"$f":"DATA!L74","v":"Mal"},{"$f":"DATA!M74","v":""},{"$f":"DATA!N74","v":0},{"$f":"DATA!O74","v":""},{"$f":"DATA!P74","v":""}]
[{"$f":"DATA!C75","v":"9901200SBN002340"},{"$f":"DATA!D75","v":""},{"$f":"DATA!E75","v":""},{"$f":"DATA!H75","v":0},{"$f":"DATA!I75","v":0},{"$f":"DATA!J75","v":""},{"$f":"DATA!K75","v":""},{"$f":"DATA!L75","v":"Mal"},{"$f":"DATA!M75","v":""},{"$f":"DATA!N75","v":0},{"$f":"DATA!O75","v":"0000000000000000"},{"$f":"DATA!P75","v":"0000000000000000"}]
[{"$f":"DATA!C76","v":"9901200SBN002500"},{"$f":"DATA!D76","v":""},{"$f":"DATA!E76","v":""},{"$f":"DATA!H76","v":0},{"$f":"DATA!I76","v":0},{"$f":"DATA!J76","v":""},{"$f":"DATA!K76","v":""},{"$f":"DATA!L76","v":"Fem"},{"$f":"DATA!M76","v":""},{"$f":"DATA!N76","v":0},{"$f":"DATA!O76","v":"9901200SBN002160"},{"$f":"DATA!P76","v":"9901200SBN002340"}]
[{"$f":"DATA!C77","v":"9901200SBN002710"},{"$f":"DATA!D77","v":""},{"$f":"DATA!E77","v":""},{"$f":"DATA!H77","v":0},{"$f":"DATA!I77","v":0},{"$f":"DATA!J77","v":""},{"$f":"DATA!K77","v":""},{"$f":"DATA!L77","v":"Fem"},{"$f":"DATA!M77","v":""},{"$f":"DATA!N77","v":0},{"$f":"DATA!O77","v":""},{"$f":"DATA!P77","v":""}]
[{"$f":"DATA!C78","v":"9901200SBN002940"},{"$f":"DATA!D78","v":""},{"$f":"DATA!E78","v":""},{"$f":"DATA!H78","v":0},{"$f":"DATA!I78","v":0},{"$f":"DATA!J78","v":""},{"$f":"DATA!K78","v":""},{"$f":"DATA!L78","v":"Fem"},{"$f":"DATA!M78","v":""},{"$f":"DATA!N78","v":0},{"$f":"DATA!O78","v":""},{"$f":"DATA!P78","v":""}]
[{"$f":"DATA!C79","v":"9901200SBN003230"},{"$f":"DATA!D79","v":""},{"$f":"DATA!E79","v":""},{"$f":"DATA!H79","v":0},{"$f":"DATA!I79","v":0},{"$f":"DATA!J79","v":""},{"$f":"DATA!K79","v":""},{"$f":"DATA!L79","v":"Mal"},{"$f":"DATA!M79","v":""},{"$f":"DATA!N79","v":0},{"$f":"DATA!O79","v":""},{"$f":"DATA!P79","v":""}]
[{"$f":"DATA!C80","v":"9901200SBN003240"},{"$f":"DATA!D80","v":""},{"$f":"DATA!E80","v":""},{"$f":"DATA!H80","v":0},{"$f":"DATA!I80","v":0},{"$f":"DATA!J80","v":""},{"$f":"DATA!K80","v":""},{"$f":"DATA!L80","v":"Fem"},{"$f":"DATA!M80","v":""},{"$f":"DATA!N80","v":0},{"$f":"DATA!O80","v":""},{"$f":"DATA!P80","v":""}]
[{"$f":"DATA!C81","v":"9901200SBN003520"},{"$f":"DATA!D81","v":""},{"$f":"DATA!E81","v":""},{"$f":"DATA!H81","v":0},{"$f":"DATA!I81","v":0},{"$f":"DATA!J81","v":""},{"$f":"DATA!K81","v":""},{"$f":"DATA!L81","v":"Mal"},{"$f":"DATA!M81","v":""},{"$f":"DATA!N81","v":0},{"$f":"DATA!O81","v":"UK00030351303358"},{"$f":"DATA!P81","v":"UK00030342200057"}]
[{"$f":"DATA!C82","v":"9901200SBN003600"},{"$f":"DATA!D82","v":""},{"$f":"DATA!E82","v":""},{"$f":"DATA!H82","v":0},{"$f":"DATA!I82","v":0},{"$f":"DATA!J82","v":""},{"$f":"DATA!K82","v":""},{"$f":"DATA!L82","v":"Mal"},{"$f":"DATA!M82","v":""},{"$f":"DATA!N82","v":0},{"$f":"DATA!O82","v":""},{"$f":"DATA!P82","v":""}]
[{"$f":"DATA!C83","v":"9901200SBN003640"},{"$f":"DATA!D83","v":""},{"$f":"DATA!E83","v":""},{"$f":"DATA!H83","v":0},{"$f":"DATA!I83","v":0},{"$f":"DATA!J83","v":""},{"$f":"DATA!K83","v":""},{"$f":"DATA!L83","v":"Fem"},{"$f":"DATA!M83","v":""},{"$f":"DATA!N83","v":0},{"$f":"DATA!O83","v":""},{"$f":"DATA!P83","v":""}]
[{"$f":"DATA!C84","v":"9901200SRE000930"},{"$f":"DATA!D84","v":""},{"$f":"DATA!E84","v":""},{"$f":"DATA!H84","v":0},{"$f":"DATA!I84","v":0},{"$f":"DATA!J84","v":""},{"$f":"DATA!K84","v":""},{"$f":"DATA!L84","v":""},{"$f":"DATA!M84","v":""},{"$f":"DATA!N84","v":0},{"$f":"DATA!O84","v":"0000000000000000"},{"$f":"DATA!P84","v":"0000000000000000"}]
[{"$f":"DATA!C85","v":"9901200SRU000830"},{"$f":"DATA!D85","v":""},{"$f":"DATA!E85","v":""},{"$f":"DATA!H85","v":0},{"$f":"DATA!I85","v":0},{"$f":"DATA!J85","v":""},{"$f":"DATA!K85","v":""},{"$f":"DATA!L85","v":"Fem"},{"$f":"DATA!M85","v":""},{"$f":"DATA!N85","v":0},{"$f":"DATA!O85","v":""},{"$f":"DATA!P85","v":""}]
[{"$f":"DATA!C86","v":"9901200SRU000840"},{"$f":"DATA!D86","v":""},{"$f":"DATA!E86","v":""},{"$f":"DATA!H86","v":0},{"$f":"DATA!I86","v":0},{"$f":"DATA!J86","v":""},{"$f":"DATA!K86","v":""},{"$f":"DATA!L86","v":"Mal"},{"$f":"DATA!M86","v":""},{"$f":"DATA!N86","v":0},{"$f":"DATA!O86","v":""},{"$f":"DATA!P86","v":""}]
[{"$f":"DATA!C87","v":"9901200TBV000180"},{"$f":"DATA!D87","v":""},{"$f":"DATA!E87","v":""},{"$f":"DATA!H87","v":0},{"$f":"DATA!I87","v":0},{"$f":"DATA!J87","v":""},{"$f":"DATA!K87","v":""},{"$f":"DATA!L87","v":"Fem"},{"$f":"DATA!M87","v":""},{"$f":"DATA!N87","v":0},{"$f":"DATA!O87","v":""},{"$f":"DATA!P87","v":""}]
[{"$f":"DATA!C88","v":"9901200TBV000430"},{"$f":"DATA!D88","v":""},{"$f":"DATA!E88","v":""},{"$f":"DATA!H88","v":0},{"$f":"DATA!I88","v":0},{"$f":"DATA!J88","v":""},{"$f":"DATA!K88","v":""},{"$f":"DATA!L88","v":"Fem"},{"$f":"DATA!M88","v":""},{"$f":"DATA!N88","v":0},{"$f":"DATA!O88","v":""},{"$f":"DATA!P88","v":""}]
[{"$f":"DATA!C89","v":"9901200TBV000600"},{"$f":"DATA!D89","v":""},{"$f":"DATA!E89","v":""},{"$f":"DATA!H89","v":0},{"$f":"DATA!I89","v":0},{"$f":"DATA!J89","v":""},{"$f":"DATA!K89","v":""},{"$f":"DATA!L89","v":"Mal"},{"$f":"DATA!M89","v":""},{"$f":"DATA!N89","v":0},{"$f":"DATA!O89","v":""},{"$f":"DATA!P89","v":""}]
[{"$f":"DATA!C90","v":"9901200TBV000710"},{"$f":"DATA!D90","v":""},{"$f":"DATA!E90","v":""},{"$f":"DATA!H90","v":0},{"$f":"DATA!I90","v":0},{"$f":"DATA!J90","v":""},{"$f":"DATA!K90","v":""},{"$f":"DATA!L90","v":"Mal"},{"$f":"DATA!M90","v":""},{"$f":"DATA!N90","v":0},{"$f":"DATA!O90","v":"0000000000000000"},{"$f":"DATA!P90","v":"0000000000000000"}]
[{"$f":"DATA!C91","v":"9901200TBV000780"},{"$f":"DATA!D91","v":""},{"$f":"DATA!E91","v":""},{"$f":"DATA!H91","v":0},{"$f":"DATA!I91","v":0},{"$f":"DATA!J91","v":""},{"$f":"DATA!K91","v":""},{"$f":"DATA!L91","v":"Mal"},{"$f":"DATA!M91","v":""},{"$f":"DATA!N91","v":0},{"$f":"DATA!O91","v":""},{"$f":"DATA!P91","v":""}]
[{"$f":"DATA!C92","v":"9901200TBV000790"},{"$f":"DATA!D92","v":""},{"$f":"DATA!E92","v":""},{"$f":"DATA!H92","v":0},{"$f":"DATA!I92","v":0},{"$f":"DATA!J92","v":""},{"$f":"DATA!K92","v":""},{"$f":"DATA!L92","v":"Fem"},{"$f":"DATA!M92","v":""},{"$f":"DATA!N92","v":0},{"$f":"DATA!O92","v":""},{"$f":"DATA!P92","v":""}]
[{"$f":"DATA!C93","v":"9901200TBV000840"},{"$f":"DATA!D93","v":""},{"$f":"DATA!E93","v":""},{"$f":"DATA!H93","v":0},{"$f":"DATA!I93","v":0},{"$f":"DATA!J93","v":""},{"$f":"DATA!K93","v":""},{"$f":"DATA!L93","v":"Mal"},{"$f":"DATA!M93","v":""},{"$f":"DATA!N93","v":0},{"$f":"DATA!O93","v":""},{"$f":"DATA!P93","v":""}]
[{"$f":"DATA!C94","v":"9901200TBV001070"},{"$f":"DATA!D94","v":""},{"$f":"DATA!E94","v":""},{"$f":"DATA!H94","v":0},{"$f":"DATA!I94","v":0},{"$f":"DATA!J94","v":""},{"$f":"DATA!K94","v":""},{"$f":"DATA!L94","v":"Mal"},{"$f":"DATA!M94","v":""},{"$f":"DATA!N94","v":0},{"$f":"DATA!O94","v":""},{"$f":"DATA!P94","v":""}]
[{"$f":"DATA!C95","v":"9901200TBV001170"},{"$f":"DATA!D95","v":""},{"$f":"DATA!E95","v":""},{"$f":"DATA!H95","v":0},{"$f":"DATA!I95","v":0},{"$f":"DATA!J95","v":""},{"$f":"DATA!K95","v":""},{"$f":"DATA!L95","v":"Mal"},{"$f":"DATA!M95","v":""},{"$f":"DATA!N95","v":0},{"$f":"DATA!O95","v":""},{"$f":"DATA!P95","v":""}]
[{"$f":"DATA!C96","v":"9901200TBV001460"},{"$f":"DATA!D96","v":""},{"$f":"DATA!E96","v":""},{"$f":"DATA!H96","v":0},{"$f":"DATA!I96","v":0},{"$f":"DATA!J96","v":""},{"$f":"DATA!K96","v":""},{"$f":"DATA!L96","v":"Fem"},{"$f":"DATA!M96","v":""},{"$f":"DATA!N96","v":0},{"$f":"DATA!O96","v":""},{"$f":"DATA!P96","v":""}]
[{"$f":"DATA!C97","v":"9901200TBV001540"},{"$f":"DATA!D97","v":""},{"$f":"DATA!E97","v":""},{"$f":"DATA!H97","v":0},{"$f":"DATA!I97","v":0},{"$f":"DATA!J97","v":""},{"$f":"DATA!K97","v":""},{"$f":"DATA!L97","v":"Mal"},{"$f":"DATA!M97","v":""},{"$f":"DATA!N97","v":0},{"$f":"DATA!O97","v":""},{"$f":"DATA!P97","v":""}]
[{"$f":"DATA!C98","v":"9901200TGI000030"},{"$f":"DATA!D98","v":""},{"$f":"DATA!E98","v":""},{"$f":"DATA!H98","v":0},{"$f":"DATA!I98","v":0},{"$f":"DATA!J98","v":""},{"$f":"DATA!K98","v":""},{"$f":"DATA!L98","v":"Mal"},{"$f":"DATA!M98","v":""},{"$f":"DATA!N98","v":0},{"$f":"DATA!O98","v":""},{"$f":"DATA!P98","v":""}]
[{"$f":"DATA!C99","v":"9901200VSB000010"},{"$f":"DATA!D99","v":""},{"$f":"DATA!E99","v":""},{"$f":"DATA!H99","v":0},{"$f":"DATA!I99","v":0},{"$f":"DATA!J99","v":""},{"$f":"DATA!K99","v":""},{"$f":"DATA!L99","v":"Mal"},{"$f":"DATA!M99","v":""},{"$f":"DATA!N99","v":0},{"$f":"DATA!O99","v":"0000000000000000"},{"$f":"DATA!P99","v":"0000000000000000"}]
[{"$f":"DATA!C100","v":"9901200VWT000640"},{"$f":"DATA!D100","v":""},{"$f":"DATA!E100","v":""},{"$f":"DATA!H100","v":0},{"$f":"DATA!I100","v":0},{"$f":"DATA!J100","v":""},{"$f":"DATA!K100","v":""},{"$f":"DATA!L100","v":"Fem"},{"$f":"DATA!M100","v":""},{"$f":"DATA!N100","v":0},{"$f":"DATA!O100","v":""},{"$f":"DATA!P100","v":""}]
[{"$f":"DATA!C101","v":"9901200VWT000800"},{"$f":"DATA!D101","v":""},{"$f":"DATA!E101","v":""},{"$f":"DATA!H101","v":0},{"$f":"DATA!I101","v":0},{"$f":"DATA!J101","v":""},{"$f":"DATA!K101","v":""},{"$f":"DATA!L101","v":"Fem"},{"$f":"DATA!M101","v":""},{"$f":"DATA!N101","v":0},{"$f":"DATA!O101","v":""},{"$f":"DATA!P101","v":""}]
[{"$f":"DATA!C102","v":"9901280940000000"},{"$f":"DATA!D102","v":""},{"$f":"DATA!E102","v":""},{"$f":"DATA!H102","v":0},{"$f":"DATA!I102","v":0},{"$f":"DATA!J102","v":""},{"$f":"DATA!K102","v":""},{"$f":"DATA!L102","v":"Mal"},{"$f":"DATA!M102","v":""},{"$f":"DATA!N102","v":0},{"$f":"DATA!O102","v":""},{"$f":"DATA!P102","v":""}]
[{"$f":"DATA!C103","v":"99012C0KGL001940"},{"$f":"DATA!D103","v":""},{"$f":"DATA!E103","v":""},{"$f":"DATA!H103","v":0},{"$f":"DATA!I103","v":0},{"$f":"DATA!J103","v":""},{"$f":"DATA!K103","v":""},{"$f":"DATA!L103","v":"Fem"},{"$f":"DATA!M103","v":""},{"$f":"DATA!N103","v":0},{"$f":"DATA!O103","v":""},{"$f":"DATA!P103","v":""}]
[{"$f":"DATA!C104","v":"99012DOB00011500"},{"$f":"DATA!D104","v":""},{"$f":"DATA!E104","v":""},{"$f":"DATA!H104","v":0},{"$f":"DATA!I104","v":0},{"$f":"DATA!J104","v":""},{"$f":"DATA!K104","v":""},{"$f":"DATA!L104","v":"Mal"},{"$f":"DATA!M104","v":""},{"$f":"DATA!N104","v":0},{"$f":"DATA!O104","v":""},{"$f":"DATA!P104","v":""}]
[{"$f":"DATA!C105","v":"99012f9586005700"},{"$f":"DATA!D105","v":""},{"$f":"DATA!E105","v":""},{"$f":"DATA!H105","v":0},{"$f":"DATA!I105","v":0},{"$f":"DATA!J105","v":""},{"$f":"DATA!K105","v":""},{"$f":"DATA!L105","v":""},{"$f":"DATA!M105","v":""},{"$f":"DATA!N105","v":0},{"$f":"DATA!O105","v":"0000000000000000"},{"$f":"DATA!P105","v":"0000000000000000"}]
[{"$f":"DATA!C106","v":"990210001100KGL0"},{"$f":"DATA!D106","v":""},{"$f":"DATA!E106","v":""},{"$f":"DATA!H106","v":0},{"$f":"DATA!I106","v":0},{"$f":"DATA!J106","v":""},{"$f":"DATA!K106","v":""},{"$f":"DATA!L106","v":"Fem"},{"$f":"DATA!M106","v":""},{"$f":"DATA!N106","v":0},{"$f":"DATA!O106","v":""},{"$f":"DATA!P106","v":""}]
[{"$f":"DATA!C107","v":"990210002400BRL0"},{"$f":"DATA!D107","v":""},{"$f":"DATA!E107","v":""},{"$f":"DATA!H107","v":0},{"$f":"DATA!I107","v":0},{"$f":"DATA!J107","v":""},{"$f":"DATA!K107","v":""},{"$f":"DATA!L107","v":"Fem"},{"$f":"DATA!M107","v":""},{"$f":"DATA!N107","v":0},{"$f":"DATA!O107","v":""},{"$f":"DATA!P107","v":""}]
[{"$f":"DATA!C108","v":"9902100051000000"},{"$f":"DATA!D108","v":""},{"$f":"DATA!E108","v":""},{"$f":"DATA!H108","v":0},{"$f":"DATA!I108","v":0},{"$f":"DATA!J108","v":""},{"$f":"DATA!K108","v":""},{"$f":"DATA!L108","v":"Mal"},{"$f":"DATA!M108","v":""},{"$f":"DATA!N108","v":0},{"$f":"DATA!O108","v":""},{"$f":"DATA!P108","v":""}]
[{"$f":"DATA!C109","v":"990210008700RGE0"},{"$f":"DATA!D109","v":""},{"$f":"DATA!E109","v":""},{"$f":"DATA!H109","v":0},{"$f":"DATA!I109","v":0},{"$f":"DATA!J109","v":""},{"$f":"DATA!K109","v":""},{"$f":"DATA!L109","v":"Mal"},{"$f":"DATA!M109","v":""},{"$f":"DATA!N109","v":0},{"$f":"DATA!O109","v":""},{"$f":"DATA!P109","v":""}]
[{"$f":"DATA!C110","v":"990210013200KGP0"},{"$f":"DATA!D110","v":""},{"$f":"DATA!E110","v":""},{"$f":"DATA!H110","v":0},{"$f":"DATA!I110","v":0},{"$f":"DATA!J110","v":""},{"$f":"DATA!K110","v":""},{"$f":"DATA!L110","v":"Mal"},{"$f":"DATA!M110","v":""},{"$f":"DATA!N110","v":0},{"$f":"DATA!O110","v":""},{"$f":"DATA!P110","v":""}]
[{"$f":"DATA!C111","v":"9902120040000000"},{"$f":"DATA!D111","v":""},{"$f":"DATA!E111","v":""},{"$f":"DATA!H111","v":0},{"$f":"DATA!I111","v":0},{"$f":"DATA!J111","v":""},{"$f":"DATA!K111","v":""},{"$f":"DATA!L111","v":"Fem"},{"$f":"DATA!M111","v":""},{"$f":"DATA!N111","v":0},{"$f":"DATA!O111","v":""},{"$f":"DATA!P111","v":""}]
[{"$f":"DATA!C112","v":"9902140250000000"},{"$f":"DATA!D112","v":""},{"$f":"DATA!E112","v":""},{"$f":"DATA!H112","v":0},{"$f":"DATA!I112","v":0},{"$f":"DATA!J112","v":""},{"$f":"DATA!K112","v":""},{"$f":"DATA!L112","v":"Fem"},{"$f":"DATA!M112","v":""},{"$f":"DATA!N112","v":0},{"$f":"DATA!O112","v":""},{"$f":"DATA!P112","v":""}]
[{"$f":"DATA!C113","v":"9902140550JS0000"},{"$f":"DATA!D113","v":""},{"$f":"DATA!E113","v":""},{"$f":"DATA!H113","v":0},{"$f":"DATA!I113","v":0},{"$f":"DATA!J113","v":""},{"$f":"DATA!K113","v":""},{"$f":"DATA!L113","v":"Mal"},{"$f":"DATA!M113","v":""},{"$f":"DATA!N113","v":0},{"$f":"DATA!O113","v":""},{"$f":"DATA!P113","v":""}]
[{"$f":"DATA!C114","v":"9902160580000000"},{"$f":"DATA!D114","v":""},{"$f":"DATA!E114","v":""},{"$f":"DATA!H114","v":0},{"$f":"DATA!I114","v":0},{"$f":"DATA!J114","v":""},{"$f":"DATA!K114","v":""},{"$f":"DATA!L114","v":"Mal"},{"$f":"DATA!M114","v":""},{"$f":"DATA!N114","v":0},{"$f":"DATA!O114","v":""},{"$f":"DATA!P114","v":""}]
[{"$f":"DATA!C115","v":"9902161040JS0000"},{"$f":"DATA!D115","v":""},{"$f":"DATA!E115","v":""},{"$f":"DATA!H115","v":0},{"$f":"DATA!I115","v":0},{"$f":"DATA!J115","v":""},{"$f":"DATA!K115","v":""},{"$f":"DATA!L115","v":"Fem"},{"$f":"DATA!M115","v":""},{"$f":"DATA!N115","v":0},{"$f":"DATA!O115","v":""},{"$f":"DATA!P115","v":""}]
[{"$f":"DATA!C116","v":"9902180690000000"},{"$f":"DATA!D116","v":""},{"$f":"DATA!E116","v":""},{"$f":"DATA!H116","v":0},{"$f":"DATA!I116","v":0},{"$f":"DATA!J116","v":""},{"$f":"DATA!K116","v":""},{"$f":"DATA!L116","v":"Fem"},{"$f":"DATA!M116","v":""},{"$f":"DATA!N116","v":0},{"$f":"DATA!O116","v":""},{"$f":"DATA!P116","v":""}]
[{"$f":"DATA!C117","v":"9902198012000000"},{"$f":"DATA!D117","v":""},{"$f":"DATA!E117","v":""},{"$f":"DATA!H117","v":0},{"$f":"DATA!I117","v":0},{"$f":"DATA!J117","v":""},{"$f":"DATA!K117","v":""},{"$f":"DATA!L117","v":"Fem"},{"$f":"DATA!M117","v":""},{"$f":"DATA!N117","v":0},{"$f":"DATA!O117","v":""},{"$f":"DATA!P117","v":""}]
[{"$f":"DATA!C118","v":"9902198094000000"},{"$f":"DATA!D118","v":""},{"$f":"DATA!E118","v":""},{"$f":"DATA!H118","v":0},{"$f":"DATA!I118","v":0},{"$f":"DATA!J118","v":""},{"$f":"DATA!K118","v":""},{"$f":"DATA!L118","v":"Mal"},{"$f":"DATA!M118","v":""},{"$f":"DATA!N118","v":0},{"$f":"DATA!O118","v":""},{"$f":"DATA!P118","v":""}]
[{"$f":"DATA!C119","v":"9902199077000000"},{"$f":"DATA!D119","v":""},{"$f":"DATA!E119","v":""},{"$f":"DATA!H119","v":0},{"$f":"DATA!I119","v":0},{"$f":"DATA!J119","v":""},{"$f":"DATA!K119","v":""},{"$f":"DATA!L119","v":"Fem"},{"$f":"DATA!M119","v":""},{"$f":"DATA!N119","v":0},{"$f":"DATA!O119","v":""},{"$f":"DATA!P119","v":""}]
[{"$f":"DATA!C120","v":"CZ00000001507525"},{"$f":"DATA!D120","v":""},{"$f":"DATA!E120","v":""},{"$f":"DATA!H120","v":0},{"$f":"DATA!I120","v":0},{"$f":"DATA!J120","v":""},{"$f":"DATA!K120","v":""},{"$f":"DATA!L120","v":""},{"$f":"DATA!M120","v":""},{"$f":"DATA!N120","v":32},{"$f":"DATA!O120","v":"FR00000000990113"},{"$f":"DATA!P120","v":"FR00000000980094"}]
[{"$f":"DATA!C121","v":"CZ00000001508525"},{"$f":"DATA!D121","v":""},{"$f":"DATA!E121","v":""},{"$f":"DATA!H121","v":0},{"$f":"DATA!I121","v":0},{"$f":"DATA!J121","v":""},{"$f":"DATA!K121","v":""},{"$f":"DATA!L121","v":""},{"$f":"DATA!M121","v":""},{"$f":"DATA!N121","v":32},{"$f":"DATA!O121","v":"5053400870000000"},{"$f":"DATA!P121","v":"FR00000000980094"}]
[{"$f":"DATA!C122","v":"CZ00000001509525"},{"$f":"DATA!D122","v":""},{"$f":"DATA!E122","v":""},{"$f":"DATA!H122","v":0},{"$f":"DATA!I122","v":0},{"$f":"DATA!J122","v":""},{"$f":"DATA!K122","v":""},{"$f":"DATA!L122","v":""},{"$f":"DATA!M122","v":""},{"$f":"DATA!N122","v":33},{"$f":"DATA!O122","v":"FR00000000970035"},{"$f":"DATA!P122","v":"FR00000000990161"}]
[{"$f":"DATA!C123","v":"CZ00000002551052"},{"$f":"DATA!D123","v":""},{"$f":"DATA!E123","v":""},{"$f":"DATA!H123","v":0},{"$f":"DATA!I123","v":0},{"$f":"DATA!J123","v":""},{"$f":"DATA!K123","v":""},{"$f":"DATA!L123","v":""},{"$f":"DATA!M123","v":""},{"$f":"DATA!N123","v":36},{"$f":"DATA!O123","v":"5053400870000000"},{"$f":"DATA!P123","v":"CZ00000006700052"}]
[{"$f":"DATA!C124","v":"CZ00000002552052"},{"$f":"DATA!D124","v":""},{"$f":"DATA!E124","v":""},{"$f":"DATA!H124","v":0},{"$f":"DATA!I124","v":0},{"$f":"DATA!J124","v":""},{"$f":"DATA!K124","v":""},{"$f":"DATA!L124","v":""},{"$f":"DATA!M124","v":""},{"$f":"DATA!N124","v":0},{"$f":"DATA!O124","v":"CZ00000003113505"},{"$f":"DATA!P124","v":"CZ00000006700052"}]
[{"$f":"DATA!C125","v":"CZ00000002554052"},{"$f":"DATA!D125","v":""},{"$f":"DATA!E125","v":""},{"$f":"DATA!H125","v":0},{"$f":"DATA!I125","v":0},{"$f":"DATA!J125","v":""},{"$f":"DATA!K125","v":""},{"$f":"DATA!L125","v":""},{"$f":"DATA!M125","v":""},{"$f":"DATA!N125","v":35},{"$f":"DATA!O125","v":"FR00000000990113"},{"$f":"DATA!P125","v":"CZ00000006700052"}]
[{"$f":"DATA!C126","v":"CZ00000002556052"},{"$f":"DATA!D126","v":""},{"$f":"DATA!E126","v":""},{"$f":"DATA!H126","v":0},{"$f":"DATA!I126","v":0},{"$f":"DATA!J126","v":""},{"$f":"DATA!K126","v":""},{"$f":"DATA!L126","v":""},{"$f":"DATA!M126","v":""},{"$f":"DATA!N126","v":31},{"$f":"DATA!O126","v":"CZ00000003115505"},{"$f":"DATA!P126","v":"CZ00000006700052"}]
[{"$f":"DATA!C127","v":"CZ00000003113505"},{"$f":"DATA!D127","v":""},{"$f":"DATA!E127","v":""},{"$f":"DATA!H127","v":0},{"$f":"DATA!I127","v":0},{"$f":"DATA!J127","v":""},{"$f":"DATA!K127","v":""},{"$f":"DATA!L127","v":"Fem"},{"$f":"DATA!M127","v":""},{"$f":"DATA!N127","v":29},{"$f":"DATA!O127","v":"FR00000000990113"},{"$f":"DATA!P127","v":"FR00000000980094"}]
[{"$f":"DATA!C128","v":"CZ00000003114505"},{"$f":"DATA!D128","v":""},{"$f":"DATA!E128","v":""},{"$f":"DATA!H128","v":0},{"$f":"DATA!I128","v":0},{"$f":"DATA!J128","v":""},{"$f":"DATA!K128","v":""},{"$f":"DATA!L128","v":"Fem"},{"$f":"DATA!M128","v":""},{"$f":"DATA!N128","v":0},{"$f":"DATA!O128","v":"5053400870000000"},{"$f":"DATA!P128","v":"FR00000000980094"}]
[{"$f":"DATA!C129","v":"CZ00000003115505"},{"$f":"DATA!D129","v":""},{"$f":"DATA!E129","v":""},{"$f":"DATA!H129","v":0},{"$f":"DATA!I129","v":0},{"$f":"DATA!J129","v":""},{"$f":"DATA!K129","v":""},{"$f":"DATA!L129","v":"Fem"},{"$f":"DATA!M129","v":""},{"$f":"DATA!N129","v":30},{"$f":"DATA!O129","v":"FR00000000970035"},{"$f":"DATA!P129","v":"FR00000000990161"}]
[{"$f":"DATA!C130","v":"CZ00000003552952"},{"$f":"DATA!D130","v":""},{"$f":"DATA!E130","v":""},{"$f":"DATA!H130","v":0},{"$f":"DATA!I130","v":0},{"$f":"DATA!J130","v":""},{"$f":"DATA!K130","v":""},{"$f":"DATA!L130","v":""},{"$f":"DATA!M130","v":""},{"$f":"DATA!N130","v":0},{"$f":"DATA!O130","v":"FR00000000990113"},{"$f":"DATA!P130","v":"CZ00000006700052"}]
[{"$f":"DATA!C131","v":"CZ00000003554952"},{"$f":"DATA!D131","v":""},{"$f":"DATA!E131","v":""},{"$f":"DATA!H131","v":0},{"$f":"DATA!I131","v":0},{"$f":"DATA!J131","v":""},{"$f":"DATA!K131","v":""},{"$f":"DATA!L131","v":""},{"$f":"DATA!M131","v":""},{"$f":"DATA!N131","v":0},{"$f":"DATA!O131","v":"CZ00000003113505"},{"$f":"DATA!P131","v":"CZ00000006700052"}]
[{"$f":"DATA!C132","v":"CZ00000003555952"},{"$f":"DATA!D132","v":""},{"$f":"DATA!E132","v":""},{"$f":"DATA!H132","v":0},{"$f":"DATA!I132","v":0},{"$f":"DATA!J132","v":""},{"$f":"DATA!K132","v":""},{"$f":"DATA!L132","v":""},{"$f":"DATA!M132","v":""},{"$f":"DATA!N132","v":0},{"$f":"DATA!O132","v":"FR00000000980011"},{"$f":"DATA!P132","v":"CZ00000006700052"}]
[{"$f":"DATA!C133","v":"CZ00000003556952"},{"$f":"DATA!D133","v":""},{"$f":"DATA!E133","v":""},{"$f":"DATA!H133","v":0},{"$f":"DATA!I133","v":0},{"$f":"DATA!J133","v":""},{"$f":"DATA!K133","v":""},{"$f":"DATA!L133","v":""},{"$f":"DATA!M133","v":""},{"$f":"DATA!N133","v":0},{"$f":"DATA!O133","v":"FR00000000970035"},{"$f":"DATA!P133","v":"CZ00000006700052"}]
[{"$f":"DATA!C134","v":"CZ00000003557952"},{"$f":"DATA!D134","v":""},{"$f":"DATA!E134","v":""},{"$f":"DATA!H134","v":0},{"$f":"DATA!I134","v":0},{"$f":"DATA!J134","v":""},{"$f":"DATA!K134","v":""},{"$f":"DATA!L134","v":""},{"$f":"DATA!M134","v":""},{"$f":"DATA!N134","v":0},{"$f":"DATA!O134","v":"CZ00000003113505"},{"$f":"DATA!P134","v":"CZ00000006700052"}]
[{"$f":"DATA!C135","v":"CZ00000003558952"},{"$f":"DATA!D135","v":""},{"$f":"DATA!E135","v":""},{"$f":"DATA!H135","v":0},{"$f":"DATA!I135","v":0},{"$f":"DATA!J135","v":""},{"$f":"DATA!K135","v":""},{"$f":"DATA!L135","v":"Fem"},{"$f":"DATA!M135","v":""},{"$f":"DATA!N135","v":0},{"$f":"DATA!O135","v":"CZ00000003114505"},{"$f":"DATA!P135","v":"CZ00000006700052"}]
[{"$f":"DATA!C136","v":"CZ00000003560952"},{"$f":"DATA!D136","v":""},{"$f":"DATA!E136","v":""},{"$f":"DATA!H136","v":0},{"$f":"DATA!I136","v":0},{"$f":"DATA!J136","v":""},{"$f":"DATA!K136","v":""},{"$f":"DATA!L136","v":"Fem"},{"$f":"DATA!M136","v":""},{"$f":"DATA!N136","v":0},{"$f":"DATA!O136","v":"0000000000000000"},{"$f":"DATA!P136","v":"CZ00000006700052"}]
[{"$f":"DATA!C137","v":"CZ00000004181052"},{"$f":"DATA!D137","v":""},{"$f":"DATA!E137","v":""},{"$f":"DATA!H137","v":0},{"$f":"DATA!I137","v":0},{"$f":"DATA!J137","v":""},{"$f":"DATA!K137","v":""},{"$f":"DATA!L137","v":""},{"$f":"DATA!M137","v":""},{"$f":"DATA!N137","v":31},{"$f":"DATA!O137","v":"5053400870000000"},{"$f":"DATA!P137","v":"CZ00000006700052"}]
[{"$f":"DATA!C138","v":"CZ00000004183052"},{"$f":"DATA!D138","v":""},{"$f":"DATA!E138","v":""},{"$f":"DATA!H138","v":0},{"$f":"DATA!I138","v":0},{"$f":"DATA!J138","v":""},{"$f":"DATA!K138","v":""},{"$f":"DATA!L138","v":""},{"$f":"DATA!M138","v":""},{"$f":"DATA!N138","v":32},{"$f":"DATA!O138","v":"5053431140087020"},{"$f":"DATA!P138","v":"CZ00000006700052"}]
[{"$f":"DATA!C139","v":"CZ00000004184052"},{"$f":"DATA!D139","v":""},{"$f":"DATA!E139","v":""},{"$f":"DATA!H139","v":0},{"$f":"DATA!I139","v":0},{"$f":"DATA!J139","v":""},{"$f":"DATA!K139","v":""},{"$f":"DATA!L139","v":""},{"$f":"DATA!M139","v":""},{"$f":"DATA!N139","v":31},{"$f":"DATA!O139","v":"CZ00000003115505"},{"$f":"DATA!P139","v":"CZ00000006700052"}]
[{"$f":"DATA!C140","v":"CZ00000004185052"},{"$f":"DATA!D140","v":""},{"$f":"DATA!E140","v":""},{"$f":"DATA!H140","v":0},{"$f":"DATA!I140","v":0},{"$f":"DATA!J140","v":""},{"$f":"DATA!K140","v":""},{"$f":"DATA!L140","v":""},{"$f":"DATA!M140","v":""},{"$f":"DATA!N140","v":31},{"$f":"DATA!O140","v":"CZ00000003113505"},{"$f":"DATA!P140","v":"CZ00000006700052"}]
[{"$f":"DATA!C141","v":"CZ00000004186052"},{"$f":"DATA!D141","v":"BEL-0006"},{"$f":"DATA!E141","v":"BELIER"},{"$f":"DATA!H141","v":38027},{"$f":"DATA!I141","v":0},{"$f":"DATA!J141","v":""},{"$f":"DATA!K141","v":"EB"},{"$f":"DATA!L141","v":"Mal"},{"$f":"DATA!M141","v":"ARR/ARR"},{"$f":"DATA!N141","v":30},{"$f":"DATA!O141","v":"CZ00000003113505"},{"$f":"DATA!P141","v":"CZ00000006700052"}]
[{"$f":"DATA!C142","v":"CZ00000004199052"},{"$f":"DATA!D142","v":""},{"$f":"DATA!E142","v":""},{"$f":"DATA!H142","v":0},{"$f":"DATA!I142","v":0},{"$f":"DATA!J142","v":""},{"$f":"DATA!K142","v":""},{"$f":"DATA!L142","v":""},{"$f":"DATA!M142","v":""},{"$f":"DATA!N142","v":0},{"$f":"DATA!O142","v":"FR00000000970035"},{"$f":"DATA!P142","v":"CZ00000006232052"}]
[{"$f":"DATA!C143","v":"CZ00000004200052"},{"$f":"DATA!D143","v":""},{"$f":"DATA!E143","v":""},{"$f":"DATA!H143","v":0},{"$f":"DATA!I143","v":0},{"$f":"DATA!J143","v":""},{"$f":"DATA!K143","v":""},{"$f":"DATA!L143","v":""},{"$f":"DATA!M143","v":""},{"$f":"DATA!N143","v":0},{"$f":"DATA!O143","v":"CZ00000003560952"},{"$f":"DATA!P143","v":"CZ00000006233052"}]
[{"$f":"DATA!C144","v":"CZ00000005241952"},{"$f":"DATA!D144","v":""},{"$f":"DATA!E144","v":""},{"$f":"DATA!H144","v":0},{"$f":"DATA!I144","v":0},{"$f":"DATA!J144","v":""},{"$f":"DATA!K144","v":""},{"$f":"DATA!L144","v":""},{"$f":"DATA!M144","v":""},{"$f":"DATA!N144","v":31},{"$f":"DATA!O144","v":"FR00000000990113"},{"$f":"DATA!P144","v":"CZ00000006700052"}]
[{"$f":"DATA!C145","v":"CZ00000005246952"},{"$f":"DATA!D145","v":""},{"$f":"DATA!E145","v":""},{"$f":"DATA!H145","v":0},{"$f":"DATA!I145","v":0},{"$f":"DATA!J145","v":""},{"$f":"DATA!K145","v":""},{"$f":"DATA!L145","v":"Fem"},{"$f":"DATA!M145","v":""},{"$f":"DATA!N145","v":0},{"$f":"DATA!O145","v":"FR00000000990113"},{"$f":"DATA!P145","v":"CZ00000006700052"}]
[{"$f":"DATA!C146","v":"CZ00000005251952"},{"$f":"DATA!D146","v":""},{"$f":"DATA!E146","v":""},{"$f":"DATA!H146","v":0},{"$f":"DATA!I146","v":0},{"$f":"DATA!J146","v":""},{"$f":"DATA!K146","v":""},{"$f":"DATA!L146","v":"Fem"},{"$f":"DATA!M146","v":""},{"$f":"DATA!N146","v":0},{"$f":"DATA!O146","v":"FR00000000980011"},{"$f":"DATA!P146","v":"CZ00000006700052"}]
[{"$f":"DATA!C147","v":"CZ00000005252952"},{"$f":"DATA!D147","v":""},{"$f":"DATA!E147","v":""},{"$f":"DATA!H147","v":0},{"$f":"DATA!I147","v":0},{"$f":"DATA!J147","v":""},{"$f":"DATA!K147","v":""},{"$f":"DATA!L147","v":""},{"$f":"DATA!M147","v":""},{"$f":"DATA!N147","v":35},{"$f":"DATA!O147","v":"FR00000000970035"},{"$f":"DATA!P147","v":"CZ00000006700052"}]
[{"$f":"DATA!C148","v":"CZ00000005267952"},{"$f":"DATA!D148","v":""},{"$f":"DATA!E148","v":""},{"$f":"DATA!H148","v":0},{"$f":"DATA!I148","v":0},{"$f":"DATA!J148","v":""},{"$f":"DATA!K148","v":""},{"$f":"DATA!L148","v":""},{"$f":"DATA!M148","v":""},{"$f":"DATA!N148","v":29},{"$f":"DATA!O148","v":"CZ00000003113505"},{"$f":"DATA!P148","v":"CZ00000006700052"}]
[{"$f":"DATA!C149","v":"CZ00000005280952"},{"$f":"DATA!D149","v":""},{"$f":"DATA!E149","v":""},{"$f":"DATA!H149","v":0},{"$f":"DATA!I149","v":0},{"$f":"DATA!J149","v":""},{"$f":"DATA!K149","v":""},{"$f":"DATA!L149","v":""},{"$f":"DATA!M149","v":""},{"$f":"DATA!N149","v":27},{"$f":"DATA!O149","v":"CZ00000003113505"},{"$f":"DATA!P149","v":"CZ00000006700052"}]
[{"$f":"DATA!C150","v":"CZ00000006232052"},{"$f":"DATA!D150","v":"EMI-0001"},{"$f":"DATA!E150","v":"EMILIO"},{"$f":"DATA!H150","v":37671},{"$f":"DATA!I150","v":0},{"$f":"DATA!J150","v":""},{"$f":"DATA!K150","v":"ER"},{"$f":"DATA!L150","v":"Mal"},{"$f":"DATA!M150","v":"ARR/ARR"},{"$f":"DATA!N150","v":0},{"$f":"DATA!O150","v":"9902199077000000"},{"$f":"DATA!P150","v":"9902100051000000"}]
[{"$f":"DATA!C151","v":"CZ00000006233052"},{"$f":"DATA!D151","v":"ERR-0001"},{"$f":"DATA!E151","v":"ERROL"},{"$f":"DATA!H151","v":37671},{"$f":"DATA!I151","v":2},{"$f":"DATA!J151","v":""},{"$f":"DATA!K151","v":"ER"},{"$f":"DATA!L151","v":"Mal"},{"$f":"DATA!M151","v":"ARR/ARR"},{"$f":"DATA!N151","v":0},{"$f":"DATA!O151","v":"9902198012000000"},{"$f":"DATA!P151","v":"9902198094000000"}]
[{"$f":"DATA!C152","v":"CZ00000006691052"},{"$f":"DATA!D152","v":"BEL-0003"},{"$f":"DATA!E152","v":"BELIER"},{"$f":"DATA!H152","v":37679},{"$f":"DATA!I152","v":0},{"$f":"DATA!J152","v":""},{"$f":"DATA!K152","v":"EB"},{"$f":"DATA!L152","v":""},{"$f":"DATA!M152","v":"ALRR/ALHQ"},{"$f":"DATA!N152","v":0},{"$f":"DATA!O152","v":"FR00000000980011"},{"$f":"DATA!P152","v":"CZ00000006700052"}]
[{"$f":"DATA!C153","v":"CZ00000006693052"},{"$f":"DATA!D153","v":""},{"$f":"DATA!E153","v":""},{"$f":"DATA!H153","v":0},{"$f":"DATA!I153","v":0},{"$f":"DATA!J153","v":""},{"$f":"DATA!K153","v":""},{"$f":"DATA!L153","v":""},{"$f":"DATA!M153","v":""},{"$f":"DATA!N153","v":34},{"$f":"DATA!O153","v":"FR00000000970035"},{"$f":"DATA!P153","v":"CZ00000006700052"}]
[{"$f":"DATA!C154","v":"CZ00000006694052"},{"$f":"DATA!D154","v":""},{"$f":"DATA!E154","v":""},{"$f":"DATA!H154","v":0},{"$f":"DATA!I154","v":0},{"$f":"DATA!J154","v":""},{"$f":"DATA!K154","v":""},{"$f":"DATA!L154","v":""},{"$f":"DATA!M154","v":""},{"$f":"DATA!N154","v":36},{"$f":"DATA!O154","v":"5053400870000000"},{"$f":"DATA!P154","v":"CZ00000006700052"}]
[{"$f":"DATA!C155","v":"CZ00000006695052"},{"$f":"DATA!D155","v":""},{"$f":"DATA!E155","v":""},{"$f":"DATA!H155","v":0},{"$f":"DATA!I155","v":0},{"$f":"DATA!J155","v":""},{"$f":"DATA!K155","v":""},{"$f":"DATA!L155","v":""},{"$f":"DATA!M155","v":""},{"$f":"DATA!N155","v":31},{"$f":"DATA!O155","v":"CZ00000003115505"},{"$f":"DATA!P155","v":"CZ00000006700052"}]
[{"$f":"DATA!C156","v":"CZ00000006696052"},{"$f":"DATA!D156","v":""},{"$f":"DATA!E156","v":""},{"$f":"DATA!H156","v":0},{"$f":"DATA!I156","v":0},{"$f":"DATA!J156","v":""},{"$f":"DATA!K156","v":""},{"$f":"DATA!L156","v":""},{"$f":"DATA!M156","v":""},{"$f":"DATA!N156","v":34},{"$f":"DATA!O156","v":"50534052511FR000"},{"$f":"DATA!P156","v":"CZ00000006232052"}]
[{"$f":"DATA!C157","v":"CZ00000006700052"},{"$f":"DATA!D157","v":""},{"$f":"DATA!E157","v":""},{"$f":"DATA!H157","v":0},{"$f":"DATA!I157","v":0},{"$f":"DATA!J157","v":""},{"$f":"DATA!K157","v":""},{"$f":"DATA!L157","v":"Mal"},{"$f":"DATA!M157","v":""},{"$f":"DATA!N157","v":0},{"$f":"DATA!O157","v":"9902161040JS0000"},{"$f":"DATA!P157","v":"9902140550JS0000"}]
[{"$f":"DATA!C158","v":"CZ00000018222052"},{"$f":"DATA!D158","v":""},{"$f":"DATA!E158","v":""},{"$f":"DATA!H158","v":0},{"$f":"DATA!I158","v":0},{"$f":"DATA!J158","v":""},{"$f":"DATA!K158","v":""},{"$f":"DATA!L158","v":""},{"$f":"DATA!M158","v":""},{"$f":"DATA!N158","v":0},{"$f":"DATA!O158","v":"FR00000000990113"},{"$f":"DATA!P158","v":"CZ00000006233052"}]
[{"$f":"DATA!C159","v":"CZ00000018223052"},{"$f":"DATA!D159","v":""},{"$f":"DATA!E159","v":""},{"$f":"DATA!H159","v":0},{"$f":"DATA!I159","v":0},{"$f":"DATA!J159","v":""},{"$f":"DATA!K159","v":""},{"$f":"DATA!L159","v":""},{"$f":"DATA!M159","v":""},{"$f":"DATA!N159","v":39},{"$f":"DATA!O159","v":"50534052511FR000"},{"$f":"DATA!P159","v":"CZ00000006232052"}]
[{"$f":"DATA!C160","v":"CZ00000021252952"},{"$f":"DATA!D160","v":""},{"$f":"DATA!E160","v":""},{"$f":"DATA!H160","v":0},{"$f":"DATA!I160","v":0},{"$f":"DATA!J160","v":""},{"$f":"DATA!K160","v":""},{"$f":"DATA!L160","v":""},{"$f":"DATA!M160","v":""},{"$f":"DATA!N160","v":28},{"$f":"DATA!O160","v":"CZ00000003114505"},{"$f":"DATA!P160","v":"CZ00000006700052"}]
[{"$f":"DATA!C161","v":"CZ00000021253952"},{"$f":"DATA!D161","v":""},{"$f":"DATA!E161","v":""},{"$f":"DATA!H161","v":0},{"$f":"DATA!I161","v":0},{"$f":"DATA!J161","v":""},{"$f":"DATA!K161","v":""},{"$f":"DATA!L161","v":"Fem"},{"$f":"DATA!M161","v":""},{"$f":"DATA!N161","v":33},{"$f":"DATA!O161","v":"FR00000000970035"},{"$f":"DATA!P161","v":"CZ00000006232052"}]
[{"$f":"DATA!C162","v":"CZ00000021269952"},{"$f":"DATA!D162","v":""},{"$f":"DATA!E162","v":""},{"$f":"DATA!H162","v":0},{"$f":"DATA!I162","v":0},{"$f":"DATA!J162","v":""},{"$f":"DATA!K162","v":""},{"$f":"DATA!L162","v":""},{"$f":"DATA!M162","v":""},{"$f":"DATA!N162","v":31},{"$f":"DATA!O162","v":"FR00000000980011"},{"$f":"DATA!P162","v":"CZ00000006233052"}]
[{"$f":"DATA!C163","v":"CZ00000021270952"},{"$f":"DATA!D163","v":""},{"$f":"DATA!E163","v":""},{"$f":"DATA!H163","v":0},{"$f":"DATA!I163","v":0},{"$f":"DATA!J163","v":""},{"$f":"DATA!K163","v":""},{"$f":"DATA!L163","v":""},{"$f":"DATA!M163","v":""},{"$f":"DATA!N163","v":0},{"$f":"DATA!O163","v":"CZ00000003115505"},{"$f":"DATA!P163","v":"CZ00000006700052"}]
[{"$f":"DATA!C164","v":"CZ00000021271952"},{"$f":"DATA!D164","v":""},{"$f":"DATA!E164","v":""},{"$f":"DATA!H164","v":0},{"$f":"DATA!I164","v":0},{"$f":"DATA!J164","v":""},{"$f":"DATA!K164","v":""},{"$f":"DATA!L164","v":""},{"$f":"DATA!M164","v":""},{"$f":"DATA!N164","v":0},{"$f":"DATA!O164","v":"CZ00000003558952"},{"$f":"DATA!P164","v":"CZ00000006232052"}]
[{"$f":"DATA!C165","v":"CZ00000021279952"},{"$f":"DATA!D165","v":""},{"$f":"DATA!E165","v":""},{"$f":"DATA!H165","v":0},{"$f":"DATA!I165","v":0},{"$f":"DATA!J165","v":""},{"$f":"DATA!K165","v":""},{"$f":"DATA!L165","v":"Fem"},{"$f":"DATA!M165","v":""},{"$f":"DATA!N165","v":0},{"$f":"DATA!O165","v":"5053403650000000"},{"$f":"DATA!P165","v":"CZ00000006233052"}]
[{"$f":"DATA!C166","v":"CZ00000021280952"},{"$f":"DATA!D166","v":""},{"$f":"DATA!E166","v":""},{"$f":"DATA!H166","v":0},{"$f":"DATA!I166","v":0},{"$f":"DATA!J166","v":""},{"$f":"DATA!K166","v":""},{"$f":"DATA!L166","v":"Fem"},{"$f":"DATA!M166","v":""},{"$f":"DATA!N166","v":0},{"$f":"DATA!O166","v":"FR00000000990113"},{"$f":"DATA!P166","v":"CZ00000006233052"}]
[{"$f":"DATA!C167","v":"CZ00000021285952"},{"$f":"DATA!D167","v":""},{"$f":"DATA!E167","v":""},{"$f":"DATA!H167","v":0},{"$f":"DATA!I167","v":0},{"$f":"DATA!J167","v":""},{"$f":"DATA!K167","v":""},{"$f":"DATA!L167","v":"Fem"},{"$f":"DATA!M167","v":""},{"$f":"DATA!N167","v":33},{"$f":"DATA!O167","v":"CZ00000005251952"},{"$f":"DATA!P167","v":"0000000000000000"}]
[{"$f":"DATA!C168","v":"CZ00000021289952"},{"$f":"DATA!D168","v":""},{"$f":"DATA!E168","v":""},{"$f":"DATA!H168","v":0},{"$f":"DATA!I168","v":0},{"$f":"DATA!J168","v":""},{"$f":"DATA!K168","v":""},{"$f":"DATA!L168","v":"Fem"},{"$f":"DATA!M168","v":""},{"$f":"DATA!N168","v":31},{"$f":"DATA!O168","v":"CZ00000021279952"},{"$f":"DATA!P168","v":"0000000000000000"}]
[{"$f":"DATA!C169","v":"CZ00000021298952"},{"$f":"DATA!D169","v":""},{"$f":"DATA!E169","v":""},{"$f":"DATA!H169","v":0},{"$f":"DATA!I169","v":0},{"$f":"DATA!J169","v":""},{"$f":"DATA!K169","v":""},{"$f":"DATA!L169","v":"Fem"},{"$f":"DATA!M169","v":""},{"$f":"DATA!N169","v":0},{"$f":"DATA!O169","v":"CZ00000003115505"},{"$f":"DATA!P169","v":"0000000000000000"}]
[{"$f":"DATA!C170","v":"CZ00000021299952"},{"$f":"DATA!D170","v":""},{"$f":"DATA!E170","v":""},{"$f":"DATA!H170","v":0},{"$f":"DATA!I170","v":0},{"$f":"DATA!J170","v":""},{"$f":"DATA!K170","v":""},{"$f":"DATA!L170","v":""},{"$f":"DATA!M170","v":""},{"$f":"DATA!N170","v":0},{"$f":"DATA!O170","v":"CZ00000003115505"},{"$f":"DATA!P170","v":"CZ00000006700052"}]
[{"$f":"DATA!C171","v":"CZ00000021738052"},{"$f":"DATA!D171","v":""},{"$f":"DATA!E171","v":""},{"$f":"DATA!H171","v":0},{"$f":"DATA!I171","v":0},{"$f":"DATA!J171","v":""},{"$f":"DATA!K171","v":""},{"$f":"DATA!L171","v":""},{"$f":"DATA!M171","v":""},{"$f":"DATA!N171","v":27},{"$f":"DATA!O171","v":"FR00000000990113"},{"$f":"DATA!P171","v":"CZ00000006233052"}]
[{"$f":"DATA!C172","v":"CZ00000021749052"},{"$f":"DATA!D172","v":""},{"$f":"DATA!E172","v":""},{"$f":"DATA!H172","v":0},{"$f":"DATA!I172","v":0},{"$f":"DATA!J172","v":""},{"$f":"DATA!K172","v":""},{"$f":"DATA!L172","v":""},{"$f":"DATA!M172","v":""},{"$f":"DATA!N172","v":26},{"$f":"DATA!O172","v":"CZ00000005246952"},{"$f":"DATA!P172","v":"CZ00000006232052"}]
[{"$f":"DATA!C173","v":"CZ00000021753052"},{"$f":"DATA!D173","v":""},{"$f":"DATA!E173","v":""},{"$f":"DATA!H173","v":0},{"$f":"DATA!I173","v":0},{"$f":"DATA!J173","v":""},{"$f":"DATA!K173","v":""},{"$f":"DATA!L173","v":""},{"$f":"DATA!M173","v":""},{"$f":"DATA!N173","v":28},{"$f":"DATA!O173","v":"CZ00000005251952"},{"$f":"DATA!P173","v":"CZ00000006232052"}]
[{"$f":"DATA!C174","v":"CZ00000021754052"},{"$f":"DATA!D174","v":""},{"$f":"DATA!E174","v":""},{"$f":"DATA!H174","v":0},{"$f":"DATA!I174","v":0},{"$f":"DATA!J174","v":""},{"$f":"DATA!K174","v":""},{"$f":"DATA!L174","v":""},{"$f":"DATA!M174","v":""},{"$f":"DATA!N174","v":28},{"$f":"DATA!O174","v":"CZ00000003115505"},{"$f":"DATA!P174","v":"CZ00000006232052"}]
[{"$f":"DATA!C175","v":"CZ00000022722053"},{"$f":"DATA!D175","v":""},{"$f":"DATA!E175","v":""},{"$f":"DATA!H175","v":0},{"$f":"DATA!I175","v":0},{"$f":"DATA!J175","v":""},{"$f":"DATA!K175","v":""},{"$f":"DATA!L175","v":""},{"$f":"DATA!M175","v":""},{"$f":"DATA!N175","v":34},{"$f":"DATA!O175","v":"CZ00000021253952"},{"$f":"DATA!P175","v":"CZ00000004186052"}]
[{"$f":"DATA!C176","v":"CZ00000022800053"},{"$f":"DATA!D176","v":""},{"$f":"DATA!E176","v":""},{"$f":"DATA!H176","v":0},{"$f":"DATA!I176","v":0},{"$f":"DATA!J176","v":""},{"$f":"DATA!K176","v":""},{"$f":"DATA!L176","v":""},{"$f":"DATA!M176","v":""},{"$f":"DATA!N176","v":37},{"$f":"DATA!O176","v":"NL00262826040000"},{"$f":"DATA!P176","v":"NL00202181200360"}]
[{"$f":"DATA!C177","v":"CZ00000023333953"},{"$f":"DATA!D177","v":""},{"$f":"DATA!E177","v":""},{"$f":"DATA!H177","v":0},{"$f":"DATA!I177","v":0},{"$f":"DATA!J177","v":""},{"$f":"DATA!K177","v":""},{"$f":"DATA!L177","v":"Fem"},{"$f":"DATA!M177","v":""},{"$f":"DATA!N177","v":0},{"$f":"DATA!O177","v":""},{"$f":"DATA!P177","v":""}]
[{"$f":"DATA!C178","v":"CZ00000025217952"},{"$f":"DATA!D178","v":""},{"$f":"DATA!E178","v":""},{"$f":"DATA!H178","v":0},{"$f":"DATA!I178","v":0},{"$f":"DATA!J178","v":""},{"$f":"DATA!K178","v":""},{"$f":"DATA!L178","v":""},{"$f":"DATA!M178","v":""},{"$f":"DATA!N178","v":29},{"$f":"DATA!O178","v":"CZ00000003114505"},{"$f":"DATA!P178","v":"0000000000000000"}]
[{"$f":"DATA!C179","v":"CZ00000025222952"},{"$f":"DATA!D179","v":""},{"$f":"DATA!E179","v":""},{"$f":"DATA!H179","v":0},{"$f":"DATA!I179","v":0},{"$f":"DATA!J179","v":""},{"$f":"DATA!K179","v":""},{"$f":"DATA!L179","v":""},{"$f":"DATA!M179","v":""},{"$f":"DATA!N179","v":29},{"$f":"DATA!O179","v":"CZ00000021280952"},{"$f":"DATA!P179","v":"0000000000000000"}]
[{"$f":"DATA!C180","v":"CZ00000025228952"},{"$f":"DATA!D180","v":""},{"$f":"DATA!E180","v":""},{"$f":"DATA!H180","v":0},{"$f":"DATA!I180","v":0},{"$f":"DATA!J180","v":""},{"$f":"DATA!K180","v":""},{"$f":"DATA!L180","v":"Fem"},{"$f":"DATA!M180","v":""},{"$f":"DATA!N180","v":33},{"$f":"DATA!O180","v":"CZ00000005251952"},{"$f":"DATA!P180","v":"0000000000000000"}]
[{"$f":"DATA!C181","v":"CZ00000025231952"},{"$f":"DATA!D181","v":""},{"$f":"DATA!E181","v":""},{"$f":"DATA!H181","v":0},{"$f":"DATA!I181","v":0},{"$f":"DATA!J181","v":""},{"$f":"DATA!K181","v":""},{"$f":"DATA!L181","v":"Fem"},{"$f":"DATA!M181","v":""},{"$f":"DATA!N181","v":28},{"$f":"DATA!O181","v":"CZ00000005246952"},{"$f":"DATA!P181","v":"0000000000000000"}]
[{"$f":"DATA!C182","v":"CZ00000025246952"},{"$f":"DATA!D182","v":""},{"$f":"DATA!E182","v":""},{"$f":"DATA!H182","v":0},{"$f":"DATA!I182","v":0},{"$f":"DATA!J182","v":""},{"$f":"DATA!K182","v":""},{"$f":"DATA!L182","v":"Fem"},{"$f":"DATA!M182","v":""},{"$f":"DATA!N182","v":25},{"$f":"DATA!O182","v":"CZ00000005246952"},{"$f":"DATA!P182","v":"CZ00000006232052"}]
[{"$f":"DATA!C183","v":"CZ00000025255952"},{"$f":"DATA!D183","v":""},{"$f":"DATA!E183","v":""},{"$f":"DATA!H183","v":0},{"$f":"DATA!I183","v":0},{"$f":"DATA!J183","v":""},{"$f":"DATA!K183","v":""},{"$f":"DATA!L183","v":""},{"$f":"DATA!M183","v":""},{"$f":"DATA!N183","v":26},{"$f":"DATA!O183","v":"CZ00000025228952"},{"$f":"DATA!P183","v":"CZ00000006233052"}]
[{"$f":"DATA!C184","v":"CZ00000025259952"},{"$f":"DATA!D184","v":""},{"$f":"DATA!E184","v":""},{"$f":"DATA!H184","v":0},{"$f":"DATA!I184","v":0},{"$f":"DATA!J184","v":""},{"$f":"DATA!K184","v":""},{"$f":"DATA!L184","v":"Fem"},{"$f":"DATA!M184","v":""},{"$f":"DATA!N184","v":27},{"$f":"DATA!O184","v":"CZ00000003115505"},{"$f":"DATA!P184","v":"CZ00000006232052"}]
[{"$f":"DATA!C185","v":"CZ00000025261952"},{"$f":"DATA!D185","v":""},{"$f":"DATA!E185","v":""},{"$f":"DATA!H185","v":0},{"$f":"DATA!I185","v":0},{"$f":"DATA!J185","v":""},{"$f":"DATA!K185","v":""},{"$f":"DATA!L185","v":""},{"$f":"DATA!M185","v":""},{"$f":"DATA!N185","v":26},{"$f":"DATA!O185","v":"CZ00000025231952"},{"$f":"DATA!P185","v":"CZ00000006233052"}]
[{"$f":"DATA!C186","v":"CZ00000026104953"},{"$f":"DATA!D186","v":""},{"$f":"DATA!E186","v":""},{"$f":"DATA!H186","v":0},{"$f":"DATA!I186","v":0},{"$f":"DATA!J186","v":""},{"$f":"DATA!K186","v":""},{"$f":"DATA!L186","v":"Fem"},{"$f":"DATA!M186","v":""},{"$f":"DATA!N186","v":0},{"$f":"DATA!O186","v":""},{"$f":"DATA!P186","v":""}]
[{"$f":"DATA!C187","v":"CZ00000026150953"},{"$f":"DATA!D187","v":""},{"$f":"DATA!E187","v":""},{"$f":"DATA!H187","v":0},{"$f":"DATA!I187","v":0},{"$f":"DATA!J187","v":""},{"$f":"DATA!K187","v":""},{"$f":"DATA!L187","v":"Fem"},{"$f":"DATA!M187","v":""},{"$f":"DATA!N187","v":30},{"$f":"DATA!O187","v":"CZ00000021253952"},{"$f":"DATA!P187","v":"NL00202181200391"}]
[{"$f":"DATA!C188","v":"CZ00000026151953"},{"$f":"DATA!D188","v":""},{"$f":"DATA!E188","v":""},{"$f":"DATA!H188","v":0},{"$f":"DATA!I188","v":0},{"$f":"DATA!J188","v":""},{"$f":"DATA!K188","v":""},{"$f":"DATA!L188","v":""},{"$f":"DATA!M188","v":""},{"$f":"DATA!N188","v":29},{"$f":"DATA!O188","v":"NL00262826036000"},{"$f":"DATA!P188","v":"NL00202181200360"}]
[{"$f":"DATA!C189","v":"CZ00000026155953"},{"$f":"DATA!D189","v":""},{"$f":"DATA!E189","v":""},{"$f":"DATA!H189","v":0},{"$f":"DATA!I189","v":0},{"$f":"DATA!J189","v":""},{"$f":"DATA!K189","v":""},{"$f":"DATA!L189","v":"Fem"},{"$f":"DATA!M189","v":""},{"$f":"DATA!N189","v":30},{"$f":"DATA!O189","v":"NL00262826044000"},{"$f":"DATA!P189","v":"NL00202181200360"}]
[{"$f":"DATA!C190","v":"CZ00000026970053"},{"$f":"DATA!D190","v":""},{"$f":"DATA!E190","v":""},{"$f":"DATA!H190","v":0},{"$f":"DATA!I190","v":0},{"$f":"DATA!J190","v":""},{"$f":"DATA!K190","v":""},{"$f":"DATA!L190","v":""},{"$f":"DATA!M190","v":""},{"$f":"DATA!N190","v":30},{"$f":"DATA!O190","v":"CZ00000023333953"},{"$f":"DATA!P190","v":"NL00202181200391"}]
[{"$f":"DATA!C191","v":"CZ00000026998053"},{"$f":"DATA!D191","v":""},{"$f":"DATA!E191","v":""},{"$f":"DATA!H191","v":0},{"$f":"DATA!I191","v":0},{"$f":"DATA!J191","v":""},{"$f":"DATA!K191","v":""},{"$f":"DATA!L191","v":""},{"$f":"DATA!M191","v":""},{"$f":"DATA!N191","v":29},{"$f":"DATA!O191","v":"CZ00000023333953"},{"$f":"DATA!P191","v":"NL00202181200391"}]
[{"$f":"DATA!C192","v":"CZ00000027649052"},{"$f":"DATA!D192","v":""},{"$f":"DATA!E192","v":""},{"$f":"DATA!H192","v":0},{"$f":"DATA!I192","v":0},{"$f":"DATA!J192","v":""},{"$f":"DATA!K192","v":""},{"$f":"DATA!L192","v":""},{"$f":"DATA!M192","v":""},{"$f":"DATA!N192","v":0},{"$f":"DATA!O192","v":"CZ00000003114505"},{"$f":"DATA!P192","v":"CZ00000006233052"}]
[{"$f":"DATA!C193","v":"CZ00000027653052"},{"$f":"DATA!D193","v":""},{"$f":"DATA!E193","v":""},{"$f":"DATA!H193","v":0},{"$f":"DATA!I193","v":0},{"$f":"DATA!J193","v":""},{"$f":"DATA!K193","v":""},{"$f":"DATA!L193","v":""},{"$f":"DATA!M193","v":""},{"$f":"DATA!N193","v":30},{"$f":"DATA!O193","v":"CZ00000003558952"},{"$f":"DATA!P193","v":"CZ00000006233052"}]
[{"$f":"DATA!C194","v":"CZ00000027678052"},{"$f":"DATA!D194","v":""},{"$f":"DATA!E194","v":""},{"$f":"DATA!H194","v":0},{"$f":"DATA!I194","v":0},{"$f":"DATA!J194","v":""},{"$f":"DATA!K194","v":""},{"$f":"DATA!L194","v":""},{"$f":"DATA!M194","v":""},{"$f":"DATA!N194","v":27},{"$f":"DATA!O194","v":"CZ00000025231952"},{"$f":"DATA!P194","v":"CZ00000006232052"}]
[{"$f":"DATA!C195","v":"CZ00000027684052"},{"$f":"DATA!D195","v":""},{"$f":"DATA!E195","v":""},{"$f":"DATA!H195","v":0},{"$f":"DATA!I195","v":0},{"$f":"DATA!J195","v":""},{"$f":"DATA!K195","v":""},{"$f":"DATA!L195","v":""},{"$f":"DATA!M195","v":""},{"$f":"DATA!N195","v":41},{"$f":"DATA!O195","v":"CZ00000021279952"},{"$f":"DATA!P195","v":"CZ00000006232052"}]
[{"$f":"DATA!C196","v":"CZ00000027685052"},{"$f":"DATA!D196","v":""},{"$f":"DATA!E196","v":""},{"$f":"DATA!H196","v":0},{"$f":"DATA!I196","v":1},{"$f":"DATA!J196","v":""},{"$f":"DATA!K196","v":""},{"$f":"DATA!L196","v":""},{"$f":"DATA!M196","v":""},{"$f":"DATA!N196","v":47},{"$f":"DATA!O196","v":"5053431140087020"},{"$f":"DATA!P196","v":"CZ00000006232052"}]
[{"$f":"DATA!C197","v":"CZ00000027687052"},{"$f":"DATA!D197","v":""},{"$f":"DATA!E197","v":""},{"$f":"DATA!H197","v":0},{"$f":"DATA!I197","v":0},{"$f":"DATA!J197","v":""},{"$f":"DATA!K197","v":""},{"$f":"DATA!L197","v":""},{"$f":"DATA!M197","v":""},{"$f":"DATA!N197","v":24},{"$f":"DATA!O197","v":"FR00000000970035"},{"$f":"DATA!P197","v":"CZ00000006232052"}]
[{"$f":"DATA!C198","v":"CZ00000027688052"},{"$f":"DATA!D198","v":""},{"$f":"DATA!E198","v":""},{"$f":"DATA!H198","v":0},{"$f":"DATA!I198","v":0},{"$f":"DATA!J198","v":""},{"$f":"DATA!K198","v":""},{"$f":"DATA!L198","v":""},{"$f":"DATA!M198","v":""},{"$f":"DATA!N198","v":0},{"$f":"DATA!O198","v":"CZ00000025228952"},{"$f":"DATA!P198","v":"CZ00000006232052"}]
[{"$f":"DATA!C199","v":"CZ00000027690052"},{"$f":"DATA!D199","v":""},{"$f":"DATA!E199","v":""},{"$f":"DATA!H199","v":0},{"$f":"DATA!I199","v":0},{"$f":"DATA!J199","v":""},{"$f":"DATA!K199","v":""},{"$f":"DATA!L199","v":""},{"$f":"DATA!M199","v":""},{"$f":"DATA!N199","v":32},{"$f":"DATA!O199","v":"CZ00000021298952"},{"$f":"DATA!P199","v":"CZ00000006232052"}]
[{"$f":"DATA!C200","v":"CZ00000027693052"},{"$f":"DATA!D200","v":""},{"$f":"DATA!E200","v":""},{"$f":"DATA!H200","v":0},{"$f":"DATA!I200","v":0},{"$f":"DATA!J200","v":""},{"$f":"DATA!K200","v":""},{"$f":"DATA!L200","v":""},{"$f":"DATA!M200","v":""},{"$f":"DATA!N200","v":36},{"$f":"DATA!O200","v":"CZ00000025259952"},{"$f":"DATA!P200","v":"CZ00000006233052"}]
[{"$f":"DATA!C201","v":"CZ00000027700052"},{"$f":"DATA!D201","v":""},{"$f":"DATA!E201","v":""},{"$f":"DATA!H201","v":0},{"$f":"DATA!I201","v":0},{"$f":"DATA!J201","v":""},{"$f":"DATA!K201","v":""},{"$f":"DATA!L201","v":""},{"$f":"DATA!M201","v":""},{"$f":"DATA!N201","v":24},{"$f":"DATA!O201","v":"FR00000000970035"},{"$f":"DATA!P201","v":"CZ00000006232052"}]
[{"$f":"DATA!C202","v":"CZ00000030998953"},{"$f":"DATA!D202","v":""},{"$f":"DATA!E202","v":""},{"$f":"DATA!H202","v":0},{"$f":"DATA!I202","v":0},{"$f":"DATA!J202","v":""},{"$f":"DATA!K202","v":""},{"$f":"DATA!L202","v":""},{"$f":"DATA!M202","v":""},{"$f":"DATA!N202","v":28},{"$f":"DATA!O202","v":"CZ00000023333953"},{"$f":"DATA!P202","v":"NL00202181200391"}]
[{"$f":"DATA!C203","v":"CZ00000031765952"},{"$f":"DATA!D203","v":""},{"$f":"DATA!E203","v":""},{"$f":"DATA!H203","v":0},{"$f":"DATA!I203","v":0},{"$f":"DATA!J203","v":""},{"$f":"DATA!K203","v":""},{"$f":"DATA!L203","v":"Fem"},{"$f":"DATA!M203","v":""},{"$f":"DATA!N203","v":0},{"$f":"DATA!O203","v":"CZ00000021285952"},{"$f":"DATA!P203","v":"CZ00000006233052"}]
[{"$f":"DATA!C204","v":"CZ00000031766952"},{"$f":"DATA!D204","v":""},{"$f":"DATA!E204","v":""},{"$f":"DATA!H204","v":0},{"$f":"DATA!I204","v":0},{"$f":"DATA!J204","v":""},{"$f":"DATA!K204","v":""},{"$f":"DATA!L204","v":"Fem"},{"$f":"DATA!M204","v":""},{"$f":"DATA!N204","v":0},{"$f":"DATA!O204","v":"CZ00000021279952"},{"$f":"DATA!P204","v":"CZ00000006233052"}]
[{"$f":"DATA!C205","v":"CZ00000031767952"},{"$f":"DATA!D205","v":""},{"$f":"DATA!E205","v":""},{"$f":"DATA!H205","v":0},{"$f":"DATA!I205","v":0},{"$f":"DATA!J205","v":""},{"$f":"DATA!K205","v":""},{"$f":"DATA!L205","v":""},{"$f":"DATA!M205","v":""},{"$f":"DATA!N205","v":26},{"$f":"DATA!O205","v":"CZ00000021289952"},{"$f":"DATA!P205","v":"CZ00000006233052"}]
[{"$f":"DATA!C206","v":"CZ00000031774952"},{"$f":"DATA!D206","v":""},{"$f":"DATA!E206","v":""},{"$f":"DATA!H206","v":0},{"$f":"DATA!I206","v":0},{"$f":"DATA!J206","v":""},{"$f":"DATA!K206","v":""},{"$f":"DATA!L206","v":""},{"$f":"DATA!M206","v":""},{"$f":"DATA!N206","v":31},{"$f":"DATA!O206","v":"CZ00000003558952"},{"$f":"DATA!P206","v":"CZ00000006233052"}]
[{"$f":"DATA!C207","v":"CZ00000031777952"},{"$f":"DATA!D207","v":""},{"$f":"DATA!E207","v":""},{"$f":"DATA!H207","v":0},{"$f":"DATA!I207","v":0},{"$f":"DATA!J207","v":""},{"$f":"DATA!K207","v":""},{"$f":"DATA!L207","v":"Fem"},{"$f":"DATA!M207","v":""},{"$f":"DATA!N207","v":0},{"$f":"DATA!O207","v":"CZ00000003113505"},{"$f":"DATA!P207","v":"CZ00000006233052"}]
[{"$f":"DATA!C208","v":"CZ00000031791952"},{"$f":"DATA!D208","v":""},{"$f":"DATA!E208","v":""},{"$f":"DATA!H208","v":0},{"$f":"DATA!I208","v":0},{"$f":"DATA!J208","v":""},{"$f":"DATA!K208","v":""},{"$f":"DATA!L208","v":"Fem"},{"$f":"DATA!M208","v":""},{"$f":"DATA!N208","v":0},{"$f":"DATA!O208","v":"FR00000000980011"},{"$f":"DATA!P208","v":"CZ00000006233052"}]
[{"$f":"DATA!C209","v":"CZ00000031798952"},{"$f":"DATA!D209","v":""},{"$f":"DATA!E209","v":""},{"$f":"DATA!H209","v":0},{"$f":"DATA!I209","v":0},{"$f":"DATA!J209","v":""},{"$f":"DATA!K209","v":""},{"$f":"DATA!L209","v":""},{"$f":"DATA!M209","v":""},{"$f":"DATA!N209","v":0},{"$f":"DATA!O209","v":"CZ00000021289952"},{"$f":"DATA!P209","v":"CZ00000006232052"}]
[{"$f":"DATA!C210","v":"CZ00000031809952"},{"$f":"DATA!D210","v":""},{"$f":"DATA!E210","v":""},{"$f":"DATA!H210","v":0},{"$f":"DATA!I210","v":0},{"$f":"DATA!J210","v":""},{"$f":"DATA!K210","v":""},{"$f":"DATA!L210","v":"Fem"},{"$f":"DATA!M210","v":""},{"$f":"DATA!N210","v":0},{"$f":"DATA!O210","v":"FR00000000990113"},{"$f":"DATA!P210","v":"CZ00000006232052"}]
[{"$f":"DATA!C211","v":"CZ00000031819952"},{"$f":"DATA!D211","v":""},{"$f":"DATA!E211","v":""},{"$f":"DATA!H211","v":0},{"$f":"DATA!I211","v":0},{"$f":"DATA!J211","v":""},{"$f":"DATA!K211","v":""},{"$f":"DATA!L211","v":"Fem"},{"$f":"DATA!M211","v":""},{"$f":"DATA!N211","v":0},{"$f":"DATA!O211","v":"CZ00000025231952"},{"$f":"DATA!P211","v":"CZ00000006232052"}]
[{"$f":"DATA!C212","v":"CZ00000031823952"},{"$f":"DATA!D212","v":""},{"$f":"DATA!E212","v":""},{"$f":"DATA!H212","v":0},{"$f":"DATA!I212","v":0},{"$f":"DATA!J212","v":""},{"$f":"DATA!K212","v":""},{"$f":"DATA!L212","v":"Fem"},{"$f":"DATA!M212","v":""},{"$f":"DATA!N212","v":0},{"$f":"DATA!O212","v":"CZ00000003115505"},{"$f":"DATA!P212","v":"5053462320052000"}]
[{"$f":"DATA!C213","v":"CZ00000031824952"},{"$f":"DATA!D213","v":""},{"$f":"DATA!E213","v":""},{"$f":"DATA!H213","v":0},{"$f":"DATA!I213","v":0},{"$f":"DATA!J213","v":""},{"$f":"DATA!K213","v":""},{"$f":"DATA!L213","v":"Fem"},{"$f":"DATA!M213","v":""},{"$f":"DATA!N213","v":27},{"$f":"DATA!O213","v":"CZ00000003113505"},{"$f":"DATA!P213","v":"CZ00000006232052"}]
[{"$f":"DATA!C214","v":"CZ00000031825952"},{"$f":"DATA!D214","v":""},{"$f":"DATA!E214","v":""},{"$f":"DATA!H214","v":0},{"$f":"DATA!I214","v":0},{"$f":"DATA!J214","v":""},{"$f":"DATA!K214","v":""},{"$f":"DATA!L214","v":"Fem"},{"$f":"DATA!M214","v":""},{"$f":"DATA!N214","v":28},{"$f":"DATA!O214","v":"CZ00000003113505"},{"$f":"DATA!P214","v":"CZ00000006232052"}]
[{"$f":"DATA!C215","v":"CZ00000031831952"},{"$f":"DATA!D215","v":""},{"$f":"DATA!E215","v":""},{"$f":"DATA!H215","v":0},{"$f":"DATA!I215","v":0},{"$f":"DATA!J215","v":""},{"$f":"DATA!K215","v":""},{"$f":"DATA!L215","v":""},{"$f":"DATA!M215","v":""},{"$f":"DATA!N215","v":0},{"$f":"DATA!O215","v":"CZ00000021279952"},{"$f":"DATA!P215","v":"CZ00000006232052"}]
[{"$f":"DATA!C216","v":"CZ00000031836952"},{"$f":"DATA!D216","v":""},{"$f":"DATA!E216","v":""},{"$f":"DATA!H216","v":0},{"$f":"DATA!I216","v":0},{"$f":"DATA!J216","v":""},{"$f":"DATA!K216","v":""},{"$f":"DATA!L216","v":""},{"$f":"DATA!M216","v":""},{"$f":"DATA!N216","v":0},{"$f":"DATA!O216","v":"CZ00000025246952"},{"$f":"DATA!P216","v":"CZ00000006232052"}]
[{"$f":"DATA!C217","v":"CZ00000031837952"},{"$f":"DATA!D217","v":""},{"$f":"DATA!E217","v":""},{"$f":"DATA!H217","v":0},{"$f":"DATA!I217","v":0},{"$f":"DATA!J217","v":""},{"$f":"DATA!K217","v":""},{"$f":"DATA!L217","v":"Fem"},{"$f":"DATA!M217","v":""},{"$f":"DATA!N217","v":0},{"$f":"DATA!O217","v":"CZ00000025246952"},{"$f":"DATA!P217","v":"5053462320052000"}]
[{"$f":"DATA!C218","v":"CZ00000031841952"},{"$f":"DATA!D218","v":""},{"$f":"DATA!E218","v":""},{"$f":"DATA!H218","v":0},{"$f":"DATA!I218","v":0},{"$f":"DATA!J218","v":""},{"$f":"DATA!K218","v":""},{"$f":"DATA!L218","v":"Fem"},{"$f":"DATA!M218","v":""},{"$f":"DATA!N218","v":0},{"$f":"DATA!O218","v":"CZ00000021298952"},{"$f":"DATA!P218","v":"CZ00000006232052"}]
[{"$f":"DATA!C219","v":"CZ00000031846952"},{"$f":"DATA!D219","v":""},{"$f":"DATA!E219","v":""},{"$f":"DATA!H219","v":0},{"$f":"DATA!I219","v":0},{"$f":"DATA!J219","v":""},{"$f":"DATA!K219","v":""},{"$f":"DATA!L219","v":"Fem"},{"$f":"DATA!M219","v":""},{"$f":"DATA!N219","v":0},{"$f":"DATA!O219","v":"CZ00000031765952"},{"$f":"DATA!P219","v":"CZ00000006232052"}]
[{"$f":"DATA!C220","v":"CZ00000031848952"},{"$f":"DATA!D220","v":""},{"$f":"DATA!E220","v":""},{"$f":"DATA!H220","v":0},{"$f":"DATA!I220","v":0},{"$f":"DATA!J220","v":""},{"$f":"DATA!K220","v":""},{"$f":"DATA!L220","v":"Fem"},{"$f":"DATA!M220","v":""},{"$f":"DATA!N220","v":0},{"$f":"DATA!O220","v":"CZ00000031765952"},{"$f":"DATA!P220","v":"CZ00000006232052"}]
[{"$f":"DATA!C221","v":"CZ00000033522932"},{"$f":"DATA!D221","v":""},{"$f":"DATA!E221","v":""},{"$f":"DATA!H221","v":0},{"$f":"DATA!I221","v":0},{"$f":"DATA!J221","v":""},{"$f":"DATA!K221","v":""},{"$f":"DATA!L221","v":"Fem"},{"$f":"DATA!M221","v":""},{"$f":"DATA!N221","v":0},{"$f":"DATA!O221","v":""},{"$f":"DATA!P221","v":""}]
[{"$f":"DATA!C222","v":"CZ00000033528932"},{"$f":"DATA!D222","v":""},{"$f":"DATA!E222","v":""},{"$f":"DATA!H222","v":0},{"$f":"DATA!I222","v":0},{"$f":"DATA!J222","v":""},{"$f":"DATA!K222","v":""},{"$f":"DATA!L222","v":"Fem"},{"$f":"DATA!M222","v":""},{"$f":"DATA!N222","v":0},{"$f":"DATA!O222","v":""},{"$f":"DATA!P222","v":""}]
[{"$f":"DATA!C223","v":"CZ00000033530932"},{"$f":"DATA!D223","v":""},{"$f":"DATA!E223","v":""},{"$f":"DATA!H223","v":0},{"$f":"DATA!I223","v":0},{"$f":"DATA!J223","v":""},{"$f":"DATA!K223","v":""},{"$f":"DATA!L223","v":"Fem"},{"$f":"DATA!M223","v":""},{"$f":"DATA!N223","v":0},{"$f":"DATA!O223","v":""},{"$f":"DATA!P223","v":""}]
[{"$f":"DATA!C224","v":"CZ00000033531932"},{"$f":"DATA!D224","v":""},{"$f":"DATA!E224","v":""},{"$f":"DATA!H224","v":0},{"$f":"DATA!I224","v":0},{"$f":"DATA!J224","v":""},{"$f":"DATA!K224","v":""},{"$f":"DATA!L224","v":"Fem"},{"$f":"DATA!M224","v":""},{"$f":"DATA!N224","v":0},{"$f":"DATA!O224","v":""},{"$f":"DATA!P224","v":""}]
[{"$f":"DATA!C225","v":"CZ00000033532932"},{"$f":"DATA!D225","v":""},{"$f":"DATA!E225","v":""},{"$f":"DATA!H225","v":0},{"$f":"DATA!I225","v":0},{"$f":"DATA!J225","v":""},{"$f":"DATA!K225","v":""},{"$f":"DATA!L225","v":"Fem"},{"$f":"DATA!M225","v":""},{"$f":"DATA!N225","v":0},{"$f":"DATA!O225","v":""},{"$f":"DATA!P225","v":""}]
[{"$f":"DATA!C226","v":"CZ00000033533932"},{"$f":"DATA!D226","v":""},{"$f":"DATA!E226","v":""},{"$f":"DATA!H226","v":0},{"$f":"DATA!I226","v":0},{"$f":"DATA!J226","v":""},{"$f":"DATA!K226","v":""},{"$f":"DATA!L226","v":"Fem"},{"$f":"DATA!M226","v":""},{"$f":"DATA!N226","v":0},{"$f":"DATA!O226","v":""},{"$f":"DATA!P226","v":""}]
[{"$f":"DATA!C227","v":"CZ00000033535932"},{"$f":"DATA!D227","v":""},{"$f":"DATA!E227","v":""},{"$f":"DATA!H227","v":0},{"$f":"DATA!I227","v":0},{"$f":"DATA!J227","v":""},{"$f":"DATA!K227","v":""},{"$f":"DATA!L227","v":"Fem"},{"$f":"DATA!M227","v":""},{"$f":"DATA!N227","v":0},{"$f":"DATA!O227","v":""},{"$f":"DATA!P227","v":""}]
[{"$f":"DATA!C228","v":"CZ00000033536932"},{"$f":"DATA!D228","v":""},{"$f":"DATA!E228","v":""},{"$f":"DATA!H228","v":0},{"$f":"DATA!I228","v":0},{"$f":"DATA!J228","v":""},{"$f":"DATA!K228","v":""},{"$f":"DATA!L228","v":"Fem"},{"$f":"DATA!M228","v":""},{"$f":"DATA!N228","v":0},{"$f":"DATA!O228","v":""},{"$f":"DATA!P228","v":""}]
[{"$f":"DATA!C229","v":"CZ00000033538932"},{"$f":"DATA!D229","v":""},{"$f":"DATA!E229","v":""},{"$f":"DATA!H229","v":0},{"$f":"DATA!I229","v":0},{"$f":"DATA!J229","v":""},{"$f":"DATA!K229","v":""},{"$f":"DATA!L229","v":"Fem"},{"$f":"DATA!M229","v":""},{"$f":"DATA!N229","v":0},{"$f":"DATA!O229","v":""},{"$f":"DATA!P229","v":""}]
[{"$f":"DATA!C230","v":"CZ00000033542932"},{"$f":"DATA!D230","v":""},{"$f":"DATA!E230","v":""},{"$f":"DATA!H230","v":0},{"$f":"DATA!I230","v":0},{"$f":"DATA!J230","v":""},{"$f":"DATA!K230","v":""},{"$f":"DATA!L230","v":"Fem"},{"$f":"DATA!M230","v":""},{"$f":"DATA!N230","v":0},{"$f":"DATA!O230","v":""},{"$f":"DATA!P230","v":""}]
[{"$f":"DATA!C231","v":"CZ00000033756061"},{"$f":"DATA!D231","v":""},{"$f":"DATA!E231","v":""},{"$f":"DATA!H231","v":0},{"$f":"DATA!I231","v":0},{"$f":"DATA!J231","v":""},{"$f":"DATA!K231","v":""},{"$f":"DATA!L231","v":""},{"$f":"DATA!M231","v":""},{"$f":"DATA!N231","v":28},{"$f":"DATA!O231","v":"CZ00000031766952"},{"$f":"DATA!P231","v":"CZ00000033819053"}]
[{"$f":"DATA!C232","v":"CZ00000033757061"},{"$f":"DATA!D232","v":""},{"$f":"DATA!E232","v":""},{"$f":"DATA!H232","v":0},{"$f":"DATA!I232","v":0},{"$f":"DATA!J232","v":""},{"$f":"DATA!K232","v":""},{"$f":"DATA!L232","v":""},{"$f":"DATA!M232","v":""},{"$f":"DATA!N232","v":32},{"$f":"DATA!O232","v":"CZ00000031766952"},{"$f":"DATA!P232","v":"CZ00000033819053"}]
[{"$f":"DATA!C233","v":"CZ00000033758061"},{"$f":"DATA!D233","v":""},{"$f":"DATA!E233","v":""},{"$f":"DATA!H233","v":0},{"$f":"DATA!I233","v":0},{"$f":"DATA!J233","v":""},{"$f":"DATA!K233","v":""},{"$f":"DATA!L233","v":""},{"$f":"DATA!M233","v":""},{"$f":"DATA!N233","v":36},{"$f":"DATA!O233","v":"CZ00000031846952"},{"$f":"DATA!P233","v":"CZ00000033819053"}]
[{"$f":"DATA!C234","v":"CZ00000033759061"},{"$f":"DATA!D234","v":""},{"$f":"DATA!E234","v":""},{"$f":"DATA!H234","v":0},{"$f":"DATA!I234","v":0},{"$f":"DATA!J234","v":""},{"$f":"DATA!K234","v":""},{"$f":"DATA!L234","v":""},{"$f":"DATA!M234","v":""},{"$f":"DATA!N234","v":21},{"$f":"DATA!O234","v":"CZ00000031846952"},{"$f":"DATA!P234","v":"NL00202181200360"}]
[{"$f":"DATA!C235","v":"CZ00000033800053"},{"$f":"DATA!D235","v":"GER-0002"},{"$f":"DATA!E235","v":"GERALD"},{"$f":"DATA!H235","v":39488},{"$f":"DATA!I235","v":1},{"$f":"DATA!J235","v":""},{"$f":"DATA!K235","v":"EA"},{"$f":"DATA!L235","v":"Mal"},{"$f":"DATA!M235","v":"ARR/AHQ"},{"$f":"DATA!N235","v":37},{"$f":"DATA!O235","v":"CZ00000021253952"},{"$f":"DATA!P235","v":"NL00202181200391"}]
[{"$f":"DATA!C236","v":"CZ00000033803053"},{"$f":"DATA!D236","v":""},{"$f":"DATA!E236","v":""},{"$f":"DATA!H236","v":0},{"$f":"DATA!I236","v":0},{"$f":"DATA!J236","v":""},{"$f":"DATA!K236","v":""},{"$f":"DATA!L236","v":""},{"$f":"DATA!M236","v":""},{"$f":"DATA!N236","v":20},{"$f":"DATA!O236","v":"CZ00000026104953"},{"$f":"DATA!P236","v":"NL00202181200391"}]
[{"$f":"DATA!C237","v":"CZ00000033819053"},{"$f":"DATA!D237","v":"GER-0003"},{"$f":"DATA!E237","v":"GERALD"},{"$f":"DATA!H237","v":39526},{"$f":"DATA!I237","v":0},{"$f":"DATA!J237","v":""},{"$f":"DATA!K237","v":"ER"},{"$f":"DATA!L237","v":"Mal"},{"$f":"DATA!M237","v":"ARR/ARR"},{"$f":"DATA!N237","v":32},{"$f":"DATA!O237","v":"NL00262826044000"},{"$f":"DATA!P237","v":"NL00202181200391"}]
[{"$f":"DATA!C238","v":"CZ00000033820053"},{"$f":"DATA!D238","v":""},{"$f":"DATA!E238","v":""},{"$f":"DATA!H238","v":0},{"$f":"DATA!I238","v":0},{"$f":"DATA!J238","v":""},{"$f":"DATA!K238","v":""},{"$f":"DATA!L238","v":""},{"$f":"DATA!M238","v":""},{"$f":"DATA!N238","v":29},{"$f":"DATA!O238","v":"NL00262826041000"},{"$f":"DATA!P238","v":"NL00202181200360"}]
[{"$f":"DATA!C239","v":"CZ00000035187052"},{"$f":"DATA!D239","v":"FRA-0005"},{"$f":"DATA!E239","v":"FRASER"},{"$f":"DATA!H239","v":39924},{"$f":"DATA!I239","v":0},{"$f":"DATA!J239","v":""},{"$f":"DATA!K239","v":"EA"},{"$f":"DATA!L239","v":"Mal"},{"$f":"DATA!M239","v":"ARR/AHQ"},{"$f":"DATA!N239","v":38},{"$f":"DATA!O239","v":"CZ00000031765952"},{"$f":"DATA!P239","v":"NL00202181200360"}]
[{"$f":"DATA!C240","v":"CZ00000035190052"},{"$f":"DATA!D240","v":""},{"$f":"DATA!E240","v":""},{"$f":"DATA!H240","v":0},{"$f":"DATA!I240","v":0},{"$f":"DATA!J240","v":""},{"$f":"DATA!K240","v":""},{"$f":"DATA!L240","v":""},{"$f":"DATA!M240","v":""},{"$f":"DATA!N240","v":28},{"$f":"DATA!O240","v":"CZ00000021298952"},{"$f":"DATA!P240","v":"NL00202181200360"}]
[{"$f":"DATA!C241","v":"CZ00000035193052"},{"$f":"DATA!D241","v":""},{"$f":"DATA!E241","v":""},{"$f":"DATA!H241","v":0},{"$f":"DATA!I241","v":0},{"$f":"DATA!J241","v":""},{"$f":"DATA!K241","v":""},{"$f":"DATA!L241","v":""},{"$f":"DATA!M241","v":""},{"$f":"DATA!N241","v":35},{"$f":"DATA!O241","v":"CZ00000005246952"},{"$f":"DATA!P241","v":"NL00202181200360"}]
[{"$f":"DATA!C242","v":"CZ00000035200052"},{"$f":"DATA!D242","v":""},{"$f":"DATA!E242","v":""},{"$f":"DATA!H242","v":0},{"$f":"DATA!I242","v":0},{"$f":"DATA!J242","v":""},{"$f":"DATA!K242","v":""},{"$f":"DATA!L242","v":""},{"$f":"DATA!M242","v":""},{"$f":"DATA!N242","v":30},{"$f":"DATA!O242","v":"CZ00000003114505"},{"$f":"DATA!P242","v":"NL00202181200360"}]
[{"$f":"DATA!C243","v":"CZ00000035208052"},{"$f":"DATA!D243","v":""},{"$f":"DATA!E243","v":""},{"$f":"DATA!H243","v":0},{"$f":"DATA!I243","v":0},{"$f":"DATA!J243","v":""},{"$f":"DATA!K243","v":""},{"$f":"DATA!L243","v":""},{"$f":"DATA!M243","v":""},{"$f":"DATA!N243","v":37},{"$f":"DATA!O243","v":"CZ00000031791952"},{"$f":"DATA!P243","v":"NL00202181200360"}]
[{"$f":"DATA!C244","v":"CZ00000035233052"},{"$f":"DATA!D244","v":""},{"$f":"DATA!E244","v":""},{"$f":"DATA!H244","v":0},{"$f":"DATA!I244","v":0},{"$f":"DATA!J244","v":""},{"$f":"DATA!K244","v":""},{"$f":"DATA!L244","v":""},{"$f":"DATA!M244","v":""},{"$f":"DATA!N244","v":30},{"$f":"DATA!O244","v":"CZ00000031777952"},{"$f":"DATA!P244","v":"CZ00000038506053"}]
[{"$f":"DATA!C245","v":"CZ00000035241052"},{"$f":"DATA!D245","v":""},{"$f":"DATA!E245","v":""},{"$f":"DATA!H245","v":0},{"$f":"DATA!I245","v":0},{"$f":"DATA!J245","v":""},{"$f":"DATA!K245","v":""},{"$f":"DATA!L245","v":""},{"$f":"DATA!M245","v":""},{"$f":"DATA!N245","v":30},{"$f":"DATA!O245","v":"CZ00000031791952"},{"$f":"DATA!P245","v":"CZ00000038506053"}]
[{"$f":"DATA!C246","v":"CZ00000038191953"},{"$f":"DATA!D246","v":""},{"$f":"DATA!E246","v":""},{"$f":"DATA!H246","v":0},{"$f":"DATA!I246","v":0},{"$f":"DATA!J246","v":""},{"$f":"DATA!K246","v":""},{"$f":"DATA!L246","v":""},{"$f":"DATA!M246","v":""},{"$f":"DATA!N246","v":0},{"$f":"DATA!O246","v":"CZ00000026104953"},{"$f":"DATA!P246","v":"NL00202181200391"}]
[{"$f":"DATA!C247","v":"CZ00000038208953"},{"$f":"DATA!D247","v":""},{"$f":"DATA!E247","v":""},{"$f":"DATA!H247","v":0},{"$f":"DATA!I247","v":0},{"$f":"DATA!J247","v":""},{"$f":"DATA!K247","v":""},{"$f":"DATA!L247","v":"Fem"},{"$f":"DATA!M247","v":""},{"$f":"DATA!N247","v":29},{"$f":"DATA!O247","v":"NL00262826044000"},{"$f":"DATA!P247","v":"NL00202181200391"}]
[{"$f":"DATA!C248","v":"CZ00000038209953"},{"$f":"DATA!D248","v":""},{"$f":"DATA!E248","v":""},{"$f":"DATA!H248","v":0},{"$f":"DATA!I248","v":0},{"$f":"DATA!J248","v":""},{"$f":"DATA!K248","v":""},{"$f":"DATA!L248","v":"Fem"},{"$f":"DATA!M248","v":""},{"$f":"DATA!N248","v":33},{"$f":"DATA!O248","v":"NL00262826040000"},{"$f":"DATA!P248","v":"NL00202181200391"}]
[{"$f":"DATA!C249","v":"CZ00000038210953"},{"$f":"DATA!D249","v":""},{"$f":"DATA!E249","v":""},{"$f":"DATA!H249","v":0},{"$f":"DATA!I249","v":0},{"$f":"DATA!J249","v":""},{"$f":"DATA!K249","v":""},{"$f":"DATA!L249","v":"Fem"},{"$f":"DATA!M249","v":""},{"$f":"DATA!N249","v":40},{"$f":"DATA!O249","v":"NL00262826041000"},{"$f":"DATA!P249","v":"NL00202181200360"}]
[{"$f":"DATA!C250","v":"CZ00000038211953"},{"$f":"DATA!D250","v":""},{"$f":"DATA!E250","v":""},{"$f":"DATA!H250","v":0},{"$f":"DATA!I250","v":0},{"$f":"DATA!J250","v":""},{"$f":"DATA!K250","v":""},{"$f":"DATA!L250","v":"Fem"},{"$f":"DATA!M250","v":""},{"$f":"DATA!N250","v":30},{"$f":"DATA!O250","v":"NL00262826043000"},{"$f":"DATA!P250","v":"NL00202181200360"}]
[{"$f":"DATA!C251","v":"CZ00000038212953"},{"$f":"DATA!D251","v":""},{"$f":"DATA!E251","v":""},{"$f":"DATA!H251","v":0},{"$f":"DATA!I251","v":0},{"$f":"DATA!J251","v":""},{"$f":"DATA!K251","v":""},{"$f":"DATA!L251","v":"Fem"},{"$f":"DATA!M251","v":""},{"$f":"DATA!N251","v":28},{"$f":"DATA!O251","v":"NL00262826043000"},{"$f":"DATA!P251","v":"NL00202181200360"}]
[{"$f":"DATA!C252","v":"CZ00000038213953"},{"$f":"DATA!D252","v":""},{"$f":"DATA!E252","v":""},{"$f":"DATA!H252","v":0},{"$f":"DATA!I252","v":0},{"$f":"DATA!J252","v":""},{"$f":"DATA!K252","v":""},{"$f":"DATA!L252","v":"Fem"},{"$f":"DATA!M252","v":""},{"$f":"DATA!N252","v":40},{"$f":"DATA!O252","v":"CZ00000026150953"},{"$f":"DATA!P252","v":"NL00202181200360"}]
[{"$f":"DATA!C253","v":"CZ00000038252953"},{"$f":"DATA!D253","v":""},{"$f":"DATA!E253","v":""},{"$f":"DATA!H253","v":0},{"$f":"DATA!I253","v":0},{"$f":"DATA!J253","v":""},{"$f":"DATA!K253","v":""},{"$f":"DATA!L253","v":"Fem"},{"$f":"DATA!M253","v":""},{"$f":"DATA!N253","v":27},{"$f":"DATA!O253","v":"CZ00000021253952"},{"$f":"DATA!P253","v":"NL00202181200391"}]
[{"$f":"DATA!C254","v":"CZ00000038270953"},{"$f":"DATA!D254","v":""},{"$f":"DATA!E254","v":""},{"$f":"DATA!H254","v":0},{"$f":"DATA!I254","v":0},{"$f":"DATA!J254","v":""},{"$f":"DATA!K254","v":""},{"$f":"DATA!L254","v":"Fem"},{"$f":"DATA!M254","v":""},{"$f":"DATA!N254","v":32},{"$f":"DATA!O254","v":"FR00000000990113"},{"$f":"DATA!P254","v":"NL00202181200391"}]
[{"$f":"DATA!C255","v":"CZ00000038280953"},{"$f":"DATA!D255","v":""},{"$f":"DATA!E255","v":""},{"$f":"DATA!H255","v":0},{"$f":"DATA!I255","v":0},{"$f":"DATA!J255","v":""},{"$f":"DATA!K255","v":""},{"$f":"DATA!L255","v":"Fem"},{"$f":"DATA!M255","v":""},{"$f":"DATA!N255","v":32},{"$f":"DATA!O255","v":"CZ00000026150953"},{"$f":"DATA!P255","v":"CZ00000006233052"}]
[{"$f":"DATA!C256","v":"CZ00000038281953"},{"$f":"DATA!D256","v":""},{"$f":"DATA!E256","v":""},{"$f":"DATA!H256","v":0},{"$f":"DATA!I256","v":0},{"$f":"DATA!J256","v":""},{"$f":"DATA!K256","v":""},{"$f":"DATA!L256","v":"Fem"},{"$f":"DATA!M256","v":""},{"$f":"DATA!N256","v":36},{"$f":"DATA!O256","v":"NL00262826036000"},{"$f":"DATA!P256","v":"NL00202181200360"}]
[{"$f":"DATA!C257","v":"CZ00000038282953"},{"$f":"DATA!D257","v":""},{"$f":"DATA!E257","v":""},{"$f":"DATA!H257","v":0},{"$f":"DATA!I257","v":0},{"$f":"DATA!J257","v":""},{"$f":"DATA!K257","v":""},{"$f":"DATA!L257","v":""},{"$f":"DATA!M257","v":""},{"$f":"DATA!N257","v":32},{"$f":"DATA!O257","v":"NL00262826040000"},{"$f":"DATA!P257","v":"CZ00000006233052"}]
[{"$f":"DATA!C258","v":"CZ00000038283953"},{"$f":"DATA!D258","v":""},{"$f":"DATA!E258","v":""},{"$f":"DATA!H258","v":0},{"$f":"DATA!I258","v":0},{"$f":"DATA!J258","v":""},{"$f":"DATA!K258","v":""},{"$f":"DATA!L258","v":"Fem"},{"$f":"DATA!M258","v":""},{"$f":"DATA!N258","v":30},{"$f":"DATA!O258","v":"NL00262826040000"},{"$f":"DATA!P258","v":"CZ00000006233052"}]
[{"$f":"DATA!C259","v":"CZ00000038459053"},{"$f":"DATA!D259","v":""},{"$f":"DATA!E259","v":""},{"$f":"DATA!H259","v":0},{"$f":"DATA!I259","v":0},{"$f":"DATA!J259","v":""},{"$f":"DATA!K259","v":""},{"$f":"DATA!L259","v":""},{"$f":"DATA!M259","v":""},{"$f":"DATA!N259","v":24},{"$f":"DATA!O259","v":"CZ00000031825952"},{"$f":"DATA!P259","v":"NL00202181200360"}]
[{"$f":"DATA!C260","v":"CZ00000038460053"},{"$f":"DATA!D260","v":""},{"$f":"DATA!E260","v":""},{"$f":"DATA!H260","v":0},{"$f":"DATA!I260","v":0},{"$f":"DATA!J260","v":""},{"$f":"DATA!K260","v":""},{"$f":"DATA!L260","v":""},{"$f":"DATA!M260","v":""},{"$f":"DATA!N260","v":27},{"$f":"DATA!O260","v":"CZ00000038212953"},{"$f":"DATA!P260","v":"CZ00000006233052"}]
[{"$f":"DATA!C261","v":"CZ00000038461053"},{"$f":"DATA!D261","v":""},{"$f":"DATA!E261","v":""},{"$f":"DATA!H261","v":0},{"$f":"DATA!I261","v":0},{"$f":"DATA!J261","v":""},{"$f":"DATA!K261","v":""},{"$f":"DATA!L261","v":""},{"$f":"DATA!M261","v":""},{"$f":"DATA!N261","v":41},{"$f":"DATA!O261","v":"FR00000000990113"},{"$f":"DATA!P261","v":"NL00202181200391"}]
[{"$f":"DATA!C262","v":"CZ00000038466053"},{"$f":"DATA!D262","v":""},{"$f":"DATA!E262","v":""},{"$f":"DATA!H262","v":0},{"$f":"DATA!I262","v":0},{"$f":"DATA!J262","v":""},{"$f":"DATA!K262","v":""},{"$f":"DATA!L262","v":""},{"$f":"DATA!M262","v":""},{"$f":"DATA!N262","v":30},{"$f":"DATA!O262","v":"CZ00000038209953"},{"$f":"DATA!P262","v":"CZ00000006233052"}]
[{"$f":"DATA!C263","v":"CZ00000038467053"},{"$f":"DATA!D263","v":""},{"$f":"DATA!E263","v":""},{"$f":"DATA!H263","v":0},{"$f":"DATA!I263","v":0},{"$f":"DATA!J263","v":""},{"$f":"DATA!K263","v":""},{"$f":"DATA!L263","v":""},{"$f":"DATA!M263","v":""},{"$f":"DATA!N263","v":27},{"$f":"DATA!O263","v":"CZ00000038209953"},{"$f":"DATA!P263","v":"CZ00000006233052"}]
[{"$f":"DATA!C264","v":"CZ00000038468053"},{"$f":"DATA!D264","v":""},{"$f":"DATA!E264","v":""},{"$f":"DATA!H264","v":0},{"$f":"DATA!I264","v":0},{"$f":"DATA!J264","v":""},{"$f":"DATA!K264","v":""},{"$f":"DATA!L264","v":""},{"$f":"DATA!M264","v":""},{"$f":"DATA!N264","v":28},{"$f":"DATA!O264","v":"NL00262826044000"},{"$f":"DATA!P264","v":"NL00202181200360"}]
[{"$f":"DATA!C265","v":"CZ00000038471053"},{"$f":"DATA!D265","v":""},{"$f":"DATA!E265","v":""},{"$f":"DATA!H265","v":0},{"$f":"DATA!I265","v":0},{"$f":"DATA!J265","v":""},{"$f":"DATA!K265","v":""},{"$f":"DATA!L265","v":""},{"$f":"DATA!M265","v":""},{"$f":"DATA!N265","v":19},{"$f":"DATA!O265","v":"CZ00000038208953"},{"$f":"DATA!P265","v":"CZ00000006233052"}]
[{"$f":"DATA!C266","v":"CZ00000038472053"},{"$f":"DATA!D266","v":""},{"$f":"DATA!E266","v":""},{"$f":"DATA!H266","v":0},{"$f":"DATA!I266","v":0},{"$f":"DATA!J266","v":""},{"$f":"DATA!K266","v":""},{"$f":"DATA!L266","v":""},{"$f":"DATA!M266","v":""},{"$f":"DATA!N266","v":29},{"$f":"DATA!O266","v":"CZ00000021253952"},{"$f":"DATA!P266","v":"NL00202181200391"}]
[{"$f":"DATA!C267","v":"CZ00000038473053"},{"$f":"DATA!D267","v":""},{"$f":"DATA!E267","v":""},{"$f":"DATA!H267","v":0},{"$f":"DATA!I267","v":0},{"$f":"DATA!J267","v":""},{"$f":"DATA!K267","v":""},{"$f":"DATA!L267","v":""},{"$f":"DATA!M267","v":""},{"$f":"DATA!N267","v":0},{"$f":"DATA!O267","v":"NL00262826036000"},{"$f":"DATA!P267","v":"NL00202181200360"}]
[{"$f":"DATA!C268","v":"CZ00000038494053"},{"$f":"DATA!D268","v":"GER-0005"},{"$f":"DATA!E268","v":"GERALD"},{"$f":"DATA!H268","v":39840},{"$f":"DATA!I268","v":0},{"$f":"DATA!J268","v":""},{"$f":"DATA!K268","v":"ER"},{"$f":"DATA!L268","v":""},{"$f":"DATA!M268","v":"ARR/ARR"},{"$f":"DATA!N268","v":29},{"$f":"DATA!O268","v":"CZ00000003113505"},{"$f":"DATA!P268","v":"NL00202181200391"}]
[{"$f":"DATA!C269","v":"CZ00000038495053"},{"$f":"DATA!D269","v":""},{"$f":"DATA!E269","v":""},{"$f":"DATA!H269","v":0},{"$f":"DATA!I269","v":0},{"$f":"DATA!J269","v":""},{"$f":"DATA!K269","v":""},{"$f":"DATA!L269","v":""},{"$f":"DATA!M269","v":""},{"$f":"DATA!N269","v":28},{"$f":"DATA!O269","v":"CZ00000003113505"},{"$f":"DATA!P269","v":"NL00202181200391"}]
[{"$f":"DATA!C270","v":"CZ00000038504053"},{"$f":"DATA!D270","v":""},{"$f":"DATA!E270","v":""},{"$f":"DATA!H270","v":0},{"$f":"DATA!I270","v":2},{"$f":"DATA!J270","v":""},{"$f":"DATA!K270","v":""},{"$f":"DATA!L270","v":""},{"$f":"DATA!M270","v":""},{"$f":"DATA!N270","v":30},{"$f":"DATA!O270","v":"CZ00000021253952"},{"$f":"DATA!P270","v":"NL00202181200391"}]
[{"$f":"DATA!C271","v":"CZ00000038505053"},{"$f":"DATA!D271","v":""},{"$f":"DATA!E271","v":""},{"$f":"DATA!H271","v":0},{"$f":"DATA!I271","v":0},{"$f":"DATA!J271","v":""},{"$f":"DATA!K271","v":""},{"$f":"DATA!L271","v":""},{"$f":"DATA!M271","v":""},{"$f":"DATA!N271","v":36},{"$f":"DATA!O271","v":"CZ00000025246952"},{"$f":"DATA!P271","v":"NL00202181200360"}]
[{"$f":"DATA!C272","v":"CZ00000038506053"},{"$f":"DATA!D272","v":"FRA-0002"},{"$f":"DATA!E272","v":"FRASER"},{"$f":"DATA!H272","v":39846},{"$f":"DATA!I272","v":0},{"$f":"DATA!J272","v":""},{"$f":"DATA!K272","v":"ER"},{"$f":"DATA!L272","v":"Mal"},{"$f":"DATA!M272","v":"ARR/ARR"},{"$f":"DATA!N272","v":37},{"$f":"DATA!O272","v":"NL00262826044000"},{"$f":"DATA!P272","v":"NL00202181200360"}]
[{"$f":"DATA!C273","v":"CZ00000038515053"},{"$f":"DATA!D273","v":""},{"$f":"DATA!E273","v":""},{"$f":"DATA!H273","v":0},{"$f":"DATA!I273","v":0},{"$f":"DATA!J273","v":""},{"$f":"DATA!K273","v":""},{"$f":"DATA!L273","v":""},{"$f":"DATA!M273","v":""},{"$f":"DATA!N273","v":24},{"$f":"DATA!O273","v":"NL00262826043000"},{"$f":"DATA!P273","v":"CZ00000006233052"}]
[{"$f":"DATA!C274","v":"CZ00000038516053"},{"$f":"DATA!D274","v":""},{"$f":"DATA!E274","v":""},{"$f":"DATA!H274","v":0},{"$f":"DATA!I274","v":0},{"$f":"DATA!J274","v":""},{"$f":"DATA!K274","v":""},{"$f":"DATA!L274","v":""},{"$f":"DATA!M274","v":""},{"$f":"DATA!N274","v":26},{"$f":"DATA!O274","v":"NL00262826041000"},{"$f":"DATA!P274","v":"CZ00000006233052"}]
[{"$f":"DATA!C275","v":"CZ00000038520053"},{"$f":"DATA!D275","v":""},{"$f":"DATA!E275","v":""},{"$f":"DATA!H275","v":0},{"$f":"DATA!I275","v":2},{"$f":"DATA!J275","v":""},{"$f":"DATA!K275","v":""},{"$f":"DATA!L275","v":""},{"$f":"DATA!M275","v":""},{"$f":"DATA!N275","v":29},{"$f":"DATA!O275","v":"CZ00000025259952"},{"$f":"DATA!P275","v":"CZ00000006233052"}]
[{"$f":"DATA!C276","v":"CZ00000038535061"},{"$f":"DATA!D276","v":""},{"$f":"DATA!E276","v":""},{"$f":"DATA!H276","v":0},{"$f":"DATA!I276","v":0},{"$f":"DATA!J276","v":""},{"$f":"DATA!K276","v":""},{"$f":"DATA!L276","v":""},{"$f":"DATA!M276","v":""},{"$f":"DATA!N276","v":34},{"$f":"DATA!O276","v":"CZ00000031766952"},{"$f":"DATA!P276","v":"NL00202181200360"}]
[{"$f":"DATA!C277","v":"CZ00000038536061"},{"$f":"DATA!D277","v":""},{"$f":"DATA!E277","v":""},{"$f":"DATA!H277","v":0},{"$f":"DATA!I277","v":0},{"$f":"DATA!J277","v":""},{"$f":"DATA!K277","v":""},{"$f":"DATA!L277","v":""},{"$f":"DATA!M277","v":""},{"$f":"DATA!N277","v":25},{"$f":"DATA!O277","v":"CZ00000043851953"},{"$f":"DATA!P277","v":"NL00202181200360"}]
[{"$f":"DATA!C278","v":"CZ00000038537061"},{"$f":"DATA!D278","v":""},{"$f":"DATA!E278","v":""},{"$f":"DATA!H278","v":0},{"$f":"DATA!I278","v":0},{"$f":"DATA!J278","v":""},{"$f":"DATA!K278","v":""},{"$f":"DATA!L278","v":""},{"$f":"DATA!M278","v":""},{"$f":"DATA!N278","v":26},{"$f":"DATA!O278","v":"CZ00000031848952"},{"$f":"DATA!P278","v":"NL00202181200360"}]
[{"$f":"DATA!C279","v":"CZ00000039138031"},{"$f":"DATA!D279","v":""},{"$f":"DATA!E279","v":""},{"$f":"DATA!H279","v":0},{"$f":"DATA!I279","v":0},{"$f":"DATA!J279","v":""},{"$f":"DATA!K279","v":""},{"$f":"DATA!L279","v":""},{"$f":"DATA!M279","v":""},{"$f":"DATA!N279","v":37},{"$f":"DATA!O279","v":"NL00109990902408"},{"$f":"DATA!P279","v":"CZ00000033819053"}]
[{"$f":"DATA!C280","v":"CZ00000039139031"},{"$f":"DATA!D280","v":""},{"$f":"DATA!E280","v":""},{"$f":"DATA!H280","v":0},{"$f":"DATA!I280","v":0},{"$f":"DATA!J280","v":""},{"$f":"DATA!K280","v":""},{"$f":"DATA!L280","v":""},{"$f":"DATA!M280","v":""},{"$f":"DATA!N280","v":28},{"$f":"DATA!O280","v":"NL00109990202416"},{"$f":"DATA!P280","v":"FR00025081900018"}]
[{"$f":"DATA!C281","v":"CZ00000039510961"},{"$f":"DATA!D281","v":""},{"$f":"DATA!E281","v":""},{"$f":"DATA!H281","v":0},{"$f":"DATA!I281","v":0},{"$f":"DATA!J281","v":""},{"$f":"DATA!K281","v":""},{"$f":"DATA!L281","v":"Fem"},{"$f":"DATA!M281","v":""},{"$f":"DATA!N281","v":28},{"$f":"DATA!O281","v":"CZ00000031766952"},{"$f":"DATA!P281","v":"CZ00000033819053"}]
[{"$f":"DATA!C282","v":"CZ00000039513961"},{"$f":"DATA!D282","v":""},{"$f":"DATA!E282","v":""},{"$f":"DATA!H282","v":0},{"$f":"DATA!I282","v":0},{"$f":"DATA!J282","v":""},{"$f":"DATA!K282","v":""},{"$f":"DATA!L282","v":""},{"$f":"DATA!M282","v":""},{"$f":"DATA!N282","v":28},{"$f":"DATA!O282","v":"CZ00000031819952"},{"$f":"DATA!P282","v":"CZ00000033819053"}]
[{"$f":"DATA!C283","v":"CZ00000040224952"},{"$f":"DATA!D283","v":""},{"$f":"DATA!E283","v":""},{"$f":"DATA!H283","v":0},{"$f":"DATA!I283","v":0},{"$f":"DATA!J283","v":""},{"$f":"DATA!K283","v":""},{"$f":"DATA!L283","v":""},{"$f":"DATA!M283","v":""},{"$f":"DATA!N283","v":31},{"$f":"DATA!O283","v":"CZ00000025246952"},{"$f":"DATA!P283","v":"NL00202181200360"}]
[{"$f":"DATA!C284","v":"CZ00000040225952"},{"$f":"DATA!D284","v":""},{"$f":"DATA!E284","v":""},{"$f":"DATA!H284","v":0},{"$f":"DATA!I284","v":0},{"$f":"DATA!J284","v":""},{"$f":"DATA!K284","v":""},{"$f":"DATA!L284","v":""},{"$f":"DATA!M284","v":""},{"$f":"DATA!N284","v":32},{"$f":"DATA!O284","v":"CZ00000025246952"},{"$f":"DATA!P284","v":"NL00202181200360"}]
[{"$f":"DATA!C285","v":"CZ00000040449952"},{"$f":"DATA!D285","v":""},{"$f":"DATA!E285","v":""},{"$f":"DATA!H285","v":0},{"$f":"DATA!I285","v":0},{"$f":"DATA!J285","v":""},{"$f":"DATA!K285","v":""},{"$f":"DATA!L285","v":"Fem"},{"$f":"DATA!M285","v":""},{"$f":"DATA!N285","v":0},{"$f":"DATA!O285","v":""},{"$f":"DATA!P285","v":""}]
[{"$f":"DATA!C286","v":"CZ00000040454952"},{"$f":"DATA!D286","v":""},{"$f":"DATA!E286","v":""},{"$f":"DATA!H286","v":0},{"$f":"DATA!I286","v":0},{"$f":"DATA!J286","v":""},{"$f":"DATA!K286","v":""},{"$f":"DATA!L286","v":"Fem"},{"$f":"DATA!M286","v":""},{"$f":"DATA!N286","v":0},{"$f":"DATA!O286","v":""},{"$f":"DATA!P286","v":""}]
[{"$f":"DATA!C287","v":"CZ00000040456952"},{"$f":"DATA!D287","v":""},{"$f":"DATA!E287","v":""},{"$f":"DATA!H287","v":0},{"$f":"DATA!I287","v":0},{"$f":"DATA!J287","v":""},{"$f":"DATA!K287","v":""},{"$f":"DATA!L287","v":"Fem"},{"$f":"DATA!M287","v":""},{"$f":"DATA!N287","v":0},{"$f":"DATA!O287","v":""},{"$f":"DATA!P287","v":""}]
[{"$f":"DATA!C288","v":"CZ00000040458952"},{"$f":"DATA!D288","v":""},{"$f":"DATA!E288","v":""},{"$f":"DATA!H288","v":0},{"$f":"DATA!I288","v":0},{"$f":"DATA!J288","v":""},{"$f":"DATA!K288","v":""},{"$f":"DATA!L288","v":""},{"$f":"DATA!M288","v":""},{"$f":"DATA!N288","v":27},{"$f":"DATA!O288","v":"CZ00000021298952"},{"$f":"DATA!P288","v":"NL00202181200360"}]
[{"$f":"DATA!C289","v":"CZ00000040459952"},{"$f":"DATA!D289","v":""},{"$f":"DATA!E289","v":""},{"$f":"DATA!H289","v":0},{"$f":"DATA!I289","v":0},{"$f":"DATA!J289","v":""},{"$f":"DATA!K289","v":""},{"$f":"DATA!L289","v":"Fem"},{"$f":"DATA!M289","v":""},{"$f":"DATA!N289","v":27},{"$f":"DATA!O289","v":"CZ00000021298952"},{"$f":"DATA!P289","v":"NL00202181200360"}]
[{"$f":"DATA!C290","v":"CZ00000040461952"},{"$f":"DATA!D290","v":""},{"$f":"DATA!E290","v":""},{"$f":"DATA!H290","v":0},{"$f":"DATA!I290","v":0},{"$f":"DATA!J290","v":""},{"$f":"DATA!K290","v":""},{"$f":"DATA!L290","v":"Fem"},{"$f":"DATA!M290","v":""},{"$f":"DATA!N290","v":31},{"$f":"DATA!O290","v":"CZ00000005246952"},{"$f":"DATA!P290","v":"NL00202181200360"}]
[{"$f":"DATA!C291","v":"CZ00000040466952"},{"$f":"DATA!D291","v":""},{"$f":"DATA!E291","v":""},{"$f":"DATA!H291","v":0},{"$f":"DATA!I291","v":0},{"$f":"DATA!J291","v":""},{"$f":"DATA!K291","v":""},{"$f":"DATA!L291","v":"Fem"},{"$f":"DATA!M291","v":""},{"$f":"DATA!N291","v":0},{"$f":"DATA!O291","v":""},{"$f":"DATA!P291","v":""}]
[{"$f":"DATA!C292","v":"CZ00000040471952"},{"$f":"DATA!D292","v":""},{"$f":"DATA!E292","v":""},{"$f":"DATA!H292","v":0},{"$f":"DATA!I292","v":0},{"$f":"DATA!J292","v":""},{"$f":"DATA!K292","v":""},{"$f":"DATA!L292","v":"Fem"},{"$f":"DATA!M292","v":""},{"$f":"DATA!N292","v":0},{"$f":"DATA!O292","v":""},{"$f":"DATA!P292","v":""}]
[{"$f":"DATA!C293","v":"CZ00000040472952"},{"$f":"DATA!D293","v":""},{"$f":"DATA!E293","v":""},{"$f":"DATA!H293","v":0},{"$f":"DATA!I293","v":0},{"$f":"DATA!J293","v":""},{"$f":"DATA!K293","v":""},{"$f":"DATA!L293","v":"Fem"},{"$f":"DATA!M293","v":""},{"$f":"DATA!N293","v":0},{"$f":"DATA!O293","v":""},{"$f":"DATA!P293","v":""}]
[{"$f":"DATA!C294","v":"CZ00000040473952"},{"$f":"DATA!D294","v":""},{"$f":"DATA!E294","v":""},{"$f":"DATA!H294","v":0},{"$f":"DATA!I294","v":0},{"$f":"DATA!J294","v":""},{"$f":"DATA!K294","v":""},{"$f":"DATA!L294","v":"Fem"},{"$f":"DATA!M294","v":""},{"$f":"DATA!N294","v":31},{"$f":"DATA!O294","v":"CZ00000003114505"},{"$f":"DATA!P294","v":"NL00202181200360"}]
[{"$f":"DATA!C295","v":"CZ00000040475952"},{"$f":"DATA!D295","v":""},{"$f":"DATA!E295","v":""},{"$f":"DATA!H295","v":0},{"$f":"DATA!I295","v":0},{"$f":"DATA!J295","v":""},{"$f":"DATA!K295","v":""},{"$f":"DATA!L295","v":"Fem"},{"$f":"DATA!M295","v":""},{"$f":"DATA!N295","v":31},{"$f":"DATA!O295","v":"CZ00000005251952"},{"$f":"DATA!P295","v":"NL00202181200360"}]
[{"$f":"DATA!C296","v":"CZ00000040479952"},{"$f":"DATA!D296","v":""},{"$f":"DATA!E296","v":""},{"$f":"DATA!H296","v":0},{"$f":"DATA!I296","v":0},{"$f":"DATA!J296","v":""},{"$f":"DATA!K296","v":""},{"$f":"DATA!L296","v":""},{"$f":"DATA!M296","v":""},{"$f":"DATA!N296","v":38},{"$f":"DATA!O296","v":"CZ00000031791952"},{"$f":"DATA!P296","v":"NL00202181200360"}]
[{"$f":"DATA!C297","v":"CZ00000040483952"},{"$f":"DATA!D297","v":""},{"$f":"DATA!E297","v":""},{"$f":"DATA!H297","v":0},{"$f":"DATA!I297","v":0},{"$f":"DATA!J297","v":""},{"$f":"DATA!K297","v":""},{"$f":"DATA!L297","v":"Fem"},{"$f":"DATA!M297","v":""},{"$f":"DATA!N297","v":0},{"$f":"DATA!O297","v":""},{"$f":"DATA!P297","v":""}]
[{"$f":"DATA!C298","v":"CZ00000040499952"},{"$f":"DATA!D298","v":""},{"$f":"DATA!E298","v":""},{"$f":"DATA!H298","v":0},{"$f":"DATA!I298","v":0},{"$f":"DATA!J298","v":""},{"$f":"DATA!K298","v":""},{"$f":"DATA!L298","v":""},{"$f":"DATA!M298","v":""},{"$f":"DATA!N298","v":25},{"$f":"DATA!O298","v":"CZ00000021298952"},{"$f":"DATA!P298","v":"CZ00000038506053"}]
[{"$f":"DATA!C299","v":"CZ00000040500952"},{"$f":"DATA!D299","v":""},{"$f":"DATA!E299","v":""},{"$f":"DATA!H299","v":0},{"$f":"DATA!I299","v":0},{"$f":"DATA!J299","v":""},{"$f":"DATA!K299","v":""},{"$f":"DATA!L299","v":""},{"$f":"DATA!M299","v":""},{"$f":"DATA!N299","v":25},{"$f":"DATA!O299","v":"CZ00000021298952"},{"$f":"DATA!P299","v":"CZ00000038506053"}]
[{"$f":"DATA!C300","v":"CZ00000040511952"},{"$f":"DATA!D300","v":""},{"$f":"DATA!E300","v":""},{"$f":"DATA!H300","v":0},{"$f":"DATA!I300","v":0},{"$f":"DATA!J300","v":""},{"$f":"DATA!K300","v":""},{"$f":"DATA!L300","v":"Fem"},{"$f":"DATA!M300","v":""},{"$f":"DATA!N300","v":0},{"$f":"DATA!O300","v":""},{"$f":"DATA!P300","v":""}]
[{"$f":"DATA!C301","v":"CZ00000040513952"},{"$f":"DATA!D301","v":""},{"$f":"DATA!E301","v":""},{"$f":"DATA!H301","v":0},{"$f":"DATA!I301","v":0},{"$f":"DATA!J301","v":""},{"$f":"DATA!K301","v":""},{"$f":"DATA!L301","v":""},{"$f":"DATA!M301","v":""},{"$f":"DATA!N301","v":24},{"$f":"DATA!O301","v":"CZ00000040461952"},{"$f":"DATA!P301","v":"FR00025081900082"}]
[{"$f":"DATA!C302","v":"CZ00000040514952"},{"$f":"DATA!D302","v":""},{"$f":"DATA!E302","v":""},{"$f":"DATA!H302","v":0},{"$f":"DATA!I302","v":0},{"$f":"DATA!J302","v":""},{"$f":"DATA!K302","v":""},{"$f":"DATA!L302","v":""},{"$f":"DATA!M302","v":""},{"$f":"DATA!N302","v":23},{"$f":"DATA!O302","v":"CZ00000040461952"},{"$f":"DATA!P302","v":"FR00025081900082"}]
[{"$f":"DATA!C303","v":"CZ00000040516952"},{"$f":"DATA!D303","v":""},{"$f":"DATA!E303","v":""},{"$f":"DATA!H303","v":0},{"$f":"DATA!I303","v":0},{"$f":"DATA!J303","v":""},{"$f":"DATA!K303","v":""},{"$f":"DATA!L303","v":""},{"$f":"DATA!M303","v":""},{"$f":"DATA!N303","v":33},{"$f":"DATA!O303","v":"CZ00000031791952"},{"$f":"DATA!P303","v":"FR00025081900082"}]
[{"$f":"DATA!C304","v":"CZ00000041999061"},{"$f":"DATA!D304","v":""},{"$f":"DATA!E304","v":""},{"$f":"DATA!H304","v":0},{"$f":"DATA!I304","v":0},{"$f":"DATA!J304","v":""},{"$f":"DATA!K304","v":""},{"$f":"DATA!L304","v":""},{"$f":"DATA!M304","v":""},{"$f":"DATA!N304","v":25},{"$f":"DATA!O304","v":"CZ00000031841952"},{"$f":"DATA!P304","v":"NL00202181200360"}]
[{"$f":"DATA!C305","v":"CZ00000042003061"},{"$f":"DATA!D305","v":""},{"$f":"DATA!E305","v":""},{"$f":"DATA!H305","v":0},{"$f":"DATA!I305","v":0},{"$f":"DATA!J305","v":""},{"$f":"DATA!K305","v":""},{"$f":"DATA!L305","v":""},{"$f":"DATA!M305","v":""},{"$f":"DATA!N305","v":23},{"$f":"DATA!O305","v":"NL00109990602399"},{"$f":"DATA!P305","v":"NL00202181200360"}]
[{"$f":"DATA!C306","v":"CZ00000043366053"},{"$f":"DATA!D306","v":""},{"$f":"DATA!E306","v":""},{"$f":"DATA!H306","v":0},{"$f":"DATA!I306","v":0},{"$f":"DATA!J306","v":""},{"$f":"DATA!K306","v":""},{"$f":"DATA!L306","v":""},{"$f":"DATA!M306","v":""},{"$f":"DATA!N306","v":34},{"$f":"DATA!O306","v":"CZ00000038280953"},{"$f":"DATA!P306","v":"NL00202181200360"}]
[{"$f":"DATA!C307","v":"CZ00000043367053"},{"$f":"DATA!D307","v":""},{"$f":"DATA!E307","v":""},{"$f":"DATA!H307","v":0},{"$f":"DATA!I307","v":0},{"$f":"DATA!J307","v":""},{"$f":"DATA!K307","v":""},{"$f":"DATA!L307","v":""},{"$f":"DATA!M307","v":""},{"$f":"DATA!N307","v":0},{"$f":"DATA!O307","v":"NL00262826041000"},{"$f":"DATA!P307","v":"CZ00000006233052"}]
[{"$f":"DATA!C308","v":"CZ00000043370053"},{"$f":"DATA!D308","v":""},{"$f":"DATA!E308","v":""},{"$f":"DATA!H308","v":0},{"$f":"DATA!I308","v":0},{"$f":"DATA!J308","v":""},{"$f":"DATA!K308","v":""},{"$f":"DATA!L308","v":""},{"$f":"DATA!M308","v":""},{"$f":"DATA!N308","v":33},{"$f":"DATA!O308","v":"CZ00000026155953"},{"$f":"DATA!P308","v":"CZ00000006233052"}]
[{"$f":"DATA!C309","v":"CZ00000043374053"},{"$f":"DATA!D309","v":""},{"$f":"DATA!E309","v":""},{"$f":"DATA!H309","v":0},{"$f":"DATA!I309","v":0},{"$f":"DATA!J309","v":""},{"$f":"DATA!K309","v":""},{"$f":"DATA!L309","v":""},{"$f":"DATA!M309","v":""},{"$f":"DATA!N309","v":20},{"$f":"DATA!O309","v":"NL00262826036000"},{"$f":"DATA!P309","v":"NL00202181200391"}]
[{"$f":"DATA!C310","v":"CZ00000043375053"},{"$f":"DATA!D310","v":""},{"$f":"DATA!E310","v":""},{"$f":"DATA!H310","v":0},{"$f":"DATA!I310","v":0},{"$f":"DATA!J310","v":""},{"$f":"DATA!K310","v":""},{"$f":"DATA!L310","v":""},{"$f":"DATA!M310","v":""},{"$f":"DATA!N310","v":25},{"$f":"DATA!O310","v":"NL00262826036000"},{"$f":"DATA!P310","v":"NL00202181200391"}]
[{"$f":"DATA!C311","v":"CZ00000043376053"},{"$f":"DATA!D311","v":""},{"$f":"DATA!E311","v":""},{"$f":"DATA!H311","v":0},{"$f":"DATA!I311","v":0},{"$f":"DATA!J311","v":""},{"$f":"DATA!K311","v":""},{"$f":"DATA!L311","v":""},{"$f":"DATA!M311","v":""},{"$f":"DATA!N311","v":24},{"$f":"DATA!O311","v":"NL00262826044000"},{"$f":"DATA!P311","v":"NL00202181200391"}]
[{"$f":"DATA!C312","v":"CZ00000043377053"},{"$f":"DATA!D312","v":"ERR-0007"},{"$f":"DATA!E312","v":"ERROL"},{"$f":"DATA!H312","v":40577},{"$f":"DATA!I312","v":0},{"$f":"DATA!J312","v":""},{"$f":"DATA!K312","v":"EA"},{"$f":"DATA!L312","v":""},{"$f":"DATA!M312","v":"ARR/ARR"},{"$f":"DATA!N312","v":35},{"$f":"DATA!O312","v":"CZ00000026150953"},{"$f":"DATA!P312","v":"CZ00000006233052"}]
[{"$f":"DATA!C313","v":"CZ00000043378053"},{"$f":"DATA!D313","v":"ERR 0011"},{"$f":"DATA!E313","v":"ERROL"},{"$f":"DATA!H313","v":40577},{"$f":"DATA!I313","v":1},{"$f":"DATA!J313","v":""},{"$f":"DATA!K313","v":"EA"},{"$f":"DATA!L313","v":"Mal"},{"$f":"DATA!M313","v":"ARR/ARR"},{"$f":"DATA!N313","v":34},{"$f":"DATA!O313","v":"CZ00000038212953"},{"$f":"DATA!P313","v":"CZ00000006233052"}]
[{"$f":"DATA!C314","v":"CZ00000043379053"},{"$f":"DATA!D314","v":""},{"$f":"DATA!E314","v":""},{"$f":"DATA!H314","v":0},{"$f":"DATA!I314","v":0},{"$f":"DATA!J314","v":""},{"$f":"DATA!K314","v":""},{"$f":"DATA!L314","v":""},{"$f":"DATA!M314","v":""},{"$f":"DATA!N314","v":28},{"$f":"DATA!O314","v":"CZ00000003113505"},{"$f":"DATA!P314","v":"NL00202181200391"}]
[{"$f":"DATA!C315","v":"CZ00000043380053"},{"$f":"DATA!D315","v":""},{"$f":"DATA!E315","v":""},{"$f":"DATA!H315","v":0},{"$f":"DATA!I315","v":0},{"$f":"DATA!J315","v":""},{"$f":"DATA!K315","v":""},{"$f":"DATA!L315","v":""},{"$f":"DATA!M315","v":""},{"$f":"DATA!N315","v":0},{"$f":"DATA!O315","v":"CZ00000043852953"},{"$f":"DATA!P315","v":"CZ00000006233052"}]
[{"$f":"DATA!C316","v":"CZ00000043382053"},{"$f":"DATA!D316","v":""},{"$f":"DATA!E316","v":""},{"$f":"DATA!H316","v":0},{"$f":"DATA!I316","v":0},{"$f":"DATA!J316","v":""},{"$f":"DATA!K316","v":""},{"$f":"DATA!L316","v":""},{"$f":"DATA!M316","v":""},{"$f":"DATA!N316","v":40},{"$f":"DATA!O316","v":"CZ00000026155953"},{"$f":"DATA!P316","v":"NL00202181200391"}]
[{"$f":"DATA!C317","v":"CZ00000043383053"},{"$f":"DATA!D317","v":""},{"$f":"DATA!E317","v":""},{"$f":"DATA!H317","v":0},{"$f":"DATA!I317","v":0},{"$f":"DATA!J317","v":""},{"$f":"DATA!K317","v":""},{"$f":"DATA!L317","v":""},{"$f":"DATA!M317","v":""},{"$f":"DATA!N317","v":36},{"$f":"DATA!O317","v":"CZ00000038270953"},{"$f":"DATA!P317","v":"CZ00000006233052"}]
[{"$f":"DATA!C318","v":"CZ00000043384053"},{"$f":"DATA!D318","v":""},{"$f":"DATA!E318","v":""},{"$f":"DATA!H318","v":0},{"$f":"DATA!I318","v":0},{"$f":"DATA!J318","v":""},{"$f":"DATA!K318","v":""},{"$f":"DATA!L318","v":""},{"$f":"DATA!M318","v":""},{"$f":"DATA!N318","v":21},{"$f":"DATA!O318","v":"CZ00000038280953"},{"$f":"DATA!P318","v":"NL00202181200360"}]
[{"$f":"DATA!C319","v":"CZ00000043393053"},{"$f":"DATA!D319","v":""},{"$f":"DATA!E319","v":""},{"$f":"DATA!H319","v":0},{"$f":"DATA!I319","v":0},{"$f":"DATA!J319","v":""},{"$f":"DATA!K319","v":""},{"$f":"DATA!L319","v":""},{"$f":"DATA!M319","v":""},{"$f":"DATA!N319","v":32},{"$f":"DATA!O319","v":"CZ00000031809952"},{"$f":"DATA!P319","v":"NL00202181200391"}]
[{"$f":"DATA!C320","v":"CZ00000043398053"},{"$f":"DATA!D320","v":""},{"$f":"DATA!E320","v":""},{"$f":"DATA!H320","v":0},{"$f":"DATA!I320","v":0},{"$f":"DATA!J320","v":""},{"$f":"DATA!K320","v":""},{"$f":"DATA!L320","v":""},{"$f":"DATA!M320","v":""},{"$f":"DATA!N320","v":29},{"$f":"DATA!O320","v":"CZ00000021253952"},{"$f":"DATA!P320","v":"NL00202181200391"}]
[{"$f":"DATA!C321","v":"CZ00000043399053"},{"$f":"DATA!D321","v":""},{"$f":"DATA!E321","v":""},{"$f":"DATA!H321","v":0},{"$f":"DATA!I321","v":0},{"$f":"DATA!J321","v":""},{"$f":"DATA!K321","v":""},{"$f":"DATA!L321","v":""},{"$f":"DATA!M321","v":""},{"$f":"DATA!N321","v":28},{"$f":"DATA!O321","v":"CZ00000021253952"},{"$f":"DATA!P321","v":"NL00202181200391"}]
[{"$f":"DATA!C322","v":"CZ00000043406053"},{"$f":"DATA!D322","v":"GER-0017"},{"$f":"DATA!E322","v":"GERALD"},{"$f":"DATA!H322","v":40591},{"$f":"DATA!I322","v":0},{"$f":"DATA!J322","v":""},{"$f":"DATA!K322","v":"EA"},{"$f":"DATA!L322","v":""},{"$f":"DATA!M322","v":"ARR/ARR"},{"$f":"DATA!N322","v":41},{"$f":"DATA!O322","v":"FR00000000990113"},{"$f":"DATA!P322","v":"NL00202181200391"}]
[{"$f":"DATA!C323","v":"CZ00000043410053"},{"$f":"DATA!D323","v":""},{"$f":"DATA!E323","v":""},{"$f":"DATA!H323","v":0},{"$f":"DATA!I323","v":0},{"$f":"DATA!J323","v":""},{"$f":"DATA!K323","v":""},{"$f":"DATA!L323","v":""},{"$f":"DATA!M323","v":""},{"$f":"DATA!N323","v":24},{"$f":"DATA!O323","v":"NL00262826040000"},{"$f":"DATA!P323","v":"CZ00000006233052"}]
[{"$f":"DATA!C324","v":"CZ00000043411053"},{"$f":"DATA!D324","v":"GER-0015"},{"$f":"DATA!E324","v":"GERALD"},{"$f":"DATA!H324","v":40593},{"$f":"DATA!I324","v":0},{"$f":"DATA!J324","v":""},{"$f":"DATA!K324","v":"EA"},{"$f":"DATA!L324","v":"Mal"},{"$f":"DATA!M324","v":"ARR/ARR"},{"$f":"DATA!N324","v":32},{"$f":"DATA!O324","v":"CZ00000038283953"},{"$f":"DATA!P324","v":"NL00202181200391"}]
[{"$f":"DATA!C325","v":"CZ00000043412053"},{"$f":"DATA!D325","v":""},{"$f":"DATA!E325","v":""},{"$f":"DATA!H325","v":0},{"$f":"DATA!I325","v":0},{"$f":"DATA!J325","v":""},{"$f":"DATA!K325","v":""},{"$f":"DATA!L325","v":""},{"$f":"DATA!M325","v":""},{"$f":"DATA!N325","v":19},{"$f":"DATA!O325","v":"CZ00000038208953"},{"$f":"DATA!P325","v":"CZ00000006233052"}]
[{"$f":"DATA!C326","v":"CZ00000043413053"},{"$f":"DATA!D326","v":"ERR-0012"},{"$f":"DATA!E326","v":"ERROL"},{"$f":"DATA!H326","v":40593},{"$f":"DATA!I326","v":0},{"$f":"DATA!J326","v":""},{"$f":"DATA!K326","v":"ER"},{"$f":"DATA!L326","v":"Mal"},{"$f":"DATA!M326","v":"ARR/ARR"},{"$f":"DATA!N326","v":34},{"$f":"DATA!O326","v":"CZ00000038208953"},{"$f":"DATA!P326","v":"CZ00000006233052"}]
[{"$f":"DATA!C327","v":"CZ00000043414053"},{"$f":"DATA!D327","v":""},{"$f":"DATA!E327","v":""},{"$f":"DATA!H327","v":0},{"$f":"DATA!I327","v":0},{"$f":"DATA!J327","v":""},{"$f":"DATA!K327","v":""},{"$f":"DATA!L327","v":""},{"$f":"DATA!M327","v":""},{"$f":"DATA!N327","v":26},{"$f":"DATA!O327","v":"CZ00000043843953"},{"$f":"DATA!P327","v":"NL00202181200391"}]
[{"$f":"DATA!C328","v":"CZ00000043415053"},{"$f":"DATA!D328","v":""},{"$f":"DATA!E328","v":""},{"$f":"DATA!H328","v":0},{"$f":"DATA!I328","v":0},{"$f":"DATA!J328","v":""},{"$f":"DATA!K328","v":""},{"$f":"DATA!L328","v":""},{"$f":"DATA!M328","v":""},{"$f":"DATA!N328","v":20},{"$f":"DATA!O328","v":"CZ00000043843953"},{"$f":"DATA!P328","v":"NL00202181200391"}]
[{"$f":"DATA!C329","v":"CZ00000043416053"},{"$f":"DATA!D329","v":""},{"$f":"DATA!E329","v":""},{"$f":"DATA!H329","v":0},{"$f":"DATA!I329","v":0},{"$f":"DATA!J329","v":""},{"$f":"DATA!K329","v":""},{"$f":"DATA!L329","v":""},{"$f":"DATA!M329","v":""},{"$f":"DATA!N329","v":27},{"$f":"DATA!O329","v":"CZ00000021279952"},{"$f":"DATA!P329","v":"NL00202181200391"}]
[{"$f":"DATA!C330","v":"CZ00000043417053"},{"$f":"DATA!D330","v":""},{"$f":"DATA!E330","v":""},{"$f":"DATA!H330","v":0},{"$f":"DATA!I330","v":0},{"$f":"DATA!J330","v":""},{"$f":"DATA!K330","v":""},{"$f":"DATA!L330","v":""},{"$f":"DATA!M330","v":""},{"$f":"DATA!N330","v":27},{"$f":"DATA!O330","v":"CZ00000021279952"},{"$f":"DATA!P330","v":"NL00202181200391"}]
[{"$f":"DATA!C331","v":"CZ00000043843953"},{"$f":"DATA!D331","v":""},{"$f":"DATA!E331","v":""},{"$f":"DATA!H331","v":0},{"$f":"DATA!I331","v":0},{"$f":"DATA!J331","v":""},{"$f":"DATA!K331","v":""},{"$f":"DATA!L331","v":"Fem"},{"$f":"DATA!M331","v":""},{"$f":"DATA!N331","v":29},{"$f":"DATA!O331","v":"NL00262826043000"},{"$f":"DATA!P331","v":"CZ00000006233052"}]
[{"$f":"DATA!C332","v":"CZ00000043844953"},{"$f":"DATA!D332","v":""},{"$f":"DATA!E332","v":""},{"$f":"DATA!H332","v":0},{"$f":"DATA!I332","v":0},{"$f":"DATA!J332","v":""},{"$f":"DATA!K332","v":""},{"$f":"DATA!L332","v":"Fem"},{"$f":"DATA!M332","v":""},{"$f":"DATA!N332","v":26},{"$f":"DATA!O332","v":"NL00262826041000"},{"$f":"DATA!P332","v":"CZ00000006233052"}]
[{"$f":"DATA!C333","v":"CZ00000043848953"},{"$f":"DATA!D333","v":""},{"$f":"DATA!E333","v":""},{"$f":"DATA!H333","v":0},{"$f":"DATA!I333","v":0},{"$f":"DATA!J333","v":""},{"$f":"DATA!K333","v":""},{"$f":"DATA!L333","v":""},{"$f":"DATA!M333","v":""},{"$f":"DATA!N333","v":29},{"$f":"DATA!O333","v":"CZ00000025259952"},{"$f":"DATA!P333","v":"CZ00000006233052"}]
[{"$f":"DATA!C334","v":"CZ00000043851953"},{"$f":"DATA!D334","v":""},{"$f":"DATA!E334","v":""},{"$f":"DATA!H334","v":0},{"$f":"DATA!I334","v":0},{"$f":"DATA!J334","v":""},{"$f":"DATA!K334","v":""},{"$f":"DATA!L334","v":"Fem"},{"$f":"DATA!M334","v":""},{"$f":"DATA!N334","v":30},{"$f":"DATA!O334","v":"CZ00000021279952"},{"$f":"DATA!P334","v":"NL00202181200391"}]
[{"$f":"DATA!C335","v":"CZ00000043852953"},{"$f":"DATA!D335","v":""},{"$f":"DATA!E335","v":""},{"$f":"DATA!H335","v":0},{"$f":"DATA!I335","v":0},{"$f":"DATA!J335","v":""},{"$f":"DATA!K335","v":""},{"$f":"DATA!L335","v":"Fem"},{"$f":"DATA!M335","v":""},{"$f":"DATA!N335","v":29},{"$f":"DATA!O335","v":"CZ00000021279952"},{"$f":"DATA!P335","v":"NL00202181200391"}]
[{"$f":"DATA!C336","v":"CZ00000043876953"},{"$f":"DATA!D336","v":""},{"$f":"DATA!E336","v":""},{"$f":"DATA!H336","v":40208},{"$f":"DATA!I336","v":0},{"$f":"DATA!J336","v":"Berkovcová L"},{"$f":"DATA!K336","v":""},{"$f":"DATA!L336","v":"Fem"},{"$f":"DATA!M336","v":""},{"$f":"DATA!N336","v":25},{"$f":"DATA!O336","v":"CZ00000031825952"},{"$f":"DATA!P336","v":"NL00202181200360"}]
[{"$f":"DATA!C337","v":"CZ00000043877953"},{"$f":"DATA!D337","v":""},{"$f":"DATA!E337","v":""},{"$f":"DATA!H337","v":0},{"$f":"DATA!I337","v":0},{"$f":"DATA!J337","v":""},{"$f":"DATA!K337","v":""},{"$f":"DATA!L337","v":"Fem"},{"$f":"DATA!M337","v":""},{"$f":"DATA!N337","v":27},{"$f":"DATA!O337","v":"CZ00000038212953"},{"$f":"DATA!P337","v":"CZ00000006233052"}]
[{"$f":"DATA!C338","v":"CZ00000043886953"},{"$f":"DATA!D338","v":""},{"$f":"DATA!E338","v":""},{"$f":"DATA!H338","v":0},{"$f":"DATA!I338","v":0},{"$f":"DATA!J338","v":""},{"$f":"DATA!K338","v":""},{"$f":"DATA!L338","v":""},{"$f":"DATA!M338","v":""},{"$f":"DATA!N338","v":38},{"$f":"DATA!O338","v":"NL00262826040000"},{"$f":"DATA!P338","v":"CZ00000006233052"}]
[{"$f":"DATA!C339","v":"CZ00000043889953"},{"$f":"DATA!D339","v":""},{"$f":"DATA!E339","v":""},{"$f":"DATA!H339","v":"00:00:00"},{"$f":"DATA!I339","v":0},{"$f":"DATA!J339","v":""},{"$f":"DATA!K339","v":""},{"$f":"DATA!L339","v":""},{"$f":"DATA!M339","v":""},{"$f":"DATA!N339","v":23},{"$f":"DATA!O339","v":"CZ00000038208953"},{"$f":"DATA!P339","v":"CZ00000006233052"}]
[{"$f":"DATA!C340","v":"CZ00000043890953"},{"$f":"DATA!D340","v":""},{"$f":"DATA!E340","v":""},{"$f":"DATA!H340","v":0},{"$f":"DATA!I340","v":0},{"$f":"DATA!J340","v":""},{"$f":"DATA!K340","v":""},{"$f":"DATA!L340","v":"Fem"},{"$f":"DATA!M340","v":""},{"$f":"DATA!N340","v":29},{"$f":"DATA!O340","v":"CZ00000021253952"},{"$f":"DATA!P340","v":"NL00202181200391"}]
[{"$f":"DATA!C341","v":"CZ00000043891953"},{"$f":"DATA!D341","v":""},{"$f":"DATA!E341","v":""},{"$f":"DATA!H341","v":40212},{"$f":"DATA!I341","v":0},{"$f":"DATA!J341","v":"Berkovcová L"},{"$f":"DATA!K341","v":""},{"$f":"DATA!L341","v":"Fem"},{"$f":"DATA!M341","v":""},{"$f":"DATA!N341","v":36},{"$f":"DATA!O341","v":"NL00262826043000"},{"$f":"DATA!P341","v":"NL00202181200391"}]
[{"$f":"DATA!C342","v":"CZ00000043892953"},{"$f":"DATA!D342","v":""},{"$f":"DATA!E342","v":""},{"$f":"DATA!H342","v":0},{"$f":"DATA!I342","v":0},{"$f":"DATA!J342","v":""},{"$f":"DATA!K342","v":""},{"$f":"DATA!L342","v":""},{"$f":"DATA!M342","v":""},{"$f":"DATA!N342","v":26},{"$f":"DATA!O342","v":"NL00262826043000"},{"$f":"DATA!P342","v":"NL00202181200391"}]
[{"$f":"DATA!C343","v":"CZ00000043893953"},{"$f":"DATA!D343","v":""},{"$f":"DATA!E343","v":""},{"$f":"DATA!H343","v":40213},{"$f":"DATA!I343","v":0},{"$f":"DATA!J343","v":"Berkovcová L"},{"$f":"DATA!K343","v":""},{"$f":"DATA!L343","v":"Fem"},{"$f":"DATA!M343","v":""},{"$f":"DATA!N343","v":27},{"$f":"DATA!O343","v":"NL00262826036000"},{"$f":"DATA!P343","v":"NL00202181200360"}]
[{"$f":"DATA!C344","v":"CZ00000043894953"},{"$f":"DATA!D344","v":""},{"$f":"DATA!E344","v":""},{"$f":"DATA!H344","v":"2010-02-05"},{"$f":"DATA!I344","v":0},{"$f":"DATA!J344","v":"Berkovcová L"},{"$f":"DATA!K344","v":""},{"$f":"DATA!L344","v":"Fem"},{"$f":"DATA!M344","v":""},{"$f":"DATA!N344","v":36},{"$f":"DATA!O344","v":"CZ00000003113505"},{"$f":"DATA!P344","v":"NL00202181200391"}]
[{"$f":"DATA!C345","v":"CZ00000043895953"},{"$f":"DATA!D345","v":""},{"$f":"DATA!E345","v":""},{"$f":"DATA!H345","v":0},{"$f":"DATA!I345","v":0},{"$f":"DATA!J345","v":""},{"$f":"DATA!K345","v":""},{"$f":"DATA!L345","v":""},{"$f":"DATA!M345","v":""},{"$f":"DATA!N345","v":30},{"$f":"DATA!O345","v":"CZ00000031824952"},{"$f":"DATA!P345","v":"NL00202181200391"}]
[{"$f":"DATA!C346","v":"CZ00000043896953"},{"$f":"DATA!D346","v":""},{"$f":"DATA!E346","v":""},{"$f":"DATA!H346","v":"2010-02-08"},{"$f":"DATA!I346","v":0},{"$f":"DATA!J346","v":"Berkovcová L"},{"$f":"DATA!K346","v":""},{"$f":"DATA!L346","v":"Fem"},{"$f":"DATA!M346","v":""},{"$f":"DATA!N346","v":37},{"$f":"DATA!O346","v":"CZ00000021279952"},{"$f":"DATA!P346","v":"NL00202181200391"}]
[{"$f":"DATA!C347","v":"CZ00000043897953"},{"$f":"DATA!D347","v":""},{"$f":"DATA!E347","v":""},{"$f":"DATA!H347","v":"00:00:00"},{"$f":"DATA!I347","v":0},{"$f":"DATA!J347","v":""},{"$f":"DATA!K347","v":""},{"$f":"DATA!L347","v":"Fem"},{"$f":"DATA!M347","v":""},{"$f":"DATA!N347","v":37},{"$f":"DATA!O347","v":"CZ00000026150953"},{"$f":"DATA!P347","v":"CZ00000006233052"}]
[{"$f":"DATA!C348","v":"CZ00000043898953"},{"$f":"DATA!D348","v":""},{"$f":"DATA!E348","v":""},{"$f":"DATA!H348","v":0},{"$f":"DATA!I348","v":0},{"$f":"DATA!J348","v":""},{"$f":"DATA!K348","v":""},{"$f":"DATA!L348","v":""},{"$f":"DATA!M348","v":""},{"$f":"DATA!N348","v":32},{"$f":"DATA!O348","v":"NL00262826044000"},{"$f":"DATA!P348","v":"NL00202181200391"}]
[{"$f":"DATA!C349","v":"CZ00000043899953"},{"$f":"DATA!D349","v":""},{"$f":"DATA!E349","v":""},{"$f":"DATA!H349","v":"00:00:00"},{"$f":"DATA!I349","v":0},{"$f":"DATA!J349","v":""},{"$f":"DATA!K349","v":""},{"$f":"DATA!L349","v":"Fem"},{"$f":"DATA!M349","v":""},{"$f":"DATA!N349","v":30},{"$f":"DATA!O349","v":"CZ00000038270953"},{"$f":"DATA!P349","v":"CZ00000006233052"}]
[{"$f":"DATA!C350","v":"CZ00000043900953"},{"$f":"DATA!D350","v":""},{"$f":"DATA!E350","v":""},{"$f":"DATA!H350","v":0},{"$f":"DATA!I350","v":0},{"$f":"DATA!J350","v":""},{"$f":"DATA!K350","v":""},{"$f":"DATA!L350","v":""},{"$f":"DATA!M350","v":""},{"$f":"DATA!N350","v":24},{"$f":"DATA!O350","v":"CZ00000038210953"},{"$f":"DATA!P350","v":"CZ00000006233052"}]
[{"$f":"DATA!C351","v":"CZ00000043904953"},{"$f":"DATA!D351","v":""},{"$f":"DATA!E351","v":""},{"$f":"DATA!H351","v":0},{"$f":"DATA!I351","v":0},{"$f":"DATA!J351","v":""},{"$f":"DATA!K351","v":""},{"$f":"DATA!L351","v":""},{"$f":"DATA!M351","v":""},{"$f":"DATA!N351","v":26},{"$f":"DATA!O351","v":"CZ00000038211953"},{"$f":"DATA!P351","v":"CZ00000006233052"}]
[{"$f":"DATA!C352","v":"CZ00000043907953"},{"$f":"DATA!D352","v":""},{"$f":"DATA!E352","v":""},{"$f":"DATA!H352","v":0},{"$f":"DATA!I352","v":0},{"$f":"DATA!J352","v":""},{"$f":"DATA!K352","v":""},{"$f":"DATA!L352","v":""},{"$f":"DATA!M352","v":""},{"$f":"DATA!N352","v":31},{"$f":"DATA!O352","v":"NL00262826041000"},{"$f":"DATA!P352","v":"CZ00000006233052"}]
[{"$f":"DATA!C353","v":"CZ00000044940961"},{"$f":"DATA!D353","v":""},{"$f":"DATA!E353","v":""},{"$f":"DATA!H353","v":0},{"$f":"DATA!I353","v":0},{"$f":"DATA!J353","v":""},{"$f":"DATA!K353","v":""},{"$f":"DATA!L353","v":""},{"$f":"DATA!M353","v":""},{"$f":"DATA!N353","v":30},{"$f":"DATA!O353","v":"CZ00000031848952"},{"$f":"DATA!P353","v":"CZ00000033819053"}]
[{"$f":"DATA!C354","v":"CZ00000044941961"},{"$f":"DATA!D354","v":""},{"$f":"DATA!E354","v":""},{"$f":"DATA!H354","v":0},{"$f":"DATA!I354","v":0},{"$f":"DATA!J354","v":""},{"$f":"DATA!K354","v":""},{"$f":"DATA!L354","v":""},{"$f":"DATA!M354","v":""},{"$f":"DATA!N354","v":28},{"$f":"DATA!O354","v":"CZ00000031848952"},{"$f":"DATA!P354","v":"CZ00000033819053"}]
[{"$f":"DATA!C355","v":"CZ00000044942961"},{"$f":"DATA!D355","v":""},{"$f":"DATA!E355","v":""},{"$f":"DATA!H355","v":0},{"$f":"DATA!I355","v":0},{"$f":"DATA!J355","v":""},{"$f":"DATA!K355","v":""},{"$f":"DATA!L355","v":""},{"$f":"DATA!M355","v":""},{"$f":"DATA!N355","v":29},{"$f":"DATA!O355","v":"CZ00000031841952"},{"$f":"DATA!P355","v":"CZ00000033819053"}]
[{"$f":"DATA!C356","v":"CZ00000044943961"},{"$f":"DATA!D356","v":""},{"$f":"DATA!E356","v":""},{"$f":"DATA!H356","v":0},{"$f":"DATA!I356","v":0},{"$f":"DATA!J356","v":""},{"$f":"DATA!K356","v":""},{"$f":"DATA!L356","v":""},{"$f":"DATA!M356","v":""},{"$f":"DATA!N356","v":24},{"$f":"DATA!O356","v":"CZ00000031819952"},{"$f":"DATA!P356","v":"NL00202181200360"}]
[{"$f":"DATA!C357","v":"CZ00000044944961"},{"$f":"DATA!D357","v":""},{"$f":"DATA!E357","v":""},{"$f":"DATA!H357","v":0},{"$f":"DATA!I357","v":0},{"$f":"DATA!J357","v":""},{"$f":"DATA!K357","v":""},{"$f":"DATA!L357","v":""},{"$f":"DATA!M357","v":""},{"$f":"DATA!N357","v":29},{"$f":"DATA!O357","v":"NL00109990702396"},{"$f":"DATA!P357","v":"NL00202181200360"}]
[{"$f":"DATA!C358","v":"CZ00000044945961"},{"$f":"DATA!D358","v":""},{"$f":"DATA!E358","v":""},{"$f":"DATA!H358","v":0},{"$f":"DATA!I358","v":0},{"$f":"DATA!J358","v":""},{"$f":"DATA!K358","v":""},{"$f":"DATA!L358","v":""},{"$f":"DATA!M358","v":""},{"$f":"DATA!N358","v":19},{"$f":"DATA!O358","v":"CZ00000031846952"},{"$f":"DATA!P358","v":"NL00202181200360"}]
[{"$f":"DATA!C359","v":"CZ00000044947961"},{"$f":"DATA!D359","v":""},{"$f":"DATA!E359","v":""},{"$f":"DATA!H359","v":0},{"$f":"DATA!I359","v":0},{"$f":"DATA!J359","v":""},{"$f":"DATA!K359","v":""},{"$f":"DATA!L359","v":""},{"$f":"DATA!M359","v":""},{"$f":"DATA!N359","v":26},{"$f":"DATA!O359","v":"CZ00000031766952"},{"$f":"DATA!P359","v":"NL00202181200360"}]
[{"$f":"DATA!C360","v":"CZ00000048511053"},{"$f":"DATA!D360","v":""},{"$f":"DATA!E360","v":""},{"$f":"DATA!H360","v":0},{"$f":"DATA!I360","v":0},{"$f":"DATA!J360","v":""},{"$f":"DATA!K360","v":""},{"$f":"DATA!L360","v":""},{"$f":"DATA!M360","v":""},{"$f":"DATA!N360","v":32},{"$f":"DATA!O360","v":"CZ00000038213953"},{"$f":"DATA!P360","v":"CZ00000006233052"}]
[{"$f":"DATA!C361","v":"CZ00000048512053"},{"$f":"DATA!D361","v":""},{"$f":"DATA!E361","v":""},{"$f":"DATA!H361","v":0},{"$f":"DATA!I361","v":0},{"$f":"DATA!J361","v":""},{"$f":"DATA!K361","v":""},{"$f":"DATA!L361","v":""},{"$f":"DATA!M361","v":""},{"$f":"DATA!N361","v":29},{"$f":"DATA!O361","v":"CZ00000038213953"},{"$f":"DATA!P361","v":"CZ00000006233052"}]
[{"$f":"DATA!C362","v":"CZ00000048513053"},{"$f":"DATA!D362","v":""},{"$f":"DATA!E362","v":""},{"$f":"DATA!H362","v":0},{"$f":"DATA!I362","v":0},{"$f":"DATA!J362","v":""},{"$f":"DATA!K362","v":""},{"$f":"DATA!L362","v":""},{"$f":"DATA!M362","v":""},{"$f":"DATA!N362","v":23},{"$f":"DATA!O362","v":"CZ00000038281953"},{"$f":"DATA!P362","v":"NL00202181200391"}]
[{"$f":"DATA!C363","v":"CZ00000048517052"},{"$f":"DATA!D363","v":""},{"$f":"DATA!E363","v":""},{"$f":"DATA!H363","v":0},{"$f":"DATA!I363","v":0},{"$f":"DATA!J363","v":""},{"$f":"DATA!K363","v":""},{"$f":"DATA!L363","v":""},{"$f":"DATA!M363","v":""},{"$f":"DATA!N363","v":32},{"$f":"DATA!O363","v":"CZ00000021298952"},{"$f":"DATA!P363","v":"FR00025081900082"}]
[{"$f":"DATA!C364","v":"CZ00000048517053"},{"$f":"DATA!D364","v":"ERR-0010"},{"$f":"DATA!E364","v":"ERROL"},{"$f":"DATA!H364","v":40610},{"$f":"DATA!I364","v":0},{"$f":"DATA!J364","v":""},{"$f":"DATA!K364","v":"ER"},{"$f":"DATA!L364","v":"Mal"},{"$f":"DATA!M364","v":"ARR/ARR"},{"$f":"DATA!N364","v":31},{"$f":"DATA!O364","v":"CZ00000038209953"},{"$f":"DATA!P364","v":"CZ00000006233052"}]
[{"$f":"DATA!C365","v":"CZ00000048518052"},{"$f":"DATA!D365","v":""},{"$f":"DATA!E365","v":""},{"$f":"DATA!H365","v":0},{"$f":"DATA!I365","v":0},{"$f":"DATA!J365","v":""},{"$f":"DATA!K365","v":""},{"$f":"DATA!L365","v":""},{"$f":"DATA!M365","v":""},{"$f":"DATA!N365","v":31},{"$f":"DATA!O365","v":"CZ00000021298952"},{"$f":"DATA!P365","v":"FR00025081900082"}]
[{"$f":"DATA!C366","v":"CZ00000048530052"},{"$f":"DATA!D366","v":""},{"$f":"DATA!E366","v":""},{"$f":"DATA!H366","v":0},{"$f":"DATA!I366","v":0},{"$f":"DATA!J366","v":""},{"$f":"DATA!K366","v":""},{"$f":"DATA!L366","v":""},{"$f":"DATA!M366","v":""},{"$f":"DATA!N366","v":36},{"$f":"DATA!O366","v":"CZ00000031837952"},{"$f":"DATA!P366","v":"FR00025081900082"}]
[{"$f":"DATA!C367","v":"CZ00000048531052"},{"$f":"DATA!D367","v":""},{"$f":"DATA!E367","v":""},{"$f":"DATA!H367","v":0},{"$f":"DATA!I367","v":0},{"$f":"DATA!J367","v":""},{"$f":"DATA!K367","v":""},{"$f":"DATA!L367","v":""},{"$f":"DATA!M367","v":""},{"$f":"DATA!N367","v":28},{"$f":"DATA!O367","v":"CZ00000031777952"},{"$f":"DATA!P367","v":"FR00025081900082"}]
[{"$f":"DATA!C368","v":"CZ00000048532052"},{"$f":"DATA!D368","v":""},{"$f":"DATA!E368","v":""},{"$f":"DATA!H368","v":0},{"$f":"DATA!I368","v":0},{"$f":"DATA!J368","v":""},{"$f":"DATA!K368","v":""},{"$f":"DATA!L368","v":""},{"$f":"DATA!M368","v":""},{"$f":"DATA!N368","v":29},{"$f":"DATA!O368","v":"CZ00000031777952"},{"$f":"DATA!P368","v":"FR00025081900082"}]
[{"$f":"DATA!C369","v":"CZ00000048534052"},{"$f":"DATA!D369","v":""},{"$f":"DATA!E369","v":""},{"$f":"DATA!H369","v":0},{"$f":"DATA!I369","v":0},{"$f":"DATA!J369","v":""},{"$f":"DATA!K369","v":""},{"$f":"DATA!L369","v":""},{"$f":"DATA!M369","v":""},{"$f":"DATA!N369","v":29},{"$f":"DATA!O369","v":"CZ00000040472952"},{"$f":"DATA!P369","v":"FR00025081900082"}]
[{"$f":"DATA!C370","v":"CZ00000048535052"},{"$f":"DATA!D370","v":""},{"$f":"DATA!E370","v":""},{"$f":"DATA!H370","v":0},{"$f":"DATA!I370","v":0},{"$f":"DATA!J370","v":""},{"$f":"DATA!K370","v":""},{"$f":"DATA!L370","v":""},{"$f":"DATA!M370","v":""},{"$f":"DATA!N370","v":31},{"$f":"DATA!O370","v":"CZ00000040472952"},{"$f":"DATA!P370","v":"FR00025081900082"}]
[{"$f":"DATA!C371","v":"CZ00000048536052"},{"$f":"DATA!D371","v":""},{"$f":"DATA!E371","v":""},{"$f":"DATA!H371","v":0},{"$f":"DATA!I371","v":0},{"$f":"DATA!J371","v":""},{"$f":"DATA!K371","v":""},{"$f":"DATA!L371","v":""},{"$f":"DATA!M371","v":""},{"$f":"DATA!N371","v":24},{"$f":"DATA!O371","v":"CZ00000040456952"},{"$f":"DATA!P371","v":"FR00025081900082"}]
[{"$f":"DATA!C372","v":"CZ00000048539052"},{"$f":"DATA!D372","v":""},{"$f":"DATA!E372","v":""},{"$f":"DATA!H372","v":0},{"$f":"DATA!I372","v":0},{"$f":"DATA!J372","v":""},{"$f":"DATA!K372","v":""},{"$f":"DATA!L372","v":""},{"$f":"DATA!M372","v":""},{"$f":"DATA!N372","v":0},{"$f":"DATA!O372","v":"CZ00000040454952"},{"$f":"DATA!P372","v":"FR00025081900082"}]
[{"$f":"DATA!C373","v":"CZ00000048540052"},{"$f":"DATA!D373","v":""},{"$f":"DATA!E373","v":""},{"$f":"DATA!H373","v":0},{"$f":"DATA!I373","v":0},{"$f":"DATA!J373","v":""},{"$f":"DATA!K373","v":""},{"$f":"DATA!L373","v":""},{"$f":"DATA!M373","v":""},{"$f":"DATA!N373","v":32},{"$f":"DATA!O373","v":"CZ00000040475952"},{"$f":"DATA!P373","v":"FR00025081900082"}]
[{"$f":"DATA!C374","v":"CZ00000048550052"},{"$f":"DATA!D374","v":""},{"$f":"DATA!E374","v":""},{"$f":"DATA!H374","v":0},{"$f":"DATA!I374","v":0},{"$f":"DATA!J374","v":""},{"$f":"DATA!K374","v":""},{"$f":"DATA!L374","v":""},{"$f":"DATA!M374","v":""},{"$f":"DATA!N374","v":28},{"$f":"DATA!O374","v":"CZ00000040471952"},{"$f":"DATA!P374","v":"FR00025081900082"}]
[{"$f":"DATA!C375","v":"CZ00000048558052"},{"$f":"DATA!D375","v":""},{"$f":"DATA!E375","v":""},{"$f":"DATA!H375","v":0},{"$f":"DATA!I375","v":0},{"$f":"DATA!J375","v":""},{"$f":"DATA!K375","v":""},{"$f":"DATA!L375","v":""},{"$f":"DATA!M375","v":""},{"$f":"DATA!N375","v":0},{"$f":"DATA!O375","v":"CZ00000040459952"},{"$f":"DATA!P375","v":"FR00025081900082"}]
[{"$f":"DATA!C376","v":"CZ00000048722052"},{"$f":"DATA!D376","v":""},{"$f":"DATA!E376","v":""},{"$f":"DATA!H376","v":0},{"$f":"DATA!I376","v":0},{"$f":"DATA!J376","v":""},{"$f":"DATA!K376","v":""},{"$f":"DATA!L376","v":""},{"$f":"DATA!M376","v":""},{"$f":"DATA!N376","v":0},{"$f":"DATA!O376","v":"CZ00000057032952"},{"$f":"DATA!P376","v":"CZ00000048517053"}]
[{"$f":"DATA!C377","v":"CZ00000048723052"},{"$f":"DATA!D377","v":""},{"$f":"DATA!E377","v":""},{"$f":"DATA!H377","v":0},{"$f":"DATA!I377","v":0},{"$f":"DATA!J377","v":""},{"$f":"DATA!K377","v":""},{"$f":"DATA!L377","v":""},{"$f":"DATA!M377","v":""},{"$f":"DATA!N377","v":0},{"$f":"DATA!O377","v":"CZ00000057032952"},{"$f":"DATA!P377","v":"CZ00000048517053"}]
[{"$f":"DATA!C378","v":"CZ00000048724052"},{"$f":"DATA!D378","v":""},{"$f":"DATA!E378","v":""},{"$f":"DATA!H378","v":0},{"$f":"DATA!I378","v":0},{"$f":"DATA!J378","v":""},{"$f":"DATA!K378","v":""},{"$f":"DATA!L378","v":""},{"$f":"DATA!M378","v":""},{"$f":"DATA!N378","v":0},{"$f":"DATA!O378","v":"CZ00000051771952"},{"$f":"DATA!P378","v":"CZ00000048517053"}]
[{"$f":"DATA!C379","v":"CZ00000048726052"},{"$f":"DATA!D379","v":""},{"$f":"DATA!E379","v":""},{"$f":"DATA!H379","v":0},{"$f":"DATA!I379","v":0},{"$f":"DATA!J379","v":""},{"$f":"DATA!K379","v":""},{"$f":"DATA!L379","v":""},{"$f":"DATA!M379","v":""},{"$f":"DATA!N379","v":0},{"$f":"DATA!O379","v":"FR00025081900031"},{"$f":"DATA!P379","v":"CZ00000048517053"}]
[{"$f":"DATA!C380","v":"CZ00000048729052"},{"$f":"DATA!D380","v":""},{"$f":"DATA!E380","v":""},{"$f":"DATA!H380","v":0},{"$f":"DATA!I380","v":0},{"$f":"DATA!J380","v":""},{"$f":"DATA!K380","v":""},{"$f":"DATA!L380","v":""},{"$f":"DATA!M380","v":""},{"$f":"DATA!N380","v":0},{"$f":"DATA!O380","v":"FR00025081900031"},{"$f":"DATA!P380","v":"CZ00000048517053"}]
[{"$f":"DATA!C381","v":"CZ00000049041961"},{"$f":"DATA!D381","v":""},{"$f":"DATA!E381","v":""},{"$f":"DATA!H381","v":0},{"$f":"DATA!I381","v":0},{"$f":"DATA!J381","v":""},{"$f":"DATA!K381","v":""},{"$f":"DATA!L381","v":""},{"$f":"DATA!M381","v":""},{"$f":"DATA!N381","v":20},{"$f":"DATA!O381","v":"CZ00000031848952"},{"$f":"DATA!P381","v":"NL00202181200360"}]
[{"$f":"DATA!C382","v":"CZ00000049042961"},{"$f":"DATA!D382","v":""},{"$f":"DATA!E382","v":""},{"$f":"DATA!H382","v":0},{"$f":"DATA!I382","v":0},{"$f":"DATA!J382","v":""},{"$f":"DATA!K382","v":""},{"$f":"DATA!L382","v":""},{"$f":"DATA!M382","v":""},{"$f":"DATA!N382","v":12},{"$f":"DATA!O382","v":"CZ00000039510961"},{"$f":"DATA!P382","v":"NL00202181200360"}]
[{"$f":"DATA!C383","v":"CZ00000049045961"},{"$f":"DATA!D383","v":""},{"$f":"DATA!E383","v":""},{"$f":"DATA!H383","v":0},{"$f":"DATA!I383","v":0},{"$f":"DATA!J383","v":""},{"$f":"DATA!K383","v":""},{"$f":"DATA!L383","v":""},{"$f":"DATA!M383","v":""},{"$f":"DATA!N383","v":0},{"$f":"DATA!O383","v":"CZ00000043877953"},{"$f":"DATA!P383","v":"NL00202181200360"}]
[{"$f":"DATA!C384","v":"CZ00000049137932"},{"$f":"DATA!D384","v":""},{"$f":"DATA!E384","v":""},{"$f":"DATA!H384","v":0},{"$f":"DATA!I384","v":0},{"$f":"DATA!J384","v":""},{"$f":"DATA!K384","v":""},{"$f":"DATA!L384","v":"Fem"},{"$f":"DATA!M384","v":""},{"$f":"DATA!N384","v":0},{"$f":"DATA!O384","v":""},{"$f":"DATA!P384","v":""}]
[{"$f":"DATA!C385","v":"CZ00000049138932"},{"$f":"DATA!D385","v":""},{"$f":"DATA!E385","v":""},{"$f":"DATA!H385","v":0},{"$f":"DATA!I385","v":0},{"$f":"DATA!J385","v":""},{"$f":"DATA!K385","v":""},{"$f":"DATA!L385","v":"Fem"},{"$f":"DATA!M385","v":""},{"$f":"DATA!N385","v":0},{"$f":"DATA!O385","v":""},{"$f":"DATA!P385","v":""}]
[{"$f":"DATA!C386","v":"CZ00000049142932"},{"$f":"DATA!D386","v":""},{"$f":"DATA!E386","v":""},{"$f":"DATA!H386","v":0},{"$f":"DATA!I386","v":0},{"$f":"DATA!J386","v":""},{"$f":"DATA!K386","v":""},{"$f":"DATA!L386","v":"Fem"},{"$f":"DATA!M386","v":""},{"$f":"DATA!N386","v":0},{"$f":"DATA!O386","v":""},{"$f":"DATA!P386","v":""}]
[{"$f":"DATA!C387","v":"CZ00000049145932"},{"$f":"DATA!D387","v":""},{"$f":"DATA!E387","v":""},{"$f":"DATA!H387","v":0},{"$f":"DATA!I387","v":0},{"$f":"DATA!J387","v":""},{"$f":"DATA!K387","v":""},{"$f":"DATA!L387","v":"Fem"},{"$f":"DATA!M387","v":""},{"$f":"DATA!N387","v":0},{"$f":"DATA!O387","v":""},{"$f":"DATA!P387","v":""}]
[{"$f":"DATA!C388","v":"CZ00000049148932"},{"$f":"DATA!D388","v":""},{"$f":"DATA!E388","v":""},{"$f":"DATA!H388","v":0},{"$f":"DATA!I388","v":0},{"$f":"DATA!J388","v":""},{"$f":"DATA!K388","v":""},{"$f":"DATA!L388","v":"Fem"},{"$f":"DATA!M388","v":""},{"$f":"DATA!N388","v":0},{"$f":"DATA!O388","v":""},{"$f":"DATA!P388","v":""}]
[{"$f":"DATA!C389","v":"CZ00000049152932"},{"$f":"DATA!D389","v":""},{"$f":"DATA!E389","v":""},{"$f":"DATA!H389","v":0},{"$f":"DATA!I389","v":0},{"$f":"DATA!J389","v":""},{"$f":"DATA!K389","v":""},{"$f":"DATA!L389","v":"Fem"},{"$f":"DATA!M389","v":""},{"$f":"DATA!N389","v":0},{"$f":"DATA!O389","v":""},{"$f":"DATA!P389","v":""}]
[{"$f":"DATA!C390","v":"CZ00000049175932"},{"$f":"DATA!D390","v":""},{"$f":"DATA!E390","v":""},{"$f":"DATA!H390","v":0},{"$f":"DATA!I390","v":0},{"$f":"DATA!J390","v":""},{"$f":"DATA!K390","v":""},{"$f":"DATA!L390","v":"Fem"},{"$f":"DATA!M390","v":""},{"$f":"DATA!N390","v":0},{"$f":"DATA!O390","v":"CZ00000033522932"},{"$f":"DATA!P390","v":"CZ00000033800053"}]
[{"$f":"DATA!C391","v":"CZ00000049621953"},{"$f":"DATA!D391","v":""},{"$f":"DATA!E391","v":""},{"$f":"DATA!H391","v":0},{"$f":"DATA!I391","v":0},{"$f":"DATA!J391","v":""},{"$f":"DATA!K391","v":""},{"$f":"DATA!L391","v":"Fem"},{"$f":"DATA!M391","v":""},{"$f":"DATA!N391","v":28},{"$f":"DATA!O391","v":"NL00262826044000"},{"$f":"DATA!P391","v":"NL00202181200391"}]
[{"$f":"DATA!C392","v":"CZ00000049622953"},{"$f":"DATA!D392","v":""},{"$f":"DATA!E392","v":""},{"$f":"DATA!H392","v":0},{"$f":"DATA!I392","v":0},{"$f":"DATA!J392","v":""},{"$f":"DATA!K392","v":""},{"$f":"DATA!L392","v":"Fem"},{"$f":"DATA!M392","v":""},{"$f":"DATA!N392","v":25},{"$f":"DATA!O392","v":"CZ00000003113505"},{"$f":"DATA!P392","v":"NL00202181200391"}]
[{"$f":"DATA!C393","v":"CZ00000049624953"},{"$f":"DATA!D393","v":""},{"$f":"DATA!E393","v":""},{"$f":"DATA!H393","v":0},{"$f":"DATA!I393","v":0},{"$f":"DATA!J393","v":""},{"$f":"DATA!K393","v":""},{"$f":"DATA!L393","v":""},{"$f":"DATA!M393","v":""},{"$f":"DATA!N393","v":0},{"$f":"DATA!O393","v":"CZ00000031809952"},{"$f":"DATA!P393","v":"NL00202181200391"}]
[{"$f":"DATA!C394","v":"CZ00000049625953"},{"$f":"DATA!D394","v":""},{"$f":"DATA!E394","v":""},{"$f":"DATA!H394","v":0},{"$f":"DATA!I394","v":0},{"$f":"DATA!J394","v":""},{"$f":"DATA!K394","v":""},{"$f":"DATA!L394","v":""},{"$f":"DATA!M394","v":""},{"$f":"DATA!N394","v":24},{"$f":"DATA!O394","v":"CZ00000038211953"},{"$f":"DATA!P394","v":"CZ00000006233052"}]
[{"$f":"DATA!C395","v":"CZ00000049626953"},{"$f":"DATA!D395","v":""},{"$f":"DATA!E395","v":""},{"$f":"DATA!H395","v":0},{"$f":"DATA!I395","v":0},{"$f":"DATA!J395","v":""},{"$f":"DATA!K395","v":""},{"$f":"DATA!L395","v":"Fem"},{"$f":"DATA!M395","v":""},{"$f":"DATA!N395","v":26},{"$f":"DATA!O395","v":"CZ00000043844953"},{"$f":"DATA!P395","v":"NL00202181200391"}]
[{"$f":"DATA!C396","v":"CZ00000049627953"},{"$f":"DATA!D396","v":""},{"$f":"DATA!E396","v":""},{"$f":"DATA!H396","v":0},{"$f":"DATA!I396","v":0},{"$f":"DATA!J396","v":""},{"$f":"DATA!K396","v":""},{"$f":"DATA!L396","v":""},{"$f":"DATA!M396","v":""},{"$f":"DATA!N396","v":15},{"$f":"DATA!O396","v":"CZ00000031824952"},{"$f":"DATA!P396","v":"NL00202181200391"}]
[{"$f":"DATA!C397","v":"CZ00000049628953"},{"$f":"DATA!D397","v":""},{"$f":"DATA!E397","v":""},{"$f":"DATA!H397","v":0},{"$f":"DATA!I397","v":0},{"$f":"DATA!J397","v":""},{"$f":"DATA!K397","v":""},{"$f":"DATA!L397","v":"Fem"},{"$f":"DATA!M397","v":""},{"$f":"DATA!N397","v":23},{"$f":"DATA!O397","v":"CZ00000038280953"},{"$f":"DATA!P397","v":"NL00202181200360"}]
[{"$f":"DATA!C398","v":"CZ00000049630953"},{"$f":"DATA!D398","v":""},{"$f":"DATA!E398","v":""},{"$f":"DATA!H398","v":0},{"$f":"DATA!I398","v":0},{"$f":"DATA!J398","v":""},{"$f":"DATA!K398","v":""},{"$f":"DATA!L398","v":"Fem"},{"$f":"DATA!M398","v":""},{"$f":"DATA!N398","v":23},{"$f":"DATA!O398","v":"CZ00000043852953"},{"$f":"DATA!P398","v":"CZ00000006233052"}]
[{"$f":"DATA!C399","v":"CZ00000049631953"},{"$f":"DATA!D399","v":""},{"$f":"DATA!E399","v":""},{"$f":"DATA!H399","v":0},{"$f":"DATA!I399","v":0},{"$f":"DATA!J399","v":""},{"$f":"DATA!K399","v":""},{"$f":"DATA!L399","v":""},{"$f":"DATA!M399","v":""},{"$f":"DATA!N399","v":27},{"$f":"DATA!O399","v":"CZ00000031824952"},{"$f":"DATA!P399","v":"NL00202181200391"}]
[{"$f":"DATA!C400","v":"CZ00000049654953"},{"$f":"DATA!D400","v":""},{"$f":"DATA!E400","v":""},{"$f":"DATA!H400","v":0},{"$f":"DATA!I400","v":0},{"$f":"DATA!J400","v":""},{"$f":"DATA!K400","v":""},{"$f":"DATA!L400","v":""},{"$f":"DATA!M400","v":""},{"$f":"DATA!N400","v":23},{"$f":"DATA!O400","v":"NL00262826040000"},{"$f":"DATA!P400","v":"CZ00000006233052"}]
[{"$f":"DATA!C401","v":"CZ00000049660953"},{"$f":"DATA!D401","v":""},{"$f":"DATA!E401","v":""},{"$f":"DATA!H401","v":0},{"$f":"DATA!I401","v":0},{"$f":"DATA!J401","v":""},{"$f":"DATA!K401","v":""},{"$f":"DATA!L401","v":""},{"$f":"DATA!M401","v":""},{"$f":"DATA!N401","v":31},{"$f":"DATA!O401","v":"CZ00000031825952"},{"$f":"DATA!P401","v":"NL00202181200391"}]
[{"$f":"DATA!C402","v":"CZ00000049665953"},{"$f":"DATA!D402","v":""},{"$f":"DATA!E402","v":""},{"$f":"DATA!H402","v":0},{"$f":"DATA!I402","v":0},{"$f":"DATA!J402","v":""},{"$f":"DATA!K402","v":""},{"$f":"DATA!L402","v":""},{"$f":"DATA!M402","v":""},{"$f":"DATA!N402","v":27},{"$f":"DATA!O402","v":"NL00262826043000"},{"$f":"DATA!P402","v":"CZ00000006233052"}]
[{"$f":"DATA!C403","v":"CZ00000049670953"},{"$f":"DATA!D403","v":""},{"$f":"DATA!E403","v":""},{"$f":"DATA!H403","v":0},{"$f":"DATA!I403","v":0},{"$f":"DATA!J403","v":""},{"$f":"DATA!K403","v":""},{"$f":"DATA!L403","v":"Fem"},{"$f":"DATA!M403","v":""},{"$f":"DATA!N403","v":24},{"$f":"DATA!O403","v":"CZ00000038281953"},{"$f":"DATA!P403","v":"NL00202181200391"}]
[{"$f":"DATA!C404","v":"CZ00000049671953"},{"$f":"DATA!D404","v":""},{"$f":"DATA!E404","v":""},{"$f":"DATA!H404","v":0},{"$f":"DATA!I404","v":0},{"$f":"DATA!J404","v":""},{"$f":"DATA!K404","v":""},{"$f":"DATA!L404","v":"Fem"},{"$f":"DATA!M404","v":""},{"$f":"DATA!N404","v":23},{"$f":"DATA!O404","v":"CZ00000038252953"},{"$f":"DATA!P404","v":"CZ00000006233052"}]
[{"$f":"DATA!C405","v":"CZ00000049672953"},{"$f":"DATA!D405","v":""},{"$f":"DATA!E405","v":""},{"$f":"DATA!H405","v":0},{"$f":"DATA!I405","v":0},{"$f":"DATA!J405","v":""},{"$f":"DATA!K405","v":""},{"$f":"DATA!L405","v":""},{"$f":"DATA!M405","v":""},{"$f":"DATA!N405","v":24},{"$f":"DATA!O405","v":"CZ00000038252953"},{"$f":"DATA!P405","v":"CZ00000006233052"}]
[{"$f":"DATA!C406","v":"CZ00000049674953"},{"$f":"DATA!D406","v":""},{"$f":"DATA!E406","v":""},{"$f":"DATA!H406","v":0},{"$f":"DATA!I406","v":0},{"$f":"DATA!J406","v":""},{"$f":"DATA!K406","v":""},{"$f":"DATA!L406","v":"Fem"},{"$f":"DATA!M406","v":""},{"$f":"DATA!N406","v":28},{"$f":"DATA!O406","v":"CZ00000038209953"},{"$f":"DATA!P406","v":"CZ00000006233052"}]
[{"$f":"DATA!C407","v":"CZ00000049960052"},{"$f":"DATA!D407","v":""},{"$f":"DATA!E407","v":""},{"$f":"DATA!H407","v":40900},{"$f":"DATA!I407","v":0},{"$f":"DATA!J407","v":"Berkovcová L"},{"$f":"DATA!K407","v":""},{"$f":"DATA!L407","v":"Mal"},{"$f":"DATA!M407","v":""},{"$f":"DATA!N407","v":28},{"$f":"DATA!O407","v":"CZ00000043876953"},{"$f":"DATA!P407","v":"FR00025081900018"}]
[{"$f":"DATA!C408","v":"CZ00000049961052"},{"$f":"DATA!D408","v":""},{"$f":"DATA!E408","v":""},{"$f":"DATA!H408","v":40900},{"$f":"DATA!I408","v":0},{"$f":"DATA!J408","v":"Berkovcová L"},{"$f":"DATA!K408","v":""},{"$f":"DATA!L408","v":"Mal"},{"$f":"DATA!M408","v":""},{"$f":"DATA!N408","v":30},{"$f":"DATA!O408","v":"CZ00000043876953"},{"$f":"DATA!P408","v":"FR00025081900018"}]
[{"$f":"DATA!C409","v":"CZ00000051694052"},{"$f":"DATA!D409","v":""},{"$f":"DATA!E409","v":""},{"$f":"DATA!H409","v":0},{"$f":"DATA!I409","v":0},{"$f":"DATA!J409","v":""},{"$f":"DATA!K409","v":""},{"$f":"DATA!L409","v":""},{"$f":"DATA!M409","v":""},{"$f":"DATA!N409","v":0},{"$f":"DATA!O409","v":"CZ00000049674953"},{"$f":"DATA!P409","v":"FR00025081900018"}]
[{"$f":"DATA!C410","v":"CZ00000051695052"},{"$f":"DATA!D410","v":""},{"$f":"DATA!E410","v":""},{"$f":"DATA!H410","v":"00:00:00"},{"$f":"DATA!I410","v":0},{"$f":"DATA!J410","v":""},{"$f":"DATA!K410","v":""},{"$f":"DATA!L410","v":""},{"$f":"DATA!M410","v":""},{"$f":"DATA!N410","v":0},{"$f":"DATA!O410","v":"CZ00000049674953"},{"$f":"DATA!P410","v":"FR00025081900018"}]
[{"$f":"DATA!C411","v":"CZ00000051696052"},{"$f":"DATA!D411","v":""},{"$f":"DATA!E411","v":""},{"$f":"DATA!H411","v":"00:00:00"},{"$f":"DATA!I411","v":0},{"$f":"DATA!J411","v":""},{"$f":"DATA!K411","v":""},{"$f":"DATA!L411","v":""},{"$f":"DATA!M411","v":""},{"$f":"DATA!N411","v":0},{"$f":"DATA!O411","v":"CZ00000049626953"},{"$f":"DATA!P411","v":"FR00025081900018"}]
[{"$f":"DATA!C412","v":"CZ00000051697052"},{"$f":"DATA!D412","v":""},{"$f":"DATA!E412","v":""},{"$f":"DATA!H412","v":0},{"$f":"DATA!I412","v":0},{"$f":"DATA!J412","v":""},{"$f":"DATA!K412","v":""},{"$f":"DATA!L412","v":""},{"$f":"DATA!M412","v":""},{"$f":"DATA!N412","v":0},{"$f":"DATA!O412","v":"CZ00000049626953"},{"$f":"DATA!P412","v":"FR00025081900018"}]
[{"$f":"DATA!C413","v":"CZ00000051698052"},{"$f":"DATA!D413","v":"JOE-0007"},{"$f":"DATA!E413","v":"JOEL"},{"$f":"DATA!H413","v":41014},{"$f":"DATA!I413","v":0},{"$f":"DATA!J413","v":""},{"$f":"DATA!K413","v":"ER"},{"$f":"DATA!L413","v":""},{"$f":"DATA!M413","v":"ARR/ARR"},{"$f":"DATA!N413","v":0},{"$f":"DATA!O413","v":"CZ00000049630953"},{"$f":"DATA!P413","v":"FR00025081900018"}]
[{"$f":"DATA!C414","v":"CZ00000051699052"},{"$f":"DATA!D414","v":""},{"$f":"DATA!E414","v":""},{"$f":"DATA!H414","v":0},{"$f":"DATA!I414","v":0},{"$f":"DATA!J414","v":""},{"$f":"DATA!K414","v":""},{"$f":"DATA!L414","v":""},{"$f":"DATA!M414","v":""},{"$f":"DATA!N414","v":0},{"$f":"DATA!O414","v":"CZ00000049671953"},{"$f":"DATA!P414","v":"FR00025081900018"}]
[{"$f":"DATA!C415","v":"CZ00000051700052"},{"$f":"DATA!D415","v":""},{"$f":"DATA!E415","v":""},{"$f":"DATA!H415","v":0},{"$f":"DATA!I415","v":0},{"$f":"DATA!J415","v":""},{"$f":"DATA!K415","v":""},{"$f":"DATA!L415","v":""},{"$f":"DATA!M415","v":""},{"$f":"DATA!N415","v":0},{"$f":"DATA!O415","v":"CZ00000049628953"},{"$f":"DATA!P415","v":"FR00025081900018"}]
[{"$f":"DATA!C416","v":"CZ00000051701052"},{"$f":"DATA!D416","v":""},{"$f":"DATA!E416","v":""},{"$f":"DATA!H416","v":0},{"$f":"DATA!I416","v":0},{"$f":"DATA!J416","v":""},{"$f":"DATA!K416","v":""},{"$f":"DATA!L416","v":""},{"$f":"DATA!M416","v":""},{"$f":"DATA!N416","v":0},{"$f":"DATA!O416","v":"CZ00000049621953"},{"$f":"DATA!P416","v":"FR00025081900018"}]
[{"$f":"DATA!C417","v":"CZ00000051771952"},{"$f":"DATA!D417","v":""},{"$f":"DATA!E417","v":""},{"$f":"DATA!H417","v":0},{"$f":"DATA!I417","v":0},{"$f":"DATA!J417","v":""},{"$f":"DATA!K417","v":""},{"$f":"DATA!L417","v":"Fem"},{"$f":"DATA!M417","v":""},{"$f":"DATA!N417","v":0},{"$f":"DATA!O417","v":""},{"$f":"DATA!P417","v":""}]
[{"$f":"DATA!C418","v":"CZ00000051772952"},{"$f":"DATA!D418","v":""},{"$f":"DATA!E418","v":""},{"$f":"DATA!H418","v":0},{"$f":"DATA!I418","v":0},{"$f":"DATA!J418","v":""},{"$f":"DATA!K418","v":""},{"$f":"DATA!L418","v":"Fem"},{"$f":"DATA!M418","v":""},{"$f":"DATA!N418","v":0},{"$f":"DATA!O418","v":""},{"$f":"DATA!P418","v":""}]
[{"$f":"DATA!C419","v":"CZ00000052183053"},{"$f":"DATA!D419","v":""},{"$f":"DATA!E419","v":""},{"$f":"DATA!H419","v":0},{"$f":"DATA!I419","v":0},{"$f":"DATA!J419","v":""},{"$f":"DATA!K419","v":""},{"$f":"DATA!L419","v":""},{"$f":"DATA!M419","v":""},{"$f":"DATA!N419","v":28},{"$f":"DATA!O419","v":"CZ00000043843953"},{"$f":"DATA!P419","v":"NL00109990802191"}]
[{"$f":"DATA!C420","v":"CZ00000052184053"},{"$f":"DATA!D420","v":""},{"$f":"DATA!E420","v":""},{"$f":"DATA!H420","v":0},{"$f":"DATA!I420","v":0},{"$f":"DATA!J420","v":""},{"$f":"DATA!K420","v":""},{"$f":"DATA!L420","v":""},{"$f":"DATA!M420","v":""},{"$f":"DATA!N420","v":23},{"$f":"DATA!O420","v":"CZ00000038209953"},{"$f":"DATA!P420","v":"NL00202181200360"}]
[{"$f":"DATA!C421","v":"CZ00000052188053"},{"$f":"DATA!D421","v":"TOO-0003"},{"$f":"DATA!E421","v":"TOORN"},{"$f":"DATA!H421","v":40936},{"$f":"DATA!I421","v":0},{"$f":"DATA!J421","v":""},{"$f":"DATA!K421","v":"ER"},{"$f":"DATA!L421","v":""},{"$f":"DATA!M421","v":"ARR/ARR"},{"$f":"DATA!N421","v":32},{"$f":"DATA!O421","v":"CZ00000026150953"},{"$f":"DATA!P421","v":"NL00109990802191"}]
[{"$f":"DATA!C422","v":"CZ00000052189053"},{"$f":"DATA!D422","v":""},{"$f":"DATA!E422","v":""},{"$f":"DATA!H422","v":0},{"$f":"DATA!I422","v":0},{"$f":"DATA!J422","v":""},{"$f":"DATA!K422","v":""},{"$f":"DATA!L422","v":""},{"$f":"DATA!M422","v":""},{"$f":"DATA!N422","v":18},{"$f":"DATA!O422","v":"CZ00000026150953"},{"$f":"DATA!P422","v":"NL00109990802191"}]
[{"$f":"DATA!C423","v":"CZ00000052192053"},{"$f":"DATA!D423","v":""},{"$f":"DATA!E423","v":""},{"$f":"DATA!H423","v":0},{"$f":"DATA!I423","v":0},{"$f":"DATA!J423","v":""},{"$f":"DATA!K423","v":""},{"$f":"DATA!L423","v":""},{"$f":"DATA!M423","v":""},{"$f":"DATA!N423","v":36},{"$f":"DATA!O423","v":"CZ00000031809952"},{"$f":"DATA!P423","v":"NL00202181200360"}]
[{"$f":"DATA!C424","v":"CZ00000052194053"},{"$f":"DATA!D424","v":""},{"$f":"DATA!E424","v":""},{"$f":"DATA!H424","v":0},{"$f":"DATA!I424","v":0},{"$f":"DATA!J424","v":""},{"$f":"DATA!K424","v":""},{"$f":"DATA!L424","v":""},{"$f":"DATA!M424","v":""},{"$f":"DATA!N424","v":26},{"$f":"DATA!O424","v":"NL00262826044000"},{"$f":"DATA!P424","v":"CZ00000006233052"}]
[{"$f":"DATA!C425","v":"CZ00000052195053"},{"$f":"DATA!D425","v":""},{"$f":"DATA!E425","v":""},{"$f":"DATA!H425","v":0},{"$f":"DATA!I425","v":0},{"$f":"DATA!J425","v":""},{"$f":"DATA!K425","v":""},{"$f":"DATA!L425","v":""},{"$f":"DATA!M425","v":""},{"$f":"DATA!N425","v":22},{"$f":"DATA!O425","v":"NL00262826044000"},{"$f":"DATA!P425","v":"CZ00000006233052"}]
[{"$f":"DATA!C426","v":"CZ00000052200053"},{"$f":"DATA!D426","v":""},{"$f":"DATA!E426","v":""},{"$f":"DATA!H426","v":0},{"$f":"DATA!I426","v":0},{"$f":"DATA!J426","v":""},{"$f":"DATA!K426","v":""},{"$f":"DATA!L426","v":""},{"$f":"DATA!M426","v":""},{"$f":"DATA!N426","v":39},{"$f":"DATA!O426","v":"FR00000000990113"},{"$f":"DATA!P426","v":"CZ00000006233052"}]
[{"$f":"DATA!C427","v":"CZ00000052202053"},{"$f":"DATA!D427","v":""},{"$f":"DATA!E427","v":""},{"$f":"DATA!H427","v":0},{"$f":"DATA!I427","v":0},{"$f":"DATA!J427","v":""},{"$f":"DATA!K427","v":""},{"$f":"DATA!L427","v":""},{"$f":"DATA!M427","v":""},{"$f":"DATA!N427","v":43},{"$f":"DATA!O427","v":"CZ00000021253952"},{"$f":"DATA!P427","v":"NL00109990802191"}]
[{"$f":"DATA!C428","v":"CZ00000052206053"},{"$f":"DATA!D428","v":""},{"$f":"DATA!E428","v":""},{"$f":"DATA!H428","v":0},{"$f":"DATA!I428","v":0},{"$f":"DATA!J428","v":""},{"$f":"DATA!K428","v":""},{"$f":"DATA!L428","v":""},{"$f":"DATA!M428","v":""},{"$f":"DATA!N428","v":22},{"$f":"DATA!O428","v":"CZ00000038212953"},{"$f":"DATA!P428","v":"CZ00000006233052"}]
[{"$f":"DATA!C429","v":"CZ00000052207053"},{"$f":"DATA!D429","v":""},{"$f":"DATA!E429","v":""},{"$f":"DATA!H429","v":0},{"$f":"DATA!I429","v":0},{"$f":"DATA!J429","v":""},{"$f":"DATA!K429","v":""},{"$f":"DATA!L429","v":""},{"$f":"DATA!M429","v":""},{"$f":"DATA!N429","v":18},{"$f":"DATA!O429","v":"CZ00000038212953"},{"$f":"DATA!P429","v":"CZ00000006233052"}]
[{"$f":"DATA!C430","v":"CZ00000052208053"},{"$f":"DATA!D430","v":""},{"$f":"DATA!E430","v":""},{"$f":"DATA!H430","v":0},{"$f":"DATA!I430","v":0},{"$f":"DATA!J430","v":""},{"$f":"DATA!K430","v":""},{"$f":"DATA!L430","v":""},{"$f":"DATA!M430","v":""},{"$f":"DATA!N430","v":25},{"$f":"DATA!O430","v":"CZ00000043899953"},{"$f":"DATA!P430","v":"NL00109990802191"}]
[{"$f":"DATA!C431","v":"CZ00000052210053"},{"$f":"DATA!D431","v":""},{"$f":"DATA!E431","v":""},{"$f":"DATA!H431","v":0},{"$f":"DATA!I431","v":0},{"$f":"DATA!J431","v":""},{"$f":"DATA!K431","v":""},{"$f":"DATA!L431","v":""},{"$f":"DATA!M431","v":""},{"$f":"DATA!N431","v":34},{"$f":"DATA!O431","v":"CZ00000003113505"},{"$f":"DATA!P431","v":"NL00109990802191"}]
[{"$f":"DATA!C432","v":"CZ00000052211053"},{"$f":"DATA!D432","v":""},{"$f":"DATA!E432","v":""},{"$f":"DATA!H432","v":0},{"$f":"DATA!I432","v":0},{"$f":"DATA!J432","v":""},{"$f":"DATA!K432","v":""},{"$f":"DATA!L432","v":""},{"$f":"DATA!M432","v":""},{"$f":"DATA!N432","v":30},{"$f":"DATA!O432","v":"CZ00000038208953"},{"$f":"DATA!P432","v":"NL00202181200360"}]
[{"$f":"DATA!C433","v":"CZ00000052212053"},{"$f":"DATA!D433","v":""},{"$f":"DATA!E433","v":""},{"$f":"DATA!H433","v":0},{"$f":"DATA!I433","v":0},{"$f":"DATA!J433","v":""},{"$f":"DATA!K433","v":""},{"$f":"DATA!L433","v":""},{"$f":"DATA!M433","v":""},{"$f":"DATA!N433","v":21},{"$f":"DATA!O433","v":"CZ00000043844953"},{"$f":"DATA!P433","v":"NL00109990802191"}]
[{"$f":"DATA!C434","v":"CZ00000052213053"},{"$f":"DATA!D434","v":""},{"$f":"DATA!E434","v":""},{"$f":"DATA!H434","v":0},{"$f":"DATA!I434","v":0},{"$f":"DATA!J434","v":""},{"$f":"DATA!K434","v":""},{"$f":"DATA!L434","v":""},{"$f":"DATA!M434","v":""},{"$f":"DATA!N434","v":33},{"$f":"DATA!O434","v":"CZ00000038211953"},{"$f":"DATA!P434","v":"NL00109990802191"}]
[{"$f":"DATA!C435","v":"CZ00000052214053"},{"$f":"DATA!D435","v":"TOO-0008"},{"$f":"DATA!E435","v":"TOORN"},{"$f":"DATA!H435","v":40954},{"$f":"DATA!I435","v":0},{"$f":"DATA!J435","v":""},{"$f":"DATA!K435","v":"ER"},{"$f":"DATA!L435","v":""},{"$f":"DATA!M435","v":"ARR/AHQ"},{"$f":"DATA!N435","v":31},{"$f":"DATA!O435","v":"CZ00000038252953"},{"$f":"DATA!P435","v":"NL00109990802191"}]
[{"$f":"DATA!C436","v":"CZ00000052215053"},{"$f":"DATA!D436","v":""},{"$f":"DATA!E436","v":""},{"$f":"DATA!H436","v":0},{"$f":"DATA!I436","v":0},{"$f":"DATA!J436","v":""},{"$f":"DATA!K436","v":""},{"$f":"DATA!L436","v":""},{"$f":"DATA!M436","v":""},{"$f":"DATA!N436","v":33},{"$f":"DATA!O436","v":"CZ00000043897953"},{"$f":"DATA!P436","v":"NL00109990802191"}]
[{"$f":"DATA!C437","v":"CZ00000052216053"},{"$f":"DATA!D437","v":""},{"$f":"DATA!E437","v":""},{"$f":"DATA!H437","v":0},{"$f":"DATA!I437","v":0},{"$f":"DATA!J437","v":""},{"$f":"DATA!K437","v":""},{"$f":"DATA!L437","v":""},{"$f":"DATA!M437","v":""},{"$f":"DATA!N437","v":23},{"$f":"DATA!O437","v":"CZ00000043897953"},{"$f":"DATA!P437","v":"NL00109990802191"}]
[{"$f":"DATA!C438","v":"CZ00000052217053"},{"$f":"DATA!D438","v":""},{"$f":"DATA!E438","v":""},{"$f":"DATA!H438","v":0},{"$f":"DATA!I438","v":0},{"$f":"DATA!J438","v":""},{"$f":"DATA!K438","v":""},{"$f":"DATA!L438","v":""},{"$f":"DATA!M438","v":""},{"$f":"DATA!N438","v":39},{"$f":"DATA!O438","v":"CZ00000038213953"},{"$f":"DATA!P438","v":"NL00109990802191"}]
[{"$f":"DATA!C439","v":"CZ00000052218053"},{"$f":"DATA!D439","v":""},{"$f":"DATA!E439","v":""},{"$f":"DATA!H439","v":0},{"$f":"DATA!I439","v":0},{"$f":"DATA!J439","v":""},{"$f":"DATA!K439","v":""},{"$f":"DATA!L439","v":""},{"$f":"DATA!M439","v":""},{"$f":"DATA!N439","v":30},{"$f":"DATA!O439","v":"CZ00000043852953"},{"$f":"DATA!P439","v":"NL00109990802191"}]
[{"$f":"DATA!C440","v":"CZ00000052638053"},{"$f":"DATA!D440","v":""},{"$f":"DATA!E440","v":""},{"$f":"DATA!H440","v":0},{"$f":"DATA!I440","v":0},{"$f":"DATA!J440","v":""},{"$f":"DATA!K440","v":""},{"$f":"DATA!L440","v":""},{"$f":"DATA!M440","v":""},{"$f":"DATA!N440","v":0},{"$f":"DATA!O440","v":"NL00109990202896"},{"$f":"DATA!P440","v":"NL00109990202531"}]
[{"$f":"DATA!C441","v":"CZ00000056838952"},{"$f":"DATA!D441","v":""},{"$f":"DATA!E441","v":""},{"$f":"DATA!H441","v":0},{"$f":"DATA!I441","v":0},{"$f":"DATA!J441","v":""},{"$f":"DATA!K441","v":""},{"$f":"DATA!L441","v":""},{"$f":"DATA!M441","v":""},{"$f":"DATA!N441","v":32},{"$f":"DATA!O441","v":"CZ00000040483952"},{"$f":"DATA!P441","v":"FR00025081900082"}]
[{"$f":"DATA!C442","v":"CZ00000056842952"},{"$f":"DATA!D442","v":""},{"$f":"DATA!E442","v":""},{"$f":"DATA!H442","v":0},{"$f":"DATA!I442","v":0},{"$f":"DATA!J442","v":""},{"$f":"DATA!K442","v":""},{"$f":"DATA!L442","v":""},{"$f":"DATA!M442","v":""},{"$f":"DATA!N442","v":31},{"$f":"DATA!O442","v":"CZ00000040473952"},{"$f":"DATA!P442","v":"FR00025081900082"}]
[{"$f":"DATA!C443","v":"CZ00000056843952"},{"$f":"DATA!D443","v":""},{"$f":"DATA!E443","v":""},{"$f":"DATA!H443","v":0},{"$f":"DATA!I443","v":0},{"$f":"DATA!J443","v":""},{"$f":"DATA!K443","v":""},{"$f":"DATA!L443","v":""},{"$f":"DATA!M443","v":""},{"$f":"DATA!N443","v":37},{"$f":"DATA!O443","v":"CZ00000031823952"},{"$f":"DATA!P443","v":"FR00025081900082"}]
[{"$f":"DATA!C444","v":"CZ00000056848952"},{"$f":"DATA!D444","v":""},{"$f":"DATA!E444","v":""},{"$f":"DATA!H444","v":0},{"$f":"DATA!I444","v":0},{"$f":"DATA!J444","v":""},{"$f":"DATA!K444","v":""},{"$f":"DATA!L444","v":""},{"$f":"DATA!M444","v":""},{"$f":"DATA!N444","v":38},{"$f":"DATA!O444","v":"CZ00000040454952"},{"$f":"DATA!P444","v":"FR00025081900082"}]
[{"$f":"DATA!C445","v":"CZ00000056849952"},{"$f":"DATA!D445","v":""},{"$f":"DATA!E445","v":""},{"$f":"DATA!H445","v":0},{"$f":"DATA!I445","v":0},{"$f":"DATA!J445","v":""},{"$f":"DATA!K445","v":""},{"$f":"DATA!L445","v":""},{"$f":"DATA!M445","v":""},{"$f":"DATA!N445","v":21},{"$f":"DATA!O445","v":"CZ00000040475952"},{"$f":"DATA!P445","v":"FR00025081900082"}]
[{"$f":"DATA!C446","v":"CZ00000056851952"},{"$f":"DATA!D446","v":""},{"$f":"DATA!E446","v":""},{"$f":"DATA!H446","v":0},{"$f":"DATA!I446","v":0},{"$f":"DATA!J446","v":""},{"$f":"DATA!K446","v":""},{"$f":"DATA!L446","v":""},{"$f":"DATA!M446","v":""},{"$f":"DATA!N446","v":35},{"$f":"DATA!O446","v":"CZ00000040449952"},{"$f":"DATA!P446","v":"FR00025081900082"}]
[{"$f":"DATA!C447","v":"CZ00000056853952"},{"$f":"DATA!D447","v":""},{"$f":"DATA!E447","v":""},{"$f":"DATA!H447","v":0},{"$f":"DATA!I447","v":0},{"$f":"DATA!J447","v":""},{"$f":"DATA!K447","v":""},{"$f":"DATA!L447","v":""},{"$f":"DATA!M447","v":""},{"$f":"DATA!N447","v":24},{"$f":"DATA!O447","v":"CZ00000040471952"},{"$f":"DATA!P447","v":"FR00025081900082"}]
[{"$f":"DATA!C448","v":"CZ00000056855952"},{"$f":"DATA!D448","v":""},{"$f":"DATA!E448","v":""},{"$f":"DATA!H448","v":0},{"$f":"DATA!I448","v":0},{"$f":"DATA!J448","v":""},{"$f":"DATA!K448","v":""},{"$f":"DATA!L448","v":""},{"$f":"DATA!M448","v":""},{"$f":"DATA!N448","v":30},{"$f":"DATA!O448","v":"CZ00000040511952"},{"$f":"DATA!P448","v":"FR00025081900082"}]
[{"$f":"DATA!C449","v":"CZ00000056857952"},{"$f":"DATA!D449","v":""},{"$f":"DATA!E449","v":""},{"$f":"DATA!H449","v":0},{"$f":"DATA!I449","v":0},{"$f":"DATA!J449","v":""},{"$f":"DATA!K449","v":""},{"$f":"DATA!L449","v":""},{"$f":"DATA!M449","v":""},{"$f":"DATA!N449","v":0},{"$f":"DATA!O449","v":"CZ00000040466952"},{"$f":"DATA!P449","v":"FR00025081900082"}]
[{"$f":"DATA!C450","v":"CZ00000057026952"},{"$f":"DATA!D450","v":""},{"$f":"DATA!E450","v":""},{"$f":"DATA!H450","v":0},{"$f":"DATA!I450","v":0},{"$f":"DATA!J450","v":""},{"$f":"DATA!K450","v":""},{"$f":"DATA!L450","v":"Fem"},{"$f":"DATA!M450","v":""},{"$f":"DATA!N450","v":0},{"$f":"DATA!O450","v":""},{"$f":"DATA!P450","v":""}]
[{"$f":"DATA!C451","v":"CZ00000057027952"},{"$f":"DATA!D451","v":""},{"$f":"DATA!E451","v":""},{"$f":"DATA!H451","v":0},{"$f":"DATA!I451","v":0},{"$f":"DATA!J451","v":""},{"$f":"DATA!K451","v":""},{"$f":"DATA!L451","v":"Fem"},{"$f":"DATA!M451","v":""},{"$f":"DATA!N451","v":0},{"$f":"DATA!O451","v":""},{"$f":"DATA!P451","v":""}]
[{"$f":"DATA!C452","v":"CZ00000057032952"},{"$f":"DATA!D452","v":""},{"$f":"DATA!E452","v":""},{"$f":"DATA!H452","v":0},{"$f":"DATA!I452","v":0},{"$f":"DATA!J452","v":""},{"$f":"DATA!K452","v":""},{"$f":"DATA!L452","v":"Fem"},{"$f":"DATA!M452","v":""},{"$f":"DATA!N452","v":28},{"$f":"DATA!O452","v":"FR00025081900031"},{"$f":"DATA!P452","v":"CZ00000035187052"}]
[{"$f":"DATA!C453","v":"CZ00000057037952"},{"$f":"DATA!D453","v":""},{"$f":"DATA!E453","v":""},{"$f":"DATA!H453","v":0},{"$f":"DATA!I453","v":0},{"$f":"DATA!J453","v":""},{"$f":"DATA!K453","v":""},{"$f":"DATA!L453","v":"Fem"},{"$f":"DATA!M453","v":""},{"$f":"DATA!N453","v":33},{"$f":"DATA!O453","v":"FR00025081900093"},{"$f":"DATA!P453","v":"CZ00000035187052"}]
[{"$f":"DATA!C454","v":"CZ00000057040952"},{"$f":"DATA!D454","v":""},{"$f":"DATA!E454","v":""},{"$f":"DATA!H454","v":0},{"$f":"DATA!I454","v":0},{"$f":"DATA!J454","v":""},{"$f":"DATA!K454","v":""},{"$f":"DATA!L454","v":""},{"$f":"DATA!M454","v":""},{"$f":"DATA!N454","v":0},{"$f":"DATA!O454","v":"FR00025081900093"},{"$f":"DATA!P454","v":"CZ00000048517053"}]
[{"$f":"DATA!C455","v":"CZ00000057042952"},{"$f":"DATA!D455","v":""},{"$f":"DATA!E455","v":""},{"$f":"DATA!H455","v":0},{"$f":"DATA!I455","v":0},{"$f":"DATA!J455","v":""},{"$f":"DATA!K455","v":""},{"$f":"DATA!L455","v":""},{"$f":"DATA!M455","v":""},{"$f":"DATA!N455","v":0},{"$f":"DATA!O455","v":"FR00025081900093"},{"$f":"DATA!P455","v":"CZ00000048517053"}]
[{"$f":"DATA!C456","v":"CZ00000057043952"},{"$f":"DATA!D456","v":""},{"$f":"DATA!E456","v":""},{"$f":"DATA!H456","v":0},{"$f":"DATA!I456","v":0},{"$f":"DATA!J456","v":""},{"$f":"DATA!K456","v":""},{"$f":"DATA!L456","v":""},{"$f":"DATA!M456","v":""},{"$f":"DATA!N456","v":0},{"$f":"DATA!O456","v":"CZ00000051772952"},{"$f":"DATA!P456","v":"CZ00000048517053"}]
[{"$f":"DATA!C457","v":"CZ00000057045952"},{"$f":"DATA!D457","v":""},{"$f":"DATA!E457","v":""},{"$f":"DATA!H457","v":0},{"$f":"DATA!I457","v":0},{"$f":"DATA!J457","v":""},{"$f":"DATA!K457","v":""},{"$f":"DATA!L457","v":""},{"$f":"DATA!M457","v":""},{"$f":"DATA!N457","v":0},{"$f":"DATA!O457","v":"CZ00000057027952"},{"$f":"DATA!P457","v":"CZ00000048517053"}]
[{"$f":"DATA!C458","v":"CZ00000057598031"},{"$f":"DATA!D458","v":""},{"$f":"DATA!E458","v":""},{"$f":"DATA!H458","v":0},{"$f":"DATA!I458","v":0},{"$f":"DATA!J458","v":""},{"$f":"DATA!K458","v":""},{"$f":"DATA!L458","v":""},{"$f":"DATA!M458","v":""},{"$f":"DATA!N458","v":26},{"$f":"DATA!O458","v":"FR00025081900112"},{"$f":"DATA!P458","v":"FR00025081900018"}]
[{"$f":"DATA!C459","v":"CZ00000057599031"},{"$f":"DATA!D459","v":""},{"$f":"DATA!E459","v":""},{"$f":"DATA!H459","v":0},{"$f":"DATA!I459","v":0},{"$f":"DATA!J459","v":""},{"$f":"DATA!K459","v":""},{"$f":"DATA!L459","v":""},{"$f":"DATA!M459","v":""},{"$f":"DATA!N459","v":34},{"$f":"DATA!O459","v":"FR00025081900112"},{"$f":"DATA!P459","v":"FR00025081900018"}]
[{"$f":"DATA!C460","v":"CZ00000057600031"},{"$f":"DATA!D460","v":""},{"$f":"DATA!E460","v":""},{"$f":"DATA!H460","v":0},{"$f":"DATA!I460","v":0},{"$f":"DATA!J460","v":""},{"$f":"DATA!K460","v":""},{"$f":"DATA!L460","v":""},{"$f":"DATA!M460","v":""},{"$f":"DATA!N460","v":0},{"$f":"DATA!O460","v":"FR00025081900112"},{"$f":"DATA!P460","v":"FR00025081900018"}]
[{"$f":"DATA!C461","v":"CZ00000057601031"},{"$f":"DATA!D461","v":""},{"$f":"DATA!E461","v":""},{"$f":"DATA!H461","v":0},{"$f":"DATA!I461","v":0},{"$f":"DATA!J461","v":""},{"$f":"DATA!K461","v":""},{"$f":"DATA!L461","v":""},{"$f":"DATA!M461","v":""},{"$f":"DATA!N461","v":34},{"$f":"DATA!O461","v":"FR00025081900120"},{"$f":"DATA!P461","v":"FR00025081900018"}]
[{"$f":"DATA!C462","v":"CZ00000057602031"},{"$f":"DATA!D462","v":""},{"$f":"DATA!E462","v":""},{"$f":"DATA!H462","v":0},{"$f":"DATA!I462","v":0},{"$f":"DATA!J462","v":""},{"$f":"DATA!K462","v":""},{"$f":"DATA!L462","v":""},{"$f":"DATA!M462","v":""},{"$f":"DATA!N462","v":32},{"$f":"DATA!O462","v":"FR00025081900120"},{"$f":"DATA!P462","v":"FR00025081900018"}]
[{"$f":"DATA!C463","v":"CZ00000057603031"},{"$f":"DATA!D463","v":""},{"$f":"DATA!E463","v":""},{"$f":"DATA!H463","v":0},{"$f":"DATA!I463","v":0},{"$f":"DATA!J463","v":""},{"$f":"DATA!K463","v":""},{"$f":"DATA!L463","v":""},{"$f":"DATA!M463","v":""},{"$f":"DATA!N463","v":0},{"$f":"DATA!O463","v":"NL00109990403545"},{"$f":"DATA!P463","v":"CZ00000006233052"}]
[{"$f":"DATA!C464","v":"CZ00000058495952"},{"$f":"DATA!D464","v":""},{"$f":"DATA!E464","v":""},{"$f":"DATA!H464","v":40902},{"$f":"DATA!I464","v":0},{"$f":"DATA!J464","v":"Berkovcová L"},{"$f":"DATA!K464","v":""},{"$f":"DATA!L464","v":"Fem"},{"$f":"DATA!M464","v":""},{"$f":"DATA!N464","v":34},{"$f":"DATA!O464","v":"CZ00000043894953"},{"$f":"DATA!P464","v":"FR00025081900018"}]
[{"$f":"DATA!C465","v":"CZ00000059758953"},{"$f":"DATA!D465","v":""},{"$f":"DATA!E465","v":""},{"$f":"DATA!H465","v":0},{"$f":"DATA!I465","v":0},{"$f":"DATA!J465","v":""},{"$f":"DATA!K465","v":""},{"$f":"DATA!L465","v":""},{"$f":"DATA!M465","v":""},{"$f":"DATA!N465","v":30},{"$f":"DATA!O465","v":"CZ00000038270953"},{"$f":"DATA!P465","v":"NL00202181200360"}]
[{"$f":"DATA!C466","v":"CZ00000059759953"},{"$f":"DATA!D466","v":""},{"$f":"DATA!E466","v":""},{"$f":"DATA!H466","v":0},{"$f":"DATA!I466","v":0},{"$f":"DATA!J466","v":""},{"$f":"DATA!K466","v":""},{"$f":"DATA!L466","v":""},{"$f":"DATA!M466","v":""},{"$f":"DATA!N466","v":33},{"$f":"DATA!O466","v":"CZ00000038270953"},{"$f":"DATA!P466","v":"NL00202181200360"}]
[{"$f":"DATA!C467","v":"CZ00000059763953"},{"$f":"DATA!D467","v":""},{"$f":"DATA!E467","v":""},{"$f":"DATA!H467","v":"00:00:00"},{"$f":"DATA!I467","v":0},{"$f":"DATA!J467","v":""},{"$f":"DATA!K467","v":""},{"$f":"DATA!L467","v":""},{"$f":"DATA!M467","v":""},{"$f":"DATA!N467","v":29},{"$f":"DATA!O467","v":"CZ00000038209953"},{"$f":"DATA!P467","v":"NL00202181200360"}]
[{"$f":"DATA!C468","v":"CZ00000059764953"},{"$f":"DATA!D468","v":""},{"$f":"DATA!E468","v":""},{"$f":"DATA!H468","v":0},{"$f":"DATA!I468","v":0},{"$f":"DATA!J468","v":""},{"$f":"DATA!K468","v":""},{"$f":"DATA!L468","v":""},{"$f":"DATA!M468","v":""},{"$f":"DATA!N468","v":28},{"$f":"DATA!O468","v":"CZ00000043843953"},{"$f":"DATA!P468","v":"NL00109990802191"}]
[{"$f":"DATA!C469","v":"CZ00000059765953"},{"$f":"DATA!D469","v":""},{"$f":"DATA!E469","v":""},{"$f":"DATA!H469","v":0},{"$f":"DATA!I469","v":0},{"$f":"DATA!J469","v":""},{"$f":"DATA!K469","v":""},{"$f":"DATA!L469","v":""},{"$f":"DATA!M469","v":""},{"$f":"DATA!N469","v":34},{"$f":"DATA!O469","v":"NL00262826040000"},{"$f":"DATA!P469","v":"NL00109990802191"}]
[{"$f":"DATA!C470","v":"CZ00000059768953"},{"$f":"DATA!D470","v":""},{"$f":"DATA!E470","v":""},{"$f":"DATA!H470","v":0},{"$f":"DATA!I470","v":0},{"$f":"DATA!J470","v":""},{"$f":"DATA!K470","v":""},{"$f":"DATA!L470","v":""},{"$f":"DATA!M470","v":""},{"$f":"DATA!N470","v":23},{"$f":"DATA!O470","v":"CZ00000026150953"},{"$f":"DATA!P470","v":"NL00109990802191"}]
[{"$f":"DATA!C471","v":"CZ00000059775953"},{"$f":"DATA!D471","v":""},{"$f":"DATA!E471","v":""},{"$f":"DATA!H471","v":0},{"$f":"DATA!I471","v":0},{"$f":"DATA!J471","v":""},{"$f":"DATA!K471","v":""},{"$f":"DATA!L471","v":""},{"$f":"DATA!M471","v":""},{"$f":"DATA!N471","v":31},{"$f":"DATA!O471","v":"CZ00000031809952"},{"$f":"DATA!P471","v":"NL00202181200360"}]
[{"$f":"DATA!C472","v":"CZ00000059787953"},{"$f":"DATA!D472","v":""},{"$f":"DATA!E472","v":""},{"$f":"DATA!H472","v":0},{"$f":"DATA!I472","v":0},{"$f":"DATA!J472","v":""},{"$f":"DATA!K472","v":""},{"$f":"DATA!L472","v":""},{"$f":"DATA!M472","v":""},{"$f":"DATA!N472","v":24},{"$f":"DATA!O472","v":"NL00262826041000"},{"$f":"DATA!P472","v":"NL00109990802191"}]
[{"$f":"DATA!C473","v":"CZ00000059788953"},{"$f":"DATA!D473","v":""},{"$f":"DATA!E473","v":""},{"$f":"DATA!H473","v":0},{"$f":"DATA!I473","v":0},{"$f":"DATA!J473","v":""},{"$f":"DATA!K473","v":""},{"$f":"DATA!L473","v":""},{"$f":"DATA!M473","v":""},{"$f":"DATA!N473","v":23},{"$f":"DATA!O473","v":"NL00262826041000"},{"$f":"DATA!P473","v":"NL00109990802191"}]
[{"$f":"DATA!C474","v":"CZ00000059789953"},{"$f":"DATA!D474","v":""},{"$f":"DATA!E474","v":""},{"$f":"DATA!H474","v":0},{"$f":"DATA!I474","v":0},{"$f":"DATA!J474","v":""},{"$f":"DATA!K474","v":""},{"$f":"DATA!L474","v":""},{"$f":"DATA!M474","v":""},{"$f":"DATA!N474","v":18},{"$f":"DATA!O474","v":"CZ00000038212953"},{"$f":"DATA!P474","v":"CZ00000006233052"}]
[{"$f":"DATA!C475","v":"CZ00000059790953"},{"$f":"DATA!D475","v":""},{"$f":"DATA!E475","v":""},{"$f":"DATA!H475","v":0},{"$f":"DATA!I475","v":0},{"$f":"DATA!J475","v":""},{"$f":"DATA!K475","v":""},{"$f":"DATA!L475","v":""},{"$f":"DATA!M475","v":""},{"$f":"DATA!N475","v":21},{"$f":"DATA!O475","v":"CZ00000043899953"},{"$f":"DATA!P475","v":"NL00109990802191"}]
[{"$f":"DATA!C476","v":"CZ00000059793953"},{"$f":"DATA!D476","v":""},{"$f":"DATA!E476","v":""},{"$f":"DATA!H476","v":0},{"$f":"DATA!I476","v":0},{"$f":"DATA!J476","v":""},{"$f":"DATA!K476","v":""},{"$f":"DATA!L476","v":""},{"$f":"DATA!M476","v":""},{"$f":"DATA!N476","v":21},{"$f":"DATA!O476","v":"CZ00000038280953"},{"$f":"DATA!P476","v":"NL00109990802191"}]
[{"$f":"DATA!C477","v":"CZ00000059794953"},{"$f":"DATA!D477","v":""},{"$f":"DATA!E477","v":""},{"$f":"DATA!H477","v":0},{"$f":"DATA!I477","v":0},{"$f":"DATA!J477","v":""},{"$f":"DATA!K477","v":""},{"$f":"DATA!L477","v":""},{"$f":"DATA!M477","v":""},{"$f":"DATA!N477","v":29},{"$f":"DATA!O477","v":"CZ00000038280953"},{"$f":"DATA!P477","v":"NL00109990802191"}]
[{"$f":"DATA!C478","v":"CZ00000059795953"},{"$f":"DATA!D478","v":""},{"$f":"DATA!E478","v":""},{"$f":"DATA!H478","v":0},{"$f":"DATA!I478","v":0},{"$f":"DATA!J478","v":""},{"$f":"DATA!K478","v":""},{"$f":"DATA!L478","v":""},{"$f":"DATA!M478","v":""},{"$f":"DATA!N478","v":24},{"$f":"DATA!O478","v":"CZ00000038208953"},{"$f":"DATA!P478","v":"NL00202181200360"}]
[{"$f":"DATA!C479","v":"CZ00000059796953"},{"$f":"DATA!D479","v":""},{"$f":"DATA!E479","v":""},{"$f":"DATA!H479","v":0},{"$f":"DATA!I479","v":0},{"$f":"DATA!J479","v":""},{"$f":"DATA!K479","v":""},{"$f":"DATA!L479","v":""},{"$f":"DATA!M479","v":""},{"$f":"DATA!N479","v":38},{"$f":"DATA!O479","v":"CZ00000026155953"},{"$f":"DATA!P479","v":"NL00109990802191"}]
[{"$f":"DATA!C480","v":"CZ00000059797953"},{"$f":"DATA!D480","v":""},{"$f":"DATA!E480","v":""},{"$f":"DATA!H480","v":0},{"$f":"DATA!I480","v":0},{"$f":"DATA!J480","v":""},{"$f":"DATA!K480","v":""},{"$f":"DATA!L480","v":""},{"$f":"DATA!M480","v":""},{"$f":"DATA!N480","v":24},{"$f":"DATA!O480","v":"CZ00000043844953"},{"$f":"DATA!P480","v":"NL00109990802191"}]
[{"$f":"DATA!C481","v":"CZ00000059798953"},{"$f":"DATA!D481","v":""},{"$f":"DATA!E481","v":""},{"$f":"DATA!H481","v":0},{"$f":"DATA!I481","v":0},{"$f":"DATA!J481","v":""},{"$f":"DATA!K481","v":""},{"$f":"DATA!L481","v":""},{"$f":"DATA!M481","v":""},{"$f":"DATA!N481","v":25},{"$f":"DATA!O481","v":"NL00262826043000"},{"$f":"DATA!P481","v":"CZ00000006233052"}]
[{"$f":"DATA!C482","v":"CZ00000059799953"},{"$f":"DATA!D482","v":""},{"$f":"DATA!E482","v":""},{"$f":"DATA!H482","v":0},{"$f":"DATA!I482","v":0},{"$f":"DATA!J482","v":""},{"$f":"DATA!K482","v":""},{"$f":"DATA!L482","v":""},{"$f":"DATA!M482","v":""},{"$f":"DATA!N482","v":22},{"$f":"DATA!O482","v":"NL00262826043000"},{"$f":"DATA!P482","v":"CZ00000006233052"}]
[{"$f":"DATA!C483","v":"CZ00000059800953"},{"$f":"DATA!D483","v":""},{"$f":"DATA!E483","v":""},{"$f":"DATA!H483","v":0},{"$f":"DATA!I483","v":0},{"$f":"DATA!J483","v":""},{"$f":"DATA!K483","v":""},{"$f":"DATA!L483","v":""},{"$f":"DATA!M483","v":""},{"$f":"DATA!N483","v":23},{"$f":"DATA!O483","v":"CZ00000038252953"},{"$f":"DATA!P483","v":"NL00109990802191"}]
[{"$f":"DATA!C484","v":"CZ00000059801953"},{"$f":"DATA!D484","v":""},{"$f":"DATA!E484","v":""},{"$f":"DATA!H484","v":0},{"$f":"DATA!I484","v":0},{"$f":"DATA!J484","v":""},{"$f":"DATA!K484","v":""},{"$f":"DATA!L484","v":""},{"$f":"DATA!M484","v":""},{"$f":"DATA!N484","v":29},{"$f":"DATA!O484","v":"NL00109990402410"},{"$f":"DATA!P484","v":"NL00109990802191"}]
[{"$f":"DATA!C485","v":"CZ00000059802953"},{"$f":"DATA!D485","v":""},{"$f":"DATA!E485","v":""},{"$f":"DATA!H485","v":0},{"$f":"DATA!I485","v":0},{"$f":"DATA!J485","v":""},{"$f":"DATA!K485","v":""},{"$f":"DATA!L485","v":""},{"$f":"DATA!M485","v":""},{"$f":"DATA!N485","v":25},{"$f":"DATA!O485","v":"NL00109990402410"},{"$f":"DATA!P485","v":"NL00109990802191"}]
[{"$f":"DATA!C486","v":"CZ00000059803953"},{"$f":"DATA!D486","v":""},{"$f":"DATA!E486","v":""},{"$f":"DATA!H486","v":0},{"$f":"DATA!I486","v":0},{"$f":"DATA!J486","v":""},{"$f":"DATA!K486","v":""},{"$f":"DATA!L486","v":""},{"$f":"DATA!M486","v":""},{"$f":"DATA!N486","v":28},{"$f":"DATA!O486","v":"CZ00000021279952"},{"$f":"DATA!P486","v":"NL00109990802191"}]
[{"$f":"DATA!C487","v":"CZ00000059804953"},{"$f":"DATA!D487","v":""},{"$f":"DATA!E487","v":""},{"$f":"DATA!H487","v":0},{"$f":"DATA!I487","v":0},{"$f":"DATA!J487","v":""},{"$f":"DATA!K487","v":""},{"$f":"DATA!L487","v":""},{"$f":"DATA!M487","v":""},{"$f":"DATA!N487","v":2},{"$f":"DATA!O487","v":"CZ00000021279952"},{"$f":"DATA!P487","v":"NL00109990802191"}]
[{"$f":"DATA!C488","v":"CZ00000059805953"},{"$f":"DATA!D488","v":""},{"$f":"DATA!E488","v":""},{"$f":"DATA!H488","v":0},{"$f":"DATA!I488","v":0},{"$f":"DATA!J488","v":""},{"$f":"DATA!K488","v":""},{"$f":"DATA!L488","v":""},{"$f":"DATA!M488","v":""},{"$f":"DATA!N488","v":25},{"$f":"DATA!O488","v":"CZ00000043852953"},{"$f":"DATA!P488","v":"NL00109990802191"}]
[{"$f":"DATA!C489","v":"CZ00000059815953"},{"$f":"DATA!D489","v":""},{"$f":"DATA!E489","v":""},{"$f":"DATA!H489","v":0},{"$f":"DATA!I489","v":0},{"$f":"DATA!J489","v":""},{"$f":"DATA!K489","v":""},{"$f":"DATA!L489","v":""},{"$f":"DATA!M489","v":""},{"$f":"DATA!N489","v":0},{"$f":"DATA!O489","v":"CZ00000038283953"},{"$f":"DATA!P489","v":"NL00109990802191"}]
[{"$f":"DATA!C490","v":"CZ00000060280953"},{"$f":"DATA!D490","v":""},{"$f":"DATA!E490","v":""},{"$f":"DATA!H490","v":0},{"$f":"DATA!I490","v":0},{"$f":"DATA!J490","v":""},{"$f":"DATA!K490","v":""},{"$f":"DATA!L490","v":""},{"$f":"DATA!M490","v":""},{"$f":"DATA!N490","v":0},{"$f":"DATA!O490","v":"NL00109990302406"},{"$f":"DATA!P490","v":"NL00109990202531"}]
[{"$f":"DATA!C491","v":"CZ00000060281953"},{"$f":"DATA!D491","v":""},{"$f":"DATA!E491","v":""},{"$f":"DATA!H491","v":0},{"$f":"DATA!I491","v":0},{"$f":"DATA!J491","v":""},{"$f":"DATA!K491","v":""},{"$f":"DATA!L491","v":""},{"$f":"DATA!M491","v":""},{"$f":"DATA!N491","v":0},{"$f":"DATA!O491","v":"NL00109990302406"},{"$f":"DATA!P491","v":"NL00109990202531"}]
[{"$f":"DATA!C492","v":"CZ00000060285953"},{"$f":"DATA!D492","v":""},{"$f":"DATA!E492","v":""},{"$f":"DATA!H492","v":0},{"$f":"DATA!I492","v":0},{"$f":"DATA!J492","v":""},{"$f":"DATA!K492","v":""},{"$f":"DATA!L492","v":""},{"$f":"DATA!M492","v":""},{"$f":"DATA!N492","v":0},{"$f":"DATA!O492","v":"NL00109990602414"},{"$f":"DATA!P492","v":"NL00109990502037"}]
[{"$f":"DATA!C493","v":"CZ00000060286953"},{"$f":"DATA!D493","v":""},{"$f":"DATA!E493","v":""},{"$f":"DATA!H493","v":0},{"$f":"DATA!I493","v":0},{"$f":"DATA!J493","v":""},{"$f":"DATA!K493","v":""},{"$f":"DATA!L493","v":""},{"$f":"DATA!M493","v":""},{"$f":"DATA!N493","v":0},{"$f":"DATA!O493","v":"NL00109990602414"},{"$f":"DATA!P493","v":"NL00109990502037"}]
[{"$f":"DATA!C494","v":"CZ00000060292953"},{"$f":"DATA!D494","v":""},{"$f":"DATA!E494","v":""},{"$f":"DATA!H494","v":0},{"$f":"DATA!I494","v":0},{"$f":"DATA!J494","v":""},{"$f":"DATA!K494","v":""},{"$f":"DATA!L494","v":""},{"$f":"DATA!M494","v":""},{"$f":"DATA!N494","v":0},{"$f":"DATA!O494","v":"NL00109990002412"},{"$f":"DATA!P494","v":"NL00109990502037"}]
[{"$f":"DATA!C495","v":"CZ00000060296953"},{"$f":"DATA!D495","v":""},{"$f":"DATA!E495","v":""},{"$f":"DATA!H495","v":0},{"$f":"DATA!I495","v":0},{"$f":"DATA!J495","v":""},{"$f":"DATA!K495","v":""},{"$f":"DATA!L495","v":""},{"$f":"DATA!M495","v":""},{"$f":"DATA!N495","v":0},{"$f":"DATA!O495","v":"NL00109990202409"},{"$f":"DATA!P495","v":"NL00109990202531"}]
[{"$f":"DATA!C496","v":"CZ00000060297953"},{"$f":"DATA!D496","v":""},{"$f":"DATA!E496","v":""},{"$f":"DATA!H496","v":0},{"$f":"DATA!I496","v":0},{"$f":"DATA!J496","v":""},{"$f":"DATA!K496","v":""},{"$f":"DATA!L496","v":""},{"$f":"DATA!M496","v":""},{"$f":"DATA!N496","v":0},{"$f":"DATA!O496","v":"NL00109990202409"},{"$f":"DATA!P496","v":"NL00109990202531"}]
[{"$f":"DATA!C497","v":"CZ00000060298953"},{"$f":"DATA!D497","v":""},{"$f":"DATA!E497","v":""},{"$f":"DATA!H497","v":0},{"$f":"DATA!I497","v":0},{"$f":"DATA!J497","v":""},{"$f":"DATA!K497","v":""},{"$f":"DATA!L497","v":""},{"$f":"DATA!M497","v":""},{"$f":"DATA!N497","v":0},{"$f":"DATA!O497","v":"NL00109990202896"},{"$f":"DATA!P497","v":"NL00109990202531"}]
[{"$f":"DATA!C498","v":"CZ00000060622952"},{"$f":"DATA!D498","v":""},{"$f":"DATA!E498","v":""},{"$f":"DATA!H498","v":0},{"$f":"DATA!I498","v":0},{"$f":"DATA!J498","v":""},{"$f":"DATA!K498","v":""},{"$f":"DATA!L498","v":""},{"$f":"DATA!M498","v":""},{"$f":"DATA!N498","v":0},{"$f":"DATA!O498","v":"CZ00000049622953"},{"$f":"DATA!P498","v":"FR00025081900018"}]
[{"$f":"DATA!C499","v":"CZ00000060623952"},{"$f":"DATA!D499","v":""},{"$f":"DATA!E499","v":""},{"$f":"DATA!H499","v":0},{"$f":"DATA!I499","v":0},{"$f":"DATA!J499","v":""},{"$f":"DATA!K499","v":""},{"$f":"DATA!L499","v":""},{"$f":"DATA!M499","v":""},{"$f":"DATA!N499","v":0},{"$f":"DATA!O499","v":"CZ00000049670953"},{"$f":"DATA!P499","v":"FR00025081900018"}]
[{"$f":"DATA!C500","v":"CZ00000060624952"},{"$f":"DATA!D500","v":""},{"$f":"DATA!E500","v":""},{"$f":"DATA!H500","v":0},{"$f":"DATA!I500","v":0},{"$f":"DATA!J500","v":""},{"$f":"DATA!K500","v":""},{"$f":"DATA!L500","v":""},{"$f":"DATA!M500","v":""},{"$f":"DATA!N500","v":0},{"$f":"DATA!O500","v":"CZ00000049671953"},{"$f":"DATA!P500","v":"FR00025081900018"}]
[{"$f":"DATA!C501","v":"CZ00000063424952"},{"$f":"DATA!D501","v":""},{"$f":"DATA!E501","v":""},{"$f":"DATA!H501","v":0},{"$f":"DATA!I501","v":0},{"$f":"DATA!J501","v":""},{"$f":"DATA!K501","v":""},{"$f":"DATA!L501","v":""},{"$f":"DATA!M501","v":""},{"$f":"DATA!N501","v":0},{"$f":"DATA!O501","v":"CZ00000057037952"},{"$f":"DATA!P501","v":"CZ00000048517053"}]
[{"$f":"DATA!C502","v":"CZ00000063426952"},{"$f":"DATA!D502","v":""},{"$f":"DATA!E502","v":""},{"$f":"DATA!H502","v":0},{"$f":"DATA!I502","v":0},{"$f":"DATA!J502","v":""},{"$f":"DATA!K502","v":""},{"$f":"DATA!L502","v":""},{"$f":"DATA!M502","v":""},{"$f":"DATA!N502","v":0},{"$f":"DATA!O502","v":"CZ00000057026952"},{"$f":"DATA!P502","v":"CZ00000048517053"}]
[{"$f":"DATA!C503","v":"CZ00000064179932"},{"$f":"DATA!D503","v":""},{"$f":"DATA!E503","v":""},{"$f":"DATA!H503","v":0},{"$f":"DATA!I503","v":0},{"$f":"DATA!J503","v":""},{"$f":"DATA!K503","v":""},{"$f":"DATA!L503","v":"Fem"},{"$f":"DATA!M503","v":""},{"$f":"DATA!N503","v":0},{"$f":"DATA!O503","v":"CZ00000033532932"},{"$f":"DATA!P503","v":"CZ00000033800053"}]
[{"$f":"DATA!C504","v":"CZ00000064181932"},{"$f":"DATA!D504","v":""},{"$f":"DATA!E504","v":""},{"$f":"DATA!H504","v":0},{"$f":"DATA!I504","v":0},{"$f":"DATA!J504","v":""},{"$f":"DATA!K504","v":""},{"$f":"DATA!L504","v":""},{"$f":"DATA!M504","v":""},{"$f":"DATA!N504","v":0},{"$f":"DATA!O504","v":"CZ00000049145932"},{"$f":"DATA!P504","v":"CZ00000033800053"}]
[{"$f":"DATA!C505","v":"CZ00000064184932"},{"$f":"DATA!D505","v":""},{"$f":"DATA!E505","v":""},{"$f":"DATA!H505","v":0},{"$f":"DATA!I505","v":0},{"$f":"DATA!J505","v":""},{"$f":"DATA!K505","v":""},{"$f":"DATA!L505","v":""},{"$f":"DATA!M505","v":""},{"$f":"DATA!N505","v":30},{"$f":"DATA!O505","v":"CZ00000049148932"},{"$f":"DATA!P505","v":"CZ00000033800053"}]
[{"$f":"DATA!C506","v":"CZ00000064185932"},{"$f":"DATA!D506","v":""},{"$f":"DATA!E506","v":""},{"$f":"DATA!H506","v":0},{"$f":"DATA!I506","v":0},{"$f":"DATA!J506","v":""},{"$f":"DATA!K506","v":""},{"$f":"DATA!L506","v":""},{"$f":"DATA!M506","v":""},{"$f":"DATA!N506","v":31},{"$f":"DATA!O506","v":"CZ00000033542932"},{"$f":"DATA!P506","v":"CZ00000033800053"}]
[{"$f":"DATA!C507","v":"CZ00000064187932"},{"$f":"DATA!D507","v":""},{"$f":"DATA!E507","v":""},{"$f":"DATA!H507","v":0},{"$f":"DATA!I507","v":0},{"$f":"DATA!J507","v":""},{"$f":"DATA!K507","v":""},{"$f":"DATA!L507","v":""},{"$f":"DATA!M507","v":""},{"$f":"DATA!N507","v":25},{"$f":"DATA!O507","v":"CZ00000033538932"},{"$f":"DATA!P507","v":"CZ00000033800053"}]
[{"$f":"DATA!C508","v":"CZ00000064188932"},{"$f":"DATA!D508","v":""},{"$f":"DATA!E508","v":""},{"$f":"DATA!H508","v":0},{"$f":"DATA!I508","v":0},{"$f":"DATA!J508","v":""},{"$f":"DATA!K508","v":""},{"$f":"DATA!L508","v":""},{"$f":"DATA!M508","v":""},{"$f":"DATA!N508","v":26},{"$f":"DATA!O508","v":"CZ00000033538932"},{"$f":"DATA!P508","v":"CZ00000033800053"}]
[{"$f":"DATA!C509","v":"CZ00000064193932"},{"$f":"DATA!D509","v":""},{"$f":"DATA!E509","v":""},{"$f":"DATA!H509","v":0},{"$f":"DATA!I509","v":0},{"$f":"DATA!J509","v":""},{"$f":"DATA!K509","v":""},{"$f":"DATA!L509","v":""},{"$f":"DATA!M509","v":""},{"$f":"DATA!N509","v":26},{"$f":"DATA!O509","v":"CZ00000033533932"},{"$f":"DATA!P509","v":"CZ00000033800053"}]
[{"$f":"DATA!C510","v":"CZ00000064195932"},{"$f":"DATA!D510","v":""},{"$f":"DATA!E510","v":""},{"$f":"DATA!H510","v":0},{"$f":"DATA!I510","v":0},{"$f":"DATA!J510","v":""},{"$f":"DATA!K510","v":""},{"$f":"DATA!L510","v":""},{"$f":"DATA!M510","v":""},{"$f":"DATA!N510","v":22},{"$f":"DATA!O510","v":"CZ00000049137932"},{"$f":"DATA!P510","v":"CZ00000033800053"}]
[{"$f":"DATA!C511","v":"CZ00000064198932"},{"$f":"DATA!D511","v":""},{"$f":"DATA!E511","v":""},{"$f":"DATA!H511","v":0},{"$f":"DATA!I511","v":0},{"$f":"DATA!J511","v":""},{"$f":"DATA!K511","v":""},{"$f":"DATA!L511","v":""},{"$f":"DATA!M511","v":""},{"$f":"DATA!N511","v":25},{"$f":"DATA!O511","v":"CZ00000033536932"},{"$f":"DATA!P511","v":"CZ00000033800053"}]
[{"$f":"DATA!C512","v":"CZ00000064200932"},{"$f":"DATA!D512","v":""},{"$f":"DATA!E512","v":""},{"$f":"DATA!H512","v":0},{"$f":"DATA!I512","v":0},{"$f":"DATA!J512","v":""},{"$f":"DATA!K512","v":""},{"$f":"DATA!L512","v":""},{"$f":"DATA!M512","v":""},{"$f":"DATA!N512","v":36},{"$f":"DATA!O512","v":"CZ00000033528932"},{"$f":"DATA!P512","v":"CZ00000033800053"}]
[{"$f":"DATA!C513","v":"CZ00000064204932"},{"$f":"DATA!D513","v":""},{"$f":"DATA!E513","v":""},{"$f":"DATA!H513","v":0},{"$f":"DATA!I513","v":0},{"$f":"DATA!J513","v":""},{"$f":"DATA!K513","v":""},{"$f":"DATA!L513","v":""},{"$f":"DATA!M513","v":""},{"$f":"DATA!N513","v":29},{"$f":"DATA!O513","v":"CZ00000033530932"},{"$f":"DATA!P513","v":"CZ00000033800053"}]
[{"$f":"DATA!C514","v":"CZ00000064207932"},{"$f":"DATA!D514","v":""},{"$f":"DATA!E514","v":""},{"$f":"DATA!H514","v":0},{"$f":"DATA!I514","v":0},{"$f":"DATA!J514","v":""},{"$f":"DATA!K514","v":""},{"$f":"DATA!L514","v":""},{"$f":"DATA!M514","v":""},{"$f":"DATA!N514","v":30},{"$f":"DATA!O514","v":"CZ00000049142932"},{"$f":"DATA!P514","v":"CZ00000033800053"}]
[{"$f":"DATA!C515","v":"CZ00000064208932"},{"$f":"DATA!D515","v":""},{"$f":"DATA!E515","v":""},{"$f":"DATA!H515","v":0},{"$f":"DATA!I515","v":0},{"$f":"DATA!J515","v":""},{"$f":"DATA!K515","v":""},{"$f":"DATA!L515","v":""},{"$f":"DATA!M515","v":""},{"$f":"DATA!N515","v":29},{"$f":"DATA!O515","v":"CZ00000033535932"},{"$f":"DATA!P515","v":"CZ00000033800053"}]
[{"$f":"DATA!C516","v":"CZ00000064209932"},{"$f":"DATA!D516","v":""},{"$f":"DATA!E516","v":""},{"$f":"DATA!H516","v":0},{"$f":"DATA!I516","v":0},{"$f":"DATA!J516","v":""},{"$f":"DATA!K516","v":""},{"$f":"DATA!L516","v":""},{"$f":"DATA!M516","v":""},{"$f":"DATA!N516","v":29},{"$f":"DATA!O516","v":"CZ00000033531932"},{"$f":"DATA!P516","v":"CZ00000033800053"}]
[{"$f":"DATA!C517","v":"CZ00000064211932"},{"$f":"DATA!D517","v":""},{"$f":"DATA!E517","v":""},{"$f":"DATA!H517","v":0},{"$f":"DATA!I517","v":0},{"$f":"DATA!J517","v":""},{"$f":"DATA!K517","v":""},{"$f":"DATA!L517","v":""},{"$f":"DATA!M517","v":""},{"$f":"DATA!N517","v":31},{"$f":"DATA!O517","v":"CZ00000049152932"},{"$f":"DATA!P517","v":"CZ00000033800053"}]
[{"$f":"DATA!C518","v":"CZ00000064212932"},{"$f":"DATA!D518","v":""},{"$f":"DATA!E518","v":""},{"$f":"DATA!H518","v":0},{"$f":"DATA!I518","v":0},{"$f":"DATA!J518","v":""},{"$f":"DATA!K518","v":""},{"$f":"DATA!L518","v":""},{"$f":"DATA!M518","v":""},{"$f":"DATA!N518","v":32},{"$f":"DATA!O518","v":"CZ00000049138932"},{"$f":"DATA!P518","v":"CZ00000033800053"}]
[{"$f":"DATA!C519","v":"CZ00000065774072"},{"$f":"DATA!D519","v":""},{"$f":"DATA!E519","v":""},{"$f":"DATA!H519","v":0},{"$f":"DATA!I519","v":0},{"$f":"DATA!J519","v":""},{"$f":"DATA!K519","v":""},{"$f":"DATA!L519","v":""},{"$f":"DATA!M519","v":""},{"$f":"DATA!N519","v":0},{"$f":"DATA!O519","v":"FR00025081900059"},{"$f":"DATA!P519","v":"CZ00000043411053"}]
[{"$f":"DATA!C520","v":"CZ00000066950931"},{"$f":"DATA!D520","v":""},{"$f":"DATA!E520","v":""},{"$f":"DATA!H520","v":0},{"$f":"DATA!I520","v":0},{"$f":"DATA!J520","v":""},{"$f":"DATA!K520","v":""},{"$f":"DATA!L520","v":""},{"$f":"DATA!M520","v":""},{"$f":"DATA!N520","v":32},{"$f":"DATA!O520","v":"FR00025034190050"},{"$f":"DATA!P520","v":"FR00025081900018"}]
[{"$f":"DATA!C521","v":"CZ00000066951931"},{"$f":"DATA!D521","v":""},{"$f":"DATA!E521","v":""},{"$f":"DATA!H521","v":0},{"$f":"DATA!I521","v":0},{"$f":"DATA!J521","v":""},{"$f":"DATA!K521","v":""},{"$f":"DATA!L521","v":""},{"$f":"DATA!M521","v":""},{"$f":"DATA!N521","v":23},{"$f":"DATA!O521","v":"FR00025034190050"},{"$f":"DATA!P521","v":"FR00025081900018"}]
[{"$f":"DATA!C522","v":"CZ00000066952931"},{"$f":"DATA!D522","v":""},{"$f":"DATA!E522","v":""},{"$f":"DATA!H522","v":0},{"$f":"DATA!I522","v":0},{"$f":"DATA!J522","v":""},{"$f":"DATA!K522","v":""},{"$f":"DATA!L522","v":""},{"$f":"DATA!M522","v":""},{"$f":"DATA!N522","v":36},{"$f":"DATA!O522","v":"FR00025081900120"},{"$f":"DATA!P522","v":"FR00025081900018"}]
[{"$f":"DATA!C523","v":"CZ00000066953931"},{"$f":"DATA!D523","v":""},{"$f":"DATA!E523","v":""},{"$f":"DATA!H523","v":0},{"$f":"DATA!I523","v":0},{"$f":"DATA!J523","v":""},{"$f":"DATA!K523","v":""},{"$f":"DATA!L523","v":""},{"$f":"DATA!M523","v":""},{"$f":"DATA!N523","v":0},{"$f":"DATA!O523","v":"FR00025081900059"},{"$f":"DATA!P523","v":"FR00025081900018"}]
[{"$f":"DATA!C524","v":"CZ00000066954931"},{"$f":"DATA!D524","v":""},{"$f":"DATA!E524","v":""},{"$f":"DATA!H524","v":0},{"$f":"DATA!I524","v":0},{"$f":"DATA!J524","v":""},{"$f":"DATA!K524","v":""},{"$f":"DATA!L524","v":""},{"$f":"DATA!M524","v":""},{"$f":"DATA!N524","v":0},{"$f":"DATA!O524","v":"FR00025081900059"},{"$f":"DATA!P524","v":"FR00025081900018"}]
[{"$f":"DATA!C525","v":"CZ00000066955931"},{"$f":"DATA!D525","v":""},{"$f":"DATA!E525","v":""},{"$f":"DATA!H525","v":0},{"$f":"DATA!I525","v":0},{"$f":"DATA!J525","v":""},{"$f":"DATA!K525","v":""},{"$f":"DATA!L525","v":""},{"$f":"DATA!M525","v":""},{"$f":"DATA!N525","v":28},{"$f":"DATA!O525","v":"CZ00000043890953"},{"$f":"DATA!P525","v":"FR00025081900018"}]
[{"$f":"DATA!C526","v":"CZ00000066956931"},{"$f":"DATA!D526","v":""},{"$f":"DATA!E526","v":""},{"$f":"DATA!H526","v":0},{"$f":"DATA!I526","v":0},{"$f":"DATA!J526","v":""},{"$f":"DATA!K526","v":""},{"$f":"DATA!L526","v":""},{"$f":"DATA!M526","v":""},{"$f":"DATA!N526","v":23},{"$f":"DATA!O526","v":"CZ00000043890953"},{"$f":"DATA!P526","v":"FR00025081900018"}]
[{"$f":"DATA!C527","v":"CZ00000066957931"},{"$f":"DATA!D527","v":""},{"$f":"DATA!E527","v":""},{"$f":"DATA!H527","v":0},{"$f":"DATA!I527","v":0},{"$f":"DATA!J527","v":""},{"$f":"DATA!K527","v":""},{"$f":"DATA!L527","v":""},{"$f":"DATA!M527","v":""},{"$f":"DATA!N527","v":22},{"$f":"DATA!O527","v":"FR00025081900112"},{"$f":"DATA!P527","v":"FR00025081900018"}]
[{"$f":"DATA!C528","v":"CZ00000066958931"},{"$f":"DATA!D528","v":""},{"$f":"DATA!E528","v":""},{"$f":"DATA!H528","v":0},{"$f":"DATA!I528","v":0},{"$f":"DATA!J528","v":""},{"$f":"DATA!K528","v":""},{"$f":"DATA!L528","v":""},{"$f":"DATA!M528","v":""},{"$f":"DATA!N528","v":38},{"$f":"DATA!O528","v":"CZ00000043890953"},{"$f":"DATA!P528","v":"FR00025081900018"}]
[{"$f":"DATA!C529","v":"CZ00000066959931"},{"$f":"DATA!D529","v":""},{"$f":"DATA!E529","v":""},{"$f":"DATA!H529","v":0},{"$f":"DATA!I529","v":0},{"$f":"DATA!J529","v":""},{"$f":"DATA!K529","v":""},{"$f":"DATA!L529","v":""},{"$f":"DATA!M529","v":""},{"$f":"DATA!N529","v":0},{"$f":"DATA!O529","v":"NL00109990003718"},{"$f":"DATA!P529","v":"CZ00000006233052"}]
[{"$f":"DATA!C530","v":"CZ00000070916072"},{"$f":"DATA!D530","v":""},{"$f":"DATA!E530","v":""},{"$f":"DATA!H530","v":0},{"$f":"DATA!I530","v":0},{"$f":"DATA!J530","v":""},{"$f":"DATA!K530","v":""},{"$f":"DATA!L530","v":""},{"$f":"DATA!M530","v":""},{"$f":"DATA!N530","v":0},{"$f":"DATA!O530","v":"NL00109990104307"},{"$f":"DATA!P530","v":"CZ00000043413053"}]
[{"$f":"DATA!C531","v":"CZ00000070917072"},{"$f":"DATA!D531","v":""},{"$f":"DATA!E531","v":""},{"$f":"DATA!H531","v":0},{"$f":"DATA!I531","v":0},{"$f":"DATA!J531","v":""},{"$f":"DATA!K531","v":""},{"$f":"DATA!L531","v":""},{"$f":"DATA!M531","v":""},{"$f":"DATA!N531","v":0},{"$f":"DATA!O531","v":"NL00109990403716"},{"$f":"DATA!P531","v":"CZ00000043413053"}]
[{"$f":"DATA!C532","v":"CZ00000070918072"},{"$f":"DATA!D532","v":""},{"$f":"DATA!E532","v":""},{"$f":"DATA!H532","v":0},{"$f":"DATA!I532","v":0},{"$f":"DATA!J532","v":""},{"$f":"DATA!K532","v":""},{"$f":"DATA!L532","v":""},{"$f":"DATA!M532","v":""},{"$f":"DATA!N532","v":0},{"$f":"DATA!O532","v":"NL00109990304325"},{"$f":"DATA!P532","v":"CZ00000043413053"}]
[{"$f":"DATA!C533","v":"CZ00000070919072"},{"$f":"DATA!D533","v":""},{"$f":"DATA!E533","v":""},{"$f":"DATA!H533","v":0},{"$f":"DATA!I533","v":0},{"$f":"DATA!J533","v":""},{"$f":"DATA!K533","v":""},{"$f":"DATA!L533","v":""},{"$f":"DATA!M533","v":""},{"$f":"DATA!N533","v":0},{"$f":"DATA!O533","v":"NL00109990803529"},{"$f":"DATA!P533","v":"CZ00000043413053"}]
[{"$f":"DATA!C534","v":"CZ00000070920072"},{"$f":"DATA!D534","v":""},{"$f":"DATA!E534","v":""},{"$f":"DATA!H534","v":0},{"$f":"DATA!I534","v":0},{"$f":"DATA!J534","v":""},{"$f":"DATA!K534","v":""},{"$f":"DATA!L534","v":""},{"$f":"DATA!M534","v":""},{"$f":"DATA!N534","v":0},{"$f":"DATA!O534","v":"NL00109990403932"},{"$f":"DATA!P534","v":"CZ00000043413053"}]
[{"$f":"DATA!C535","v":"CZ00000073200031"},{"$f":"DATA!D535","v":""},{"$f":"DATA!E535","v":""},{"$f":"DATA!H535","v":0},{"$f":"DATA!I535","v":0},{"$f":"DATA!J535","v":""},{"$f":"DATA!K535","v":""},{"$f":"DATA!L535","v":""},{"$f":"DATA!M535","v":""},{"$f":"DATA!N535","v":39},{"$f":"DATA!O535","v":"NL00109990202416"},{"$f":"DATA!P535","v":"UK00028747700060"}]
[{"$f":"DATA!C536","v":"CZ00000073201031"},{"$f":"DATA!D536","v":""},{"$f":"DATA!E536","v":""},{"$f":"DATA!H536","v":0},{"$f":"DATA!I536","v":0},{"$f":"DATA!J536","v":""},{"$f":"DATA!K536","v":""},{"$f":"DATA!L536","v":""},{"$f":"DATA!M536","v":""},{"$f":"DATA!N536","v":25},{"$f":"DATA!O536","v":"NL00109990902408"},{"$f":"DATA!P536","v":"UK00028747700060"}]
[{"$f":"DATA!C537","v":"CZ00000075594932"},{"$f":"DATA!D537","v":""},{"$f":"DATA!E537","v":""},{"$f":"DATA!H537","v":0},{"$f":"DATA!I537","v":0},{"$f":"DATA!J537","v":""},{"$f":"DATA!K537","v":""},{"$f":"DATA!L537","v":""},{"$f":"DATA!M537","v":""},{"$f":"DATA!N537","v":0},{"$f":"DATA!O537","v":"CZ00000049175932"},{"$f":"DATA!P537","v":"CZ00000043378053"}]
[{"$f":"DATA!C538","v":"CZ00000075599932"},{"$f":"DATA!D538","v":""},{"$f":"DATA!E538","v":""},{"$f":"DATA!H538","v":0},{"$f":"DATA!I538","v":0},{"$f":"DATA!J538","v":""},{"$f":"DATA!K538","v":""},{"$f":"DATA!L538","v":""},{"$f":"DATA!M538","v":""},{"$f":"DATA!N538","v":0},{"$f":"DATA!O538","v":"CZ00000064179932"},{"$f":"DATA!P538","v":"CZ00000043378053"}]
[{"$f":"DATA!C539","v":"CZ00000075600932"},{"$f":"DATA!D539","v":""},{"$f":"DATA!E539","v":""},{"$f":"DATA!H539","v":0},{"$f":"DATA!I539","v":0},{"$f":"DATA!J539","v":""},{"$f":"DATA!K539","v":""},{"$f":"DATA!L539","v":""},{"$f":"DATA!M539","v":""},{"$f":"DATA!N539","v":0},{"$f":"DATA!O539","v":"CZ00000064179932"},{"$f":"DATA!P539","v":"CZ00000043378053"}]
[{"$f":"DATA!C540","v":"CZ00000081738972"},{"$f":"DATA!D540","v":""},{"$f":"DATA!E540","v":""},{"$f":"DATA!H540","v":0},{"$f":"DATA!I540","v":0},{"$f":"DATA!J540","v":""},{"$f":"DATA!K540","v":""},{"$f":"DATA!L540","v":""},{"$f":"DATA!M540","v":""},{"$f":"DATA!N540","v":0},{"$f":"DATA!O540","v":"NL00109990603549"},{"$f":"DATA!P540","v":"CZ00000043413053"}]
[{"$f":"DATA!C541","v":"CZ00000081739972"},{"$f":"DATA!D541","v":""},{"$f":"DATA!E541","v":""},{"$f":"DATA!H541","v":0},{"$f":"DATA!I541","v":0},{"$f":"DATA!J541","v":""},{"$f":"DATA!K541","v":""},{"$f":"DATA!L541","v":""},{"$f":"DATA!M541","v":""},{"$f":"DATA!N541","v":0},{"$f":"DATA!O541","v":"NL00109990304325"},{"$f":"DATA!P541","v":"CZ00000043413053"}]
[{"$f":"DATA!C542","v":"CZ00000081740972"},{"$f":"DATA!D542","v":""},{"$f":"DATA!E542","v":""},{"$f":"DATA!H542","v":0},{"$f":"DATA!I542","v":0},{"$f":"DATA!J542","v":""},{"$f":"DATA!K542","v":""},{"$f":"DATA!L542","v":""},{"$f":"DATA!M542","v":""},{"$f":"DATA!N542","v":0},{"$f":"DATA!O542","v":"NL00109990459997"},{"$f":"DATA!P542","v":"CZ00000043413053"}]
[{"$f":"DATA!C543","v":"CZ00000081741972"},{"$f":"DATA!D543","v":""},{"$f":"DATA!E543","v":""},{"$f":"DATA!H543","v":0},{"$f":"DATA!I543","v":0},{"$f":"DATA!J543","v":""},{"$f":"DATA!K543","v":""},{"$f":"DATA!L543","v":""},{"$f":"DATA!M543","v":""},{"$f":"DATA!N543","v":0},{"$f":"DATA!O543","v":"NL00109990603943"},{"$f":"DATA!P543","v":"CZ00000043413053"}]
[{"$f":"DATA!C544","v":"CZ00000081742972"},{"$f":"DATA!D544","v":""},{"$f":"DATA!E544","v":""},{"$f":"DATA!H544","v":0},{"$f":"DATA!I544","v":0},{"$f":"DATA!J544","v":""},{"$f":"DATA!K544","v":""},{"$f":"DATA!L544","v":""},{"$f":"DATA!M544","v":""},{"$f":"DATA!N544","v":0},{"$f":"DATA!O544","v":"NL00109990204328"},{"$f":"DATA!P544","v":"CZ00000043413053"}]
[{"$f":"DATA!C545","v":"CZ00000081743972"},{"$f":"DATA!D545","v":""},{"$f":"DATA!E545","v":""},{"$f":"DATA!H545","v":0},{"$f":"DATA!I545","v":0},{"$f":"DATA!J545","v":""},{"$f":"DATA!K545","v":""},{"$f":"DATA!L545","v":""},{"$f":"DATA!M545","v":""},{"$f":"DATA!N545","v":0},{"$f":"DATA!O545","v":"NL00109990203534"},{"$f":"DATA!P545","v":"CZ00000043413053"}]
[{"$f":"DATA!C546","v":"CZ00000081744972"},{"$f":"DATA!D546","v":""},{"$f":"DATA!E546","v":""},{"$f":"DATA!H546","v":0},{"$f":"DATA!I546","v":0},{"$f":"DATA!J546","v":""},{"$f":"DATA!K546","v":""},{"$f":"DATA!L546","v":""},{"$f":"DATA!M546","v":""},{"$f":"DATA!N546","v":0},{"$f":"DATA!O546","v":"NL00109990303942"},{"$f":"DATA!P546","v":"CZ00000043413053"}]
[{"$f":"DATA!C547","v":"CZ00000081745972"},{"$f":"DATA!D547","v":""},{"$f":"DATA!E547","v":""},{"$f":"DATA!H547","v":0},{"$f":"DATA!I547","v":0},{"$f":"DATA!J547","v":""},{"$f":"DATA!K547","v":""},{"$f":"DATA!L547","v":""},{"$f":"DATA!M547","v":""},{"$f":"DATA!N547","v":0},{"$f":"DATA!O547","v":"NL00109990403932"},{"$f":"DATA!P547","v":"CZ00000043413053"}]
[{"$f":"DATA!C548","v":"CZ00000081746972"},{"$f":"DATA!D548","v":""},{"$f":"DATA!E548","v":""},{"$f":"DATA!H548","v":0},{"$f":"DATA!I548","v":0},{"$f":"DATA!J548","v":""},{"$f":"DATA!K548","v":""},{"$f":"DATA!L548","v":""},{"$f":"DATA!M548","v":""},{"$f":"DATA!N548","v":0},{"$f":"DATA!O548","v":"NL00109990803529"},{"$f":"DATA!P548","v":"CZ00000043413053"}]
[{"$f":"DATA!C549","v":"CZ00000084899931"},{"$f":"DATA!D549","v":""},{"$f":"DATA!E549","v":""},{"$f":"DATA!H549","v":0},{"$f":"DATA!I549","v":0},{"$f":"DATA!J549","v":""},{"$f":"DATA!K549","v":""},{"$f":"DATA!L549","v":""},{"$f":"DATA!M549","v":""},{"$f":"DATA!N549","v":27},{"$f":"DATA!O549","v":"NL00109990902408"},{"$f":"DATA!P549","v":"UK00028747700060"}]
[{"$f":"DATA!C550","v":"CZ00000084900931"},{"$f":"DATA!D550","v":""},{"$f":"DATA!E550","v":""},{"$f":"DATA!H550","v":0},{"$f":"DATA!I550","v":0},{"$f":"DATA!J550","v":""},{"$f":"DATA!K550","v":""},{"$f":"DATA!L550","v":""},{"$f":"DATA!M550","v":""},{"$f":"DATA!N550","v":32},{"$f":"DATA!O550","v":"FR00025034190050"},{"$f":"DATA!P550","v":"UK00028747700060"}]
[{"$f":"DATA!C551","v":"CZ00000084901931"},{"$f":"DATA!D551","v":""},{"$f":"DATA!E551","v":""},{"$f":"DATA!H551","v":0},{"$f":"DATA!I551","v":0},{"$f":"DATA!J551","v":""},{"$f":"DATA!K551","v":""},{"$f":"DATA!L551","v":""},{"$f":"DATA!M551","v":""},{"$f":"DATA!N551","v":25},{"$f":"DATA!O551","v":"FR00025034190050"},{"$f":"DATA!P551","v":"UK00028747700060"}]
[{"$f":"DATA!C552","v":"FR00000000970035"},{"$f":"DATA!D552","v":""},{"$f":"DATA!E552","v":""},{"$f":"DATA!H552","v":0},{"$f":"DATA!I552","v":0},{"$f":"DATA!J552","v":""},{"$f":"DATA!K552","v":""},{"$f":"DATA!L552","v":"Fem"},{"$f":"DATA!M552","v":""},{"$f":"DATA!N552","v":0},{"$f":"DATA!O552","v":"9902140250000000"},{"$f":"DATA!P552","v":"9900137690000000"}]
[{"$f":"DATA!C553","v":"FR00000000980011"},{"$f":"DATA!D553","v":""},{"$f":"DATA!E553","v":""},{"$f":"DATA!H553","v":0},{"$f":"DATA!I553","v":0},{"$f":"DATA!J553","v":""},{"$f":"DATA!K553","v":""},{"$f":"DATA!L553","v":"Fem"},{"$f":"DATA!M553","v":""},{"$f":"DATA!N553","v":0},{"$f":"DATA!O553","v":"9902120040000000"},{"$f":"DATA!P553","v":"9902160580000000"}]
[{"$f":"DATA!C554","v":"FR00000000980094"},{"$f":"DATA!D554","v":""},{"$f":"DATA!E554","v":""},{"$f":"DATA!H554","v":0},{"$f":"DATA!I554","v":0},{"$f":"DATA!J554","v":""},{"$f":"DATA!K554","v":""},{"$f":"DATA!L554","v":"Mal"},{"$f":"DATA!M554","v":""},{"$f":"DATA!N554","v":0},{"$f":"DATA!O554","v":"990210001100KGL0"},{"$f":"DATA!P554","v":"990210008700RGE0"}]
[{"$f":"DATA!C555","v":"FR00000000990113"},{"$f":"DATA!D555","v":""},{"$f":"DATA!E555","v":""},{"$f":"DATA!H555","v":0},{"$f":"DATA!I555","v":0},{"$f":"DATA!J555","v":""},{"$f":"DATA!K555","v":""},{"$f":"DATA!L555","v":"Fem"},{"$f":"DATA!M555","v":""},{"$f":"DATA!N555","v":0},{"$f":"DATA!O555","v":"9902140250000000"},{"$f":"DATA!P555","v":"9900138700000000"}]
[{"$f":"DATA!C556","v":"FR00000000990161"},{"$f":"DATA!D556","v":""},{"$f":"DATA!E556","v":""},{"$f":"DATA!H556","v":0},{"$f":"DATA!I556","v":0},{"$f":"DATA!J556","v":""},{"$f":"DATA!K556","v":""},{"$f":"DATA!L556","v":"Mal"},{"$f":"DATA!M556","v":""},{"$f":"DATA!N556","v":0},{"$f":"DATA!O556","v":"990210002400BRL0"},{"$f":"DATA!P556","v":"990210013200KGP0"}]
[{"$f":"DATA!C557","v":"FR00002503410024"},{"$f":"DATA!D557","v":""},{"$f":"DATA!E557","v":""},{"$f":"DATA!H557","v":0},{"$f":"DATA!I557","v":0},{"$f":"DATA!J557","v":""},{"$f":"DATA!K557","v":""},{"$f":"DATA!L557","v":"Mal"},{"$f":"DATA!M557","v":""},{"$f":"DATA!N557","v":0},{"$f":"DATA!O557","v":""},{"$f":"DATA!P557","v":""}]
[{"$f":"DATA!C558","v":"FR00023867460090"},{"$f":"DATA!D558","v":""},{"$f":"DATA!E558","v":""},{"$f":"DATA!H558","v":0},{"$f":"DATA!I558","v":0},{"$f":"DATA!J558","v":""},{"$f":"DATA!K558","v":""},{"$f":"DATA!L558","v":"Mal"},{"$f":"DATA!M558","v":""},{"$f":"DATA!N558","v":0},{"$f":"DATA!O558","v":""},{"$f":"DATA!P558","v":""}]
[{"$f":"DATA!C559","v":"FR00025034107015"},{"$f":"DATA!D559","v":""},{"$f":"DATA!E559","v":""},{"$f":"DATA!H559","v":0},{"$f":"DATA!I559","v":0},{"$f":"DATA!J559","v":""},{"$f":"DATA!K559","v":""},{"$f":"DATA!L559","v":"Fem"},{"$f":"DATA!M559","v":""},{"$f":"DATA!N559","v":0},{"$f":"DATA!O559","v":""},{"$f":"DATA!P559","v":""}]
[{"$f":"DATA!C560","v":"FR00025034107082"},{"$f":"DATA!D560","v":""},{"$f":"DATA!E560","v":""},{"$f":"DATA!H560","v":0},{"$f":"DATA!I560","v":0},{"$f":"DATA!J560","v":""},{"$f":"DATA!K560","v":""},{"$f":"DATA!L560","v":"Fem"},{"$f":"DATA!M560","v":""},{"$f":"DATA!N560","v":0},{"$f":"DATA!O560","v":""},{"$f":"DATA!P560","v":""}]
[{"$f":"DATA!C561","v":"FR00025034160003"},{"$f":"DATA!D561","v":""},{"$f":"DATA!E561","v":""},{"$f":"DATA!H561","v":0},{"$f":"DATA!I561","v":0},{"$f":"DATA!J561","v":""},{"$f":"DATA!K561","v":""},{"$f":"DATA!L561","v":"Fem"},{"$f":"DATA!M561","v":""},{"$f":"DATA!N561","v":0},{"$f":"DATA!O561","v":""},{"$f":"DATA!P561","v":""}]
[{"$f":"DATA!C562","v":"FR00025034160047"},{"$f":"DATA!D562","v":""},{"$f":"DATA!E562","v":""},{"$f":"DATA!H562","v":0},{"$f":"DATA!I562","v":0},{"$f":"DATA!J562","v":""},{"$f":"DATA!K562","v":""},{"$f":"DATA!L562","v":"Mal"},{"$f":"DATA!M562","v":""},{"$f":"DATA!N562","v":0},{"$f":"DATA!O562","v":""},{"$f":"DATA!P562","v":""}]
[{"$f":"DATA!C563","v":"FR00025034190050"},{"$f":"DATA!D563","v":""},{"$f":"DATA!E563","v":""},{"$f":"DATA!H563","v":0},{"$f":"DATA!I563","v":0},{"$f":"DATA!J563","v":""},{"$f":"DATA!K563","v":""},{"$f":"DATA!L563","v":"Fem"},{"$f":"DATA!M563","v":""},{"$f":"DATA!N563","v":0},{"$f":"DATA!O563","v":"FR00025034107082"},{"$f":"DATA!P563","v":"FR00025034160047"}]
[{"$f":"DATA!C564","v":"FR00025081900011"},{"$f":"DATA!D564","v":""},{"$f":"DATA!E564","v":""},{"$f":"DATA!H564","v":0},{"$f":"DATA!I564","v":0},{"$f":"DATA!J564","v":""},{"$f":"DATA!K564","v":""},{"$f":"DATA!L564","v":""},{"$f":"DATA!M564","v":""},{"$f":"DATA!N564","v":0},{"$f":"DATA!O564","v":"FR00282803390110"},{"$f":"DATA!P564","v":"FR00002503410024"}]
[{"$f":"DATA!C565","v":"FR00025081900018"},{"$f":"DATA!D565","v":"JOE-0001"},{"$f":"DATA!E565","v":"JOEL"},{"$f":"DATA!H565","v":40231},{"$f":"DATA!I565","v":1},{"$f":"DATA!J565","v":""},{"$f":"DATA!K565","v":"EA"},{"$f":"DATA!L565","v":"Mal"},{"$f":"DATA!M565","v":""},{"$f":"DATA!N565","v":0},{"$f":"DATA!O565","v":"FR00025034107015"},{"$f":"DATA!P565","v":"NL00245594500078"}]
[{"$f":"DATA!C566","v":"FR00025081900031"},{"$f":"DATA!D566","v":""},{"$f":"DATA!E566","v":""},{"$f":"DATA!H566","v":0},{"$f":"DATA!I566","v":0},{"$f":"DATA!J566","v":""},{"$f":"DATA!K566","v":""},{"$f":"DATA!L566","v":"Fem"},{"$f":"DATA!M566","v":""},{"$f":"DATA!N566","v":0},{"$f":"DATA!O566","v":"FR00025034160003"},{"$f":"DATA!P566","v":"FR00023867460090"}]
[{"$f":"DATA!C567","v":"FR00025081900059"},{"$f":"DATA!D567","v":""},{"$f":"DATA!E567","v":""},{"$f":"DATA!H567","v":0},{"$f":"DATA!I567","v":0},{"$f":"DATA!J567","v":""},{"$f":"DATA!K567","v":""},{"$f":"DATA!L567","v":"Fem"},{"$f":"DATA!M567","v":""},{"$f":"DATA!N567","v":0},{"$f":"DATA!O567","v":"FR00282803390016"},{"$f":"DATA!P567","v":"FR00025034160047"}]
[{"$f":"DATA!C568","v":"FR00025081900082"},{"$f":"DATA!D568","v":"SIM-0001"},{"$f":"DATA!E568","v":"SIMON"},{"$f":"DATA!H568","v":40242},{"$f":"DATA!I568","v":1},{"$f":"DATA!J568","v":""},{"$f":"DATA!K568","v":"EA"},{"$f":"DATA!L568","v":"Mal"},{"$f":"DATA!M568","v":""},{"$f":"DATA!N568","v":0},{"$f":"DATA!O568","v":"FR00282803390111"},{"$f":"DATA!P568","v":"FR00002503410024"}]
[{"$f":"DATA!C569","v":"FR00025081900093"},{"$f":"DATA!D569","v":""},{"$f":"DATA!E569","v":""},{"$f":"DATA!H569","v":0},{"$f":"DATA!I569","v":0},{"$f":"DATA!J569","v":""},{"$f":"DATA!K569","v":""},{"$f":"DATA!L569","v":"Fem"},{"$f":"DATA!M569","v":""},{"$f":"DATA!N569","v":0},{"$f":"DATA!O569","v":"FR00282803390036"},{"$f":"DATA!P569","v":"FR00002503410024"}]
[{"$f":"DATA!C570","v":"FR00025081900112"},{"$f":"DATA!D570","v":""},{"$f":"DATA!E570","v":""},{"$f":"DATA!H570","v":0},{"$f":"DATA!I570","v":0},{"$f":"DATA!J570","v":""},{"$f":"DATA!K570","v":""},{"$f":"DATA!L570","v":"Fem"},{"$f":"DATA!M570","v":""},{"$f":"DATA!N570","v":0},{"$f":"DATA!O570","v":"FR00282803390003"},{"$f":"DATA!P570","v":"FR00002503410024"}]
[{"$f":"DATA!C571","v":"FR00025081900120"},{"$f":"DATA!D571","v":""},{"$f":"DATA!E571","v":""},{"$f":"DATA!H571","v":0},{"$f":"DATA!I571","v":0},{"$f":"DATA!J571","v":""},{"$f":"DATA!K571","v":""},{"$f":"DATA!L571","v":"Fem"},{"$f":"DATA!M571","v":""},{"$f":"DATA!N571","v":0},{"$f":"DATA!O571","v":"FR00282803390122"},{"$f":"DATA!P571","v":"FR00002503410024"}]
[{"$f":"DATA!C572","v":"FR00187306100163"},{"$f":"DATA!D572","v":""},{"$f":"DATA!E572","v":""},{"$f":"DATA!H572","v":0},{"$f":"DATA!I572","v":0},{"$f":"DATA!J572","v":""},{"$f":"DATA!K572","v":""},{"$f":"DATA!L572","v":"Fem"},{"$f":"DATA!M572","v":""},{"$f":"DATA!N572","v":0},{"$f":"DATA!O572","v":"9901200KGP000250"},{"$f":"DATA!P572","v":"9901200KGP001310"}]
[{"$f":"DATA!C573","v":"FR00282803390003"},{"$f":"DATA!D573","v":""},{"$f":"DATA!E573","v":""},{"$f":"DATA!H573","v":0},{"$f":"DATA!I573","v":0},{"$f":"DATA!J573","v":""},{"$f":"DATA!K573","v":""},{"$f":"DATA!L573","v":"Fem"},{"$f":"DATA!M573","v":""},{"$f":"DATA!N573","v":0},{"$f":"DATA!O573","v":""},{"$f":"DATA!P573","v":""}]
[{"$f":"DATA!C574","v":"FR00282803390016"},{"$f":"DATA!D574","v":""},{"$f":"DATA!E574","v":""},{"$f":"DATA!H574","v":0},{"$f":"DATA!I574","v":0},{"$f":"DATA!J574","v":""},{"$f":"DATA!K574","v":""},{"$f":"DATA!L574","v":"Fem"},{"$f":"DATA!M574","v":""},{"$f":"DATA!N574","v":0},{"$f":"DATA!O574","v":""},{"$f":"DATA!P574","v":""}]
[{"$f":"DATA!C575","v":"FR00282803390036"},{"$f":"DATA!D575","v":""},{"$f":"DATA!E575","v":""},{"$f":"DATA!H575","v":0},{"$f":"DATA!I575","v":0},{"$f":"DATA!J575","v":""},{"$f":"DATA!K575","v":""},{"$f":"DATA!L575","v":"Fem"},{"$f":"DATA!M575","v":""},{"$f":"DATA!N575","v":0},{"$f":"DATA!O575","v":""},{"$f":"DATA!P575","v":""}]
[{"$f":"DATA!C576","v":"FR00282803390110"},{"$f":"DATA!D576","v":""},{"$f":"DATA!E576","v":""},{"$f":"DATA!H576","v":0},{"$f":"DATA!I576","v":0},{"$f":"DATA!J576","v":""},{"$f":"DATA!K576","v":""},{"$f":"DATA!L576","v":"Fem"},{"$f":"DATA!M576","v":""},{"$f":"DATA!N576","v":0},{"$f":"DATA!O576","v":""},{"$f":"DATA!P576","v":""}]
[{"$f":"DATA!C577","v":"FR00282803390111"},{"$f":"DATA!D577","v":""},{"$f":"DATA!E577","v":""},{"$f":"DATA!H577","v":0},{"$f":"DATA!I577","v":0},{"$f":"DATA!J577","v":""},{"$f":"DATA!K577","v":""},{"$f":"DATA!L577","v":"Fem"},{"$f":"DATA!M577","v":""},{"$f":"DATA!N577","v":0},{"$f":"DATA!O577","v":""},{"$f":"DATA!P577","v":""}]
[{"$f":"DATA!C578","v":"FR00282803390122"},{"$f":"DATA!D578","v":""},{"$f":"DATA!E578","v":""},{"$f":"DATA!H578","v":0},{"$f":"DATA!I578","v":0},{"$f":"DATA!J578","v":""},{"$f":"DATA!K578","v":""},{"$f":"DATA!L578","v":"Fem"},{"$f":"DATA!M578","v":""},{"$f":"DATA!N578","v":0},{"$f":"DATA!O578","v":""},{"$f":"DATA!P578","v":""}]
[{"$f":"DATA!C579","v":"NL00100990703104"},{"$f":"DATA!D579","v":""},{"$f":"DATA!E579","v":""},{"$f":"DATA!H579","v":0},{"$f":"DATA!I579","v":2},{"$f":"DATA!J579","v":""},{"$f":"DATA!K579","v":""},{"$f":"DATA!L579","v":"Fem"},{"$f":"DATA!M579","v":""},{"$f":"DATA!N579","v":0},{"$f":"DATA!O579","v":"99012C0KGL001940"},{"$f":"DATA!P579","v":"NL00216477900143"}]
[{"$f":"DATA!C580","v":"NL00101033698561"},{"$f":"DATA!D580","v":""},{"$f":"DATA!E580","v":""},{"$f":"DATA!H580","v":0},{"$f":"DATA!I580","v":0},{"$f":"DATA!J580","v":""},{"$f":"DATA!K580","v":""},{"$f":"DATA!L580","v":"Mal"},{"$f":"DATA!M580","v":""},{"$f":"DATA!N580","v":0},{"$f":"DATA!O580","v":"0000000000000000"},{"$f":"DATA!P580","v":"0000000000000000"}]
[{"$f":"DATA!C581","v":"NL00101033698575"},{"$f":"DATA!D581","v":""},{"$f":"DATA!E581","v":""},{"$f":"DATA!H581","v":0},{"$f":"DATA!I581","v":0},{"$f":"DATA!J581","v":""},{"$f":"DATA!K581","v":""},{"$f":"DATA!L581","v":"Fem"},{"$f":"DATA!M581","v":""},{"$f":"DATA!N581","v":0},{"$f":"DATA!O581","v":"NL00101033698577"},{"$f":"DATA!P581","v":"NL00262826000001"}]
[{"$f":"DATA!C582","v":"NL00101033698577"},{"$f":"DATA!D582","v":""},{"$f":"DATA!E582","v":""},{"$f":"DATA!H582","v":0},{"$f":"DATA!I582","v":0},{"$f":"DATA!J582","v":""},{"$f":"DATA!K582","v":""},{"$f":"DATA!L582","v":"Fem"},{"$f":"DATA!M582","v":""},{"$f":"DATA!N582","v":0},{"$f":"DATA!O582","v":"99012000WB000740"},{"$f":"DATA!P582","v":"9901200TBV000600"}]
[{"$f":"DATA!C583","v":"NL00101033698582"},{"$f":"DATA!D583","v":""},{"$f":"DATA!E583","v":""},{"$f":"DATA!H583","v":0},{"$f":"DATA!I583","v":0},{"$f":"DATA!J583","v":""},{"$f":"DATA!K583","v":""},{"$f":"DATA!L583","v":"Fem"},{"$f":"DATA!M583","v":""},{"$f":"DATA!N583","v":0},{"$f":"DATA!O583","v":"9901200SAN001170"},{"$f":"DATA!P583","v":"NL00219622800042"}]
[{"$f":"DATA!C584","v":"NL00101632168625"},{"$f":"DATA!D584","v":""},{"$f":"DATA!E584","v":""},{"$f":"DATA!H584","v":0},{"$f":"DATA!I584","v":0},{"$f":"DATA!J584","v":""},{"$f":"DATA!K584","v":""},{"$f":"DATA!L584","v":""},{"$f":"DATA!M584","v":""},{"$f":"DATA!N584","v":0},{"$f":"DATA!O584","v":"NL00245594500091"},{"$f":"DATA!P584","v":"2030400OHA000650"}]
[{"$f":"DATA!C585","v":"NL00109990002397"},{"$f":"DATA!D585","v":""},{"$f":"DATA!E585","v":""},{"$f":"DATA!H585","v":0},{"$f":"DATA!I585","v":0},{"$f":"DATA!J585","v":""},{"$f":"DATA!K585","v":""},{"$f":"DATA!L585","v":"Fem"},{"$f":"DATA!M585","v":""},{"$f":"DATA!N585","v":0},{"$f":"DATA!O585","v":"UK00030351303358"},{"$f":"DATA!P585","v":"NL00202181200432"}]
[{"$f":"DATA!C586","v":"NL00109990002412"},{"$f":"DATA!D586","v":""},{"$f":"DATA!E586","v":""},{"$f":"DATA!H586","v":0},{"$f":"DATA!I586","v":0},{"$f":"DATA!J586","v":""},{"$f":"DATA!K586","v":""},{"$f":"DATA!L586","v":"Fem"},{"$f":"DATA!M586","v":""},{"$f":"DATA!N586","v":0},{"$f":"DATA!O586","v":"NL00109990302420"},{"$f":"DATA!P586","v":"NL00262826000072"}]
[{"$f":"DATA!C587","v":"NL00109990003718"},{"$f":"DATA!D587","v":""},{"$f":"DATA!E587","v":""},{"$f":"DATA!H587","v":0},{"$f":"DATA!I587","v":0},{"$f":"DATA!J587","v":""},{"$f":"DATA!K587","v":""},{"$f":"DATA!L587","v":"Fem"},{"$f":"DATA!M587","v":""},{"$f":"DATA!N587","v":0},{"$f":"DATA!O587","v":"NL00245594500103"},{"$f":"DATA!P587","v":"2030400OHA000650"}]
[{"$f":"DATA!C588","v":"NL00109990003725"},{"$f":"DATA!D588","v":""},{"$f":"DATA!E588","v":""},{"$f":"DATA!H588","v":0},{"$f":"DATA!I588","v":0},{"$f":"DATA!J588","v":""},{"$f":"DATA!K588","v":""},{"$f":"DATA!L588","v":""},{"$f":"DATA!M588","v":""},{"$f":"DATA!N588","v":0},{"$f":"DATA!O588","v":"NL00245594500074"},{"$f":"DATA!P588","v":"9901200OHA000650"}]
[{"$f":"DATA!C589","v":"NL00109990003941"},{"$f":"DATA!D589","v":""},{"$f":"DATA!E589","v":""},{"$f":"DATA!H589","v":0},{"$f":"DATA!I589","v":0},{"$f":"DATA!J589","v":""},{"$f":"DATA!K589","v":""},{"$f":"DATA!L589","v":"Fem"},{"$f":"DATA!M589","v":""},{"$f":"DATA!N589","v":0},{"$f":"DATA!O589","v":"NL00234676200066"},{"$f":"DATA!P589","v":"NL00244678900011"}]
[{"$f":"DATA!C590","v":"NL00109990104307"},{"$f":"DATA!D590","v":""},{"$f":"DATA!E590","v":""},{"$f":"DATA!H590","v":0},{"$f":"DATA!I590","v":0},{"$f":"DATA!J590","v":""},{"$f":"DATA!K590","v":""},{"$f":"DATA!L590","v":"Fem"},{"$f":"DATA!M590","v":""},{"$f":"DATA!N590","v":0},{"$f":"DATA!O590","v":"NL00150668200328"},{"$f":"DATA!P590","v":"NL00202181200497"}]
[{"$f":"DATA!C591","v":"NL00109990202409"},{"$f":"DATA!D591","v":""},{"$f":"DATA!E591","v":""},{"$f":"DATA!H591","v":0},{"$f":"DATA!I591","v":0},{"$f":"DATA!J591","v":""},{"$f":"DATA!K591","v":""},{"$f":"DATA!L591","v":"Fem"},{"$f":"DATA!M591","v":""},{"$f":"DATA!N591","v":0},{"$f":"DATA!O591","v":"NL00202181200433"},{"$f":"DATA!P591","v":"NL00150668200363"}]
[{"$f":"DATA!C592","v":"NL00109990202416"},{"$f":"DATA!D592","v":""},{"$f":"DATA!E592","v":""},{"$f":"DATA!H592","v":0},{"$f":"DATA!I592","v":0},{"$f":"DATA!J592","v":""},{"$f":"DATA!K592","v":""},{"$f":"DATA!L592","v":"Fem"},{"$f":"DATA!M592","v":""},{"$f":"DATA!N592","v":0},{"$f":"DATA!O592","v":"NL00202181200478"},{"$f":"DATA!P592","v":"NL00150668200363"}]
[{"$f":"DATA!C593","v":"NL00109990202531"},{"$f":"DATA!D593","v":"WE-00001"},{"$f":"DATA!E593","v":"WEWER"},{"$f":"DATA!H593","v":40237},{"$f":"DATA!I593","v":2},{"$f":"DATA!J593","v":""},{"$f":"DATA!K593","v":"ER"},{"$f":"DATA!L593","v":"Mal"},{"$f":"DATA!M593","v":""},{"$f":"DATA!N593","v":0},{"$f":"DATA!O593","v":"NL00189617200228"},{"$f":"DATA!P593","v":"NL00206005500122"}]
[{"$f":"DATA!C594","v":"NL00109990202896"},{"$f":"DATA!D594","v":""},{"$f":"DATA!E594","v":""},{"$f":"DATA!H594","v":0},{"$f":"DATA!I594","v":0},{"$f":"DATA!J594","v":""},{"$f":"DATA!K594","v":""},{"$f":"DATA!L594","v":"Fem"},{"$f":"DATA!M594","v":""},{"$f":"DATA!N594","v":0},{"$f":"DATA!O594","v":"NL00269547500030"},{"$f":"DATA!P594","v":"NL00206005500111"}]
[{"$f":"DATA!C595","v":"NL00109990203534"},{"$f":"DATA!D595","v":""},{"$f":"DATA!E595","v":""},{"$f":"DATA!H595","v":0},{"$f":"DATA!I595","v":0},{"$f":"DATA!J595","v":""},{"$f":"DATA!K595","v":""},{"$f":"DATA!L595","v":"Fem"},{"$f":"DATA!M595","v":""},{"$f":"DATA!N595","v":0},{"$f":"DATA!O595","v":"NL00189617200230"},{"$f":"DATA!P595","v":"NL00109990803550"}]
[{"$f":"DATA!C596","v":"NL00109990203541"},{"$f":"DATA!D596","v":""},{"$f":"DATA!E596","v":""},{"$f":"DATA!H596","v":0},{"$f":"DATA!I596","v":0},{"$f":"DATA!J596","v":""},{"$f":"DATA!K596","v":""},{"$f":"DATA!L596","v":""},{"$f":"DATA!M596","v":""},{"$f":"DATA!N596","v":0},{"$f":"DATA!O596","v":"NL00604301600009"},{"$f":"DATA!P596","v":"NL00109990803550"}]
[{"$f":"DATA!C597","v":"NL00109990204328"},{"$f":"DATA!D597","v":""},{"$f":"DATA!E597","v":""},{"$f":"DATA!H597","v":0},{"$f":"DATA!I597","v":0},{"$f":"DATA!J597","v":""},{"$f":"DATA!K597","v":""},{"$f":"DATA!L597","v":"Fem"},{"$f":"DATA!M597","v":""},{"$f":"DATA!N597","v":0},{"$f":"DATA!O597","v":"NL00150668200327"},{"$f":"DATA!P597","v":"NL00109990904048"}]
[{"$f":"DATA!C598","v":"NL00109990302406"},{"$f":"DATA!D598","v":""},{"$f":"DATA!E598","v":""},{"$f":"DATA!H598","v":0},{"$f":"DATA!I598","v":0},{"$f":"DATA!J598","v":""},{"$f":"DATA!K598","v":""},{"$f":"DATA!L598","v":"Fem"},{"$f":"DATA!M598","v":""},{"$f":"DATA!N598","v":0},{"$f":"DATA!O598","v":"NL00205537600079"},{"$f":"DATA!P598","v":"NL00150668200363"}]
[{"$f":"DATA!C599","v":"NL00109990302413"},{"$f":"DATA!D599","v":""},{"$f":"DATA!E599","v":""},{"$f":"DATA!H599","v":0},{"$f":"DATA!I599","v":0},{"$f":"DATA!J599","v":""},{"$f":"DATA!K599","v":""},{"$f":"DATA!L599","v":""},{"$f":"DATA!M599","v":""},{"$f":"DATA!N599","v":0},{"$f":"DATA!O599","v":"NL00202181200482"},{"$f":"DATA!P599","v":"NL00262826000072"}]
[{"$f":"DATA!C600","v":"NL00109990302420"},{"$f":"DATA!D600","v":""},{"$f":"DATA!E600","v":""},{"$f":"DATA!H600","v":0},{"$f":"DATA!I600","v":0},{"$f":"DATA!J600","v":""},{"$f":"DATA!K600","v":""},{"$f":"DATA!L600","v":"Fem"},{"$f":"DATA!M600","v":""},{"$f":"DATA!N600","v":0},{"$f":"DATA!O600","v":"0000000000000000"},{"$f":"DATA!P600","v":"0000000000000000"}]
[{"$f":"DATA!C601","v":"NL00109990303942"},{"$f":"DATA!D601","v":""},{"$f":"DATA!E601","v":""},{"$f":"DATA!H601","v":0},{"$f":"DATA!I601","v":0},{"$f":"DATA!J601","v":""},{"$f":"DATA!K601","v":""},{"$f":"DATA!L601","v":"Fem"},{"$f":"DATA!M601","v":""},{"$f":"DATA!N601","v":0},{"$f":"DATA!O601","v":"NL00159650600364"},{"$f":"DATA!P601","v":"NL00245594500101"}]
[{"$f":"DATA!C602","v":"NL00109990304325"},{"$f":"DATA!D602","v":""},{"$f":"DATA!E602","v":""},{"$f":"DATA!H602","v":0},{"$f":"DATA!I602","v":0},{"$f":"DATA!J602","v":""},{"$f":"DATA!K602","v":""},{"$f":"DATA!L602","v":"Fem"},{"$f":"DATA!M602","v":""},{"$f":"DATA!N602","v":0},{"$f":"DATA!O602","v":"NL00150668200364"},{"$f":"DATA!P602","v":"NL00109990904048"}]
[{"$f":"DATA!C603","v":"NL00109990360000"},{"$f":"DATA!D603","v":"FLI-0001"},{"$f":"DATA!E603","v":"FLIP"},{"$f":"DATA!H603","v":39851},{"$f":"DATA!I603","v":2},{"$f":"DATA!J603","v":"Berkovcová L"},{"$f":"DATA!K603","v":"ER"},{"$f":"DATA!L603","v":""},{"$f":"DATA!M603","v":"ARR/ARR"},{"$f":"DATA!N603","v":0},{"$f":"DATA!O603","v":"NL00109990603330"},{"$f":"DATA!P603","v":"NL00255933900049"}]
[{"$f":"DATA!C604","v":"NL00109990402319"},{"$f":"DATA!D604","v":"FRU-0001"},{"$f":"DATA!E604","v":"FRUMAU"},{"$f":"DATA!H604","v":40249},{"$f":"DATA!I604","v":0},{"$f":"DATA!J604","v":""},{"$f":"DATA!K604","v":"ER"},{"$f":"DATA!L604","v":""},{"$f":"DATA!M604","v":""},{"$f":"DATA!N604","v":0},{"$f":"DATA!O604","v":"NL00101033698575"},{"$f":"DATA!P604","v":"UK00303422062516"}]
[{"$f":"DATA!C605","v":"NL00109990402410"},{"$f":"DATA!D605","v":""},{"$f":"DATA!E605","v":""},{"$f":"DATA!H605","v":0},{"$f":"DATA!I605","v":0},{"$f":"DATA!J605","v":""},{"$f":"DATA!K605","v":""},{"$f":"DATA!L605","v":"Fem"},{"$f":"DATA!M605","v":""},{"$f":"DATA!N605","v":0},{"$f":"DATA!O605","v":"NL00202181200433"},{"$f":"DATA!P605","v":"NL00150668200363"}]
[{"$f":"DATA!C606","v":"NL00109990403127"},{"$f":"DATA!D606","v":""},{"$f":"DATA!E606","v":""},{"$f":"DATA!H606","v":0},{"$f":"DATA!I606","v":0},{"$f":"DATA!J606","v":""},{"$f":"DATA!K606","v":""},{"$f":"DATA!L606","v":""},{"$f":"DATA!M606","v":""},{"$f":"DATA!N606","v":0},{"$f":"DATA!O606","v":"NL00109990603107"},{"$f":"DATA!P606","v":"NL00109990903106"}]
[{"$f":"DATA!C607","v":"NL00109990403545"},{"$f":"DATA!D607","v":""},{"$f":"DATA!E607","v":""},{"$f":"DATA!H607","v":0},{"$f":"DATA!I607","v":0},{"$f":"DATA!J607","v":""},{"$f":"DATA!K607","v":""},{"$f":"DATA!L607","v":"Fem"},{"$f":"DATA!M607","v":""},{"$f":"DATA!N607","v":0},{"$f":"DATA!O607","v":"NL00604301600017"},{"$f":"DATA!P607","v":"NL00109990803550"}]
[{"$f":"DATA!C608","v":"NL00109990403716"},{"$f":"DATA!D608","v":""},{"$f":"DATA!E608","v":""},{"$f":"DATA!H608","v":0},{"$f":"DATA!I608","v":0},{"$f":"DATA!J608","v":""},{"$f":"DATA!K608","v":""},{"$f":"DATA!L608","v":"Fem"},{"$f":"DATA!M608","v":""},{"$f":"DATA!N608","v":0},{"$f":"DATA!O608","v":"NL00245594500054"},{"$f":"DATA!P608","v":"9901200OHA000650"}]
[{"$f":"DATA!C609","v":"NL00109990403932"},{"$f":"DATA!D609","v":""},{"$f":"DATA!E609","v":""},{"$f":"DATA!H609","v":0},{"$f":"DATA!I609","v":0},{"$f":"DATA!J609","v":""},{"$f":"DATA!K609","v":""},{"$f":"DATA!L609","v":"Fem"},{"$f":"DATA!M609","v":""},{"$f":"DATA!N609","v":0},{"$f":"DATA!O609","v":"NL00234676200173"},{"$f":"DATA!P609","v":"NL00234676200212"}]
[{"$f":"DATA!C610","v":"NL00109990459997"},{"$f":"DATA!D610","v":""},{"$f":"DATA!E610","v":""},{"$f":"DATA!H610","v":0},{"$f":"DATA!I610","v":0},{"$f":"DATA!J610","v":""},{"$f":"DATA!K610","v":""},{"$f":"DATA!L610","v":"Fem"},{"$f":"DATA!M610","v":""},{"$f":"DATA!N610","v":0},{"$f":"DATA!O610","v":"NL00245594500074"},{"$f":"DATA!P610","v":"9901200OHA000650"}]
[{"$f":"DATA!C611","v":"NL00109990502037"},{"$f":"DATA!D611","v":"HAZ-0001"},{"$f":"DATA!E611","v":"HAZMAN"},{"$f":"DATA!H611","v":40241},{"$f":"DATA!I611","v":3},{"$f":"DATA!J611","v":""},{"$f":"DATA!K611","v":"ER"},{"$f":"DATA!L611","v":"Mal"},{"$f":"DATA!M611","v":""},{"$f":"DATA!N611","v":0},{"$f":"DATA!O611","v":"NL00238724000161"},{"$f":"DATA!P611","v":"NL00255933900070"}]
[{"$f":"DATA!C612","v":"NL00109990502417"},{"$f":"DATA!D612","v":""},{"$f":"DATA!E612","v":""},{"$f":"DATA!H612","v":0},{"$f":"DATA!I612","v":0},{"$f":"DATA!J612","v":""},{"$f":"DATA!K612","v":""},{"$f":"DATA!L612","v":""},{"$f":"DATA!M612","v":""},{"$f":"DATA!N612","v":0},{"$f":"DATA!O612","v":"NL00202181200490"},{"$f":"DATA!P612","v":"NL00150668200363"}]
[{"$f":"DATA!C613","v":"NL00109990503953"},{"$f":"DATA!D613","v":""},{"$f":"DATA!E613","v":""},{"$f":"DATA!H613","v":0},{"$f":"DATA!I613","v":0},{"$f":"DATA!J613","v":""},{"$f":"DATA!K613","v":""},{"$f":"DATA!L613","v":""},{"$f":"DATA!M613","v":""},{"$f":"DATA!N613","v":0},{"$f":"DATA!O613","v":"NL00109990003941"},{"$f":"DATA!P613","v":"NL00269547500074"}]
[{"$f":"DATA!C614","v":"NL00109990602399"},{"$f":"DATA!D614","v":""},{"$f":"DATA!E614","v":""},{"$f":"DATA!H614","v":0},{"$f":"DATA!I614","v":0},{"$f":"DATA!J614","v":""},{"$f":"DATA!K614","v":""},{"$f":"DATA!L614","v":"Fem"},{"$f":"DATA!M614","v":""},{"$f":"DATA!N614","v":0},{"$f":"DATA!O614","v":"NL00202181200450"},{"$f":"DATA!P614","v":"NL00150668200363"}]
[{"$f":"DATA!C615","v":"NL00109990602414"},{"$f":"DATA!D615","v":""},{"$f":"DATA!E615","v":""},{"$f":"DATA!H615","v":0},{"$f":"DATA!I615","v":0},{"$f":"DATA!J615","v":""},{"$f":"DATA!K615","v":""},{"$f":"DATA!L615","v":"Fem"},{"$f":"DATA!M615","v":""},{"$f":"DATA!N615","v":0},{"$f":"DATA!O615","v":"NL00202181200493"},{"$f":"DATA!P615","v":"NL00150668200363"}]
[{"$f":"DATA!C616","v":"NL00109990603107"},{"$f":"DATA!D616","v":""},{"$f":"DATA!E616","v":""},{"$f":"DATA!H616","v":0},{"$f":"DATA!I616","v":0},{"$f":"DATA!J616","v":""},{"$f":"DATA!K616","v":""},{"$f":"DATA!L616","v":"Fem"},{"$f":"DATA!M616","v":""},{"$f":"DATA!N616","v":0},{"$f":"DATA!O616","v":"NL00109990903331"},{"$f":"DATA!P616","v":"NL00255933900049"}]
[{"$f":"DATA!C617","v":"NL00109990603121"},{"$f":"DATA!D617","v":"TOO-0002"},{"$f":"DATA!E617","v":"TOORN"},{"$f":"DATA!H617","v":40260},{"$f":"DATA!I617","v":2},{"$f":"DATA!J617","v":""},{"$f":"DATA!K617","v":"ER"},{"$f":"DATA!L617","v":""},{"$f":"DATA!M617","v":"ARR/ARR"},{"$f":"DATA!N617","v":0},{"$f":"DATA!O617","v":"NL00255933900078"},{"$f":"DATA!P617","v":"NL00109990903106"}]
[{"$f":"DATA!C618","v":"NL00109990603330"},{"$f":"DATA!D618","v":""},{"$f":"DATA!E618","v":""},{"$f":"DATA!H618","v":0},{"$f":"DATA!I618","v":3},{"$f":"DATA!J618","v":""},{"$f":"DATA!K618","v":""},{"$f":"DATA!L618","v":"Fem"},{"$f":"DATA!M618","v":""},{"$f":"DATA!N618","v":0},{"$f":"DATA!O618","v":"9901200SBN002190"},{"$f":"DATA!P618","v":"9901200CHA000010"}]
[{"$f":"DATA!C619","v":"NL00109990603549"},{"$f":"DATA!D619","v":""},{"$f":"DATA!E619","v":""},{"$f":"DATA!H619","v":0},{"$f":"DATA!I619","v":0},{"$f":"DATA!J619","v":""},{"$f":"DATA!K619","v":""},{"$f":"DATA!L619","v":"Fem"},{"$f":"DATA!M619","v":""},{"$f":"DATA!N619","v":0},{"$f":"DATA!O619","v":"NL00604301600011"},{"$f":"DATA!P619","v":"NL00109990803550"}]
[{"$f":"DATA!C620","v":"NL00109990603929"},{"$f":"DATA!D620","v":""},{"$f":"DATA!E620","v":""},{"$f":"DATA!H620","v":0},{"$f":"DATA!I620","v":0},{"$f":"DATA!J620","v":""},{"$f":"DATA!K620","v":""},{"$f":"DATA!L620","v":""},{"$f":"DATA!M620","v":""},{"$f":"DATA!N620","v":0},{"$f":"DATA!O620","v":"NL00234676200178"},{"$f":"DATA!P620","v":"NL00234676200212"}]
[{"$f":"DATA!C621","v":"NL00109990603943"},{"$f":"DATA!D621","v":""},{"$f":"DATA!E621","v":""},{"$f":"DATA!H621","v":0},{"$f":"DATA!I621","v":0},{"$f":"DATA!J621","v":""},{"$f":"DATA!K621","v":""},{"$f":"DATA!L621","v":"Fem"},{"$f":"DATA!M621","v":""},{"$f":"DATA!N621","v":0},{"$f":"DATA!O621","v":"NL00159650600364"},{"$f":"DATA!P621","v":"NL00245594500101"}]
[{"$f":"DATA!C622","v":"NL00109990702396"},{"$f":"DATA!D622","v":""},{"$f":"DATA!E622","v":""},{"$f":"DATA!H622","v":0},{"$f":"DATA!I622","v":0},{"$f":"DATA!J622","v":""},{"$f":"DATA!K622","v":""},{"$f":"DATA!L622","v":"Fem"},{"$f":"DATA!M622","v":""},{"$f":"DATA!N622","v":0},{"$f":"DATA!O622","v":"NL00189617200183"},{"$f":"DATA!P622","v":"NL00245594500047"}]
[{"$f":"DATA!C623","v":"NL00109990802191"},{"$f":"DATA!D623","v":"TOO-0001"},{"$f":"DATA!E623","v":"TOORN"},{"$f":"DATA!H623","v":40257},{"$f":"DATA!I623","v":0},{"$f":"DATA!J623","v":""},{"$f":"DATA!K623","v":"EA"},{"$f":"DATA!L623","v":"Mal"},{"$f":"DATA!M623","v":""},{"$f":"DATA!N623","v":0},{"$f":"DATA!O623","v":"NL00216477900193"},{"$f":"DATA!P623","v":"NL00219622800156"}]
[{"$f":"DATA!C624","v":"NL00109990803101"},{"$f":"DATA!D624","v":""},{"$f":"DATA!E624","v":""},{"$f":"DATA!H624","v":0},{"$f":"DATA!I624","v":3},{"$f":"DATA!J624","v":""},{"$f":"DATA!K624","v":""},{"$f":"DATA!L624","v":"Fem"},{"$f":"DATA!M624","v":""},{"$f":"DATA!N624","v":0},{"$f":"DATA!O624","v":"NL00202181200218"},{"$f":"DATA!P624","v":"NL00255933900006"}]
[{"$f":"DATA!C625","v":"NL00109990803529"},{"$f":"DATA!D625","v":""},{"$f":"DATA!E625","v":""},{"$f":"DATA!H625","v":0},{"$f":"DATA!I625","v":0},{"$f":"DATA!J625","v":""},{"$f":"DATA!K625","v":""},{"$f":"DATA!L625","v":"Fem"},{"$f":"DATA!M625","v":""},{"$f":"DATA!N625","v":0},{"$f":"DATA!O625","v":"NL00189617200227"},{"$f":"DATA!P625","v":"NL00109990803550"}]
[{"$f":"DATA!C626","v":"NL00109990803550"},{"$f":"DATA!D626","v":""},{"$f":"DATA!E626","v":""},{"$f":"DATA!H626","v":0},{"$f":"DATA!I626","v":0},{"$f":"DATA!J626","v":""},{"$f":"DATA!K626","v":""},{"$f":"DATA!L626","v":"Mal"},{"$f":"DATA!M626","v":""},{"$f":"DATA!N626","v":0},{"$f":"DATA!O626","v":"NL00206005500117"},{"$f":"DATA!P626","v":"NL00101033698561"}]
[{"$f":"DATA!C627","v":"NL00109990804058"},{"$f":"DATA!D627","v":""},{"$f":"DATA!E627","v":""},{"$f":"DATA!H627","v":0},{"$f":"DATA!I627","v":0},{"$f":"DATA!J627","v":""},{"$f":"DATA!K627","v":""},{"$f":"DATA!L627","v":"Fem"},{"$f":"DATA!M627","v":""},{"$f":"DATA!N627","v":0},{"$f":"DATA!O627","v":"9901200SRU000830"},{"$f":"DATA!P627","v":"9901200SBN002220"}]
[{"$f":"DATA!C628","v":"NL00109990902408"},{"$f":"DATA!D628","v":""},{"$f":"DATA!E628","v":""},{"$f":"DATA!H628","v":0},{"$f":"DATA!I628","v":0},{"$f":"DATA!J628","v":""},{"$f":"DATA!K628","v":""},{"$f":"DATA!L628","v":"Fem"},{"$f":"DATA!M628","v":""},{"$f":"DATA!N628","v":0},{"$f":"DATA!O628","v":"NL00109990002397"},{"$f":"DATA!P628","v":"NL00150668200363"}]
[{"$f":"DATA!C629","v":"NL00109990903106"},{"$f":"DATA!D629","v":""},{"$f":"DATA!E629","v":""},{"$f":"DATA!H629","v":0},{"$f":"DATA!I629","v":0},{"$f":"DATA!J629","v":""},{"$f":"DATA!K629","v":""},{"$f":"DATA!L629","v":"Mal"},{"$f":"DATA!M629","v":""},{"$f":"DATA!N629","v":0},{"$f":"DATA!O629","v":"NL00205970500012"},{"$f":"DATA!P629","v":"NL00101033698561"}]
[{"$f":"DATA!C630","v":"NL00109990903331"},{"$f":"DATA!D630","v":""},{"$f":"DATA!E630","v":""},{"$f":"DATA!H630","v":0},{"$f":"DATA!I630","v":0},{"$f":"DATA!J630","v":""},{"$f":"DATA!K630","v":""},{"$f":"DATA!L630","v":"Fem"},{"$f":"DATA!M630","v":""},{"$f":"DATA!N630","v":0},{"$f":"DATA!O630","v":"NL00109990603330"},{"$f":"DATA!P630","v":"NL00219622800042"}]
[{"$f":"DATA!C631","v":"NL00109990904048"},{"$f":"DATA!D631","v":""},{"$f":"DATA!E631","v":""},{"$f":"DATA!H631","v":0},{"$f":"DATA!I631","v":0},{"$f":"DATA!J631","v":""},{"$f":"DATA!K631","v":""},{"$f":"DATA!L631","v":"Mal"},{"$f":"DATA!M631","v":""},{"$f":"DATA!N631","v":0},{"$f":"DATA!O631","v":"NL00109990804058"},{"$f":"DATA!P631","v":"NL00101033698561"}]
[{"$f":"DATA!C632","v":"NL00150668200245"},{"$f":"DATA!D632","v":""},{"$f":"DATA!E632","v":""},{"$f":"DATA!H632","v":0},{"$f":"DATA!I632","v":0},{"$f":"DATA!J632","v":""},{"$f":"DATA!K632","v":""},{"$f":"DATA!L632","v":"Fem"},{"$f":"DATA!M632","v":""},{"$f":"DATA!N632","v":0},{"$f":"DATA!O632","v":"9901200OWE000030"},{"$f":"DATA!P632","v":"9901200SBN002220"}]
[{"$f":"DATA!C633","v":"NL00150668200327"},{"$f":"DATA!D633","v":""},{"$f":"DATA!E633","v":""},{"$f":"DATA!H633","v":0},{"$f":"DATA!I633","v":0},{"$f":"DATA!J633","v":""},{"$f":"DATA!K633","v":""},{"$f":"DATA!L633","v":"Fem"},{"$f":"DATA!M633","v":""},{"$f":"DATA!N633","v":0},{"$f":"DATA!O633","v":"NL00150668200245"},{"$f":"DATA!P633","v":"NL00216477900091"}]
[{"$f":"DATA!C634","v":"NL00150668200328"},{"$f":"DATA!D634","v":""},{"$f":"DATA!E634","v":""},{"$f":"DATA!H634","v":0},{"$f":"DATA!I634","v":0},{"$f":"DATA!J634","v":""},{"$f":"DATA!K634","v":""},{"$f":"DATA!L634","v":"Fem"},{"$f":"DATA!M634","v":""},{"$f":"DATA!N634","v":0},{"$f":"DATA!O634","v":"NL00150668200245"},{"$f":"DATA!P634","v":"NL00216477900091"}]
[{"$f":"DATA!C635","v":"NL00150668200363"},{"$f":"DATA!D635","v":""},{"$f":"DATA!E635","v":""},{"$f":"DATA!H635","v":0},{"$f":"DATA!I635","v":0},{"$f":"DATA!J635","v":""},{"$f":"DATA!K635","v":""},{"$f":"DATA!L635","v":"Mal"},{"$f":"DATA!M635","v":""},{"$f":"DATA!N635","v":0},{"$f":"DATA!O635","v":"NL00150668200245"},{"$f":"DATA!P635","v":"NL00216477900091"}]
[{"$f":"DATA!C636","v":"NL00150668200364"},{"$f":"DATA!D636","v":""},{"$f":"DATA!E636","v":""},{"$f":"DATA!H636","v":0},{"$f":"DATA!I636","v":0},{"$f":"DATA!J636","v":""},{"$f":"DATA!K636","v":""},{"$f":"DATA!L636","v":"Fem"},{"$f":"DATA!M636","v":""},{"$f":"DATA!N636","v":0},{"$f":"DATA!O636","v":"NL00150668200327"},{"$f":"DATA!P636","v":"NL00219622800155"}]
[{"$f":"DATA!C637","v":"NL00159605060104"},{"$f":"DATA!D637","v":""},{"$f":"DATA!E637","v":""},{"$f":"DATA!H637","v":0},{"$f":"DATA!I637","v":0},{"$f":"DATA!J637","v":""},{"$f":"DATA!K637","v":""},{"$f":"DATA!L637","v":"Fem"},{"$f":"DATA!M637","v":""},{"$f":"DATA!N637","v":0},{"$f":"DATA!O637","v":"9901200GRW000320"},{"$f":"DATA!P637","v":"9901200TBV000780"}]
[{"$f":"DATA!C638","v":"NL00159650600364"},{"$f":"DATA!D638","v":""},{"$f":"DATA!E638","v":""},{"$f":"DATA!H638","v":0},{"$f":"DATA!I638","v":0},{"$f":"DATA!J638","v":""},{"$f":"DATA!K638","v":""},{"$f":"DATA!L638","v":"Fem"},{"$f":"DATA!M638","v":""},{"$f":"DATA!N638","v":0},{"$f":"DATA!O638","v":"NL00159605060104"},{"$f":"DATA!P638","v":"NL00191312700152"}]
[{"$f":"DATA!C639","v":"NL00189617200051"},{"$f":"DATA!D639","v":""},{"$f":"DATA!E639","v":""},{"$f":"DATA!H639","v":0},{"$f":"DATA!I639","v":1},{"$f":"DATA!J639","v":""},{"$f":"DATA!K639","v":""},{"$f":"DATA!L639","v":"Fem"},{"$f":"DATA!M639","v":""},{"$f":"DATA!N639","v":0},{"$f":"DATA!O639","v":"99012000WB000400"},{"$f":"DATA!P639","v":"9901200SBN000320"}]
[{"$f":"DATA!C640","v":"NL00189617200130"},{"$f":"DATA!D640","v":""},{"$f":"DATA!E640","v":""},{"$f":"DATA!H640","v":0},{"$f":"DATA!I640","v":0},{"$f":"DATA!J640","v":""},{"$f":"DATA!K640","v":""},{"$f":"DATA!L640","v":"Fem"},{"$f":"DATA!M640","v":""},{"$f":"DATA!N640","v":0},{"$f":"DATA!O640","v":"9901200KVH000470"},{"$f":"DATA!P640","v":"9901200KGL000660"}]
[{"$f":"DATA!C641","v":"NL00189617200165"},{"$f":"DATA!D641","v":""},{"$f":"DATA!E641","v":""},{"$f":"DATA!H641","v":0},{"$f":"DATA!I641","v":0},{"$f":"DATA!J641","v":""},{"$f":"DATA!K641","v":""},{"$f":"DATA!L641","v":"Fem"},{"$f":"DATA!M641","v":""},{"$f":"DATA!N641","v":0},{"$f":"DATA!O641","v":"9901200KVH000470"},{"$f":"DATA!P641","v":"NL00191974300123"}]
[{"$f":"DATA!C642","v":"NL00189617200183"},{"$f":"DATA!D642","v":""},{"$f":"DATA!E642","v":""},{"$f":"DATA!H642","v":0},{"$f":"DATA!I642","v":0},{"$f":"DATA!J642","v":""},{"$f":"DATA!K642","v":""},{"$f":"DATA!L642","v":"Fem"},{"$f":"DATA!M642","v":""},{"$f":"DATA!N642","v":0},{"$f":"DATA!O642","v":"NL00189617200130"},{"$f":"DATA!P642","v":"NL00191974300123"}]
[{"$f":"DATA!C643","v":"NL00189617200227"},{"$f":"DATA!D643","v":""},{"$f":"DATA!E643","v":""},{"$f":"DATA!H643","v":0},{"$f":"DATA!I643","v":0},{"$f":"DATA!J643","v":""},{"$f":"DATA!K643","v":""},{"$f":"DATA!L643","v":"Fem"},{"$f":"DATA!M643","v":""},{"$f":"DATA!N643","v":0},{"$f":"DATA!O643","v":"NL00189617200165"},{"$f":"DATA!P643","v":"NL00219622800102"}]
[{"$f":"DATA!C644","v":"NL00189617200228"},{"$f":"DATA!D644","v":""},{"$f":"DATA!E644","v":""},{"$f":"DATA!H644","v":0},{"$f":"DATA!I644","v":0},{"$f":"DATA!J644","v":""},{"$f":"DATA!K644","v":""},{"$f":"DATA!L644","v":"Fem"},{"$f":"DATA!M644","v":""},{"$f":"DATA!N644","v":0},{"$f":"DATA!O644","v":"NL00189617200165"},{"$f":"DATA!P644","v":"NL00219622800102"}]
[{"$f":"DATA!C645","v":"NL00189617200230"},{"$f":"DATA!D645","v":""},{"$f":"DATA!E645","v":""},{"$f":"DATA!H645","v":0},{"$f":"DATA!I645","v":0},{"$f":"DATA!J645","v":""},{"$f":"DATA!K645","v":""},{"$f":"DATA!L645","v":"Fem"},{"$f":"DATA!M645","v":""},{"$f":"DATA!N645","v":0},{"$f":"DATA!O645","v":"NL00189617200183"},{"$f":"DATA!P645","v":"NL00219622800102"}]
[{"$f":"DATA!C646","v":"NL00189617200235"},{"$f":"DATA!D646","v":""},{"$f":"DATA!E646","v":""},{"$f":"DATA!H646","v":0},{"$f":"DATA!I646","v":0},{"$f":"DATA!J646","v":""},{"$f":"DATA!K646","v":""},{"$f":"DATA!L646","v":"Fem"},{"$f":"DATA!M646","v":""},{"$f":"DATA!N646","v":0},{"$f":"DATA!O646","v":"99012000WB001930"},{"$f":"DATA!P646","v":"9901200SRU000840"}]
[{"$f":"DATA!C647","v":"NL00189617200237"},{"$f":"DATA!D647","v":""},{"$f":"DATA!E647","v":""},{"$f":"DATA!H647","v":0},{"$f":"DATA!I647","v":0},{"$f":"DATA!J647","v":""},{"$f":"DATA!K647","v":""},{"$f":"DATA!L647","v":"Fem"},{"$f":"DATA!M647","v":""},{"$f":"DATA!N647","v":0},{"$f":"DATA!O647","v":"99012000WB002160"},{"$f":"DATA!P647","v":"NL00219622800102"}]
[{"$f":"DATA!C648","v":"NL00191312700152"},{"$f":"DATA!D648","v":""},{"$f":"DATA!E648","v":""},{"$f":"DATA!H648","v":0},{"$f":"DATA!I648","v":0},{"$f":"DATA!J648","v":""},{"$f":"DATA!K648","v":""},{"$f":"DATA!L648","v":"Mal"},{"$f":"DATA!M648","v":""},{"$f":"DATA!N648","v":0},{"$f":"DATA!O648","v":"9901200HHF001210"},{"$f":"DATA!P648","v":"9901200OWE001800"}]
[{"$f":"DATA!C649","v":"NL00191974300123"},{"$f":"DATA!D649","v":""},{"$f":"DATA!E649","v":""},{"$f":"DATA!H649","v":0},{"$f":"DATA!I649","v":0},{"$f":"DATA!J649","v":""},{"$f":"DATA!K649","v":""},{"$f":"DATA!L649","v":"Mal"},{"$f":"DATA!M649","v":""},{"$f":"DATA!N649","v":0},{"$f":"DATA!O649","v":"9901200KGL000550"},{"$f":"DATA!P649","v":"99012000WB000600"}]
[{"$f":"DATA!C650","v":"NL00196490100121"},{"$f":"DATA!D650","v":""},{"$f":"DATA!E650","v":""},{"$f":"DATA!H650","v":0},{"$f":"DATA!I650","v":0},{"$f":"DATA!J650","v":""},{"$f":"DATA!K650","v":""},{"$f":"DATA!L650","v":"Mal"},{"$f":"DATA!M650","v":""},{"$f":"DATA!N650","v":0},{"$f":"DATA!O650","v":"99012000DZ000560"},{"$f":"DATA!P650","v":"99012000WB001600"}]
[{"$f":"DATA!C651","v":"NL00197359000014"},{"$f":"DATA!D651","v":""},{"$f":"DATA!E651","v":""},{"$f":"DATA!H651","v":0},{"$f":"DATA!I651","v":0},{"$f":"DATA!J651","v":""},{"$f":"DATA!K651","v":""},{"$f":"DATA!L651","v":"Mal"},{"$f":"DATA!M651","v":""},{"$f":"DATA!N651","v":0},{"$f":"DATA!O651","v":"9901200TBV000790"},{"$f":"DATA!P651","v":"9901200TBV001070"}]
[{"$f":"DATA!C652","v":"NL00200005500119"},{"$f":"DATA!D652","v":""},{"$f":"DATA!E652","v":""},{"$f":"DATA!H652","v":0},{"$f":"DATA!I652","v":0},{"$f":"DATA!J652","v":""},{"$f":"DATA!K652","v":""},{"$f":"DATA!L652","v":"Mal"},{"$f":"DATA!M652","v":""},{"$f":"DATA!N652","v":0},{"$f":"DATA!O652","v":"9901200VWT000800"},{"$f":"DATA!P652","v":"NL00268488800002"}]
[{"$f":"DATA!C653","v":"NL00202093000118"},{"$f":"DATA!D653","v":""},{"$f":"DATA!E653","v":""},{"$f":"DATA!H653","v":0},{"$f":"DATA!I653","v":0},{"$f":"DATA!J653","v":""},{"$f":"DATA!K653","v":""},{"$f":"DATA!L653","v":"Fem"},{"$f":"DATA!M653","v":""},{"$f":"DATA!N653","v":0},{"$f":"DATA!O653","v":"9901200SAN000220"},{"$f":"DATA!P653","v":"NL00191974300123"}]
[{"$f":"DATA!C654","v":"NL00202181200069"},{"$f":"DATA!D654","v":""},{"$f":"DATA!E654","v":""},{"$f":"DATA!H654","v":0},{"$f":"DATA!I654","v":0},{"$f":"DATA!J654","v":""},{"$f":"DATA!K654","v":""},{"$f":"DATA!L654","v":"Fem"},{"$f":"DATA!M654","v":""},{"$f":"DATA!N654","v":0},{"$f":"DATA!O654","v":"9901200PYWF95860"},{"$f":"DATA!P654","v":"9901200FAF970710"}]
[{"$f":"DATA!C655","v":"NL00202181200092"},{"$f":"DATA!D655","v":""},{"$f":"DATA!E655","v":""},{"$f":"DATA!H655","v":0},{"$f":"DATA!I655","v":0},{"$f":"DATA!J655","v":""},{"$f":"DATA!K655","v":""},{"$f":"DATA!L655","v":"Fem"},{"$f":"DATA!M655","v":""},{"$f":"DATA!N655","v":0},{"$f":"DATA!O655","v":"9901200FAF00N760"},{"$f":"DATA!P655","v":"9901200PYWF95860"}]
[{"$f":"DATA!C656","v":"NL00202181200218"},{"$f":"DATA!D656","v":""},{"$f":"DATA!E656","v":""},{"$f":"DATA!H656","v":0},{"$f":"DATA!I656","v":0},{"$f":"DATA!J656","v":""},{"$f":"DATA!K656","v":""},{"$f":"DATA!L656","v":"Fem"},{"$f":"DATA!M656","v":""},{"$f":"DATA!N656","v":0},{"$f":"DATA!O656","v":"9901200SBN000170"},{"$f":"DATA!P656","v":"9901200VSB000010"}]
[{"$f":"DATA!C657","v":"NL00202181200261"},{"$f":"DATA!D657","v":""},{"$f":"DATA!E657","v":""},{"$f":"DATA!H657","v":0},{"$f":"DATA!I657","v":0},{"$f":"DATA!J657","v":""},{"$f":"DATA!K657","v":""},{"$f":"DATA!L657","v":"Fem"},{"$f":"DATA!M657","v":""},{"$f":"DATA!N657","v":0},{"$f":"DATA!O657","v":"9901200SBN000170"},{"$f":"DATA!P657","v":"NL00202181200316"}]
[{"$f":"DATA!C658","v":"NL00202181200304"},{"$f":"DATA!D658","v":""},{"$f":"DATA!E658","v":""},{"$f":"DATA!H658","v":0},{"$f":"DATA!I658","v":0},{"$f":"DATA!J658","v":""},{"$f":"DATA!K658","v":""},{"$f":"DATA!L658","v":"Mal"},{"$f":"DATA!M658","v":""},{"$f":"DATA!N658","v":0},{"$f":"DATA!O658","v":"NL00202181200069"},{"$f":"DATA!P658","v":"NL00202181200316"}]
[{"$f":"DATA!C659","v":"NL00202181200316"},{"$f":"DATA!D659","v":""},{"$f":"DATA!E659","v":""},{"$f":"DATA!H659","v":0},{"$f":"DATA!I659","v":0},{"$f":"DATA!J659","v":""},{"$f":"DATA!K659","v":""},{"$f":"DATA!L659","v":"Mal"},{"$f":"DATA!M659","v":""},{"$f":"DATA!N659","v":0},{"$f":"DATA!O659","v":"99012000FA00N430"},{"$f":"DATA!P659","v":"9901200PYWF95860"}]
[{"$f":"DATA!C660","v":"NL00202181200329"},{"$f":"DATA!D660","v":""},{"$f":"DATA!E660","v":""},{"$f":"DATA!H660","v":0},{"$f":"DATA!I660","v":0},{"$f":"DATA!J660","v":""},{"$f":"DATA!K660","v":""},{"$f":"DATA!L660","v":"Fem"},{"$f":"DATA!M660","v":""},{"$f":"DATA!N660","v":0},{"$f":"DATA!O660","v":"9901200SBN002710"},{"$f":"DATA!P660","v":"9901200MGI005280"}]
[{"$f":"DATA!C661","v":"NL00202181200354"},{"$f":"DATA!D661","v":""},{"$f":"DATA!E661","v":""},{"$f":"DATA!H661","v":0},{"$f":"DATA!I661","v":0},{"$f":"DATA!J661","v":""},{"$f":"DATA!K661","v":""},{"$f":"DATA!L661","v":"Fem"},{"$f":"DATA!M661","v":""},{"$f":"DATA!N661","v":0},{"$f":"DATA!O661","v":"9901200SBN002710"},{"$f":"DATA!P661","v":"9901200SBN003230"}]
[{"$f":"DATA!C662","v":"NL00202181200360"},{"$f":"DATA!D662","v":"FRA-0001"},{"$f":"DATA!E662","v":"FRASER"},{"$f":"DATA!H662","v":38427},{"$f":"DATA!I662","v":3},{"$f":"DATA!J662","v":""},{"$f":"DATA!K662","v":"ER"},{"$f":"DATA!L662","v":"Mal"},{"$f":"DATA!M662","v":"ARR/ARR"},{"$f":"DATA!N662","v":0},{"$f":"DATA!O662","v":"9901200SBN002500"},{"$f":"DATA!P662","v":"9901200HAZ001030"}]
[{"$f":"DATA!C663","v":"NL00202181200379"},{"$f":"DATA!D663","v":""},{"$f":"DATA!E663","v":""},{"$f":"DATA!H663","v":0},{"$f":"DATA!I663","v":0},{"$f":"DATA!J663","v":""},{"$f":"DATA!K663","v":""},{"$f":"DATA!L663","v":"Mal"},{"$f":"DATA!M663","v":""},{"$f":"DATA!N663","v":0},{"$f":"DATA!O663","v":"NL00109990302420"},{"$f":"DATA!P663","v":"9901200SBN003600"}]
[{"$f":"DATA!C664","v":"NL00202181200381"},{"$f":"DATA!D664","v":""},{"$f":"DATA!E664","v":""},{"$f":"DATA!H664","v":0},{"$f":"DATA!I664","v":0},{"$f":"DATA!J664","v":""},{"$f":"DATA!K664","v":""},{"$f":"DATA!L664","v":"Mal"},{"$f":"DATA!M664","v":""},{"$f":"DATA!N664","v":0},{"$f":"DATA!O664","v":"9901200SBN003240"},{"$f":"DATA!P664","v":"9901200SBN003600"}]
[{"$f":"DATA!C665","v":"NL00202181200389"},{"$f":"DATA!D665","v":""},{"$f":"DATA!E665","v":""},{"$f":"DATA!H665","v":0},{"$f":"DATA!I665","v":0},{"$f":"DATA!J665","v":""},{"$f":"DATA!K665","v":""},{"$f":"DATA!L665","v":"Fem"},{"$f":"DATA!M665","v":""},{"$f":"DATA!N665","v":0},{"$f":"DATA!O665","v":"9901200FAF990590"},{"$f":"DATA!P665","v":"9901200SBN003600"}]
[{"$f":"DATA!C666","v":"NL00202181200391"},{"$f":"DATA!D666","v":"GER-0001"},{"$f":"DATA!E666","v":"GERALD"},{"$f":"DATA!H666","v":38797},{"$f":"DATA!I666","v":2},{"$f":"DATA!J666","v":""},{"$f":"DATA!K666","v":"ER"},{"$f":"DATA!L666","v":"Mal"},{"$f":"DATA!M666","v":"ARR/ARR"},{"$f":"DATA!N666","v":0},{"$f":"DATA!O666","v":"NL00202181200092"},{"$f":"DATA!P666","v":"9901200SBN003520"}]
[{"$f":"DATA!C667","v":"NL00202181200432"},{"$f":"DATA!D667","v":""},{"$f":"DATA!E667","v":""},{"$f":"DATA!H667","v":0},{"$f":"DATA!I667","v":0},{"$f":"DATA!J667","v":""},{"$f":"DATA!K667","v":""},{"$f":"DATA!L667","v":"Mal"},{"$f":"DATA!M667","v":""},{"$f":"DATA!N667","v":0},{"$f":"DATA!O667","v":"9901200FAF990160"},{"$f":"DATA!P667","v":"NL00202181200379"}]
[{"$f":"DATA!C668","v":"NL00202181200433"},{"$f":"DATA!D668","v":""},{"$f":"DATA!E668","v":""},{"$f":"DATA!H668","v":0},{"$f":"DATA!I668","v":0},{"$f":"DATA!J668","v":""},{"$f":"DATA!K668","v":""},{"$f":"DATA!L668","v":"Fem"},{"$f":"DATA!M668","v":""},{"$f":"DATA!N668","v":0},{"$f":"DATA!O668","v":"NL00202181200069"},{"$f":"DATA!P668","v":"NL00202181200379"}]
[{"$f":"DATA!C669","v":"NL00202181200450"},{"$f":"DATA!D669","v":""},{"$f":"DATA!E669","v":""},{"$f":"DATA!H669","v":0},{"$f":"DATA!I669","v":0},{"$f":"DATA!J669","v":""},{"$f":"DATA!K669","v":""},{"$f":"DATA!L669","v":"Fem"},{"$f":"DATA!M669","v":""},{"$f":"DATA!N669","v":0},{"$f":"DATA!O669","v":"NL00202181200354"},{"$f":"DATA!P669","v":"NL00219622800042"}]
[{"$f":"DATA!C670","v":"NL00202181200455"},{"$f":"DATA!D670","v":""},{"$f":"DATA!E670","v":""},{"$f":"DATA!H670","v":0},{"$f":"DATA!I670","v":0},{"$f":"DATA!J670","v":""},{"$f":"DATA!K670","v":""},{"$f":"DATA!L670","v":"Mal"},{"$f":"DATA!M670","v":""},{"$f":"DATA!N670","v":0},{"$f":"DATA!O670","v":"9901200SBN003640"},{"$f":"DATA!P670","v":"NL00219622800042"}]
[{"$f":"DATA!C671","v":"NL00202181200478"},{"$f":"DATA!D671","v":""},{"$f":"DATA!E671","v":""},{"$f":"DATA!H671","v":0},{"$f":"DATA!I671","v":0},{"$f":"DATA!J671","v":""},{"$f":"DATA!K671","v":""},{"$f":"DATA!L671","v":"Fem"},{"$f":"DATA!M671","v":""},{"$f":"DATA!N671","v":0},{"$f":"DATA!O671","v":"NL00202181200092"},{"$f":"DATA!P671","v":"NL00219622800042"}]
[{"$f":"DATA!C672","v":"NL00202181200482"},{"$f":"DATA!D672","v":""},{"$f":"DATA!E672","v":""},{"$f":"DATA!H672","v":0},{"$f":"DATA!I672","v":0},{"$f":"DATA!J672","v":""},{"$f":"DATA!K672","v":""},{"$f":"DATA!L672","v":"Fem"},{"$f":"DATA!M672","v":""},{"$f":"DATA!N672","v":0},{"$f":"DATA!O672","v":"NL00202181200329"},{"$f":"DATA!P672","v":"NL00202181200432"}]
[{"$f":"DATA!C673","v":"NL00202181200490"},{"$f":"DATA!D673","v":""},{"$f":"DATA!E673","v":""},{"$f":"DATA!H673","v":0},{"$f":"DATA!I673","v":0},{"$f":"DATA!J673","v":""},{"$f":"DATA!K673","v":""},{"$f":"DATA!L673","v":"Fem"},{"$f":"DATA!M673","v":""},{"$f":"DATA!N673","v":0},{"$f":"DATA!O673","v":"NL00202181200261"},{"$f":"DATA!P673","v":"NL00262826000061"}]
[{"$f":"DATA!C674","v":"NL00202181200493"},{"$f":"DATA!D674","v":""},{"$f":"DATA!E674","v":""},{"$f":"DATA!H674","v":0},{"$f":"DATA!I674","v":0},{"$f":"DATA!J674","v":""},{"$f":"DATA!K674","v":""},{"$f":"DATA!L674","v":"Fem"},{"$f":"DATA!M674","v":""},{"$f":"DATA!N674","v":0},{"$f":"DATA!O674","v":"UK00030351303358"},{"$f":"DATA!P674","v":"NL00262826000061"}]
[{"$f":"DATA!C675","v":"NL00202181200497"},{"$f":"DATA!D675","v":""},{"$f":"DATA!E675","v":""},{"$f":"DATA!H675","v":0},{"$f":"DATA!I675","v":0},{"$f":"DATA!J675","v":""},{"$f":"DATA!K675","v":""},{"$f":"DATA!L675","v":"Mal"},{"$f":"DATA!M675","v":""},{"$f":"DATA!N675","v":0},{"$f":"DATA!O675","v":"NL00202181200389"},{"$f":"DATA!P675","v":"NL00262826000061"}]
[{"$f":"DATA!C676","v":"NL00205537600046"},{"$f":"DATA!D676","v":""},{"$f":"DATA!E676","v":""},{"$f":"DATA!H676","v":0},{"$f":"DATA!I676","v":0},{"$f":"DATA!J676","v":""},{"$f":"DATA!K676","v":""},{"$f":"DATA!L676","v":"Fem"},{"$f":"DATA!M676","v":""},{"$f":"DATA!N676","v":0},{"$f":"DATA!O676","v":""},{"$f":"DATA!P676","v":""}]
[{"$f":"DATA!C677","v":"NL00205537600079"},{"$f":"DATA!D677","v":""},{"$f":"DATA!E677","v":""},{"$f":"DATA!H677","v":0},{"$f":"DATA!I677","v":0},{"$f":"DATA!J677","v":""},{"$f":"DATA!K677","v":""},{"$f":"DATA!L677","v":"Fem"},{"$f":"DATA!M677","v":""},{"$f":"DATA!N677","v":0},{"$f":"DATA!O677","v":"NL00205537600046"},{"$f":"DATA!P677","v":"NL00202181200381"}]
[{"$f":"DATA!C678","v":"NL00205970500012"},{"$f":"DATA!D678","v":""},{"$f":"DATA!E678","v":""},{"$f":"DATA!H678","v":0},{"$f":"DATA!I678","v":0},{"$f":"DATA!J678","v":""},{"$f":"DATA!K678","v":""},{"$f":"DATA!L678","v":"Fem"},{"$f":"DATA!M678","v":""},{"$f":"DATA!N678","v":0},{"$f":"DATA!O678","v":"9901200SRU000830"},{"$f":"DATA!P678","v":"9901200SBN002220"}]
[{"$f":"DATA!C679","v":"NL00206005500092"},{"$f":"DATA!D679","v":""},{"$f":"DATA!E679","v":""},{"$f":"DATA!H679","v":0},{"$f":"DATA!I679","v":0},{"$f":"DATA!J679","v":""},{"$f":"DATA!K679","v":""},{"$f":"DATA!L679","v":"Fem"},{"$f":"DATA!M679","v":""},{"$f":"DATA!N679","v":0},{"$f":"DATA!O679","v":"9901200OWE001310"},{"$f":"DATA!P679","v":"9901200SBN001310"}]
[{"$f":"DATA!C680","v":"NL00206005500095"},{"$f":"DATA!D680","v":""},{"$f":"DATA!E680","v":""},{"$f":"DATA!H680","v":0},{"$f":"DATA!I680","v":0},{"$f":"DATA!J680","v":""},{"$f":"DATA!K680","v":""},{"$f":"DATA!L680","v":"Fem"},{"$f":"DATA!M680","v":""},{"$f":"DATA!N680","v":0},{"$f":"DATA!O680","v":"9901200VWT000640"},{"$f":"DATA!P680","v":"NL00191974300123"}]
[{"$f":"DATA!C681","v":"NL00206005500111"},{"$f":"DATA!D681","v":""},{"$f":"DATA!E681","v":""},{"$f":"DATA!H681","v":0},{"$f":"DATA!I681","v":0},{"$f":"DATA!J681","v":""},{"$f":"DATA!K681","v":""},{"$f":"DATA!L681","v":"Mal"},{"$f":"DATA!M681","v":""},{"$f":"DATA!N681","v":0},{"$f":"DATA!O681","v":"NL00206005500092"},{"$f":"DATA!P681","v":"NL00268488800002"}]
[{"$f":"DATA!C682","v":"NL00206005500117"},{"$f":"DATA!D682","v":""},{"$f":"DATA!E682","v":""},{"$f":"DATA!H682","v":0},{"$f":"DATA!I682","v":0},{"$f":"DATA!J682","v":""},{"$f":"DATA!K682","v":""},{"$f":"DATA!L682","v":"Fem"},{"$f":"DATA!M682","v":""},{"$f":"DATA!N682","v":0},{"$f":"DATA!O682","v":"9901200VWT000640"},{"$f":"DATA!P682","v":"NL00268488800002"}]
[{"$f":"DATA!C683","v":"NL00206005500122"},{"$f":"DATA!D683","v":""},{"$f":"DATA!E683","v":""},{"$f":"DATA!H683","v":0},{"$f":"DATA!I683","v":0},{"$f":"DATA!J683","v":""},{"$f":"DATA!K683","v":""},{"$f":"DATA!L683","v":"Mal"},{"$f":"DATA!M683","v":""},{"$f":"DATA!N683","v":0},{"$f":"DATA!O683","v":"NL00206005500095"},{"$f":"DATA!P683","v":"NL00200005500119"}]
[{"$f":"DATA!C684","v":"NL00216477900091"},{"$f":"DATA!D684","v":""},{"$f":"DATA!E684","v":""},{"$f":"DATA!H684","v":0},{"$f":"DATA!I684","v":0},{"$f":"DATA!J684","v":""},{"$f":"DATA!K684","v":""},{"$f":"DATA!L684","v":"Mal"},{"$f":"DATA!M684","v":""},{"$f":"DATA!N684","v":0},{"$f":"DATA!O684","v":"9901200TBV000430"},{"$f":"DATA!P684","v":"9901200TBV000840"}]
[{"$f":"DATA!C685","v":"NL00216477900143"},{"$f":"DATA!D685","v":""},{"$f":"DATA!E685","v":""},{"$f":"DATA!H685","v":0},{"$f":"DATA!I685","v":2},{"$f":"DATA!J685","v":""},{"$f":"DATA!K685","v":""},{"$f":"DATA!L685","v":"Mal"},{"$f":"DATA!M685","v":""},{"$f":"DATA!N685","v":0},{"$f":"DATA!O685","v":"9901200ESI000110"},{"$f":"DATA!P685","v":"99002DAW00034400"}]
[{"$f":"DATA!C686","v":"NL00216477900185"},{"$f":"DATA!D686","v":""},{"$f":"DATA!E686","v":""},{"$f":"DATA!H686","v":0},{"$f":"DATA!I686","v":0},{"$f":"DATA!J686","v":""},{"$f":"DATA!K686","v":""},{"$f":"DATA!L686","v":"Mal"},{"$f":"DATA!M686","v":""},{"$f":"DATA!N686","v":0},{"$f":"DATA!O686","v":"9901200TBV001460"},{"$f":"DATA!P686","v":"9901200OWE003180"}]
[{"$f":"DATA!C687","v":"NL00216477900193"},{"$f":"DATA!D687","v":""},{"$f":"DATA!E687","v":""},{"$f":"DATA!H687","v":0},{"$f":"DATA!I687","v":0},{"$f":"DATA!J687","v":""},{"$f":"DATA!K687","v":""},{"$f":"DATA!L687","v":"Fem"},{"$f":"DATA!M687","v":""},{"$f":"DATA!N687","v":0},{"$f":"DATA!O687","v":"FR00187306100163"},{"$f":"DATA!P687","v":"NL00202181200304"}]
[{"$f":"DATA!C688","v":"NL00219622800042"},{"$f":"DATA!D688","v":""},{"$f":"DATA!E688","v":""},{"$f":"DATA!H688","v":0},{"$f":"DATA!I688","v":0},{"$f":"DATA!J688","v":""},{"$f":"DATA!K688","v":""},{"$f":"DATA!L688","v":"Mal"},{"$f":"DATA!M688","v":""},{"$f":"DATA!N688","v":0},{"$f":"DATA!O688","v":"99012000WB000740"},{"$f":"DATA!P688","v":"9901200SAN001010"}]
[{"$f":"DATA!C689","v":"NL00219622800102"},{"$f":"DATA!D689","v":""},{"$f":"DATA!E689","v":""},{"$f":"DATA!H689","v":0},{"$f":"DATA!I689","v":0},{"$f":"DATA!J689","v":""},{"$f":"DATA!K689","v":""},{"$f":"DATA!L689","v":"Mal"},{"$f":"DATA!M689","v":""},{"$f":"DATA!N689","v":0},{"$f":"DATA!O689","v":"9901200FBB000800"},{"$f":"DATA!P689","v":"99012DOB00011500"}]
[{"$f":"DATA!C690","v":"NL00219622800155"},{"$f":"DATA!D690","v":""},{"$f":"DATA!E690","v":""},{"$f":"DATA!H690","v":0},{"$f":"DATA!I690","v":0},{"$f":"DATA!J690","v":""},{"$f":"DATA!K690","v":""},{"$f":"DATA!L690","v":"Mal"},{"$f":"DATA!M690","v":""},{"$f":"DATA!N690","v":0},{"$f":"DATA!O690","v":"9901200FBB000750"},{"$f":"DATA!P690","v":"NL00101033698561"}]
[{"$f":"DATA!C691","v":"NL00219622800156"},{"$f":"DATA!D691","v":""},{"$f":"DATA!E691","v":""},{"$f":"DATA!H691","v":0},{"$f":"DATA!I691","v":0},{"$f":"DATA!J691","v":""},{"$f":"DATA!K691","v":""},{"$f":"DATA!L691","v":"Mal"},{"$f":"DATA!M691","v":""},{"$f":"DATA!N691","v":0},{"$f":"DATA!O691","v":"NL00101033698582"},{"$f":"DATA!P691","v":"NL00101033698561"}]
[{"$f":"DATA!C692","v":"NL00234676200066"},{"$f":"DATA!D692","v":""},{"$f":"DATA!E692","v":""},{"$f":"DATA!H692","v":0},{"$f":"DATA!I692","v":0},{"$f":"DATA!J692","v":""},{"$f":"DATA!K692","v":""},{"$f":"DATA!L692","v":"Fem"},{"$f":"DATA!M692","v":""},{"$f":"DATA!N692","v":0},{"$f":"DATA!O692","v":"9901200TBV000180"},{"$f":"DATA!P692","v":"9901200KVH000320"}]
[{"$f":"DATA!C693","v":"NL00234676200155"},{"$f":"DATA!D693","v":""},{"$f":"DATA!E693","v":""},{"$f":"DATA!H693","v":0},{"$f":"DATA!I693","v":0},{"$f":"DATA!J693","v":""},{"$f":"DATA!K693","v":""},{"$f":"DATA!L693","v":"Fem"},{"$f":"DATA!M693","v":""},{"$f":"DATA!N693","v":0},{"$f":"DATA!O693","v":"99001RA000033770"},{"$f":"DATA!P693","v":"99001F9586005700"}]
[{"$f":"DATA!C694","v":"NL00234676200156"},{"$f":"DATA!D694","v":""},{"$f":"DATA!E694","v":""},{"$f":"DATA!H694","v":0},{"$f":"DATA!I694","v":0},{"$f":"DATA!J694","v":""},{"$f":"DATA!K694","v":""},{"$f":"DATA!L694","v":"Fem"},{"$f":"DATA!M694","v":""},{"$f":"DATA!N694","v":0},{"$f":"DATA!O694","v":"9901200MPU000610"},{"$f":"DATA!P694","v":"NL00202181200316"}]
[{"$f":"DATA!C695","v":"NL00234676200173"},{"$f":"DATA!D695","v":""},{"$f":"DATA!E695","v":""},{"$f":"DATA!H695","v":0},{"$f":"DATA!I695","v":0},{"$f":"DATA!J695","v":""},{"$f":"DATA!K695","v":""},{"$f":"DATA!L695","v":"Fem"},{"$f":"DATA!M695","v":""},{"$f":"DATA!N695","v":0},{"$f":"DATA!O695","v":"NL00234676200155"},{"$f":"DATA!P695","v":"NL00234676200194"}]
[{"$f":"DATA!C696","v":"NL00234676200178"},{"$f":"DATA!D696","v":""},{"$f":"DATA!E696","v":""},{"$f":"DATA!H696","v":0},{"$f":"DATA!I696","v":0},{"$f":"DATA!J696","v":""},{"$f":"DATA!K696","v":""},{"$f":"DATA!L696","v":"Fem"},{"$f":"DATA!M696","v":""},{"$f":"DATA!N696","v":0},{"$f":"DATA!O696","v":"NL00234676200156"},{"$f":"DATA!P696","v":"NL00234676200194"}]
[{"$f":"DATA!C697","v":"NL00234676200194"},{"$f":"DATA!D697","v":""},{"$f":"DATA!E697","v":""},{"$f":"DATA!H697","v":0},{"$f":"DATA!I697","v":0},{"$f":"DATA!J697","v":""},{"$f":"DATA!K697","v":""},{"$f":"DATA!L697","v":"Mal"},{"$f":"DATA!M697","v":""},{"$f":"DATA!N697","v":0},{"$f":"DATA!O697","v":"9901200JBA000010"},{"$f":"DATA!P697","v":"9901200TBV001540"}]
[{"$f":"DATA!C698","v":"NL00234676200212"},{"$f":"DATA!D698","v":""},{"$f":"DATA!E698","v":""},{"$f":"DATA!H698","v":0},{"$f":"DATA!I698","v":0},{"$f":"DATA!J698","v":""},{"$f":"DATA!K698","v":""},{"$f":"DATA!L698","v":"Mal"},{"$f":"DATA!M698","v":""},{"$f":"DATA!N698","v":0},{"$f":"DATA!O698","v":"NL00238674600043"},{"$f":"DATA!P698","v":"NL00216477900185"}]
[{"$f":"DATA!C699","v":"NL00238674600043"},{"$f":"DATA!D699","v":""},{"$f":"DATA!E699","v":""},{"$f":"DATA!H699","v":0},{"$f":"DATA!I699","v":0},{"$f":"DATA!J699","v":""},{"$f":"DATA!K699","v":""},{"$f":"DATA!L699","v":"Fem"},{"$f":"DATA!M699","v":""},{"$f":"DATA!N699","v":0},{"$f":"DATA!O699","v":"9901200DPU000260"},{"$f":"DATA!P699","v":"9901200SBN002090"}]
[{"$f":"DATA!C700","v":"NL00238724000042"},{"$f":"DATA!D700","v":""},{"$f":"DATA!E700","v":""},{"$f":"DATA!H700","v":0},{"$f":"DATA!I700","v":1},{"$f":"DATA!J700","v":""},{"$f":"DATA!K700","v":""},{"$f":"DATA!L700","v":"Mal"},{"$f":"DATA!M700","v":""},{"$f":"DATA!N700","v":0},{"$f":"DATA!O700","v":"9901200HAZ000020"},{"$f":"DATA!P700","v":"9901200TBV000710"}]
[{"$f":"DATA!C701","v":"NL00238724000161"},{"$f":"DATA!D701","v":""},{"$f":"DATA!E701","v":""},{"$f":"DATA!H701","v":0},{"$f":"DATA!I701","v":2},{"$f":"DATA!J701","v":""},{"$f":"DATA!K701","v":""},{"$f":"DATA!L701","v":"Fem"},{"$f":"DATA!M701","v":""},{"$f":"DATA!N701","v":0},{"$f":"DATA!O701","v":"NL00189617200051"},{"$f":"DATA!P701","v":"NL00238724000042"}]
[{"$f":"DATA!C702","v":"NL00244678900011"},{"$f":"DATA!D702","v":""},{"$f":"DATA!E702","v":""},{"$f":"DATA!H702","v":0},{"$f":"DATA!I702","v":0},{"$f":"DATA!J702","v":""},{"$f":"DATA!K702","v":""},{"$f":"DATA!L702","v":"Mal"},{"$f":"DATA!M702","v":""},{"$f":"DATA!N702","v":0},{"$f":"DATA!O702","v":"9901200SBN000860"},{"$f":"DATA!P702","v":"9901200SBN002250"}]
[{"$f":"DATA!C703","v":"NL00245594500047"},{"$f":"DATA!D703","v":""},{"$f":"DATA!E703","v":""},{"$f":"DATA!H703","v":0},{"$f":"DATA!I703","v":0},{"$f":"DATA!J703","v":""},{"$f":"DATA!K703","v":""},{"$f":"DATA!L703","v":"Mal"},{"$f":"DATA!M703","v":""},{"$f":"DATA!N703","v":0},{"$f":"DATA!O703","v":"NL00245594500056"},{"$f":"DATA!P703","v":"UK00030342200057"}]
[{"$f":"DATA!C704","v":"NL00245594500054"},{"$f":"DATA!D704","v":""},{"$f":"DATA!E704","v":""},{"$f":"DATA!H704","v":0},{"$f":"DATA!I704","v":0},{"$f":"DATA!J704","v":""},{"$f":"DATA!K704","v":""},{"$f":"DATA!L704","v":"Fem"},{"$f":"DATA!M704","v":""},{"$f":"DATA!N704","v":0},{"$f":"DATA!O704","v":"NL00245594500103"},{"$f":"DATA!P704","v":"NL00196490100121"}]
[{"$f":"DATA!C705","v":"NL00245594500056"},{"$f":"DATA!D705","v":""},{"$f":"DATA!E705","v":""},{"$f":"DATA!H705","v":0},{"$f":"DATA!I705","v":0},{"$f":"DATA!J705","v":""},{"$f":"DATA!K705","v":""},{"$f":"DATA!L705","v":"Fem"},{"$f":"DATA!M705","v":""},{"$f":"DATA!N705","v":0},{"$f":"DATA!O705","v":"0000000000000000"},{"$f":"DATA!P705","v":"0000000000000000"}]
[{"$f":"DATA!C706","v":"NL00245594500074"},{"$f":"DATA!D706","v":""},{"$f":"DATA!E706","v":""},{"$f":"DATA!H706","v":0},{"$f":"DATA!I706","v":0},{"$f":"DATA!J706","v":""},{"$f":"DATA!K706","v":""},{"$f":"DATA!L706","v":"Fem"},{"$f":"DATA!M706","v":""},{"$f":"DATA!N706","v":0},{"$f":"DATA!O706","v":"NL00245594500056"},{"$f":"DATA!P706","v":"NL00202181200316"}]
[{"$f":"DATA!C707","v":"NL00245594500078"},{"$f":"DATA!D707","v":""},{"$f":"DATA!E707","v":""},{"$f":"DATA!H707","v":0},{"$f":"DATA!I707","v":0},{"$f":"DATA!J707","v":""},{"$f":"DATA!K707","v":""},{"$f":"DATA!L707","v":"Mal"},{"$f":"DATA!M707","v":""},{"$f":"DATA!N707","v":0},{"$f":"DATA!O707","v":"NL00245594500103"},{"$f":"DATA!P707","v":"NL00245594500101"}]
[{"$f":"DATA!C708","v":"NL00245594500091"},{"$f":"DATA!D708","v":""},{"$f":"DATA!E708","v":""},{"$f":"DATA!H708","v":0},{"$f":"DATA!I708","v":0},{"$f":"DATA!J708","v":""},{"$f":"DATA!K708","v":""},{"$f":"DATA!L708","v":"Fem"},{"$f":"DATA!M708","v":""},{"$f":"DATA!N708","v":0},{"$f":"DATA!O708","v":"NL00245594500103"},{"$f":"DATA!P708","v":"NL00245594500101"}]
[{"$f":"DATA!C709","v":"NL00245594500101"},{"$f":"DATA!D709","v":""},{"$f":"DATA!E709","v":""},{"$f":"DATA!H709","v":0},{"$f":"DATA!I709","v":0},{"$f":"DATA!J709","v":""},{"$f":"DATA!K709","v":""},{"$f":"DATA!L709","v":"Mal"},{"$f":"DATA!M709","v":""},{"$f":"DATA!N709","v":0},{"$f":"DATA!O709","v":"9901200FBB000530"},{"$f":"DATA!P709","v":"9901200TBV001170"}]
[{"$f":"DATA!C710","v":"NL00245594500103"},{"$f":"DATA!D710","v":""},{"$f":"DATA!E710","v":""},{"$f":"DATA!H710","v":0},{"$f":"DATA!I710","v":0},{"$f":"DATA!J710","v":""},{"$f":"DATA!K710","v":""},{"$f":"DATA!L710","v":"Fem"},{"$f":"DATA!M710","v":""},{"$f":"DATA!N710","v":0},{"$f":"DATA!O710","v":"NL00202181200069"},{"$f":"DATA!P710","v":"NL00202181200316"}]
[{"$f":"DATA!C711","v":"NL00255933900006"},{"$f":"DATA!D711","v":""},{"$f":"DATA!E711","v":""},{"$f":"DATA!H711","v":0},{"$f":"DATA!I711","v":0},{"$f":"DATA!J711","v":""},{"$f":"DATA!K711","v":""},{"$f":"DATA!L711","v":"Mal"},{"$f":"DATA!M711","v":""},{"$f":"DATA!N711","v":0},{"$f":"DATA!O711","v":""},{"$f":"DATA!P711","v":""}]
[{"$f":"DATA!C712","v":"NL00255933900049"},{"$f":"DATA!D712","v":""},{"$f":"DATA!E712","v":""},{"$f":"DATA!H712","v":0},{"$f":"DATA!I712","v":3},{"$f":"DATA!J712","v":""},{"$f":"DATA!K712","v":""},{"$f":"DATA!L712","v":"Mal"},{"$f":"DATA!M712","v":""},{"$f":"DATA!N712","v":0},{"$f":"DATA!O712","v":"NL00109990803101"},{"$f":"DATA!P712","v":"NL00216477900143"}]
[{"$f":"DATA!C713","v":"NL00255933900070"},{"$f":"DATA!D713","v":""},{"$f":"DATA!E713","v":""},{"$f":"DATA!H713","v":0},{"$f":"DATA!I713","v":2},{"$f":"DATA!J713","v":""},{"$f":"DATA!K713","v":""},{"$f":"DATA!L713","v":"Mal"},{"$f":"DATA!M713","v":""},{"$f":"DATA!N713","v":0},{"$f":"DATA!O713","v":"NL00100990703104"},{"$f":"DATA!P713","v":"NL00255933900074"}]
[{"$f":"DATA!C714","v":"NL00255933900074"},{"$f":"DATA!D714","v":""},{"$f":"DATA!E714","v":""},{"$f":"DATA!H714","v":0},{"$f":"DATA!I714","v":2},{"$f":"DATA!J714","v":""},{"$f":"DATA!K714","v":""},{"$f":"DATA!L714","v":"Mal"},{"$f":"DATA!M714","v":""},{"$f":"DATA!N714","v":0},{"$f":"DATA!O714","v":"NL00245594500103"},{"$f":"DATA!P714","v":"9901200ODZ001210"}]
[{"$f":"DATA!C715","v":"NL00255933900078"},{"$f":"DATA!D715","v":""},{"$f":"DATA!E715","v":""},{"$f":"DATA!H715","v":0},{"$f":"DATA!I715","v":0},{"$f":"DATA!J715","v":""},{"$f":"DATA!K715","v":""},{"$f":"DATA!L715","v":"Fem"},{"$f":"DATA!M715","v":""},{"$f":"DATA!N715","v":0},{"$f":"DATA!O715","v":"NL00202181200218"},{"$f":"DATA!P715","v":"NL00255933900006"}]
[{"$f":"DATA!C716","v":"NL00262826000001"},{"$f":"DATA!D716","v":""},{"$f":"DATA!E716","v":""},{"$f":"DATA!H716","v":0},{"$f":"DATA!I716","v":0},{"$f":"DATA!J716","v":""},{"$f":"DATA!K716","v":""},{"$f":"DATA!L716","v":"Mal"},{"$f":"DATA!M716","v":""},{"$f":"DATA!N716","v":0},{"$f":"DATA!O716","v":"9901200SBN002000"},{"$f":"DATA!P716","v":"NL00202181200316"}]
[{"$f":"DATA!C717","v":"NL00262826000003"},{"$f":"DATA!D717","v":""},{"$f":"DATA!E717","v":""},{"$f":"DATA!H717","v":0},{"$f":"DATA!I717","v":0},{"$f":"DATA!J717","v":""},{"$f":"DATA!K717","v":""},{"$f":"DATA!L717","v":"Fem"},{"$f":"DATA!M717","v":""},{"$f":"DATA!N717","v":0},{"$f":"DATA!O717","v":"9901200SBN002000"},{"$f":"DATA!P717","v":"NL00202181200316"}]
[{"$f":"DATA!C718","v":"NL00262826000061"},{"$f":"DATA!D718","v":""},{"$f":"DATA!E718","v":""},{"$f":"DATA!H718","v":0},{"$f":"DATA!I718","v":0},{"$f":"DATA!J718","v":""},{"$f":"DATA!K718","v":""},{"$f":"DATA!L718","v":"Mal"},{"$f":"DATA!M718","v":""},{"$f":"DATA!N718","v":0},{"$f":"DATA!O718","v":"NL00109990903331"},{"$f":"DATA!P718","v":"9901200TGI000030"}]
[{"$f":"DATA!C719","v":"NL00262826000072"},{"$f":"DATA!D719","v":""},{"$f":"DATA!E719","v":""},{"$f":"DATA!H719","v":0},{"$f":"DATA!I719","v":0},{"$f":"DATA!J719","v":""},{"$f":"DATA!K719","v":""},{"$f":"DATA!L719","v":"Mal"},{"$f":"DATA!M719","v":""},{"$f":"DATA!N719","v":0},{"$f":"DATA!O719","v":"NL00262826000003"},{"$f":"DATA!P719","v":"NL00255933900049"}]
[{"$f":"DATA!C720","v":"NL00262826036000"},{"$f":"DATA!D720","v":""},{"$f":"DATA!E720","v":""},{"$f":"DATA!H720","v":0},{"$f":"DATA!I720","v":0},{"$f":"DATA!J720","v":""},{"$f":"DATA!K720","v":""},{"$f":"DATA!L720","v":"Fem"},{"$f":"DATA!M720","v":""},{"$f":"DATA!N720","v":0},{"$f":"DATA!O720","v":"9901200SBN002190"},{"$f":"DATA!P720","v":"NL00219622800042"}]
[{"$f":"DATA!C721","v":"NL00262826040000"},{"$f":"DATA!D721","v":""},{"$f":"DATA!E721","v":""},{"$f":"DATA!H721","v":0},{"$f":"DATA!I721","v":0},{"$f":"DATA!J721","v":""},{"$f":"DATA!K721","v":""},{"$f":"DATA!L721","v":"Fem"},{"$f":"DATA!M721","v":""},{"$f":"DATA!N721","v":0},{"$f":"DATA!O721","v":"9901200OHA000170"},{"$f":"DATA!P721","v":"NL00219622800042"}]
[{"$f":"DATA!C722","v":"NL00262826041000"},{"$f":"DATA!D722","v":""},{"$f":"DATA!E722","v":""},{"$f":"DATA!H722","v":0},{"$f":"DATA!I722","v":0},{"$f":"DATA!J722","v":""},{"$f":"DATA!K722","v":""},{"$f":"DATA!L722","v":"Fem"},{"$f":"DATA!M722","v":""},{"$f":"DATA!N722","v":0},{"$f":"DATA!O722","v":"9901200OHA000170"},{"$f":"DATA!P722","v":"NL00219622800042"}]
[{"$f":"DATA!C723","v":"NL00262826043000"},{"$f":"DATA!D723","v":""},{"$f":"DATA!E723","v":""},{"$f":"DATA!H723","v":0},{"$f":"DATA!I723","v":0},{"$f":"DATA!J723","v":""},{"$f":"DATA!K723","v":""},{"$f":"DATA!L723","v":"Fem"},{"$f":"DATA!M723","v":""},{"$f":"DATA!N723","v":0},{"$f":"DATA!O723","v":"NL00262826000003"},{"$f":"DATA!P723","v":"NL00219622800042"}]
[{"$f":"DATA!C724","v":"NL00262826044000"},{"$f":"DATA!D724","v":""},{"$f":"DATA!E724","v":""},{"$f":"DATA!H724","v":0},{"$f":"DATA!I724","v":0},{"$f":"DATA!J724","v":""},{"$f":"DATA!K724","v":""},{"$f":"DATA!L724","v":"Fem"},{"$f":"DATA!M724","v":""},{"$f":"DATA!N724","v":0},{"$f":"DATA!O724","v":"9901200OHA000190"},{"$f":"DATA!P724","v":"NL00219622800042"}]
[{"$f":"DATA!C725","v":"NL00268488800002"},{"$f":"DATA!D725","v":""},{"$f":"DATA!E725","v":""},{"$f":"DATA!H725","v":0},{"$f":"DATA!I725","v":0},{"$f":"DATA!J725","v":""},{"$f":"DATA!K725","v":""},{"$f":"DATA!L725","v":"Mal"},{"$f":"DATA!M725","v":""},{"$f":"DATA!N725","v":0},{"$f":"DATA!O725","v":"9901200SBN002940"},{"$f":"DATA!P725","v":"9901200MGI005360"}]
[{"$f":"DATA!C726","v":"NL00269547500017"},{"$f":"DATA!D726","v":""},{"$f":"DATA!E726","v":""},{"$f":"DATA!H726","v":0},{"$f":"DATA!I726","v":0},{"$f":"DATA!J726","v":""},{"$f":"DATA!K726","v":""},{"$f":"DATA!L726","v":"Fem"},{"$f":"DATA!M726","v":""},{"$f":"DATA!N726","v":0},{"$f":"DATA!O726","v":"9901200SAN000940"},{"$f":"DATA!P726","v":"NL00197359000014"}]
[{"$f":"DATA!C727","v":"NL00269547500030"},{"$f":"DATA!D727","v":""},{"$f":"DATA!E727","v":""},{"$f":"DATA!H727","v":0},{"$f":"DATA!I727","v":0},{"$f":"DATA!J727","v":""},{"$f":"DATA!K727","v":""},{"$f":"DATA!L727","v":"Fem"},{"$f":"DATA!M727","v":""},{"$f":"DATA!N727","v":0},{"$f":"DATA!O727","v":"NL00202093000118"},{"$f":"DATA!P727","v":"NL00197359000014"}]
[{"$f":"DATA!C728","v":"NL00269547500074"},{"$f":"DATA!D728","v":""},{"$f":"DATA!E728","v":""},{"$f":"DATA!H728","v":0},{"$f":"DATA!I728","v":0},{"$f":"DATA!J728","v":""},{"$f":"DATA!K728","v":""},{"$f":"DATA!L728","v":"Mal"},{"$f":"DATA!M728","v":""},{"$f":"DATA!N728","v":0},{"$f":"DATA!O728","v":"NL00269547500017"},{"$f":"DATA!P728","v":"NL00206005500111"}]
[{"$f":"DATA!C729","v":"NL00604301600009"},{"$f":"DATA!D729","v":""},{"$f":"DATA!E729","v":""},{"$f":"DATA!H729","v":0},{"$f":"DATA!I729","v":0},{"$f":"DATA!J729","v":""},{"$f":"DATA!K729","v":""},{"$f":"DATA!L729","v":"Fem"},{"$f":"DATA!M729","v":""},{"$f":"DATA!N729","v":0},{"$f":"DATA!O729","v":"NL00189617200235"},{"$f":"DATA!P729","v":"NL00202181200455"}]
[{"$f":"DATA!C730","v":"NL00604301600011"},{"$f":"DATA!D730","v":""},{"$f":"DATA!E730","v":""},{"$f":"DATA!H730","v":0},{"$f":"DATA!I730","v":0},{"$f":"DATA!J730","v":""},{"$f":"DATA!K730","v":""},{"$f":"DATA!L730","v":"Fem"},{"$f":"DATA!M730","v":""},{"$f":"DATA!N730","v":0},{"$f":"DATA!O730","v":"NL00189617200230"},{"$f":"DATA!P730","v":"NL00202181200455"}]
[{"$f":"DATA!C731","v":"NL00604301600017"},{"$f":"DATA!D731","v":""},{"$f":"DATA!E731","v":""},{"$f":"DATA!H731","v":0},{"$f":"DATA!I731","v":0},{"$f":"DATA!J731","v":""},{"$f":"DATA!K731","v":""},{"$f":"DATA!L731","v":"Fem"},{"$f":"DATA!M731","v":""},{"$f":"DATA!N731","v":0},{"$f":"DATA!O731","v":"NL00189617200237"},{"$f":"DATA!P731","v":"NL00202181200455"}]
[{"$f":"DATA!C732","v":"UK00028747700060"},{"$f":"DATA!D732","v":""},{"$f":"DATA!E732","v":""},{"$f":"DATA!H732","v":0},{"$f":"DATA!I732","v":1},{"$f":"DATA!J732","v":""},{"$f":"DATA!K732","v":""},{"$f":"DATA!L732","v":"Mal"},{"$f":"DATA!M732","v":""},{"$f":"DATA!N732","v":0},{"$f":"DATA!O732","v":"9900122300000000"},{"$f":"DATA!P732","v":"9900150360000000"}]
[{"$f":"DATA!C733","v":"UK00030342200057"},{"$f":"DATA!D733","v":""},{"$f":"DATA!E733","v":""},{"$f":"DATA!H733","v":0},{"$f":"DATA!I733","v":0},{"$f":"DATA!J733","v":""},{"$f":"DATA!K733","v":""},{"$f":"DATA!L733","v":"Mal"},{"$f":"DATA!M733","v":""},{"$f":"DATA!N733","v":0},{"$f":"DATA!O733","v":"0000000000000000"},{"$f":"DATA!P733","v":"0000000000000000"}]
[{"$f":"DATA!C734","v":"UK00030351303358"},{"$f":"DATA!D734","v":""},{"$f":"DATA!E734","v":""},{"$f":"DATA!H734","v":0},{"$f":"DATA!I734","v":0},{"$f":"DATA!J734","v":""},{"$f":"DATA!K734","v":""},{"$f":"DATA!L734","v":"Fem"},{"$f":"DATA!M734","v":""},{"$f":"DATA!N734","v":0},{"$f":"DATA!O734","v":"0000000000000000"},{"$f":"DATA!P734","v":"0000000000000000"}]
[{"$f":"DATA!C735","v":"UK00303422062516"},{"$f":"DATA!D735","v":""},{"$f":"DATA!E735","v":""},{"$f":"DATA!H735","v":0},{"$f":"DATA!I735","v":0},{"$f":"DATA!J735","v":""},{"$f":"DATA!K735","v":""},{"$f":"DATA!L735","v":"Mal"},{"$f":"DATA!M735","v":""},{"$f":"DATA!N735","v":0},{"$f":"DATA!O735","v":"9900197025000000"},{"$f":"DATA!P735","v":"9900103300000000"}]
[{"$f":"DATA!C736","v":"UK00028747700060"},{"$f":"DATA!D736","v":""},{"$f":"DATA!E736","v":""},{"$f":"DATA!H736","v":0},{"$f":"DATA!I736","v":0},{"$f":"DATA!J736","v":""},{"$f":"DATA!K736","v":""},{"$f":"DATA!L736","v":"Mal"},{"$f":"DATA!M736","v":""},{"$f":"DATA!N736","v":0},{"$f":"DATA!O736","v":"9900122300000000"},{"$f":"DATA!P736","v":"9900150360000000"}]
[{"$f":"DATA!C737","v":"UK00030342200057"},{"$f":"DATA!D737","v":""},{"$f":"DATA!E737","v":""},{"$f":"DATA!H737","v":0},{"$f":"DATA!I737","v":0},{"$f":"DATA!J737","v":""},{"$f":"DATA!K737","v":""},{"$f":"DATA!L737","v":"Mal"},{"$f":"DATA!M737","v":""},{"$f":"DATA!N737","v":0},{"$f":"DATA!O737","v":"0000000000000000"},{"$f":"DATA!P737","v":"0000000000000000"}]
[{"$f":"DATA!C738","v":"UK00030351303358"},{"$f":"DATA!D738","v":""},{"$f":"DATA!E738","v":""},{"$f":"DATA!H738","v":0},{"$f":"DATA!I738","v":0},{"$f":"DATA!J738","v":""},{"$f":"DATA!K738","v":""},{"$f":"DATA!L738","v":"Fem"},{"$f":"DATA!M738","v":""},{"$f":"DATA!N738","v":0},{"$f":"DATA!O738","v":"0000000000000000"},{"$f":"DATA!P738","v":"0000000000000000"}]
[{"$f":"DATA!C739","v":"UK00303422062516"},{"$f":"DATA!D739","v":""},{"$f":"DATA!E739","v":""},{"$f":"DATA!H739","v":0},{"$f":"DATA!I739","v":0},{"$f":"DATA!J739","v":""},{"$f":"DATA!K739","v":""},{"$f":"DATA!L739","v":"Mal"},{"$f":"DATA!M739","v":""},{"$f":"DATA!N739","v":0},{"$f":"DATA!O739","v":"9900197025000000"},{"$f":"DATA!P739","v":"9900103300000000"}]
[{"$f":"DATA!C740","v":0},{"$f":"DATA!D740","v":0},{"$f":"DATA!E740","v":0},{"$f":"DATA!H740","v":0},{"$f":"DATA!I740","v":0},{"$f":"DATA!J740","v":0},{"$f":"DATA!K740","v":0},{"$f":"DATA!L740","v":0},{"$f":"DATA!M740","v":0},{"$f":"DATA!N740","v":0},{"$f":"DATA!O740","v":0},{"$f":"DATA!P740","v":0}]
[{"$f":"DATA!C741","v":0},{"$f":"DATA!D741","v":0},{"$f":"DATA!E741","v":0},{"$f":"DATA!H741","v":0},{"$f":"DATA!I741","v":0},{"$f":"DATA!J741","v":0},{"$f":"DATA!K741","v":0},{"$f":"DATA!L741","v":0},{"$f":"DATA!M741","v":0},{"$f":"DATA!N741","v":0},{"$f":"DATA!O741","v":0},{"$f":"DATA!P741","v":0}]
[{"$f":"DATA!C742","v":0},{"$f":"DATA!D742","v":0},{"$f":"DATA!E742","v":0},{"$f":"DATA!H742","v":0},{"$f":"DATA!I742","v":0},{"$f":"DATA!J742","v":0},{"$f":"DATA!K742","v":0},{"$f":"DATA!L742","v":0},{"$f":"DATA!M742","v":0},{"$f":"DATA!N742","v":0},{"$f":"DATA!O742","v":0},{"$f":"DATA!P742","v":0}]
[{"$f":"DATA!C743","v":0},{"$f":"DATA!D743","v":0},{"$f":"DATA!E743","v":0},{"$f":"DATA!H743","v":0},{"$f":"DATA!I743","v":0},{"$f":"DATA!J743","v":0},{"$f":"DATA!K743","v":0},{"$f":"DATA!L743","v":0},{"$f":"DATA!M743","v":0},{"$f":"DATA!N743","v":0},{"$f":"DATA!O743","v":0},{"$f":"DATA!P743","v":0}]
[{"$f":"DATA!C744","v":0},{"$f":"DATA!D744","v":0},{"$f":"DATA!E744","v":0},{"$f":"DATA!H744","v":0},{"$f":"DATA!I744","v":0},{"$f":"DATA!J744","v":0},{"$f":"DATA!K744","v":0},{"$f":"DATA!L744","v":0},{"$f":"DATA!M744","v":0},{"$f":"DATA!N744","v":0},{"$f":"DATA!O744","v":0},{"$f":"DATA!P744","v":0}]
[{"$f":"DATA!C745","v":0},{"$f":"DATA!D745","v":0},{"$f":"DATA!E745","v":0},{"$f":"DATA!H745","v":0},{"$f":"DATA!I745","v":0},{"$f":"DATA!J745","v":0},{"$f":"DATA!K745","v":0},{"$f":"DATA!L745","v":0},{"$f":"DATA!M745","v":0},{"$f":"DATA!N745","v":0},{"$f":"DATA!O745","v":0},{"$f":"DATA!P745","v":0}]
[{"$f":"DATA!C746","v":0},{"$f":"DATA!D746","v":0},{"$f":"DATA!E746","v":0},{"$f":"DATA!H746","v":0},{"$f":"DATA!I746","v":0},{"$f":"DATA!J746","v":0},{"$f":"DATA!K746","v":0},{"$f":"DATA!L746","v":0},{"$f":"DATA!M746","v":0},{"$f":"DATA!N746","v":0},{"$f":"DATA!O746","v":0},{"$f":"DATA!P746","v":0}]
[{"$f":"DATA!C747","v":0},{"$f":"DATA!D747","v":0},{"$f":"DATA!E747","v":0},{"$f":"DATA!H747","v":0},{"$f":"DATA!I747","v":0},{"$f":"DATA!J747","v":0},{"$f":"DATA!K747","v":0},{"$f":"DATA!L747","v":0},{"$f":"DATA!M747","v":0},{"$f":"DATA!N747","v":0},{"$f":"DATA!O747","v":0},{"$f":"DATA!P747","v":0}]
[{"$f":"DATA!C748","v":0},{"$f":"DATA!D748","v":0},{"$f":"DATA!E748","v":0},{"$f":"DATA!H748","v":0},{"$f":"DATA!I748","v":0},{"$f":"DATA!J748","v":0},{"$f":"DATA!K748","v":0},{"$f":"DATA!L748","v":0},{"$f":"DATA!M748","v":0},{"$f":"DATA!N748","v":0},{"$f":"DATA!O748","v":0},{"$f":"DATA!P748","v":0}]
[{"$f":"DATA!C749","v":0},{"$f":"DATA!D749","v":0},{"$f":"DATA!E749","v":0},{"$f":"DATA!H749","v":0},{"$f":"DATA!I749","v":0},{"$f":"DATA!J749","v":0},{"$f":"DATA!K749","v":0},{"$f":"DATA!L749","v":0},{"$f":"DATA!M749","v":0},{"$f":"DATA!N749","v":0},{"$f":"DATA!O749","v":0},{"$f":"DATA!P749","v":0}]
[{"$f":"DATA!C750","v":0},{"$f":"DATA!D750","v":0},{"$f":"DATA!E750","v":0},{"$f":"DATA!H750","v":0},{"$f":"DATA!I750","v":0},{"$f":"DATA!J750","v":0},{"$f":"DATA!K750","v":0},{"$f":"DATA!L750","v":0},{"$f":"DATA!M750","v":0},{"$f":"DATA!N750","v":0},{"$f":"DATA!O750","v":0},{"$f":"DATA!P750","v":0}]
[{"$f":"DATA!C751","v":0},{"$f":"DATA!D751","v":0},{"$f":"DATA!E751","v":0},{"$f":"DATA!H751","v":0},{"$f":"DATA!I751","v":0},{"$f":"DATA!J751","v":0},{"$f":"DATA!K751","v":0},{"$f":"DATA!L751","v":0},{"$f":"DATA!M751","v":0},{"$f":"DATA!N751","v":0},{"$f":"DATA!O751","v":0},{"$f":"DATA!P751","v":0}]
[{"$f":"DATA!C752","v":0},{"$f":"DATA!D752","v":0},{"$f":"DATA!E752","v":0},{"$f":"DATA!H752","v":0},{"$f":"DATA!I752","v":0},{"$f":"DATA!J752","v":0},{"$f":"DATA!K752","v":0},{"$f":"DATA!L752","v":0},{"$f":"DATA!M752","v":0},{"$f":"DATA!N752","v":0},{"$f":"DATA!O752","v":0},{"$f":"DATA!P752","v":0}]
[{"$f":"DATA!C753","v":0},{"$f":"DATA!D753","v":0},{"$f":"DATA!E753","v":0},{"$f":"DATA!H753","v":0},{"$f":"DATA!I753","v":0},{"$f":"DATA!J753","v":0},{"$f":"DATA!K753","v":0},{"$f":"DATA!L753","v":0},{"$f":"DATA!M753","v":0},{"$f":"DATA!N753","v":0},{"$f":"DATA!O753","v":0},{"$f":"DATA!P753","v":0}]
[{"$f":"DATA!C754","v":0},{"$f":"DATA!D754","v":0},{"$f":"DATA!E754","v":0},{"$f":"DATA!H754","v":0},{"$f":"DATA!I754","v":0},{"$f":"DATA!J754","v":0},{"$f":"DATA!K754","v":0},{"$f":"DATA!L754","v":0},{"$f":"DATA!M754","v":0},{"$f":"DATA!N754","v":0},{"$f":"DATA!O754","v":0},{"$f":"DATA!P754","v":0}]
[{"$f":"DATA!C755","v":0},{"$f":"DATA!D755","v":0},{"$f":"DATA!E755","v":0},{"$f":"DATA!H755","v":0},{"$f":"DATA!I755","v":0},{"$f":"DATA!J755","v":0},{"$f":"DATA!K755","v":0},{"$f":"DATA!L755","v":0},{"$f":"DATA!M755","v":0},{"$f":"DATA!N755","v":0},{"$f":"DATA!O755","v":0},{"$f":"DATA!P755","v":0}]
[{"$f":"DATA!C756","v":0},{"$f":"DATA!D756","v":0},{"$f":"DATA!E756","v":0},{"$f":"DATA!H756","v":0},{"$f":"DATA!I756","v":0},{"$f":"DATA!J756","v":0},{"$f":"DATA!K756","v":0},{"$f":"DATA!L756","v":0},{"$f":"DATA!M756","v":0},{"$f":"DATA!N756","v":0},{"$f":"DATA!O756","v":0},{"$f":"DATA!P756","v":0}]
[{"$f":"DATA!C757","v":0},{"$f":"DATA!D757","v":0},{"$f":"DATA!E757","v":0},{"$f":"DATA!H757","v":0},{"$f":"DATA!I757","v":0},{"$f":"DATA!J757","v":0},{"$f":"DATA!K757","v":0},{"$f":"DATA!L757","v":0},{"$f":"DATA!M757","v":0},{"$f":"DATA!N757","v":0},{"$f":"DATA!O757","v":0},{"$f":"DATA!P757","v":0}]
[{"$f":"DATA!C758","v":0},{"$f":"DATA!D758","v":0},{"$f":"DATA!E758","v":0},{"$f":"DATA!H758","v":0},{"$f":"DATA!I758","v":0},{"$f":"DATA!J758","v":0},{"$f":"DATA!K758","v":0},{"$f":"DATA!L758","v":0},{"$f":"DATA!M758","v":0},{"$f":"DATA!N758","v":0},{"$f":"DATA!O758","v":0},{"$f":"DATA!P758","v":0}]
[{"$f":"DATA!C759","v":0},{"$f":"DATA!D759","v":0},{"$f":"DATA!E759","v":0},{"$f":"DATA!H759","v":0},{"$f":"DATA!I759","v":0},{"$f":"DATA!J759","v":0},{"$f":"DATA!K759","v":0},{"$f":"DATA!L759","v":0},{"$f":"DATA!M759","v":0},{"$f":"DATA!N759","v":0},{"$f":"DATA!O759","v":0},{"$f":"DATA!P759","v":0}]
[{"$f":"DATA!C760","v":0},{"$f":"DATA!D760","v":0},{"$f":"DATA!E760","v":0},{"$f":"DATA!H760","v":0},{"$f":"DATA!I760","v":0},{"$f":"DATA!J760","v":0},{"$f":"DATA!K760","v":0},{"$f":"DATA!L760","v":0},{"$f":"DATA!M760","v":0},{"$f":"DATA!N760","v":0},{"$f":"DATA!O760","v":0},{"$f":"DATA!P760","v":0}]
[{"$f":"DATA!C761","v":0},{"$f":"DATA!D761","v":0},{"$f":"DATA!E761","v":0},{"$f":"DATA!H761","v":0},{"$f":"DATA!I761","v":0},{"$f":"DATA!J761","v":0},{"$f":"DATA!K761","v":0},{"$f":"DATA!L761","v":0},{"$f":"DATA!M761","v":0},{"$f":"DATA!N761","v":0},{"$f":"DATA!O761","v":0},{"$f":"DATA!P761","v":0}]
[{"$f":"DATA!C762","v":0},{"$f":"DATA!D762","v":0},{"$f":"DATA!E762","v":0},{"$f":"DATA!H762","v":0},{"$f":"DATA!I762","v":0},{"$f":"DATA!J762","v":0},{"$f":"DATA!K762","v":0},{"$f":"DATA!L762","v":0},{"$f":"DATA!M762","v":0},{"$f":"DATA!N762","v":0},{"$f":"DATA!O762","v":0},{"$f":"DATA!P762","v":0}]
[{"$f":"DATA!C763","v":0},{"$f":"DATA!D763","v":0},{"$f":"DATA!E763","v":0},{"$f":"DATA!H763","v":0},{"$f":"DATA!I763","v":0},{"$f":"DATA!J763","v":0},{"$f":"DATA!K763","v":0},{"$f":"DATA!L763","v":0},{"$f":"DATA!M763","v":0},{"$f":"DATA!N763","v":0},{"$f":"DATA!O763","v":0},{"$f":"DATA!P763","v":0}]
[{"$f":"DATA!C764","v":0},{"$f":"DATA!D764","v":0},{"$f":"DATA!E764","v":0},{"$f":"DATA!H764","v":0},{"$f":"DATA!I764","v":0},{"$f":"DATA!J764","v":0},{"$f":"DATA!K764","v":0},{"$f":"DATA!L764","v":0},{"$f":"DATA!M764","v":0},{"$f":"DATA!N764","v":0},{"$f":"DATA!O764","v":0},{"$f":"DATA!P764","v":0}]
[{"$f":"DATA!C765","v":0},{"$f":"DATA!D765","v":0},{"$f":"DATA!E765","v":0},{"$f":"DATA!H765","v":0},{"$f":"DATA!I765","v":0},{"$f":"DATA!J765","v":0},{"$f":"DATA!K765","v":0},{"$f":"DATA!L765","v":0},{"$f":"DATA!M765","v":0},{"$f":"DATA!N765","v":0},{"$f":"DATA!O765","v":0},{"$f":"DATA!P765","v":0}]
[{"$f":"DATA!C766","v":0},{"$f":"DATA!D766","v":0},{"$f":"DATA!E766","v":0},{"$f":"DATA!H766","v":0},{"$f":"DATA!I766","v":0},{"$f":"DATA!J766","v":0},{"$f":"DATA!K766","v":0},{"$f":"DATA!L766","v":0},{"$f":"DATA!M766","v":0},{"$f":"DATA!N766","v":0},{"$f":"DATA!O766","v":0},{"$f":"DATA!P766","v":0}]
[{"$f":"DATA!C767","v":0},{"$f":"DATA!D767","v":0},{"$f":"DATA!E767","v":0},{"$f":"DATA!H767","v":0},{"$f":"DATA!I767","v":0},{"$f":"DATA!J767","v":0},{"$f":"DATA!K767","v":0},{"$f":"DATA!L767","v":0},{"$f":"DATA!M767","v":0},{"$f":"DATA!N767","v":0},{"$f":"DATA!O767","v":0},{"$f":"DATA!P767","v":0}]
[{"$f":"DATA!C768","v":0},{"$f":"DATA!D768","v":0},{"$f":"DATA!E768","v":0},{"$f":"DATA!H768","v":0},{"$f":"DATA!I768","v":0},{"$f":"DATA!J768","v":0},{"$f":"DATA!K768","v":0},{"$f":"DATA!L768","v":0},{"$f":"DATA!M768","v":0},{"$f":"DATA!N768","v":0},{"$f":"DATA!O768","v":0},{"$f":"DATA!P768","v":0}]
[{"$f":"DATA!C769","v":0},{"$f":"DATA!D769","v":0},{"$f":"DATA!E769","v":0},{"$f":"DATA!H769","v":0},{"$f":"DATA!I769","v":0},{"$f":"DATA!J769","v":0},{"$f":"DATA!K769","v":0},{"$f":"DATA!L769","v":0},{"$f":"DATA!M769","v":0},{"$f":"DATA!N769","v":0},{"$f":"DATA!O769","v":0},{"$f":"DATA!P769","v":0}]
[{"$f":"DATA!C770","v":0},{"$f":"DATA!D770","v":0},{"$f":"DATA!E770","v":0},{"$f":"DATA!H770","v":0},{"$f":"DATA!I770","v":0},{"$f":"DATA!J770","v":0},{"$f":"DATA!K770","v":0},{"$f":"DATA!L770","v":0},{"$f":"DATA!M770","v":0},{"$f":"DATA!N770","v":0},{"$f":"DATA!O770","v":0},{"$f":"DATA!P770","v":0}]
[{"$f":"DATA!C771","v":0},{"$f":"DATA!D771","v":0},{"$f":"DATA!E771","v":0},{"$f":"DATA!H771","v":0},{"$f":"DATA!I771","v":0},{"$f":"DATA!J771","v":0},{"$f":"DATA!K771","v":0},{"$f":"DATA!L771","v":0},{"$f":"DATA!M771","v":0},{"$f":"DATA!N771","v":0},{"$f":"DATA!O771","v":0},{"$f":"DATA!P771","v":0}]
[{"$f":"DATA!C772","v":0},{"$f":"DATA!D772","v":0},{"$f":"DATA!E772","v":0},{"$f":"DATA!H772","v":0},{"$f":"DATA!I772","v":0},{"$f":"DATA!J772","v":0},{"$f":"DATA!K772","v":0},{"$f":"DATA!L772","v":0},{"$f":"DATA!M772","v":0},{"$f":"DATA!N772","v":0},{"$f":"DATA!O772","v":0},{"$f":"DATA!P772","v":0}]
[{"$f":"DATA!C773","v":0},{"$f":"DATA!D773","v":0},{"$f":"DATA!E773","v":0},{"$f":"DATA!H773","v":0},{"$f":"DATA!I773","v":0},{"$f":"DATA!J773","v":0},{"$f":"DATA!K773","v":0},{"$f":"DATA!L773","v":0},{"$f":"DATA!M773","v":0},{"$f":"DATA!N773","v":0},{"$f":"DATA!O773","v":0},{"$f":"DATA!P773","v":0}]
[{"$f":"DATA!C774","v":0},{"$f":"DATA!D774","v":0},{"$f":"DATA!E774","v":0},{"$f":"DATA!H774","v":0},{"$f":"DATA!I774","v":0},{"$f":"DATA!J774","v":0},{"$f":"DATA!K774","v":0},{"$f":"DATA!L774","v":0},{"$f":"DATA!M774","v":0},{"$f":"DATA!N774","v":0},{"$f":"DATA!O774","v":0},{"$f":"DATA!P774","v":0}]
[{"$f":"DATA!C775","v":0},{"$f":"DATA!D775","v":0},{"$f":"DATA!E775","v":0},{"$f":"DATA!H775","v":0},{"$f":"DATA!I775","v":0},{"$f":"DATA!J775","v":0},{"$f":"DATA!K775","v":0},{"$f":"DATA!L775","v":0},{"$f":"DATA!M775","v":0},{"$f":"DATA!N775","v":0},{"$f":"DATA!O775","v":0},{"$f":"DATA!P775","v":0}]
[{"$f":"DATA!C776","v":0},{"$f":"DATA!D776","v":0},{"$f":"DATA!E776","v":0},{"$f":"DATA!H776","v":0},{"$f":"DATA!I776","v":0},{"$f":"DATA!J776","v":0},{"$f":"DATA!K776","v":0},{"$f":"DATA!L776","v":0},{"$f":"DATA!M776","v":0},{"$f":"DATA!N776","v":0},{"$f":"DATA!O776","v":0},{"$f":"DATA!P776","v":0}]
[{"$f":"DATA!C777","v":0},{"$f":"DATA!D777","v":0},{"$f":"DATA!E777","v":0},{"$f":"DATA!H777","v":0},{"$f":"DATA!I777","v":0},{"$f":"DATA!J777","v":0},{"$f":"DATA!K777","v":0},{"$f":"DATA!L777","v":0},{"$f":"DATA!M777","v":0},{"$f":"DATA!N777","v":0},{"$f":"DATA!O777","v":0},{"$f":"DATA!P777","v":0}]
[{"$f":"DATA!C778","v":0},{"$f":"DATA!D778","v":0},{"$f":"DATA!E778","v":0},{"$f":"DATA!H778","v":0},{"$f":"DATA!I778","v":0},{"$f":"DATA!J778","v":0},{"$f":"DATA!K778","v":0},{"$f":"DATA!L778","v":0},{"$f":"DATA!M778","v":0},{"$f":"DATA!N778","v":0},{"$f":"DATA!O778","v":0},{"$f":"DATA!P778","v":0}]
[{"$f":"DATA!C779","v":0},{"$f":"DATA!D779","v":0},{"$f":"DATA!E779","v":0},{"$f":"DATA!H779","v":0},{"$f":"DATA!I779","v":0},{"$f":"DATA!J779","v":0},{"$f":"DATA!K779","v":0},{"$f":"DATA!L779","v":0},{"$f":"DATA!M779","v":0},{"$f":"DATA!N779","v":0},{"$f":"DATA!O779","v":0},{"$f":"DATA!P779","v":0}]
[{"$f":"DATA!C780","v":0},{"$f":"DATA!D780","v":0},{"$f":"DATA!E780","v":0},{"$f":"DATA!H780","v":0},{"$f":"DATA!I780","v":0},{"$f":"DATA!J780","v":0},{"$f":"DATA!K780","v":0},{"$f":"DATA!L780","v":0},{"$f":"DATA!M780","v":0},{"$f":"DATA!N780","v":0},{"$f":"DATA!O780","v":0},{"$f":"DATA!P780","v":0}]
[{"$f":"DATA!C781","v":0},{"$f":"DATA!D781","v":0},{"$f":"DATA!E781","v":0},{"$f":"DATA!H781","v":0},{"$f":"DATA!I781","v":0},{"$f":"DATA!J781","v":0},{"$f":"DATA!K781","v":0},{"$f":"DATA!L781","v":0},{"$f":"DATA!M781","v":0},{"$f":"DATA!N781","v":0},{"$f":"DATA!O781","v":0},{"$f":"DATA!P781","v":0}]
[{"$f":"DATA!C782","v":0},{"$f":"DATA!D782","v":0},{"$f":"DATA!E782","v":0},{"$f":"DATA!H782","v":0},{"$f":"DATA!I782","v":0},{"$f":"DATA!J782","v":0},{"$f":"DATA!K782","v":0},{"$f":"DATA!L782","v":0},{"$f":"DATA!M782","v":0},{"$f":"DATA!N782","v":0},{"$f":"DATA!O782","v":0},{"$f":"DATA!P782","v":0}]
[{"$f":"DATA!C783","v":0},{"$f":"DATA!D783","v":0},{"$f":"DATA!E783","v":0},{"$f":"DATA!H783","v":0},{"$f":"DATA!I783","v":0},{"$f":"DATA!J783","v":0},{"$f":"DATA!K783","v":0},{"$f":"DATA!L783","v":0},{"$f":"DATA!M783","v":0},{"$f":"DATA!N783","v":0},{"$f":"DATA!O783","v":0},{"$f":"DATA!P783","v":0}]
[{"$f":"DATA!C784","v":0},{"$f":"DATA!D784","v":0},{"$f":"DATA!E784","v":0},{"$f":"DATA!H784","v":0},{"$f":"DATA!I784","v":0},{"$f":"DATA!J784","v":0},{"$f":"DATA!K784","v":0},{"$f":"DATA!L784","v":0},{"$f":"DATA!M784","v":0},{"$f":"DATA!N784","v":0},{"$f":"DATA!O784","v":0},{"$f":"DATA!P784","v":0}]
[{"$f":"DATA!C785","v":0},{"$f":"DATA!D785","v":0},{"$f":"DATA!E785","v":0},{"$f":"DATA!H785","v":0},{"$f":"DATA!I785","v":0},{"$f":"DATA!J785","v":0},{"$f":"DATA!K785","v":0},{"$f":"DATA!L785","v":0},{"$f":"DATA!M785","v":0},{"$f":"DATA!N785","v":0},{"$f":"DATA!O785","v":0},{"$f":"DATA!P785","v":0}]
[{"$f":"DATA!C786","v":0},{"$f":"DATA!D786","v":0},{"$f":"DATA!E786","v":0},{"$f":"DATA!H786","v":0},{"$f":"DATA!I786","v":0},{"$f":"DATA!J786","v":0},{"$f":"DATA!K786","v":0},{"$f":"DATA!L786","v":0},{"$f":"DATA!M786","v":0},{"$f":"DATA!N786","v":0},{"$f":"DATA!O786","v":0},{"$f":"DATA!P786","v":0}]
[{"$f":"DATA!C787","v":0},{"$f":"DATA!D787","v":0},{"$f":"DATA!E787","v":0},{"$f":"DATA!H787","v":0},{"$f":"DATA!I787","v":0},{"$f":"DATA!J787","v":0},{"$f":"DATA!K787","v":0},{"$f":"DATA!L787","v":0},{"$f":"DATA!M787","v":0},{"$f":"DATA!N787","v":0},{"$f":"DATA!O787","v":0},{"$f":"DATA!P787","v":0}]
[{"$f":"DATA!C788","v":0},{"$f":"DATA!D788","v":0},{"$f":"DATA!E788","v":0},{"$f":"DATA!H788","v":0},{"$f":"DATA!I788","v":0},{"$f":"DATA!J788","v":0},{"$f":"DATA!K788","v":0},{"$f":"DATA!L788","v":0},{"$f":"DATA!M788","v":0},{"$f":"DATA!N788","v":0},{"$f":"DATA!O788","v":0},{"$f":"DATA!P788","v":0}]
[{"$f":"DATA!C789","v":0},{"$f":"DATA!D789","v":0},{"$f":"DATA!E789","v":0},{"$f":"DATA!H789","v":0},{"$f":"DATA!I789","v":0},{"$f":"DATA!J789","v":0},{"$f":"DATA!K789","v":0},{"$f":"DATA!L789","v":0},{"$f":"DATA!M789","v":0},{"$f":"DATA!N789","v":0},{"$f":"DATA!O789","v":0},{"$f":"DATA!P789","v":0}]
[{"$f":"DATA!C790","v":0},{"$f":"DATA!D790","v":0},{"$f":"DATA!E790","v":0},{"$f":"DATA!H790","v":0},{"$f":"DATA!I790","v":0},{"$f":"DATA!J790","v":0},{"$f":"DATA!K790","v":0},{"$f":"DATA!L790","v":0},{"$f":"DATA!M790","v":0},{"$f":"DATA!N790","v":0},{"$f":"DATA!O790","v":0},{"$f":"DATA!P790","v":0}]
[{"$f":"DATA!C791","v":0},{"$f":"DATA!D791","v":0},{"$f":"DATA!E791","v":0},{"$f":"DATA!H791","v":0},{"$f":"DATA!I791","v":0},{"$f":"DATA!J791","v":0},{"$f":"DATA!K791","v":0},{"$f":"DATA!L791","v":0},{"$f":"DATA!M791","v":0},{"$f":"DATA!N791","v":0},{"$f":"DATA!O791","v":0},{"$f":"DATA!P791","v":0}]
[{"$f":"DATA!C792","v":0},{"$f":"DATA!D792","v":0},{"$f":"DATA!E792","v":0},{"$f":"DATA!H792","v":0},{"$f":"DATA!I792","v":0},{"$f":"DATA!J792","v":0},{"$f":"DATA!K792","v":0},{"$f":"DATA!L792","v":0},{"$f":"DATA!M792","v":0},{"$f":"DATA!N792","v":0},{"$f":"DATA!O792","v":0},{"$f":"DATA!P792","v":0}]
[{"$f":"DATA!C793","v":0},{"$f":"DATA!D793","v":0},{"$f":"DATA!E793","v":0},{"$f":"DATA!H793","v":0},{"$f":"DATA!I793","v":0},{"$f":"DATA!J793","v":0},{"$f":"DATA!K793","v":0},{"$f":"DATA!L793","v":0},{"$f":"DATA!M793","v":0},{"$f":"DATA!N793","v":0},{"$f":"DATA!O793","v":0},{"$f":"DATA!P793","v":0}]
[{"$f":"DATA!C794","v":0},{"$f":"DATA!D794","v":0},{"$f":"DATA!E794","v":0},{"$f":"DATA!H794","v":0},{"$f":"DATA!I794","v":0},{"$f":"DATA!J794","v":0},{"$f":"DATA!K794","v":0},{"$f":"DATA!L794","v":0},{"$f":"DATA!M794","v":0},{"$f":"DATA!N794","v":0},{"$f":"DATA!O794","v":0},{"$f":"DATA!P794","v":0}]
[{"$f":"DATA!C795","v":0},{"$f":"DATA!D795","v":0},{"$f":"DATA!E795","v":0},{"$f":"DATA!H795","v":0},{"$f":"DATA!I795","v":0},{"$f":"DATA!J795","v":0},{"$f":"DATA!K795","v":0},{"$f":"DATA!L795","v":0},{"$f":"DATA!M795","v":0},{"$f":"DATA!N795","v":0},{"$f":"DATA!O795","v":0},{"$f":"DATA!P795","v":0}]
[{"$f":"DATA!C796","v":0},{"$f":"DATA!D796","v":0},{"$f":"DATA!E796","v":0},{"$f":"DATA!H796","v":0},{"$f":"DATA!I796","v":0},{"$f":"DATA!J796","v":0},{"$f":"DATA!K796","v":0},{"$f":"DATA!L796","v":0},{"$f":"DATA!M796","v":0},{"$f":"DATA!N796","v":0},{"$f":"DATA!O796","v":0},{"$f":"DATA!P796","v":0}]
[{"$f":"DATA!C797","v":0},{"$f":"DATA!D797","v":0},{"$f":"DATA!E797","v":0},{"$f":"DATA!H797","v":0},{"$f":"DATA!I797","v":0},{"$f":"DATA!J797","v":0},{"$f":"DATA!K797","v":0},{"$f":"DATA!L797","v":0},{"$f":"DATA!M797","v":0},{"$f":"DATA!N797","v":0},{"$f":"DATA!O797","v":0},{"$f":"DATA!P797","v":0}]
[{"$f":"DATA!C798","v":0},{"$f":"DATA!D798","v":0},{"$f":"DATA!E798","v":0},{"$f":"DATA!H798","v":0},{"$f":"DATA!I798","v":0},{"$f":"DATA!J798","v":0},{"$f":"DATA!K798","v":0},{"$f":"DATA!L798","v":0},{"$f":"DATA!M798","v":0},{"$f":"DATA!N798","v":0},{"$f":"DATA!O798","v":0},{"$f":"DATA!P798","v":0}]
[{"$f":"DATA!C799","v":0},{"$f":"DATA!D799","v":0},{"$f":"DATA!E799","v":0},{"$f":"DATA!H799","v":0},{"$f":"DATA!I799","v":0},{"$f":"DATA!J799","v":0},{"$f":"DATA!K799","v":0},{"$f":"DATA!L799","v":0},{"$f":"DATA!M799","v":0},{"$f":"DATA!N799","v":0},{"$f":"DATA!O799","v":0},{"$f":"DATA!P799","v":0}]
[{"$f":"DATA!C800","v":0},{"$f":"DATA!D800","v":0},{"$f":"DATA!E800","v":0},{"$f":"DATA!H800","v":0},{"$f":"DATA!I800","v":0},{"$f":"DATA!J800","v":0},{"$f":"DATA!K800","v":0},{"$f":"DATA!L800","v":0},{"$f":"DATA!M800","v":0},{"$f":"DATA!N800","v":0},{"$f":"DATA!O800","v":0},{"$f":"DATA!P800","v":0}]
[{"$f":"DATA!C801","v":0},{"$f":"DATA!D801","v":0},{"$f":"DATA!E801","v":0},{"$f":"DATA!H801","v":0},{"$f":"DATA!I801","v":0},{"$f":"DATA!J801","v":0},{"$f":"DATA!K801","v":0},{"$f":"DATA!L801","v":0},{"$f":"DATA!M801","v":0},{"$f":"DATA!N801","v":0},{"$f":"DATA!O801","v":0},{"$f":"DATA!P801","v":0}]
[{"$f":"DATA!C802","v":0},{"$f":"DATA!D802","v":0},{"$f":"DATA!E802","v":0},{"$f":"DATA!H802","v":0},{"$f":"DATA!I802","v":0},{"$f":"DATA!J802","v":0},{"$f":"DATA!K802","v":0},{"$f":"DATA!L802","v":0},{"$f":"DATA!M802","v":0},{"$f":"DATA!N802","v":0},{"$f":"DATA!O802","v":0},{"$f":"DATA!P802","v":0}]
[{"$f":"DATA!C803","v":0},{"$f":"DATA!D803","v":0},{"$f":"DATA!E803","v":0},{"$f":"DATA!H803","v":0},{"$f":"DATA!I803","v":0},{"$f":"DATA!J803","v":0},{"$f":"DATA!K803","v":0},{"$f":"DATA!L803","v":0},{"$f":"DATA!M803","v":0},{"$f":"DATA!N803","v":0},{"$f":"DATA!O803","v":0},{"$f":"DATA!P803","v":0}]
[{"$f":"DATA!C804","v":0},{"$f":"DATA!D804","v":0},{"$f":"DATA!E804","v":0},{"$f":"DATA!H804","v":0},{"$f":"DATA!I804","v":0},{"$f":"DATA!J804","v":0},{"$f":"DATA!K804","v":0},{"$f":"DATA!L804","v":0},{"$f":"DATA!M804","v":0},{"$f":"DATA!N804","v":0},{"$f":"DATA!O804","v":0},{"$f":"DATA!P804","v":0}]
[{"$f":"DATA!C805","v":0},{"$f":"DATA!D805","v":0},{"$f":"DATA!E805","v":0},{"$f":"DATA!H805","v":0},{"$f":"DATA!I805","v":0},{"$f":"DATA!J805","v":0},{"$f":"DATA!K805","v":0},{"$f":"DATA!L805","v":0},{"$f":"DATA!M805","v":0},{"$f":"DATA!N805","v":0},{"$f":"DATA!O805","v":0},{"$f":"DATA!P805","v":0}]
[{"$f":"DATA!C806","v":0},{"$f":"DATA!D806","v":0},{"$f":"DATA!E806","v":0},{"$f":"DATA!H806","v":0},{"$f":"DATA!I806","v":0},{"$f":"DATA!J806","v":0},{"$f":"DATA!K806","v":0},{"$f":"DATA!L806","v":0},{"$f":"DATA!M806","v":0},{"$f":"DATA!N806","v":0},{"$f":"DATA!O806","v":0},{"$f":"DATA!P806","v":0}]
[{"$f":"DATA!C807","v":0},{"$f":"DATA!D807","v":0},{"$f":"DATA!E807","v":0},{"$f":"DATA!H807","v":0},{"$f":"DATA!I807","v":0},{"$f":"DATA!J807","v":0},{"$f":"DATA!K807","v":0},{"$f":"DATA!L807","v":0},{"$f":"DATA!M807","v":0},{"$f":"DATA!N807","v":0},{"$f":"DATA!O807","v":0},{"$f":"DATA!P807","v":0}]
[{"$f":"DATA!C808","v":0},{"$f":"DATA!D808","v":0},{"$f":"DATA!E808","v":0},{"$f":"DATA!H808","v":0},{"$f":"DATA!I808","v":0},{"$f":"DATA!J808","v":0},{"$f":"DATA!K808","v":0},{"$f":"DATA!L808","v":0},{"$f":"DATA!M808","v":0},{"$f":"DATA!N808","v":0},{"$f":"DATA!O808","v":0},{"$f":"DATA!P808","v":0}]
[{"$f":"DATA!C809","v":0},{"$f":"DATA!D809","v":0},{"$f":"DATA!E809","v":0},{"$f":"DATA!H809","v":0},{"$f":"DATA!I809","v":0},{"$f":"DATA!J809","v":0},{"$f":"DATA!K809","v":0},{"$f":"DATA!L809","v":0},{"$f":"DATA!M809","v":0},{"$f":"DATA!N809","v":0},{"$f":"DATA!O809","v":0},{"$f":"DATA!P809","v":0}]
[{"$f":"DATA!C810","v":0},{"$f":"DATA!D810","v":0},{"$f":"DATA!E810","v":0},{"$f":"DATA!H810","v":0},{"$f":"DATA!I810","v":0},{"$f":"DATA!J810","v":0},{"$f":"DATA!K810","v":0},{"$f":"DATA!L810","v":0},{"$f":"DATA!M810","v":0},{"$f":"DATA!N810","v":0},{"$f":"DATA!O810","v":0},{"$f":"DATA!P810","v":0}]
[{"$f":"DATA!C811","v":0},{"$f":"DATA!D811","v":0},{"$f":"DATA!E811","v":0},{"$f":"DATA!H811","v":0},{"$f":"DATA!I811","v":0},{"$f":"DATA!J811","v":0},{"$f":"DATA!K811","v":0},{"$f":"DATA!L811","v":0},{"$f":"DATA!M811","v":0},{"$f":"DATA!N811","v":0},{"$f":"DATA!O811","v":0},{"$f":"DATA!P811","v":0}]
[{"$f":"DATA!C812","v":0},{"$f":"DATA!D812","v":0},{"$f":"DATA!E812","v":0},{"$f":"DATA!H812","v":0},{"$f":"DATA!I812","v":0},{"$f":"DATA!J812","v":0},{"$f":"DATA!K812","v":0},{"$f":"DATA!L812","v":0},{"$f":"DATA!M812","v":0},{"$f":"DATA!N812","v":0},{"$f":"DATA!O812","v":0},{"$f":"DATA!P812","v":0}]
[{"$f":"DATA!C813","v":0},{"$f":"DATA!D813","v":0},{"$f":"DATA!E813","v":0},{"$f":"DATA!H813","v":0},{"$f":"DATA!I813","v":0},{"$f":"DATA!J813","v":0},{"$f":"DATA!K813","v":0},{"$f":"DATA!L813","v":0},{"$f":"DATA!M813","v":0},{"$f":"DATA!N813","v":0},{"$f":"DATA!O813","v":0},{"$f":"DATA!P813","v":0}]
[{"$f":"DATA!C814","v":0},{"$f":"DATA!D814","v":0},{"$f":"DATA!E814","v":0},{"$f":"DATA!H814","v":0},{"$f":"DATA!I814","v":0},{"$f":"DATA!J814","v":0},{"$f":"DATA!K814","v":0},{"$f":"DATA!L814","v":0},{"$f":"DATA!M814","v":0},{"$f":"DATA!N814","v":0},{"$f":"DATA!O814","v":0},{"$f":"DATA!P814","v":0}]
[{"$f":"DATA!C815","v":0},{"$f":"DATA!D815","v":0},{"$f":"DATA!E815","v":0},{"$f":"DATA!H815","v":0},{"$f":"DATA!I815","v":0},{"$f":"DATA!J815","v":0},{"$f":"DATA!K815","v":0},{"$f":"DATA!L815","v":0},{"$f":"DATA!M815","v":0},{"$f":"DATA!N815","v":0},{"$f":"DATA!O815","v":0},{"$f":"DATA!P815","v":0}]
[{"$f":"DATA!C816","v":0},{"$f":"DATA!D816","v":0},{"$f":"DATA!E816","v":0},{"$f":"DATA!H816","v":0},{"$f":"DATA!I816","v":0},{"$f":"DATA!J816","v":0},{"$f":"DATA!K816","v":0},{"$f":"DATA!L816","v":0},{"$f":"DATA!M816","v":0},{"$f":"DATA!N816","v":0},{"$f":"DATA!O816","v":0},{"$f":"DATA!P816","v":0}]
[{"$f":"DATA!C817","v":0},{"$f":"DATA!D817","v":0},{"$f":"DATA!E817","v":0},{"$f":"DATA!H817","v":0},{"$f":"DATA!I817","v":0},{"$f":"DATA!J817","v":0},{"$f":"DATA!K817","v":0},{"$f":"DATA!L817","v":0},{"$f":"DATA!M817","v":0},{"$f":"DATA!N817","v":0},{"$f":"DATA!O817","v":0},{"$f":"DATA!P817","v":0}]
[{"$f":"DATA!C818","v":0},{"$f":"DATA!D818","v":0},{"$f":"DATA!E818","v":0},{"$f":"DATA!H818","v":0},{"$f":"DATA!I818","v":0},{"$f":"DATA!J818","v":0},{"$f":"DATA!K818","v":0},{"$f":"DATA!L818","v":0},{"$f":"DATA!M818","v":0},{"$f":"DATA!N818","v":0},{"$f":"DATA!O818","v":0},{"$f":"DATA!P818","v":0}]
[{"$f":"DATA!C819","v":0},{"$f":"DATA!D819","v":0},{"$f":"DATA!E819","v":0},{"$f":"DATA!H819","v":0},{"$f":"DATA!I819","v":0},{"$f":"DATA!J819","v":0},{"$f":"DATA!K819","v":0},{"$f":"DATA!L819","v":0},{"$f":"DATA!M819","v":0},{"$f":"DATA!N819","v":0},{"$f":"DATA!O819","v":0},{"$f":"DATA!P819","v":0}]
[{"$f":"DATA!C820","v":0},{"$f":"DATA!D820","v":0},{"$f":"DATA!E820","v":0},{"$f":"DATA!H820","v":0},{"$f":"DATA!I820","v":0},{"$f":"DATA!J820","v":0},{"$f":"DATA!K820","v":0},{"$f":"DATA!L820","v":0},{"$f":"DATA!M820","v":0},{"$f":"DATA!N820","v":0},{"$f":"DATA!O820","v":0},{"$f":"DATA!P820","v":0}]
[{"$f":"DATA!C821","v":0},{"$f":"DATA!D821","v":0},{"$f":"DATA!E821","v":0},{"$f":"DATA!H821","v":0},{"$f":"DATA!I821","v":0},{"$f":"DATA!J821","v":0},{"$f":"DATA!K821","v":0},{"$f":"DATA!L821","v":0},{"$f":"DATA!M821","v":0},{"$f":"DATA!N821","v":0},{"$f":"DATA!O821","v":0},{"$f":"DATA!P821","v":0}]
[{"$f":"DATA!C822","v":0},{"$f":"DATA!D822","v":0},{"$f":"DATA!E822","v":0},{"$f":"DATA!H822","v":0},{"$f":"DATA!I822","v":0},{"$f":"DATA!J822","v":0},{"$f":"DATA!K822","v":0},{"$f":"DATA!L822","v":0},{"$f":"DATA!M822","v":0},{"$f":"DATA!N822","v":0},{"$f":"DATA!O822","v":0},{"$f":"DATA!P822","v":0}]
[{"$f":"DATA!C823","v":0},{"$f":"DATA!D823","v":0},{"$f":"DATA!E823","v":0},{"$f":"DATA!H823","v":0},{"$f":"DATA!I823","v":0},{"$f":"DATA!J823","v":0},{"$f":"DATA!K823","v":0},{"$f":"DATA!L823","v":0},{"$f":"DATA!M823","v":0},{"$f":"DATA!N823","v":0},{"$f":"DATA!O823","v":0},{"$f":"DATA!P823","v":0}]
[{"$f":"DATA!C824","v":0},{"$f":"DATA!D824","v":0},{"$f":"DATA!E824","v":0},{"$f":"DATA!H824","v":0},{"$f":"DATA!I824","v":0},{"$f":"DATA!J824","v":0},{"$f":"DATA!K824","v":0},{"$f":"DATA!L824","v":0},{"$f":"DATA!M824","v":0},{"$f":"DATA!N824","v":0},{"$f":"DATA!O824","v":0},{"$f":"DATA!P824","v":0}]
[{"$f":"DATA!C825","v":0},{"$f":"DATA!D825","v":0},{"$f":"DATA!E825","v":0},{"$f":"DATA!H825","v":0},{"$f":"DATA!I825","v":0},{"$f":"DATA!J825","v":0},{"$f":"DATA!K825","v":0},{"$f":"DATA!L825","v":0},{"$f":"DATA!M825","v":0},{"$f":"DATA!N825","v":0},{"$f":"DATA!O825","v":0},{"$f":"DATA!P825","v":0}]
[{"$f":"DATA!C826","v":0},{"$f":"DATA!D826","v":0},{"$f":"DATA!E826","v":0},{"$f":"DATA!H826","v":0},{"$f":"DATA!I826","v":0},{"$f":"DATA!J826","v":0},{"$f":"DATA!K826","v":0},{"$f":"DATA!L826","v":0},{"$f":"DATA!M826","v":0},{"$f":"DATA!N826","v":0},{"$f":"DATA!O826","v":0},{"$f":"DATA!P826","v":0}]
[{"$f":"DATA!C827","v":0},{"$f":"DATA!D827","v":0},{"$f":"DATA!E827","v":0},{"$f":"DATA!H827","v":0},{"$f":"DATA!I827","v":0},{"$f":"DATA!J827","v":0},{"$f":"DATA!K827","v":0},{"$f":"DATA!L827","v":0},{"$f":"DATA!M827","v":0},{"$f":"DATA!N827","v":0},{"$f":"DATA!O827","v":0},{"$f":"DATA!P827","v":0}]
[{"$f":"DATA!C828","v":0},{"$f":"DATA!D828","v":0},{"$f":"DATA!E828","v":0},{"$f":"DATA!H828","v":0},{"$f":"DATA!I828","v":0},{"$f":"DATA!J828","v":0},{"$f":"DATA!K828","v":0},{"$f":"DATA!L828","v":0},{"$f":"DATA!M828","v":0},{"$f":"DATA!N828","v":0},{"$f":"DATA!O828","v":0},{"$f":"DATA!P828","v":0}]
[{"$f":"DATA!C829","v":0},{"$f":"DATA!D829","v":0},{"$f":"DATA!E829","v":0},{"$f":"DATA!H829","v":0},{"$f":"DATA!I829","v":0},{"$f":"DATA!J829","v":0},{"$f":"DATA!K829","v":0},{"$f":"DATA!L829","v":0},{"$f":"DATA!M829","v":0},{"$f":"DATA!N829","v":0},{"$f":"DATA!O829","v":0},{"$f":"DATA!P829","v":0}]
[{"$f":"DATA!C830","v":0},{"$f":"DATA!D830","v":0},{"$f":"DATA!E830","v":0},{"$f":"DATA!H830","v":0},{"$f":"DATA!I830","v":0},{"$f":"DATA!J830","v":0},{"$f":"DATA!K830","v":0},{"$f":"DATA!L830","v":0},{"$f":"DATA!M830","v":0},{"$f":"DATA!N830","v":0},{"$f":"DATA!O830","v":0},{"$f":"DATA!P830","v":0}]
[{"$f":"DATA!C831","v":0},{"$f":"DATA!D831","v":0},{"$f":"DATA!E831","v":0},{"$f":"DATA!H831","v":0},{"$f":"DATA!I831","v":0},{"$f":"DATA!J831","v":0},{"$f":"DATA!K831","v":0},{"$f":"DATA!L831","v":0},{"$f":"DATA!M831","v":0},{"$f":"DATA!N831","v":0},{"$f":"DATA!O831","v":0},{"$f":"DATA!P831","v":0}]
[{"$f":"DATA!C832","v":0},{"$f":"DATA!D832","v":0},{"$f":"DATA!E832","v":0},{"$f":"DATA!H832","v":0},{"$f":"DATA!I832","v":0},{"$f":"DATA!J832","v":0},{"$f":"DATA!K832","v":0},{"$f":"DATA!L832","v":0},{"$f":"DATA!M832","v":0},{"$f":"DATA!N832","v":0},{"$f":"DATA!O832","v":0},{"$f":"DATA!P832","v":0}]
[{"$f":"DATA!C833","v":0},{"$f":"DATA!D833","v":0},{"$f":"DATA!E833","v":0},{"$f":"DATA!H833","v":0},{"$f":"DATA!I833","v":0},{"$f":"DATA!J833","v":0},{"$f":"DATA!K833","v":0},{"$f":"DATA!L833","v":0},{"$f":"DATA!M833","v":0},{"$f":"DATA!N833","v":0},{"$f":"DATA!O833","v":0},{"$f":"DATA!P833","v":0}]
[{"$f":"DATA!C834","v":0},{"$f":"DATA!D834","v":0},{"$f":"DATA!E834","v":0},{"$f":"DATA!H834","v":0},{"$f":"DATA!I834","v":0},{"$f":"DATA!J834","v":0},{"$f":"DATA!K834","v":0},{"$f":"DATA!L834","v":0},{"$f":"DATA!M834","v":0},{"$f":"DATA!N834","v":0},{"$f":"DATA!O834","v":0},{"$f":"DATA!P834","v":0}]
[{"$f":"DATA!C835","v":0},{"$f":"DATA!D835","v":0},{"$f":"DATA!E835","v":0},{"$f":"DATA!H835","v":0},{"$f":"DATA!I835","v":0},{"$f":"DATA!J835","v":0},{"$f":"DATA!K835","v":0},{"$f":"DATA!L835","v":0},{"$f":"DATA!M835","v":0},{"$f":"DATA!N835","v":0},{"$f":"DATA!O835","v":0},{"$f":"DATA!P835","v":0}]
[{"$f":"DATA!C836","v":0},{"$f":"DATA!D836","v":0},{"$f":"DATA!E836","v":0},{"$f":"DATA!H836","v":0},{"$f":"DATA!I836","v":0},{"$f":"DATA!J836","v":0},{"$f":"DATA!K836","v":0},{"$f":"DATA!L836","v":0},{"$f":"DATA!M836","v":0},{"$f":"DATA!N836","v":0},{"$f":"DATA!O836","v":0},{"$f":"DATA!P836","v":0}]
[{"$f":"DATA!C837","v":0},{"$f":"DATA!D837","v":0},{"$f":"DATA!E837","v":0},{"$f":"DATA!H837","v":0},{"$f":"DATA!I837","v":0},{"$f":"DATA!J837","v":0},{"$f":"DATA!K837","v":0},{"$f":"DATA!L837","v":0},{"$f":"DATA!M837","v":0},{"$f":"DATA!N837","v":0},{"$f":"DATA!O837","v":0},{"$f":"DATA!P837","v":0}]
[{"$f":"DATA!C838","v":0},{"$f":"DATA!D838","v":0},{"$f":"DATA!E838","v":0},{"$f":"DATA!H838","v":0},{"$f":"DATA!I838","v":0},{"$f":"DATA!J838","v":0},{"$f":"DATA!K838","v":0},{"$f":"DATA!L838","v":0},{"$f":"DATA!M838","v":0},{"$f":"DATA!N838","v":0},{"$f":"DATA!O838","v":0},{"$f":"DATA!P838","v":0}]
[{"$f":"DATA!C839","v":0},{"$f":"DATA!D839","v":0},{"$f":"DATA!E839","v":0},{"$f":"DATA!H839","v":0},{"$f":"DATA!I839","v":0},{"$f":"DATA!J839","v":0},{"$f":"DATA!K839","v":0},{"$f":"DATA!L839","v":0},{"$f":"DATA!M839","v":0},{"$f":"DATA!N839","v":0},{"$f":"DATA!O839","v":0},{"$f":"DATA!P839","v":0}]
[{"$f":"DATA!C840","v":0},{"$f":"DATA!D840","v":0},{"$f":"DATA!E840","v":0},{"$f":"DATA!H840","v":0},{"$f":"DATA!I840","v":0},{"$f":"DATA!J840","v":0},{"$f":"DATA!K840","v":0},{"$f":"DATA!L840","v":0},{"$f":"DATA!M840","v":0},{"$f":"DATA!N840","v":0},{"$f":"DATA!O840","v":0},{"$f":"DATA!P840","v":0}]
[{"$f":"DATA!C841","v":0},{"$f":"DATA!D841","v":0},{"$f":"DATA!E841","v":0},{"$f":"DATA!H841","v":0},{"$f":"DATA!I841","v":0},{"$f":"DATA!J841","v":0},{"$f":"DATA!K841","v":0},{"$f":"DATA!L841","v":0},{"$f":"DATA!M841","v":0},{"$f":"DATA!N841","v":0},{"$f":"DATA!O841","v":0},{"$f":"DATA!P841","v":0}]
[{"$f":"DATA!C842","v":0},{"$f":"DATA!D842","v":0},{"$f":"DATA!E842","v":0},{"$f":"DATA!H842","v":0},{"$f":"DATA!I842","v":0},{"$f":"DATA!J842","v":0},{"$f":"DATA!K842","v":0},{"$f":"DATA!L842","v":0},{"$f":"DATA!M842","v":0},{"$f":"DATA!N842","v":0},{"$f":"DATA!O842","v":0},{"$f":"DATA!P842","v":0}]
[{"$f":"DATA!C843","v":0},{"$f":"DATA!D843","v":0},{"$f":"DATA!E843","v":0},{"$f":"DATA!H843","v":0},{"$f":"DATA!I843","v":0},{"$f":"DATA!J843","v":0},{"$f":"DATA!K843","v":0},{"$f":"DATA!L843","v":0},{"$f":"DATA!M843","v":0},{"$f":"DATA!N843","v":0},{"$f":"DATA!O843","v":0},{"$f":"DATA!P843","v":0}]
[{"$f":"DATA!C844","v":0},{"$f":"DATA!D844","v":0},{"$f":"DATA!E844","v":0},{"$f":"DATA!H844","v":0},{"$f":"DATA!I844","v":0},{"$f":"DATA!J844","v":0},{"$f":"DATA!K844","v":0},{"$f":"DATA!L844","v":0},{"$f":"DATA!M844","v":0},{"$f":"DATA!N844","v":0},{"$f":"DATA!O844","v":0},{"$f":"DATA!P844","v":0}]
[{"$f":"DATA!C845","v":0},{"$f":"DATA!D845","v":0},{"$f":"DATA!E845","v":0},{"$f":"DATA!H845","v":0},{"$f":"DATA!I845","v":0},{"$f":"DATA!J845","v":0},{"$f":"DATA!K845","v":0},{"$f":"DATA!L845","v":0},{"$f":"DATA!M845","v":0},{"$f":"DATA!N845","v":0},{"$f":"DATA!O845","v":0},{"$f":"DATA!P845","v":0}]
[{"$f":"DATA!C846","v":0},{"$f":"DATA!D846","v":0},{"$f":"DATA!E846","v":0},{"$f":"DATA!H846","v":0},{"$f":"DATA!I846","v":0},{"$f":"DATA!J846","v":0},{"$f":"DATA!K846","v":0},{"$f":"DATA!L846","v":0},{"$f":"DATA!M846","v":0},{"$f":"DATA!N846","v":0},{"$f":"DATA!O846","v":0},{"$f":"DATA!P846","v":0}]
[{"$f":"DATA!C847","v":0},{"$f":"DATA!D847","v":0},{"$f":"DATA!E847","v":0},{"$f":"DATA!H847","v":0},{"$f":"DATA!I847","v":0},{"$f":"DATA!J847","v":0},{"$f":"DATA!K847","v":0},{"$f":"DATA!L847","v":0},{"$f":"DATA!M847","v":0},{"$f":"DATA!N847","v":0},{"$f":"DATA!O847","v":0},{"$f":"DATA!P847","v":0}]
[{"$f":"DATA!C848","v":0},{"$f":"DATA!D848","v":0},{"$f":"DATA!E848","v":0},{"$f":"DATA!H848","v":0},{"$f":"DATA!I848","v":0},{"$f":"DATA!J848","v":0},{"$f":"DATA!K848","v":0},{"$f":"DATA!L848","v":0},{"$f":"DATA!M848","v":0},{"$f":"DATA!N848","v":0},{"$f":"DATA!O848","v":0},{"$f":"DATA!P848","v":0}]
[{"$f":"DATA!C849","v":0},{"$f":"DATA!D849","v":0},{"$f":"DATA!E849","v":0},{"$f":"DATA!H849","v":0},{"$f":"DATA!I849","v":0},{"$f":"DATA!J849","v":0},{"$f":"DATA!K849","v":0},{"$f":"DATA!L849","v":0},{"$f":"DATA!M849","v":0},{"$f":"DATA!N849","v":0},{"$f":"DATA!O849","v":0},{"$f":"DATA!P849","v":0}]
[{"$f":"DATA!C850","v":0},{"$f":"DATA!D850","v":0},{"$f":"DATA!E850","v":0},{"$f":"DATA!H850","v":0},{"$f":"DATA!I850","v":0},{"$f":"DATA!J850","v":0},{"$f":"DATA!K850","v":0},{"$f":"DATA!L850","v":0},{"$f":"DATA!M850","v":0},{"$f":"DATA!N850","v":0},{"$f":"DATA!O850","v":0},{"$f":"DATA!P850","v":0}]
[{"$f":"DATA!C851","v":0},{"$f":"DATA!D851","v":0},{"$f":"DATA!E851","v":0},{"$f":"DATA!H851","v":0},{"$f":"DATA!I851","v":0},{"$f":"DATA!J851","v":0},{"$f":"DATA!K851","v":0},{"$f":"DATA!L851","v":0},{"$f":"DATA!M851","v":0},{"$f":"DATA!N851","v":0},{"$f":"DATA!O851","v":0},{"$f":"DATA!P851","v":0}]
[{"$f":"DATA!C852","v":0},{"$f":"DATA!D852","v":0},{"$f":"DATA!E852","v":0},{"$f":"DATA!H852","v":0},{"$f":"DATA!I852","v":0},{"$f":"DATA!J852","v":0},{"$f":"DATA!K852","v":0},{"$f":"DATA!L852","v":0},{"$f":"DATA!M852","v":0},{"$f":"DATA!N852","v":0},{"$f":"DATA!O852","v":0},{"$f":"DATA!P852","v":0}]
[{"$f":"DATA!C853","v":0},{"$f":"DATA!D853","v":0},{"$f":"DATA!E853","v":0},{"$f":"DATA!H853","v":0},{"$f":"DATA!I853","v":0},{"$f":"DATA!J853","v":0},{"$f":"DATA!K853","v":0},{"$f":"DATA!L853","v":0},{"$f":"DATA!M853","v":0},{"$f":"DATA!N853","v":0},{"$f":"DATA!O853","v":0},{"$f":"DATA!P853","v":0}]
[{"$f":"DATA!C854","v":0},{"$f":"DATA!D854","v":0},{"$f":"DATA!E854","v":0},{"$f":"DATA!H854","v":0},{"$f":"DATA!I854","v":0},{"$f":"DATA!J854","v":0},{"$f":"DATA!K854","v":0},{"$f":"DATA!L854","v":0},{"$f":"DATA!M854","v":0},{"$f":"DATA!N854","v":0},{"$f":"DATA!O854","v":0},{"$f":"DATA!P854","v":0}]
[{"$f":"DATA!C855","v":0},{"$f":"DATA!D855","v":0},{"$f":"DATA!E855","v":0},{"$f":"DATA!H855","v":0},{"$f":"DATA!I855","v":0},{"$f":"DATA!J855","v":0},{"$f":"DATA!K855","v":0},{"$f":"DATA!L855","v":0},{"$f":"DATA!M855","v":0},{"$f":"DATA!N855","v":0},{"$f":"DATA!O855","v":0},{"$f":"DATA!P855","v":0}]
[{"$f":"DATA!C856","v":0},{"$f":"DATA!D856","v":0},{"$f":"DATA!E856","v":0},{"$f":"DATA!H856","v":0},{"$f":"DATA!I856","v":0},{"$f":"DATA!J856","v":0},{"$f":"DATA!K856","v":0},{"$f":"DATA!L856","v":0},{"$f":"DATA!M856","v":0},{"$f":"DATA!N856","v":0},{"$f":"DATA!O856","v":0},{"$f":"DATA!P856","v":0}]
[{"$f":"DATA!C857","v":0},{"$f":"DATA!D857","v":0},{"$f":"DATA!E857","v":0},{"$f":"DATA!H857","v":0},{"$f":"DATA!I857","v":0},{"$f":"DATA!J857","v":0},{"$f":"DATA!K857","v":0},{"$f":"DATA!L857","v":0},{"$f":"DATA!M857","v":0},{"$f":"DATA!N857","v":0},{"$f":"DATA!O857","v":0},{"$f":"DATA!P857","v":0}]
[{"$f":"DATA!C858","v":0},{"$f":"DATA!D858","v":0},{"$f":"DATA!E858","v":0},{"$f":"DATA!H858","v":0},{"$f":"DATA!I858","v":0},{"$f":"DATA!J858","v":0},{"$f":"DATA!K858","v":0},{"$f":"DATA!L858","v":0},{"$f":"DATA!M858","v":0},{"$f":"DATA!N858","v":0},{"$f":"DATA!O858","v":0},{"$f":"DATA!P858","v":0}]
[{"$f":"DATA!C859","v":0},{"$f":"DATA!D859","v":0},{"$f":"DATA!E859","v":0},{"$f":"DATA!H859","v":0},{"$f":"DATA!I859","v":0},{"$f":"DATA!J859","v":0},{"$f":"DATA!K859","v":0},{"$f":"DATA!L859","v":0},{"$f":"DATA!M859","v":0},{"$f":"DATA!N859","v":0},{"$f":"DATA!O859","v":0},{"$f":"DATA!P859","v":0}]
[{"$f":"DATA!C860","v":0},{"$f":"DATA!D860","v":0},{"$f":"DATA!E860","v":0},{"$f":"DATA!H860","v":0},{"$f":"DATA!I860","v":0},{"$f":"DATA!J860","v":0},{"$f":"DATA!K860","v":0},{"$f":"DATA!L860","v":0},{"$f":"DATA!M860","v":0},{"$f":"DATA!N860","v":0},{"$f":"DATA!O860","v":0},{"$f":"DATA!P860","v":0}]
[{"$f":"DATA!C861","v":0},{"$f":"DATA!D861","v":0},{"$f":"DATA!E861","v":0},{"$f":"DATA!H861","v":0},{"$f":"DATA!I861","v":0},{"$f":"DATA!J861","v":0},{"$f":"DATA!K861","v":0},{"$f":"DATA!L861","v":0},{"$f":"DATA!M861","v":0},{"$f":"DATA!N861","v":0},{"$f":"DATA!O861","v":0},{"$f":"DATA!P861","v":0}]
[{"$f":"DATA!C862","v":0},{"$f":"DATA!D862","v":0},{"$f":"DATA!E862","v":0},{"$f":"DATA!H862","v":0},{"$f":"DATA!I862","v":0},{"$f":"DATA!J862","v":0},{"$f":"DATA!K862","v":0},{"$f":"DATA!L862","v":0},{"$f":"DATA!M862","v":0},{"$f":"DATA!N862","v":0},{"$f":"DATA!O862","v":0},{"$f":"DATA!P862","v":0}]
[{"$f":"DATA!C863","v":0},{"$f":"DATA!D863","v":0},{"$f":"DATA!E863","v":0},{"$f":"DATA!H863","v":0},{"$f":"DATA!I863","v":0},{"$f":"DATA!J863","v":0},{"$f":"DATA!K863","v":0},{"$f":"DATA!L863","v":0},{"$f":"DATA!M863","v":0},{"$f":"DATA!N863","v":0},{"$f":"DATA!O863","v":0},{"$f":"DATA!P863","v":0}]
[{"$f":"DATA!C864","v":0},{"$f":"DATA!D864","v":0},{"$f":"DATA!E864","v":0},{"$f":"DATA!H864","v":0},{"$f":"DATA!I864","v":0},{"$f":"DATA!J864","v":0},{"$f":"DATA!K864","v":0},{"$f":"DATA!L864","v":0},{"$f":"DATA!M864","v":0},{"$f":"DATA!N864","v":0},{"$f":"DATA!O864","v":0},{"$f":"DATA!P864","v":0}]
[{"$f":"DATA!C865","v":0},{"$f":"DATA!D865","v":0},{"$f":"DATA!E865","v":0},{"$f":"DATA!H865","v":0},{"$f":"DATA!I865","v":0},{"$f":"DATA!J865","v":0},{"$f":"DATA!K865","v":0},{"$f":"DATA!L865","v":0},{"$f":"DATA!M865","v":0},{"$f":"DATA!N865","v":0},{"$f":"DATA!O865","v":0},{"$f":"DATA!P865","v":0}]
[{"$f":"DATA!C866","v":0},{"$f":"DATA!D866","v":0},{"$f":"DATA!E866","v":0},{"$f":"DATA!H866","v":0},{"$f":"DATA!I866","v":0},{"$f":"DATA!J866","v":0},{"$f":"DATA!K866","v":0},{"$f":"DATA!L866","v":0},{"$f":"DATA!M866","v":0},{"$f":"DATA!N866","v":0},{"$f":"DATA!O866","v":0},{"$f":"DATA!P866","v":0}]
[{"$f":"DATA!C867","v":0},{"$f":"DATA!D867","v":0},{"$f":"DATA!E867","v":0},{"$f":"DATA!H867","v":0},{"$f":"DATA!I867","v":0},{"$f":"DATA!J867","v":0},{"$f":"DATA!K867","v":0},{"$f":"DATA!L867","v":0},{"$f":"DATA!M867","v":0},{"$f":"DATA!N867","v":0},{"$f":"DATA!O867","v":0},{"$f":"DATA!P867","v":0}]
[{"$f":"DATA!C868","v":0},{"$f":"DATA!D868","v":0},{"$f":"DATA!E868","v":0},{"$f":"DATA!H868","v":0},{"$f":"DATA!I868","v":0},{"$f":"DATA!J868","v":0},{"$f":"DATA!K868","v":0},{"$f":"DATA!L868","v":0},{"$f":"DATA!M868","v":0},{"$f":"DATA!N868","v":0},{"$f":"DATA!O868","v":0},{"$f":"DATA!P868","v":0}]
[{"$f":"DATA!C869","v":0},{"$f":"DATA!D869","v":0},{"$f":"DATA!E869","v":0},{"$f":"DATA!H869","v":0},{"$f":"DATA!I869","v":0},{"$f":"DATA!J869","v":0},{"$f":"DATA!K869","v":0},{"$f":"DATA!L869","v":0},{"$f":"DATA!M869","v":0},{"$f":"DATA!N869","v":0},{"$f":"DATA!O869","v":0},{"$f":"DATA!P869","v":0}]
[{"$f":"DATA!C870","v":0},{"$f":"DATA!D870","v":0},{"$f":"DATA!E870","v":0},{"$f":"DATA!H870","v":0},{"$f":"DATA!I870","v":0},{"$f":"DATA!J870","v":0},{"$f":"DATA!K870","v":0},{"$f":"DATA!L870","v":0},{"$f":"DATA!M870","v":0},{"$f":"DATA!N870","v":0},{"$f":"DATA!O870","v":0},{"$f":"DATA!P870","v":0}]
[{"$f":"DATA!C871","v":0},{"$f":"DATA!D871","v":0},{"$f":"DATA!E871","v":0},{"$f":"DATA!H871","v":0},{"$f":"DATA!I871","v":0},{"$f":"DATA!J871","v":0},{"$f":"DATA!K871","v":0},{"$f":"DATA!L871","v":0},{"$f":"DATA!M871","v":0},{"$f":"DATA!N871","v":0},{"$f":"DATA!O871","v":0},{"$f":"DATA!P871","v":0}]
[{"$f":"DATA!C872","v":0},{"$f":"DATA!D872","v":0},{"$f":"DATA!E872","v":0},{"$f":"DATA!H872","v":0},{"$f":"DATA!I872","v":0},{"$f":"DATA!J872","v":0},{"$f":"DATA!K872","v":0},{"$f":"DATA!L872","v":0},{"$f":"DATA!M872","v":0},{"$f":"DATA!N872","v":0},{"$f":"DATA!O872","v":0},{"$f":"DATA!P872","v":0}]
[{"$f":"DATA!C873","v":0},{"$f":"DATA!D873","v":0},{"$f":"DATA!E873","v":0},{"$f":"DATA!H873","v":0},{"$f":"DATA!I873","v":0},{"$f":"DATA!J873","v":0},{"$f":"DATA!K873","v":0},{"$f":"DATA!L873","v":0},{"$f":"DATA!M873","v":0},{"$f":"DATA!N873","v":0},{"$f":"DATA!O873","v":0},{"$f":"DATA!P873","v":0}]
[{"$f":"DATA!C874","v":0},{"$f":"DATA!D874","v":0},{"$f":"DATA!E874","v":0},{"$f":"DATA!H874","v":0},{"$f":"DATA!I874","v":0},{"$f":"DATA!J874","v":0},{"$f":"DATA!K874","v":0},{"$f":"DATA!L874","v":0},{"$f":"DATA!M874","v":0},{"$f":"DATA!N874","v":0},{"$f":"DATA!O874","v":0},{"$f":"DATA!P874","v":0}]
[{"$f":"DATA!C875","v":0},{"$f":"DATA!D875","v":0},{"$f":"DATA!E875","v":0},{"$f":"DATA!H875","v":0},{"$f":"DATA!I875","v":0},{"$f":"DATA!J875","v":0},{"$f":"DATA!K875","v":0},{"$f":"DATA!L875","v":0},{"$f":"DATA!M875","v":0},{"$f":"DATA!N875","v":0},{"$f":"DATA!O875","v":0},{"$f":"DATA!P875","v":0}]
[{"$f":"DATA!C876","v":0},{"$f":"DATA!D876","v":0},{"$f":"DATA!E876","v":0},{"$f":"DATA!H876","v":0},{"$f":"DATA!I876","v":0},{"$f":"DATA!J876","v":0},{"$f":"DATA!K876","v":0},{"$f":"DATA!L876","v":0},{"$f":"DATA!M876","v":0},{"$f":"DATA!N876","v":0},{"$f":"DATA!O876","v":0},{"$f":"DATA!P876","v":0}]
[{"$f":"DATA!C877","v":0},{"$f":"DATA!D877","v":0},{"$f":"DATA!E877","v":0},{"$f":"DATA!H877","v":0},{"$f":"DATA!I877","v":0},{"$f":"DATA!J877","v":0},{"$f":"DATA!K877","v":0},{"$f":"DATA!L877","v":0},{"$f":"DATA!M877","v":0},{"$f":"DATA!N877","v":0},{"$f":"DATA!O877","v":0},{"$f":"DATA!P877","v":0}]
[{"$f":"DATA!C878","v":0},{"$f":"DATA!D878","v":0},{"$f":"DATA!E878","v":0},{"$f":"DATA!H878","v":0},{"$f":"DATA!I878","v":0},{"$f":"DATA!J878","v":0},{"$f":"DATA!K878","v":0},{"$f":"DATA!L878","v":0},{"$f":"DATA!M878","v":0},{"$f":"DATA!N878","v":0},{"$f":"DATA!O878","v":0},{"$f":"DATA!P878","v":0}]
[{"$f":"DATA!C879","v":0},{"$f":"DATA!D879","v":0},{"$f":"DATA!E879","v":0},{"$f":"DATA!H879","v":0},{"$f":"DATA!I879","v":0},{"$f":"DATA!J879","v":0},{"$f":"DATA!K879","v":0},{"$f":"DATA!L879","v":0},{"$f":"DATA!M879","v":0},{"$f":"DATA!N879","v":0},{"$f":"DATA!O879","v":0},{"$f":"DATA!P879","v":0}]
[{"$f":"DATA!C880","v":0},{"$f":"DATA!D880","v":0},{"$f":"DATA!E880","v":0},{"$f":"DATA!H880","v":0},{"$f":"DATA!I880","v":0},{"$f":"DATA!J880","v":0},{"$f":"DATA!K880","v":0},{"$f":"DATA!L880","v":0},{"$f":"DATA!M880","v":0},{"$f":"DATA!N880","v":0},{"$f":"DATA!O880","v":0},{"$f":"DATA!P880","v":0}]
[{"$f":"DATA!C881","v":0},{"$f":"DATA!D881","v":0},{"$f":"DATA!E881","v":0},{"$f":"DATA!H881","v":0},{"$f":"DATA!I881","v":0},{"$f":"DATA!J881","v":0},{"$f":"DATA!K881","v":0},{"$f":"DATA!L881","v":0},{"$f":"DATA!M881","v":0},{"$f":"DATA!N881","v":0},{"$f":"DATA!O881","v":0},{"$f":"DATA!P881","v":0}]
[{"$f":"DATA!C882","v":0},{"$f":"DATA!D882","v":0},{"$f":"DATA!E882","v":0},{"$f":"DATA!H882","v":0},{"$f":"DATA!I882","v":0},{"$f":"DATA!J882","v":0},{"$f":"DATA!K882","v":0},{"$f":"DATA!L882","v":0},{"$f":"DATA!M882","v":0},{"$f":"DATA!N882","v":0},{"$f":"DATA!O882","v":0},{"$f":"DATA!P882","v":0}]
[{"$f":"DATA!C883","v":0},{"$f":"DATA!D883","v":0},{"$f":"DATA!E883","v":0},{"$f":"DATA!H883","v":0},{"$f":"DATA!I883","v":0},{"$f":"DATA!J883","v":0},{"$f":"DATA!K883","v":0},{"$f":"DATA!L883","v":0},{"$f":"DATA!M883","v":0},{"$f":"DATA!N883","v":0},{"$f":"DATA!O883","v":0},{"$f":"DATA!P883","v":0}]
[{"$f":"DATA!C884","v":0},{"$f":"DATA!D884","v":0},{"$f":"DATA!E884","v":0},{"$f":"DATA!H884","v":0},{"$f":"DATA!I884","v":0},{"$f":"DATA!J884","v":0},{"$f":"DATA!K884","v":0},{"$f":"DATA!L884","v":0},{"$f":"DATA!M884","v":0},{"$f":"DATA!N884","v":0},{"$f":"DATA!O884","v":0},{"$f":"DATA!P884","v":0}]
[{"$f":"DATA!C885","v":0},{"$f":"DATA!D885","v":0},{"$f":"DATA!E885","v":0},{"$f":"DATA!H885","v":0},{"$f":"DATA!I885","v":0},{"$f":"DATA!J885","v":0},{"$f":"DATA!K885","v":0},{"$f":"DATA!L885","v":0},{"$f":"DATA!M885","v":0},{"$f":"DATA!N885","v":0},{"$f":"DATA!O885","v":0},{"$f":"DATA!P885","v":0}]
[{"$f":"DATA!C886","v":0},{"$f":"DATA!D886","v":0},{"$f":"DATA!E886","v":0},{"$f":"DATA!H886","v":0},{"$f":"DATA!I886","v":0},{"$f":"DATA!J886","v":0},{"$f":"DATA!K886","v":0},{"$f":"DATA!L886","v":0},{"$f":"DATA!M886","v":0},{"$f":"DATA!N886","v":0},{"$f":"DATA!O886","v":0},{"$f":"DATA!P886","v":0}]
[{"$f":"DATA!C887","v":0},{"$f":"DATA!D887","v":0},{"$f":"DATA!E887","v":0},{"$f":"DATA!H887","v":0},{"$f":"DATA!I887","v":0},{"$f":"DATA!J887","v":0},{"$f":"DATA!K887","v":0},{"$f":"DATA!L887","v":0},{"$f":"DATA!M887","v":0},{"$f":"DATA!N887","v":0},{"$f":"DATA!O887","v":0},{"$f":"DATA!P887","v":0}]
[{"$f":"DATA!C888","v":0},{"$f":"DATA!D888","v":0},{"$f":"DATA!E888","v":0},{"$f":"DATA!H888","v":0},{"$f":"DATA!I888","v":0},{"$f":"DATA!J888","v":0},{"$f":"DATA!K888","v":0},{"$f":"DATA!L888","v":0},{"$f":"DATA!M888","v":0},{"$f":"DATA!N888","v":0},{"$f":"DATA!O888","v":0},{"$f":"DATA!P888","v":0}]
[{"$f":"DATA!C889","v":0},{"$f":"DATA!D889","v":0},{"$f":"DATA!E889","v":0},{"$f":"DATA!H889","v":0},{"$f":"DATA!I889","v":0},{"$f":"DATA!J889","v":0},{"$f":"DATA!K889","v":0},{"$f":"DATA!L889","v":0},{"$f":"DATA!M889","v":0},{"$f":"DATA!N889","v":0},{"$f":"DATA!O889","v":0},{"$f":"DATA!P889","v":0}]
[{"$f":"DATA!C890","v":0},{"$f":"DATA!D890","v":0},{"$f":"DATA!E890","v":0},{"$f":"DATA!H890","v":0},{"$f":"DATA!I890","v":0},{"$f":"DATA!J890","v":0},{"$f":"DATA!K890","v":0},{"$f":"DATA!L890","v":0},{"$f":"DATA!M890","v":0},{"$f":"DATA!N890","v":0},{"$f":"DATA!O890","v":0},{"$f":"DATA!P890","v":0}]
[{"$f":"DATA!C891","v":0},{"$f":"DATA!D891","v":0},{"$f":"DATA!E891","v":0},{"$f":"DATA!H891","v":0},{"$f":"DATA!I891","v":0},{"$f":"DATA!J891","v":0},{"$f":"DATA!K891","v":0},{"$f":"DATA!L891","v":0},{"$f":"DATA!M891","v":0},{"$f":"DATA!N891","v":0},{"$f":"DATA!O891","v":0},{"$f":"DATA!P891","v":0}]
[{"$f":"DATA!C892","v":0},{"$f":"DATA!D892","v":0},{"$f":"DATA!E892","v":0},{"$f":"DATA!H892","v":0},{"$f":"DATA!I892","v":0},{"$f":"DATA!J892","v":0},{"$f":"DATA!K892","v":0},{"$f":"DATA!L892","v":0},{"$f":"DATA!M892","v":0},{"$f":"DATA!N892","v":0},{"$f":"DATA!O892","v":0},{"$f":"DATA!P892","v":0}]
[{"$f":"DATA!C893","v":0},{"$f":"DATA!D893","v":0},{"$f":"DATA!E893","v":0},{"$f":"DATA!H893","v":0},{"$f":"DATA!I893","v":0},{"$f":"DATA!J893","v":0},{"$f":"DATA!K893","v":0},{"$f":"DATA!L893","v":0},{"$f":"DATA!M893","v":0},{"$f":"DATA!N893","v":0},{"$f":"DATA!O893","v":0},{"$f":"DATA!P893","v":0}]
[{"$f":"DATA!C894","v":0},{"$f":"DATA!D894","v":0},{"$f":"DATA!E894","v":0},{"$f":"DATA!H894","v":0},{"$f":"DATA!I894","v":0},{"$f":"DATA!J894","v":0},{"$f":"DATA!K894","v":0},{"$f":"DATA!L894","v":0},{"$f":"DATA!M894","v":0},{"$f":"DATA!N894","v":0},{"$f":"DATA!O894","v":0},{"$f":"DATA!P894","v":0}]
[{"$f":"DATA!C895","v":0},{"$f":"DATA!D895","v":0},{"$f":"DATA!E895","v":0},{"$f":"DATA!H895","v":0},{"$f":"DATA!I895","v":0},{"$f":"DATA!J895","v":0},{"$f":"DATA!K895","v":0},{"$f":"DATA!L895","v":0},{"$f":"DATA!M895","v":0},{"$f":"DATA!N895","v":0},{"$f":"DATA!O895","v":0},{"$f":"DATA!P895","v":0}]
[{"$f":"DATA!C896","v":0},{"$f":"DATA!D896","v":0},{"$f":"DATA!E896","v":0},{"$f":"DATA!H896","v":0},{"$f":"DATA!I896","v":0},{"$f":"DATA!J896","v":0},{"$f":"DATA!K896","v":0},{"$f":"DATA!L896","v":0},{"$f":"DATA!M896","v":0},{"$f":"DATA!N896","v":0},{"$f":"DATA!O896","v":0},{"$f":"DATA!P896","v":0}]
[{"$f":"DATA!C897","v":0},{"$f":"DATA!D897","v":0},{"$f":"DATA!E897","v":0},{"$f":"DATA!H897","v":0},{"$f":"DATA!I897","v":0},{"$f":"DATA!J897","v":0},{"$f":"DATA!K897","v":0},{"$f":"DATA!L897","v":0},{"$f":"DATA!M897","v":0},{"$f":"DATA!N897","v":0},{"$f":"DATA!O897","v":0},{"$f":"DATA!P897","v":0}]
[{"$f":"DATA!C898","v":0},{"$f":"DATA!D898","v":0},{"$f":"DATA!E898","v":0},{"$f":"DATA!H898","v":0},{"$f":"DATA!I898","v":0},{"$f":"DATA!J898","v":0},{"$f":"DATA!K898","v":0},{"$f":"DATA!L898","v":0},{"$f":"DATA!M898","v":0},{"$f":"DATA!N898","v":0},{"$f":"DATA!O898","v":0},{"$f":"DATA!P898","v":0}]
[{"$f":"DATA!C899","v":0},{"$f":"DATA!D899","v":0},{"$f":"DATA!E899","v":0},{"$f":"DATA!H899","v":0},{"$f":"DATA!I899","v":0},{"$f":"DATA!J899","v":0},{"$f":"DATA!K899","v":0},{"$f":"DATA!L899","v":0},{"$f":"DATA!M899","v":0},{"$f":"DATA!N899","v":0},{"$f":"DATA!O899","v":0},{"$f":"DATA!P899","v":0}]
[{"$f":"DATA!C900","v":0},{"$f":"DATA!D900","v":0},{"$f":"DATA!E900","v":0},{"$f":"DATA!H900","v":0},{"$f":"DATA!I900","v":0},{"$f":"DATA!J900","v":0},{"$f":"DATA!K900","v":0},{"$f":"DATA!L900","v":0},{"$f":"DATA!M900","v":0},{"$f":"DATA!N900","v":0},{"$f":"DATA!O900","v":0},{"$f":"DATA!P900","v":0}]
[{"$f":"DATA!C901","v":0},{"$f":"DATA!D901","v":0},{"$f":"DATA!E901","v":0},{"$f":"DATA!H901","v":0},{"$f":"DATA!I901","v":0},{"$f":"DATA!J901","v":0},{"$f":"DATA!K901","v":0},{"$f":"DATA!L901","v":0},{"$f":"DATA!M901","v":0},{"$f":"DATA!N901","v":0},{"$f":"DATA!O901","v":0},{"$f":"DATA!P901","v":0}]
[{"$f":"DATA!C902","v":0},{"$f":"DATA!D902","v":0},{"$f":"DATA!E902","v":0},{"$f":"DATA!H902","v":0},{"$f":"DATA!I902","v":0},{"$f":"DATA!J902","v":0},{"$f":"DATA!K902","v":0},{"$f":"DATA!L902","v":0},{"$f":"DATA!M902","v":0},{"$f":"DATA!N902","v":0},{"$f":"DATA!O902","v":0},{"$f":"DATA!P902","v":0}]
[{"$f":"DATA!C903","v":0},{"$f":"DATA!D903","v":0},{"$f":"DATA!E903","v":0},{"$f":"DATA!H903","v":0},{"$f":"DATA!I903","v":0},{"$f":"DATA!J903","v":0},{"$f":"DATA!K903","v":0},{"$f":"DATA!L903","v":0},{"$f":"DATA!M903","v":0},{"$f":"DATA!N903","v":0},{"$f":"DATA!O903","v":0},{"$f":"DATA!P903","v":0}]
[{"$f":"DATA!C904","v":0},{"$f":"DATA!D904","v":0},{"$f":"DATA!E904","v":0},{"$f":"DATA!H904","v":0},{"$f":"DATA!I904","v":0},{"$f":"DATA!J904","v":0},{"$f":"DATA!K904","v":0},{"$f":"DATA!L904","v":0},{"$f":"DATA!M904","v":0},{"$f":"DATA!N904","v":0},{"$f":"DATA!O904","v":0},{"$f":"DATA!P904","v":0}]
[{"$f":"DATA!C905","v":0},{"$f":"DATA!D905","v":0},{"$f":"DATA!E905","v":0},{"$f":"DATA!H905","v":0},{"$f":"DATA!I905","v":0},{"$f":"DATA!J905","v":0},{"$f":"DATA!K905","v":0},{"$f":"DATA!L905","v":0},{"$f":"DATA!M905","v":0},{"$f":"DATA!N905","v":0},{"$f":"DATA!O905","v":0},{"$f":"DATA!P905","v":0}]
[{"$f":"DATA!C906","v":0},{"$f":"DATA!D906","v":0},{"$f":"DATA!E906","v":0},{"$f":"DATA!H906","v":0},{"$f":"DATA!I906","v":0},{"$f":"DATA!J906","v":0},{"$f":"DATA!K906","v":0},{"$f":"DATA!L906","v":0},{"$f":"DATA!M906","v":0},{"$f":"DATA!N906","v":0},{"$f":"DATA!O906","v":0},{"$f":"DATA!P906","v":0}]
[{"$f":"DATA!C907","v":0},{"$f":"DATA!D907","v":0},{"$f":"DATA!E907","v":0},{"$f":"DATA!H907","v":0},{"$f":"DATA!I907","v":0},{"$f":"DATA!J907","v":0},{"$f":"DATA!K907","v":0},{"$f":"DATA!L907","v":0},{"$f":"DATA!M907","v":0},{"$f":"DATA!N907","v":0},{"$f":"DATA!O907","v":0},{"$f":"DATA!P907","v":0}]
[{"$f":"DATA!C908","v":0},{"$f":"DATA!D908","v":0},{"$f":"DATA!E908","v":0},{"$f":"DATA!H908","v":0},{"$f":"DATA!I908","v":0},{"$f":"DATA!J908","v":0},{"$f":"DATA!K908","v":0},{"$f":"DATA!L908","v":0},{"$f":"DATA!M908","v":0},{"$f":"DATA!N908","v":0},{"$f":"DATA!O908","v":0},{"$f":"DATA!P908","v":0}]
[{"$f":"DATA!C909","v":0},{"$f":"DATA!D909","v":0},{"$f":"DATA!E909","v":0},{"$f":"DATA!H909","v":0},{"$f":"DATA!I909","v":0},{"$f":"DATA!J909","v":0},{"$f":"DATA!K909","v":0},{"$f":"DATA!L909","v":0},{"$f":"DATA!M909","v":0},{"$f":"DATA!N909","v":0},{"$f":"DATA!O909","v":0},{"$f":"DATA!P909","v":0}]
[{"$f":"DATA!C910","v":0},{"$f":"DATA!D910","v":0},{"$f":"DATA!E910","v":0},{"$f":"DATA!H910","v":0},{"$f":"DATA!I910","v":0},{"$f":"DATA!J910","v":0},{"$f":"DATA!K910","v":0},{"$f":"DATA!L910","v":0},{"$f":"DATA!M910","v":0},{"$f":"DATA!N910","v":0},{"$f":"DATA!O910","v":0},{"$f":"DATA!P910","v":0}]
[{"$f":"DATA!C911","v":0},{"$f":"DATA!D911","v":0},{"$f":"DATA!E911","v":0},{"$f":"DATA!H911","v":0},{"$f":"DATA!I911","v":0},{"$f":"DATA!J911","v":0},{"$f":"DATA!K911","v":0},{"$f":"DATA!L911","v":0},{"$f":"DATA!M911","v":0},{"$f":"DATA!N911","v":0},{"$f":"DATA!O911","v":0},{"$f":"DATA!P911","v":0}]
[{"$f":"DATA!C912","v":0},{"$f":"DATA!D912","v":0},{"$f":"DATA!E912","v":0},{"$f":"DATA!H912","v":0},{"$f":"DATA!I912","v":0},{"$f":"DATA!J912","v":0},{"$f":"DATA!K912","v":0},{"$f":"DATA!L912","v":0},{"$f":"DATA!M912","v":0},{"$f":"DATA!N912","v":0},{"$f":"DATA!O912","v":0},{"$f":"DATA!P912","v":0}]
[{"$f":"DATA!C913","v":0},{"$f":"DATA!D913","v":0},{"$f":"DATA!E913","v":0},{"$f":"DATA!H913","v":0},{"$f":"DATA!I913","v":0},{"$f":"DATA!J913","v":0},{"$f":"DATA!K913","v":0},{"$f":"DATA!L913","v":0},{"$f":"DATA!M913","v":0},{"$f":"DATA!N913","v":0},{"$f":"DATA!O913","v":0},{"$f":"DATA!P913","v":0}]
[{"$f":"DATA!C914","v":0},{"$f":"DATA!D914","v":0},{"$f":"DATA!E914","v":0},{"$f":"DATA!H914","v":0},{"$f":"DATA!I914","v":0},{"$f":"DATA!J914","v":0},{"$f":"DATA!K914","v":0},{"$f":"DATA!L914","v":0},{"$f":"DATA!M914","v":0},{"$f":"DATA!N914","v":0},{"$f":"DATA!O914","v":0},{"$f":"DATA!P914","v":0}]
[{"$f":"DATA!C915","v":0},{"$f":"DATA!D915","v":0},{"$f":"DATA!E915","v":0},{"$f":"DATA!H915","v":0},{"$f":"DATA!I915","v":0},{"$f":"DATA!J915","v":0},{"$f":"DATA!K915","v":0},{"$f":"DATA!L915","v":0},{"$f":"DATA!M915","v":0},{"$f":"DATA!N915","v":0},{"$f":"DATA!O915","v":0},{"$f":"DATA!P915","v":0}]
[{"$f":"DATA!C916","v":0},{"$f":"DATA!D916","v":0},{"$f":"DATA!E916","v":0},{"$f":"DATA!H916","v":0},{"$f":"DATA!I916","v":0},{"$f":"DATA!J916","v":0},{"$f":"DATA!K916","v":0},{"$f":"DATA!L916","v":0},{"$f":"DATA!M916","v":0},{"$f":"DATA!N916","v":0},{"$f":"DATA!O916","v":0},{"$f":"DATA!P916","v":0}]
[{"$f":"DATA!C917","v":0},{"$f":"DATA!D917","v":0},{"$f":"DATA!E917","v":0},{"$f":"DATA!H917","v":0},{"$f":"DATA!I917","v":0},{"$f":"DATA!J917","v":0},{"$f":"DATA!K917","v":0},{"$f":"DATA!L917","v":0},{"$f":"DATA!M917","v":0},{"$f":"DATA!N917","v":0},{"$f":"DATA!O917","v":0},{"$f":"DATA!P917","v":0}]
[{"$f":"DATA!C918","v":0},{"$f":"DATA!D918","v":0},{"$f":"DATA!E918","v":0},{"$f":"DATA!H918","v":0},{"$f":"DATA!I918","v":0},{"$f":"DATA!J918","v":0},{"$f":"DATA!K918","v":0},{"$f":"DATA!L918","v":0},{"$f":"DATA!M918","v":0},{"$f":"DATA!N918","v":0},{"$f":"DATA!O918","v":0},{"$f":"DATA!P918","v":0}]
[{"$f":"DATA!C919","v":0},{"$f":"DATA!D919","v":0},{"$f":"DATA!E919","v":0},{"$f":"DATA!H919","v":0},{"$f":"DATA!I919","v":0},{"$f":"DATA!J919","v":0},{"$f":"DATA!K919","v":0},{"$f":"DATA!L919","v":0},{"$f":"DATA!M919","v":0},{"$f":"DATA!N919","v":0},{"$f":"DATA!O919","v":0},{"$f":"DATA!P919","v":0}]
[{"$f":"DATA!C920","v":0},{"$f":"DATA!D920","v":0},{"$f":"DATA!E920","v":0},{"$f":"DATA!H920","v":0},{"$f":"DATA!I920","v":0},{"$f":"DATA!J920","v":0},{"$f":"DATA!K920","v":0},{"$f":"DATA!L920","v":0},{"$f":"DATA!M920","v":0},{"$f":"DATA!N920","v":0},{"$f":"DATA!O920","v":0},{"$f":"DATA!P920","v":0}]
[{"$f":"DATA!C921","v":0},{"$f":"DATA!D921","v":0},{"$f":"DATA!E921","v":0},{"$f":"DATA!H921","v":0},{"$f":"DATA!I921","v":0},{"$f":"DATA!J921","v":0},{"$f":"DATA!K921","v":0},{"$f":"DATA!L921","v":0},{"$f":"DATA!M921","v":0},{"$f":"DATA!N921","v":0},{"$f":"DATA!O921","v":0},{"$f":"DATA!P921","v":0}]
[{"$f":"DATA!C922","v":0},{"$f":"DATA!D922","v":0},{"$f":"DATA!E922","v":0},{"$f":"DATA!H922","v":0},{"$f":"DATA!I922","v":0},{"$f":"DATA!J922","v":0},{"$f":"DATA!K922","v":0},{"$f":"DATA!L922","v":0},{"$f":"DATA!M922","v":0},{"$f":"DATA!N922","v":0},{"$f":"DATA!O922","v":0},{"$f":"DATA!P922","v":0}]
[{"$f":"DATA!C923","v":0},{"$f":"DATA!D923","v":0},{"$f":"DATA!E923","v":0},{"$f":"DATA!H923","v":0},{"$f":"DATA!I923","v":0},{"$f":"DATA!J923","v":0},{"$f":"DATA!K923","v":0},{"$f":"DATA!L923","v":0},{"$f":"DATA!M923","v":0},{"$f":"DATA!N923","v":0},{"$f":"DATA!O923","v":0},{"$f":"DATA!P923","v":0}]
[{"$f":"DATA!C924","v":0},{"$f":"DATA!D924","v":0},{"$f":"DATA!E924","v":0},{"$f":"DATA!H924","v":0},{"$f":"DATA!I924","v":0},{"$f":"DATA!J924","v":0},{"$f":"DATA!K924","v":0},{"$f":"DATA!L924","v":0},{"$f":"DATA!M924","v":0},{"$f":"DATA!N924","v":0},{"$f":"DATA!O924","v":0},{"$f":"DATA!P924","v":0}]
[{"$f":"DATA!C925","v":0},{"$f":"DATA!D925","v":0},{"$f":"DATA!E925","v":0},{"$f":"DATA!H925","v":0},{"$f":"DATA!I925","v":0},{"$f":"DATA!J925","v":0},{"$f":"DATA!K925","v":0},{"$f":"DATA!L925","v":0},{"$f":"DATA!M925","v":0},{"$f":"DATA!N925","v":0},{"$f":"DATA!O925","v":0},{"$f":"DATA!P925","v":0}]
[{"$f":"DATA!C926","v":0},{"$f":"DATA!D926","v":0},{"$f":"DATA!E926","v":0},{"$f":"DATA!H926","v":0},{"$f":"DATA!I926","v":0},{"$f":"DATA!J926","v":0},{"$f":"DATA!K926","v":0},{"$f":"DATA!L926","v":0},{"$f":"DATA!M926","v":0},{"$f":"DATA!N926","v":0},{"$f":"DATA!O926","v":0},{"$f":"DATA!P926","v":0}]
[{"$f":"DATA!C927","v":0},{"$f":"DATA!D927","v":0},{"$f":"DATA!E927","v":0},{"$f":"DATA!H927","v":0},{"$f":"DATA!I927","v":0},{"$f":"DATA!J927","v":0},{"$f":"DATA!K927","v":0},{"$f":"DATA!L927","v":0},{"$f":"DATA!M927","v":0},{"$f":"DATA!N927","v":0},{"$f":"DATA!O927","v":0},{"$f":"DATA!P927","v":0}]
[{"$f":"DATA!C928","v":0},{"$f":"DATA!D928","v":0},{"$f":"DATA!E928","v":0},{"$f":"DATA!H928","v":0},{"$f":"DATA!I928","v":0},{"$f":"DATA!J928","v":0},{"$f":"DATA!K928","v":0},{"$f":"DATA!L928","v":0},{"$f":"DATA!M928","v":0},{"$f":"DATA!N928","v":0},{"$f":"DATA!O928","v":0},{"$f":"DATA!P928","v":0}]
[{"$f":"DATA!C929","v":0},{"$f":"DATA!D929","v":0},{"$f":"DATA!E929","v":0},{"$f":"DATA!H929","v":0},{"$f":"DATA!I929","v":0},{"$f":"DATA!J929","v":0},{"$f":"DATA!K929","v":0},{"$f":"DATA!L929","v":0},{"$f":"DATA!M929","v":0},{"$f":"DATA!N929","v":0},{"$f":"DATA!O929","v":0},{"$f":"DATA!P929","v":0}]
[{"$f":"DATA!C930","v":0},{"$f":"DATA!D930","v":0},{"$f":"DATA!E930","v":0},{"$f":"DATA!H930","v":0},{"$f":"DATA!I930","v":0},{"$f":"DATA!J930","v":0},{"$f":"DATA!K930","v":0},{"$f":"DATA!L930","v":0},{"$f":"DATA!M930","v":0},{"$f":"DATA!N930","v":0},{"$f":"DATA!O930","v":0},{"$f":"DATA!P930","v":0}]
[{"$f":"DATA!C931","v":0},{"$f":"DATA!D931","v":0},{"$f":"DATA!E931","v":0},{"$f":"DATA!H931","v":0},{"$f":"DATA!I931","v":0},{"$f":"DATA!J931","v":0},{"$f":"DATA!K931","v":0},{"$f":"DATA!L931","v":0},{"$f":"DATA!M931","v":0},{"$f":"DATA!N931","v":0},{"$f":"DATA!O931","v":0},{"$f":"DATA!P931","v":0}]
[{"$f":"DATA!C932","v":0},{"$f":"DATA!D932","v":0},{"$f":"DATA!E932","v":0},{"$f":"DATA!H932","v":0},{"$f":"DATA!I932","v":0},{"$f":"DATA!J932","v":0},{"$f":"DATA!K932","v":0},{"$f":"DATA!L932","v":0},{"$f":"DATA!M932","v":0},{"$f":"DATA!N932","v":0},{"$f":"DATA!O932","v":0},{"$f":"DATA!P932","v":0}]
[{"$f":"DATA!C933","v":0},{"$f":"DATA!D933","v":0},{"$f":"DATA!E933","v":0},{"$f":"DATA!H933","v":0},{"$f":"DATA!I933","v":0},{"$f":"DATA!J933","v":0},{"$f":"DATA!K933","v":0},{"$f":"DATA!L933","v":0},{"$f":"DATA!M933","v":0},{"$f":"DATA!N933","v":0},{"$f":"DATA!O933","v":0},{"$f":"DATA!P933","v":0}]
[{"$f":"DATA!C934","v":0},{"$f":"DATA!D934","v":0},{"$f":"DATA!E934","v":0},{"$f":"DATA!H934","v":0},{"$f":"DATA!I934","v":0},{"$f":"DATA!J934","v":0},{"$f":"DATA!K934","v":0},{"$f":"DATA!L934","v":0},{"$f":"DATA!M934","v":0},{"$f":"DATA!N934","v":0},{"$f":"DATA!O934","v":0},{"$f":"DATA!P934","v":0}]
[{"$f":"DATA!C935","v":0},{"$f":"DATA!D935","v":0},{"$f":"DATA!E935","v":0},{"$f":"DATA!H935","v":0},{"$f":"DATA!I935","v":0},{"$f":"DATA!J935","v":0},{"$f":"DATA!K935","v":0},{"$f":"DATA!L935","v":0},{"$f":"DATA!M935","v":0},{"$f":"DATA!N935","v":0},{"$f":"DATA!O935","v":0},{"$f":"DATA!P935","v":0}]
[{"$f":"DATA!C936","v":0},{"$f":"DATA!D936","v":0},{"$f":"DATA!E936","v":0},{"$f":"DATA!H936","v":0},{"$f":"DATA!I936","v":0},{"$f":"DATA!J936","v":0},{"$f":"DATA!K936","v":0},{"$f":"DATA!L936","v":0},{"$f":"DATA!M936","v":0},{"$f":"DATA!N936","v":0},{"$f":"DATA!O936","v":0},{"$f":"DATA!P936","v":0}]
[{"$f":"DATA!C937","v":0},{"$f":"DATA!D937","v":0},{"$f":"DATA!E937","v":0},{"$f":"DATA!H937","v":0},{"$f":"DATA!I937","v":0},{"$f":"DATA!J937","v":0},{"$f":"DATA!K937","v":0},{"$f":"DATA!L937","v":0},{"$f":"DATA!M937","v":0},{"$f":"DATA!N937","v":0},{"$f":"DATA!O937","v":0},{"$f":"DATA!P937","v":0}]
[{"$f":"DATA!C938","v":0},{"$f":"DATA!D938","v":0},{"$f":"DATA!E938","v":0},{"$f":"DATA!H938","v":0},{"$f":"DATA!I938","v":0},{"$f":"DATA!J938","v":0},{"$f":"DATA!K938","v":0},{"$f":"DATA!L938","v":0},{"$f":"DATA!M938","v":0},{"$f":"DATA!N938","v":0},{"$f":"DATA!O938","v":0},{"$f":"DATA!P938","v":0}]
[{"$f":"DATA!C939","v":0},{"$f":"DATA!D939","v":0},{"$f":"DATA!E939","v":0},{"$f":"DATA!H939","v":0},{"$f":"DATA!I939","v":0},{"$f":"DATA!J939","v":0},{"$f":"DATA!K939","v":0},{"$f":"DATA!L939","v":0},{"$f":"DATA!M939","v":0},{"$f":"DATA!N939","v":0},{"$f":"DATA!O939","v":0},{"$f":"DATA!P939","v":0}]
[{"$f":"DATA!C940","v":0},{"$f":"DATA!D940","v":0},{"$f":"DATA!E940","v":0},{"$f":"DATA!H940","v":0},{"$f":"DATA!I940","v":0},{"$f":"DATA!J940","v":0},{"$f":"DATA!K940","v":0},{"$f":"DATA!L940","v":0},{"$f":"DATA!M940","v":0},{"$f":"DATA!N940","v":0},{"$f":"DATA!O940","v":0},{"$f":"DATA!P940","v":0}]
[{"$f":"DATA!C941","v":0},{"$f":"DATA!D941","v":0},{"$f":"DATA!E941","v":0},{"$f":"DATA!H941","v":0},{"$f":"DATA!I941","v":0},{"$f":"DATA!J941","v":0},{"$f":"DATA!K941","v":0},{"$f":"DATA!L941","v":0},{"$f":"DATA!M941","v":0},{"$f":"DATA!N941","v":0},{"$f":"DATA!O941","v":0},{"$f":"DATA!P941","v":0}]
[{"$f":"DATA!C942","v":0},{"$f":"DATA!D942","v":0},{"$f":"DATA!E942","v":0},{"$f":"DATA!H942","v":0},{"$f":"DATA!I942","v":0},{"$f":"DATA!J942","v":0},{"$f":"DATA!K942","v":0},{"$f":"DATA!L942","v":0},{"$f":"DATA!M942","v":0},{"$f":"DATA!N942","v":0},{"$f":"DATA!O942","v":0},{"$f":"DATA!P942","v":0}]
[{"$f":"DATA!C943","v":0},{"$f":"DATA!D943","v":0},{"$f":"DATA!E943","v":0},{"$f":"DATA!H943","v":0},{"$f":"DATA!I943","v":0},{"$f":"DATA!J943","v":0},{"$f":"DATA!K943","v":0},{"$f":"DATA!L943","v":0},{"$f":"DATA!M943","v":0},{"$f":"DATA!N943","v":0},{"$f":"DATA!O943","v":0},{"$f":"DATA!P943","v":0}]
[{"$f":"DATA!C944","v":0},{"$f":"DATA!D944","v":0},{"$f":"DATA!E944","v":0},{"$f":"DATA!H944","v":0},{"$f":"DATA!I944","v":0},{"$f":"DATA!J944","v":0},{"$f":"DATA!K944","v":0},{"$f":"DATA!L944","v":0},{"$f":"DATA!M944","v":0},{"$f":"DATA!N944","v":0},{"$f":"DATA!O944","v":0},{"$f":"DATA!P944","v":0}]
[{"$f":"DATA!C945","v":0},{"$f":"DATA!D945","v":0},{"$f":"DATA!E945","v":0},{"$f":"DATA!H945","v":0},{"$f":"DATA!I945","v":0},{"$f":"DATA!J945","v":0},{"$f":"DATA!K945","v":0},{"$f":"DATA!L945","v":0},{"$f":"DATA!M945","v":0},{"$f":"DATA!N945","v":0},{"$f":"DATA!O945","v":0},{"$f":"DATA!P945","v":0}]
[{"$f":"DATA!C946","v":0},{"$f":"DATA!D946","v":0},{"$f":"DATA!E946","v":0},{"$f":"DATA!H946","v":0},{"$f":"DATA!I946","v":0},{"$f":"DATA!J946","v":0},{"$f":"DATA!K946","v":0},{"$f":"DATA!L946","v":0},{"$f":"DATA!M946","v":0},{"$f":"DATA!N946","v":0},{"$f":"DATA!O946","v":0},{"$f":"DATA!P946","v":0}]
[{"$f":"DATA!C947","v":0},{"$f":"DATA!D947","v":0},{"$f":"DATA!E947","v":0},{"$f":"DATA!H947","v":0},{"$f":"DATA!I947","v":0},{"$f":"DATA!J947","v":0},{"$f":"DATA!K947","v":0},{"$f":"DATA!L947","v":0},{"$f":"DATA!M947","v":0},{"$f":"DATA!N947","v":0},{"$f":"DATA!O947","v":0},{"$f":"DATA!P947","v":0}]
[{"$f":"DATA!C948","v":0},{"$f":"DATA!D948","v":0},{"$f":"DATA!E948","v":0},{"$f":"DATA!H948","v":0},{"$f":"DATA!I948","v":0},{"$f":"DATA!J948","v":0},{"$f":"DATA!K948","v":0},{"$f":"DATA!L948","v":0},{"$f":"DATA!M948","v":0},{"$f":"DATA!N948","v":0},{"$f":"DATA!O948","v":0},{"$f":"DATA!P948","v":0}]
[{"$f":"DATA!C949","v":0},{"$f":"DATA!D949","v":0},{"$f":"DATA!E949","v":0},{"$f":"DATA!H949","v":0},{"$f":"DATA!I949","v":0},{"$f":"DATA!J949","v":0},{"$f":"DATA!K949","v":0},{"$f":"DATA!L949","v":0},{"$f":"DATA!M949","v":0},{"$f":"DATA!N949","v":0},{"$f":"DATA!O949","v":0},{"$f":"DATA!P949","v":0}]
[{"$f":"DATA!C950","v":0},{"$f":"DATA!D950","v":0},{"$f":"DATA!E950","v":0},{"$f":"DATA!H950","v":0},{"$f":"DATA!I950","v":0},{"$f":"DATA!J950","v":0},{"$f":"DATA!K950","v":0},{"$f":"DATA!L950","v":0},{"$f":"DATA!M950","v":0},{"$f":"DATA!N950","v":0},{"$f":"DATA!O950","v":0},{"$f":"DATA!P950","v":0}]
[{"$f":"DATA!C951","v":0},{"$f":"DATA!D951","v":0},{"$f":"DATA!E951","v":0},{"$f":"DATA!H951","v":0},{"$f":"DATA!I951","v":0},{"$f":"DATA!J951","v":0},{"$f":"DATA!K951","v":0},{"$f":"DATA!L951","v":0},{"$f":"DATA!M951","v":0},{"$f":"DATA!N951","v":0},{"$f":"DATA!O951","v":0},{"$f":"DATA!P951","v":0}]
[{"$f":"DATA!C952","v":0},{"$f":"DATA!D952","v":0},{"$f":"DATA!E952","v":0},{"$f":"DATA!H952","v":0},{"$f":"DATA!I952","v":0},{"$f":"DATA!J952","v":0},{"$f":"DATA!K952","v":0},{"$f":"DATA!L952","v":0},{"$f":"DATA!M952","v":0},{"$f":"DATA!N952","v":0},{"$f":"DATA!O952","v":0},{"$f":"DATA!P952","v":0}]
[{"$f":"DATA!C953","v":0},{"$f":"DATA!D953","v":0},{"$f":"DATA!E953","v":0},{"$f":"DATA!H953","v":0},{"$f":"DATA!I953","v":0},{"$f":"DATA!J953","v":0},{"$f":"DATA!K953","v":0},{"$f":"DATA!L953","v":0},{"$f":"DATA!M953","v":0},{"$f":"DATA!N953","v":0},{"$f":"DATA!O953","v":0},{"$f":"DATA!P953","v":0}]
[{"$f":"DATA!C954","v":0},{"$f":"DATA!D954","v":0},{"$f":"DATA!E954","v":0},{"$f":"DATA!H954","v":0},{"$f":"DATA!I954","v":0},{"$f":"DATA!J954","v":0},{"$f":"DATA!K954","v":0},{"$f":"DATA!L954","v":0},{"$f":"DATA!M954","v":0},{"$f":"DATA!N954","v":0},{"$f":"DATA!O954","v":0},{"$f":"DATA!P954","v":0}]
[{"$f":"DATA!C955","v":0},{"$f":"DATA!D955","v":0},{"$f":"DATA!E955","v":0},{"$f":"DATA!H955","v":0},{"$f":"DATA!I955","v":0},{"$f":"DATA!J955","v":0},{"$f":"DATA!K955","v":0},{"$f":"DATA!L955","v":0},{"$f":"DATA!M955","v":0},{"$f":"DATA!N955","v":0},{"$f":"DATA!O955","v":0},{"$f":"DATA!P955","v":0}]
[{"$f":"DATA!C956","v":0},{"$f":"DATA!D956","v":0},{"$f":"DATA!E956","v":0},{"$f":"DATA!H956","v":0},{"$f":"DATA!I956","v":0},{"$f":"DATA!J956","v":0},{"$f":"DATA!K956","v":0},{"$f":"DATA!L956","v":0},{"$f":"DATA!M956","v":0},{"$f":"DATA!N956","v":0},{"$f":"DATA!O956","v":0},{"$f":"DATA!P956","v":0}]
[{"$f":"DATA!C957","v":0},{"$f":"DATA!D957","v":0},{"$f":"DATA!E957","v":0},{"$f":"DATA!H957","v":0},{"$f":"DATA!I957","v":0},{"$f":"DATA!J957","v":0},{"$f":"DATA!K957","v":0},{"$f":"DATA!L957","v":0},{"$f":"DATA!M957","v":0},{"$f":"DATA!N957","v":0},{"$f":"DATA!O957","v":0},{"$f":"DATA!P957","v":0}]
[{"$f":"DATA!C958","v":0},{"$f":"DATA!D958","v":0},{"$f":"DATA!E958","v":0},{"$f":"DATA!H958","v":0},{"$f":"DATA!I958","v":0},{"$f":"DATA!J958","v":0},{"$f":"DATA!K958","v":0},{"$f":"DATA!L958","v":0},{"$f":"DATA!M958","v":0},{"$f":"DATA!N958","v":0},{"$f":"DATA!O958","v":0},{"$f":"DATA!P958","v":0}]
[{"$f":"DATA!C959","v":0},{"$f":"DATA!D959","v":0},{"$f":"DATA!E959","v":0},{"$f":"DATA!H959","v":0},{"$f":"DATA!I959","v":0},{"$f":"DATA!J959","v":0},{"$f":"DATA!K959","v":0},{"$f":"DATA!L959","v":0},{"$f":"DATA!M959","v":0},{"$f":"DATA!N959","v":0},{"$f":"DATA!O959","v":0},{"$f":"DATA!P959","v":0}]
[{"$f":"DATA!C960","v":0},{"$f":"DATA!D960","v":0},{"$f":"DATA!E960","v":0},{"$f":"DATA!H960","v":0},{"$f":"DATA!I960","v":0},{"$f":"DATA!J960","v":0},{"$f":"DATA!K960","v":0},{"$f":"DATA!L960","v":0},{"$f":"DATA!M960","v":0},{"$f":"DATA!N960","v":0},{"$f":"DATA!O960","v":0},{"$f":"DATA!P960","v":0}]
[{"$f":"DATA!C961","v":0},{"$f":"DATA!D961","v":0},{"$f":"DATA!E961","v":0},{"$f":"DATA!H961","v":0},{"$f":"DATA!I961","v":0},{"$f":"DATA!J961","v":0},{"$f":"DATA!K961","v":0},{"$f":"DATA!L961","v":0},{"$f":"DATA!M961","v":0},{"$f":"DATA!N961","v":0},{"$f":"DATA!O961","v":0},{"$f":"DATA!P961","v":0}]
[{"$f":"DATA!C962","v":0},{"$f":"DATA!D962","v":0},{"$f":"DATA!E962","v":0},{"$f":"DATA!H962","v":0},{"$f":"DATA!I962","v":0},{"$f":"DATA!J962","v":0},{"$f":"DATA!K962","v":0},{"$f":"DATA!L962","v":0},{"$f":"DATA!M962","v":0},{"$f":"DATA!N962","v":0},{"$f":"DATA!O962","v":0},{"$f":"DATA!P962","v":0}]
[{"$f":"DATA!C963","v":0},{"$f":"DATA!D963","v":0},{"$f":"DATA!E963","v":0},{"$f":"DATA!H963","v":0},{"$f":"DATA!I963","v":0},{"$f":"DATA!J963","v":0},{"$f":"DATA!K963","v":0},{"$f":"DATA!L963","v":0},{"$f":"DATA!M963","v":0},{"$f":"DATA!N963","v":0},{"$f":"DATA!O963","v":0},{"$f":"DATA!P963","v":0}]
[{"$f":"DATA!C964","v":0},{"$f":"DATA!D964","v":0},{"$f":"DATA!E964","v":0},{"$f":"DATA!H964","v":0},{"$f":"DATA!I964","v":0},{"$f":"DATA!J964","v":0},{"$f":"DATA!K964","v":0},{"$f":"DATA!L964","v":0},{"$f":"DATA!M964","v":0},{"$f":"DATA!N964","v":0},{"$f":"DATA!O964","v":0},{"$f":"DATA!P964","v":0}]
[{"$f":"DATA!C965","v":0},{"$f":"DATA!D965","v":0},{"$f":"DATA!E965","v":0},{"$f":"DATA!H965","v":0},{"$f":"DATA!I965","v":0},{"$f":"DATA!J965","v":0},{"$f":"DATA!K965","v":0},{"$f":"DATA!L965","v":0},{"$f":"DATA!M965","v":0},{"$f":"DATA!N965","v":0},{"$f":"DATA!O965","v":0},{"$f":"DATA!P965","v":0}]
[{"$f":"DATA!C966","v":0},{"$f":"DATA!D966","v":0},{"$f":"DATA!E966","v":0},{"$f":"DATA!H966","v":0},{"$f":"DATA!I966","v":0},{"$f":"DATA!J966","v":0},{"$f":"DATA!K966","v":0},{"$f":"DATA!L966","v":0},{"$f":"DATA!M966","v":0},{"$f":"DATA!N966","v":0},{"$f":"DATA!O966","v":0},{"$f":"DATA!P966","v":0}]
[{"$f":"DATA!C967","v":0},{"$f":"DATA!D967","v":0},{"$f":"DATA!E967","v":0},{"$f":"DATA!H967","v":0},{"$f":"DATA!I967","v":0},{"$f":"DATA!J967","v":0},{"$f":"DATA!K967","v":0},{"$f":"DATA!L967","v":0},{"$f":"DATA!M967","v":0},{"$f":"DATA!N967","v":0},{"$f":"DATA!O967","v":0},{"$f":"DATA!P967","v":0}]
[{"$f":"DATA!C968","v":0},{"$f":"DATA!D968","v":0},{"$f":"DATA!E968","v":0},{"$f":"DATA!H968","v":0},{"$f":"DATA!I968","v":0},{"$f":"DATA!J968","v":0},{"$f":"DATA!K968","v":0},{"$f":"DATA!L968","v":0},{"$f":"DATA!M968","v":0},{"$f":"DATA!N968","v":0},{"$f":"DATA!O968","v":0},{"$f":"DATA!P968","v":0}]
[{"$f":"DATA!C969","v":0},{"$f":"DATA!D969","v":0},{"$f":"DATA!E969","v":0},{"$f":"DATA!H969","v":0},{"$f":"DATA!I969","v":0},{"$f":"DATA!J969","v":0},{"$f":"DATA!K969","v":0},{"$f":"DATA!L969","v":0},{"$f":"DATA!M969","v":0},{"$f":"DATA!N969","v":0},{"$f":"DATA!O969","v":0},{"$f":"DATA!P969","v":0}]
[{"$f":"DATA!C970","v":0},{"$f":"DATA!D970","v":0},{"$f":"DATA!E970","v":0},{"$f":"DATA!H970","v":0},{"$f":"DATA!I970","v":0},{"$f":"DATA!J970","v":0},{"$f":"DATA!K970","v":0},{"$f":"DATA!L970","v":0},{"$f":"DATA!M970","v":0},{"$f":"DATA!N970","v":0},{"$f":"DATA!O970","v":0},{"$f":"DATA!P970","v":0}]
[{"$f":"DATA!C971","v":0},{"$f":"DATA!D971","v":0},{"$f":"DATA!E971","v":0},{"$f":"DATA!H971","v":0},{"$f":"DATA!I971","v":0},{"$f":"DATA!J971","v":0},{"$f":"DATA!K971","v":0},{"$f":"DATA!L971","v":0},{"$f":"DATA!M971","v":0},{"$f":"DATA!N971","v":0},{"$f":"DATA!O971","v":0},{"$f":"DATA!P971","v":0}]
[{"$f":"DATA!C972","v":0},{"$f":"DATA!D972","v":0},{"$f":"DATA!E972","v":0},{"$f":"DATA!H972","v":0},{"$f":"DATA!I972","v":0},{"$f":"DATA!J972","v":0},{"$f":"DATA!K972","v":0},{"$f":"DATA!L972","v":0},{"$f":"DATA!M972","v":0},{"$f":"DATA!N972","v":0},{"$f":"DATA!O972","v":0},{"$f":"DATA!P972","v":0}]
[{"$f":"DATA!C973","v":0},{"$f":"DATA!D973","v":0},{"$f":"DATA!E973","v":0},{"$f":"DATA!H973","v":0},{"$f":"DATA!I973","v":0},{"$f":"DATA!J973","v":0},{"$f":"DATA!K973","v":0},{"$f":"DATA!L973","v":0},{"$f":"DATA!M973","v":0},{"$f":"DATA!N973","v":0},{"$f":"DATA!O973","v":0},{"$f":"DATA!P973","v":0}]
[{"$f":"DATA!C974","v":0},{"$f":"DATA!D974","v":0},{"$f":"DATA!E974","v":0},{"$f":"DATA!H974","v":0},{"$f":"DATA!I974","v":0},{"$f":"DATA!J974","v":0},{"$f":"DATA!K974","v":0},{"$f":"DATA!L974","v":0},{"$f":"DATA!M974","v":0},{"$f":"DATA!N974","v":0},{"$f":"DATA!O974","v":0},{"$f":"DATA!P974","v":0}]
[{"$f":"DATA!C975","v":0},{"$f":"DATA!D975","v":0},{"$f":"DATA!E975","v":0},{"$f":"DATA!H975","v":0},{"$f":"DATA!I975","v":0},{"$f":"DATA!J975","v":0},{"$f":"DATA!K975","v":0},{"$f":"DATA!L975","v":0},{"$f":"DATA!M975","v":0},{"$f":"DATA!N975","v":0},{"$f":"DATA!O975","v":0},{"$f":"DATA!P975","v":0}]
[{"$f":"DATA!C976","v":0},{"$f":"DATA!D976","v":0},{"$f":"DATA!E976","v":0},{"$f":"DATA!H976","v":0},{"$f":"DATA!I976","v":0},{"$f":"DATA!J976","v":0},{"$f":"DATA!K976","v":0},{"$f":"DATA!L976","v":0},{"$f":"DATA!M976","v":0},{"$f":"DATA!N976","v":0},{"$f":"DATA!O976","v":0},{"$f":"DATA!P976","v":0}]
[{"$f":"DATA!C977","v":0},{"$f":"DATA!D977","v":0},{"$f":"DATA!E977","v":0},{"$f":"DATA!H977","v":0},{"$f":"DATA!I977","v":0},{"$f":"DATA!J977","v":0},{"$f":"DATA!K977","v":0},{"$f":"DATA!L977","v":0},{"$f":"DATA!M977","v":0},{"$f":"DATA!N977","v":0},{"$f":"DATA!O977","v":0},{"$f":"DATA!P977","v":0}]
[{"$f":"DATA!C978","v":0},{"$f":"DATA!D978","v":0},{"$f":"DATA!E978","v":0},{"$f":"DATA!H978","v":0},{"$f":"DATA!I978","v":0},{"$f":"DATA!J978","v":0},{"$f":"DATA!K978","v":0},{"$f":"DATA!L978","v":0},{"$f":"DATA!M978","v":0},{"$f":"DATA!N978","v":0},{"$f":"DATA!O978","v":0},{"$f":"DATA!P978","v":0}]
[{"$f":"DATA!C979","v":0},{"$f":"DATA!D979","v":0},{"$f":"DATA!E979","v":0},{"$f":"DATA!H979","v":0},{"$f":"DATA!I979","v":0},{"$f":"DATA!J979","v":0},{"$f":"DATA!K979","v":0},{"$f":"DATA!L979","v":0},{"$f":"DATA!M979","v":0},{"$f":"DATA!N979","v":0},{"$f":"DATA!O979","v":0},{"$f":"DATA!P979","v":0}]
[{"$f":"DATA!C980","v":0},{"$f":"DATA!D980","v":0},{"$f":"DATA!E980","v":0},{"$f":"DATA!H980","v":0},{"$f":"DATA!I980","v":0},{"$f":"DATA!J980","v":0},{"$f":"DATA!K980","v":0},{"$f":"DATA!L980","v":0},{"$f":"DATA!M980","v":0},{"$f":"DATA!N980","v":0},{"$f":"DATA!O980","v":0},{"$f":"DATA!P980","v":0}]
[{"$f":"DATA!C981","v":0},{"$f":"DATA!D981","v":0},{"$f":"DATA!E981","v":0},{"$f":"DATA!H981","v":0},{"$f":"DATA!I981","v":0},{"$f":"DATA!J981","v":0},{"$f":"DATA!K981","v":0},{"$f":"DATA!L981","v":0},{"$f":"DATA!M981","v":0},{"$f":"DATA!N981","v":0},{"$f":"DATA!O981","v":0},{"$f":"DATA!P981","v":0}]
[{"$f":"DATA!C982","v":0},{"$f":"DATA!D982","v":0},{"$f":"DATA!E982","v":0},{"$f":"DATA!H982","v":0},{"$f":"DATA!I982","v":0},{"$f":"DATA!J982","v":0},{"$f":"DATA!K982","v":0},{"$f":"DATA!L982","v":0},{"$f":"DATA!M982","v":0},{"$f":"DATA!N982","v":0},{"$f":"DATA!O982","v":0},{"$f":"DATA!P982","v":0}]
[{"$f":"DATA!C983","v":0},{"$f":"DATA!D983","v":0},{"$f":"DATA!E983","v":0},{"$f":"DATA!H983","v":0},{"$f":"DATA!I983","v":0},{"$f":"DATA!J983","v":0},{"$f":"DATA!K983","v":0},{"$f":"DATA!L983","v":0},{"$f":"DATA!M983","v":0},{"$f":"DATA!N983","v":0},{"$f":"DATA!O983","v":0},{"$f":"DATA!P983","v":0}]
[{"$f":"DATA!C984","v":0},{"$f":"DATA!D984","v":0},{"$f":"DATA!E984","v":0},{"$f":"DATA!H984","v":0},{"$f":"DATA!I984","v":0},{"$f":"DATA!J984","v":0},{"$f":"DATA!K984","v":0},{"$f":"DATA!L984","v":0},{"$f":"DATA!M984","v":0},{"$f":"DATA!N984","v":0},{"$f":"DATA!O984","v":0},{"$f":"DATA!P984","v":0}]
[{"$f":"DATA!C985","v":0},{"$f":"DATA!D985","v":0},{"$f":"DATA!E985","v":0},{"$f":"DATA!H985","v":0},{"$f":"DATA!I985","v":0},{"$f":"DATA!J985","v":0},{"$f":"DATA!K985","v":0},{"$f":"DATA!L985","v":0},{"$f":"DATA!M985","v":0},{"$f":"DATA!N985","v":0},{"$f":"DATA!O985","v":0},{"$f":"DATA!P985","v":0}]
[{"$f":"DATA!C986","v":0},{"$f":"DATA!D986","v":0},{"$f":"DATA!E986","v":0},{"$f":"DATA!H986","v":0},{"$f":"DATA!I986","v":0},{"$f":"DATA!J986","v":0},{"$f":"DATA!K986","v":0},{"$f":"DATA!L986","v":0},{"$f":"DATA!M986","v":0},{"$f":"DATA!N986","v":0},{"$f":"DATA!O986","v":0},{"$f":"DATA!P986","v":0}]
[{"$f":"DATA!C987","v":0},{"$f":"DATA!D987","v":0},{"$f":"DATA!E987","v":0},{"$f":"DATA!H987","v":0},{"$f":"DATA!I987","v":0},{"$f":"DATA!J987","v":0},{"$f":"DATA!K987","v":0},{"$f":"DATA!L987","v":0},{"$f":"DATA!M987","v":0},{"$f":"DATA!N987","v":0},{"$f":"DATA!O987","v":0},{"$f":"DATA!P987","v":0}]
[{"$f":"DATA!C988","v":0},{"$f":"DATA!D988","v":0},{"$f":"DATA!E988","v":0},{"$f":"DATA!H988","v":0},{"$f":"DATA!I988","v":0},{"$f":"DATA!J988","v":0},{"$f":"DATA!K988","v":0},{"$f":"DATA!L988","v":0},{"$f":"DATA!M988","v":0},{"$f":"DATA!N988","v":0},{"$f":"DATA!O988","v":0},{"$f":"DATA!P988","v":0}]
[{"$f":"DATA!C989","v":0},{"$f":"DATA!D989","v":0},{"$f":"DATA!E989","v":0},{"$f":"DATA!H989","v":0},{"$f":"DATA!I989","v":0},{"$f":"DATA!J989","v":0},{"$f":"DATA!K989","v":0},{"$f":"DATA!L989","v":0},{"$f":"DATA!M989","v":0},{"$f":"DATA!N989","v":0},{"$f":"DATA!O989","v":0},{"$f":"DATA!P989","v":0}]
[{"$f":"DATA!C990","v":0},{"$f":"DATA!D990","v":0},{"$f":"DATA!E990","v":0},{"$f":"DATA!H990","v":0},{"$f":"DATA!I990","v":0},{"$f":"DATA!J990","v":0},{"$f":"DATA!K990","v":0},{"$f":"DATA!L990","v":0},{"$f":"DATA!M990","v":0},{"$f":"DATA!N990","v":0},{"$f":"DATA!O990","v":0},{"$f":"DATA!P990","v":0}]
[{"$f":"DATA!C991","v":0},{"$f":"DATA!D991","v":0},{"$f":"DATA!E991","v":0},{"$f":"DATA!H991","v":0},{"$f":"DATA!I991","v":0},{"$f":"DATA!J991","v":0},{"$f":"DATA!K991","v":0},{"$f":"DATA!L991","v":0},{"$f":"DATA!M991","v":0},{"$f":"DATA!N991","v":0},{"$f":"DATA!O991","v":0},{"$f":"DATA!P991","v":0}]
[{"$f":"DATA!C992","v":0},{"$f":"DATA!D992","v":0},{"$f":"DATA!E992","v":0},{"$f":"DATA!H992","v":0},{"$f":"DATA!I992","v":0},{"$f":"DATA!J992","v":0},{"$f":"DATA!K992","v":0},{"$f":"DATA!L992","v":0},{"$f":"DATA!M992","v":0},{"$f":"DATA!N992","v":0},{"$f":"DATA!O992","v":0},{"$f":"DATA!P992","v":0}]
[{"$f":"DATA!C993","v":0},{"$f":"DATA!D993","v":0},{"$f":"DATA!E993","v":0},{"$f":"DATA!H993","v":0},{"$f":"DATA!I993","v":0},{"$f":"DATA!J993","v":0},{"$f":"DATA!K993","v":0},{"$f":"DATA!L993","v":0},{"$f":"DATA!M993","v":0},{"$f":"DATA!N993","v":0},{"$f":"DATA!O993","v":0},{"$f":"DATA!P993","v":0}]
[{"$f":"DATA!C994","v":0},{"$f":"DATA!D994","v":0},{"$f":"DATA!E994","v":0},{"$f":"DATA!H994","v":0},{"$f":"DATA!I994","v":0},{"$f":"DATA!J994","v":0},{"$f":"DATA!K994","v":0},{"$f":"DATA!L994","v":0},{"$f":"DATA!M994","v":0},{"$f":"DATA!N994","v":0},{"$f":"DATA!O994","v":0},{"$f":"DATA!P994","v":0}]
[{"$f":"DATA!C995","v":0},{"$f":"DATA!D995","v":0},{"$f":"DATA!E995","v":0},{"$f":"DATA!H995","v":0},{"$f":"DATA!I995","v":0},{"$f":"DATA!J995","v":0},{"$f":"DATA!K995","v":0},{"$f":"DATA!L995","v":0},{"$f":"DATA!M995","v":0},{"$f":"DATA!N995","v":0},{"$f":"DATA!O995","v":0},{"$f":"DATA!P995","v":0}]
[{"$f":"DATA!C996","v":0},{"$f":"DATA!D996","v":0},{"$f":"DATA!E996","v":0},{"$f":"DATA!H996","v":0},{"$f":"DATA!I996","v":0},{"$f":"DATA!J996","v":0},{"$f":"DATA!K996","v":0},{"$f":"DATA!L996","v":0},{"$f":"DATA!M996","v":0},{"$f":"DATA!N996","v":0},{"$f":"DATA!O996","v":0},{"$f":"DATA!P996","v":0}]
[{"$f":"DATA!C997","v":0},{"$f":"DATA!D997","v":0},{"$f":"DATA!E997","v":0},{"$f":"DATA!H997","v":0},{"$f":"DATA!I997","v":0},{"$f":"DATA!J997","v":0},{"$f":"DATA!K997","v":0},{"$f":"DATA!L997","v":0},{"$f":"DATA!M997","v":0},{"$f":"DATA!N997","v":0},{"$f":"DATA!O997","v":0},{"$f":"DATA!P997","v":0}]
[{"$f":"DATA!C998","v":0},{"$f":"DATA!D998","v":0},{"$f":"DATA!E998","v":0},{"$f":"DATA!H998","v":0},{"$f":"DATA!I998","v":0},{"$f":"DATA!J998","v":0},{"$f":"DATA!K998","v":0},{"$f":"DATA!L998","v":0},{"$f":"DATA!M998","v":0},{"$f":"DATA!N998","v":0},{"$f":"DATA!O998","v":0},{"$f":"DATA!P998","v":0}]
[{"$f":"DATA!C999","v":0},{"$f":"DATA!D999","v":0},{"$f":"DATA!E999","v":0},{"$f":"DATA!H999","v":0},{"$f":"DATA!I999","v":0},{"$f":"DATA!J999","v":0},{"$f":"DATA!K999","v":0},{"$f":"DATA!L999","v":0},{"$f":"DATA!M999","v":0},{"$f":"DATA!N999","v":0},{"$f":"DATA!O999","v":0},{"$f":"DATA!P999","v":0}]
[{"$f":"DATA!C1000","v":0},{"$f":"DATA!D1000","v":0},{"$f":"DATA!E1000","v":0},{"$f":"DATA!H1000","v":0},{"$f":"DATA!I1000","v":0},{"$f":"DATA!J1000","v":0},{"$f":"DATA!K1000","v":0},{"$f":"DATA!L1000","v":0},{"$f":"DATA!M1000","v":0},{"$f":"DATA!N1000","v":0},{"$f":"DATA!O1000","v":0},{"$f":"DATA!P1000","v":0}]
[{"$f":"DATA!C1001","v":0},{"$f":"DATA!D1001","v":0},{"$f":"DATA!E1001","v":0},{"$f":"DATA!H1001","v":0},{"$f":"DATA!I1001","v":0},{"$f":"DATA!J1001","v":0},{"$f":"DATA!K1001","v":0},{"$f":"DATA!L1001","v":0},{"$f":"DATA!M1001","v":0},{"$f":"DATA!N1001","v":0},{"$f":"DATA!O1001","v":0},{"$f":"DATA!P1001","v":0}]
[{"$f":"DATA!C1002","v":0},{"$f":"DATA!D1002","v":0},{"$f":"DATA!E1002","v":0},{"$f":"DATA!H1002","v":0},{"$f":"DATA!I1002","v":0},{"$f":"DATA!J1002","v":0},{"$f":"DATA!K1002","v":0},{"$f":"DATA!L1002","v":0},{"$f":"DATA!M1002","v":0},{"$f":"DATA!N1002","v":0},{"$f":"DATA!O1002","v":0},{"$f":"DATA!P1002","v":0}]
[{"$f":"DATA!C1003","v":0},{"$f":"DATA!D1003","v":0},{"$f":"DATA!E1003","v":0},{"$f":"DATA!H1003","v":0},{"$f":"DATA!I1003","v":0},{"$f":"DATA!J1003","v":0},{"$f":"DATA!K1003","v":0},{"$f":"DATA!L1003","v":0},{"$f":"DATA!M1003","v":0},{"$f":"DATA!N1003","v":0},{"$f":"DATA!O1003","v":0},{"$f":"DATA!P1003","v":0}]
[{"$f":"DATA!C1004","v":0},{"$f":"DATA!D1004","v":0},{"$f":"DATA!E1004","v":0},{"$f":"DATA!H1004","v":0},{"$f":"DATA!I1004","v":0},{"$f":"DATA!J1004","v":0},{"$f":"DATA!K1004","v":0},{"$f":"DATA!L1004","v":0},{"$f":"DATA!M1004","v":0},{"$f":"DATA!N1004","v":0},{"$f":"DATA!O1004","v":0},{"$f":"DATA!P1004","v":0}]
[{"$f":"DATA!C1005","v":0},{"$f":"DATA!D1005","v":0},{"$f":"DATA!E1005","v":0},{"$f":"DATA!H1005","v":0},{"$f":"DATA!I1005","v":0},{"$f":"DATA!J1005","v":0},{"$f":"DATA!K1005","v":0},{"$f":"DATA!L1005","v":0},{"$f":"DATA!M1005","v":0},{"$f":"DATA!N1005","v":0},{"$f":"DATA!O1005","v":0},{"$f":"DATA!P1005","v":0}]
[{"$f":"DATA!C1006","v":0},{"$f":"DATA!D1006","v":0},{"$f":"DATA!E1006","v":0},{"$f":"DATA!H1006","v":0},{"$f":"DATA!I1006","v":0},{"$f":"DATA!J1006","v":0},{"$f":"DATA!K1006","v":0},{"$f":"DATA!L1006","v":0},{"$f":"DATA!M1006","v":0},{"$f":"DATA!N1006","v":0},{"$f":"DATA!O1006","v":0},{"$f":"DATA!P1006","v":0}]
[{"$f":"DATA!C1007","v":0},{"$f":"DATA!D1007","v":0},{"$f":"DATA!E1007","v":0},{"$f":"DATA!H1007","v":0},{"$f":"DATA!I1007","v":0},{"$f":"DATA!J1007","v":0},{"$f":"DATA!K1007","v":0},{"$f":"DATA!L1007","v":0},{"$f":"DATA!M1007","v":0},{"$f":"DATA!N1007","v":0},{"$f":"DATA!O1007","v":0},{"$f":"DATA!P1007","v":0}]
[{"$f":"DATA!C1008","v":0},{"$f":"DATA!D1008","v":0},{"$f":"DATA!E1008","v":0},{"$f":"DATA!H1008","v":0},{"$f":"DATA!I1008","v":0},{"$f":"DATA!J1008","v":0},{"$f":"DATA!K1008","v":0},{"$f":"DATA!L1008","v":0},{"$f":"DATA!M1008","v":0},{"$f":"DATA!N1008","v":0},{"$f":"DATA!O1008","v":0},{"$f":"DATA!P1008","v":0}]
[{"$f":"DATA!C1009","v":0},{"$f":"DATA!D1009","v":0},{"$f":"DATA!E1009","v":0},{"$f":"DATA!H1009","v":0},{"$f":"DATA!I1009","v":0},{"$f":"DATA!J1009","v":0},{"$f":"DATA!K1009","v":0},{"$f":"DATA!L1009","v":0},{"$f":"DATA!M1009","v":0},{"$f":"DATA!N1009","v":0},{"$f":"DATA!O1009","v":0},{"$f":"DATA!P1009","v":0}]
[{"$f":"DATA!C1010","v":0},{"$f":"DATA!D1010","v":0},{"$f":"DATA!E1010","v":0},{"$f":"DATA!H1010","v":0},{"$f":"DATA!I1010","v":0},{"$f":"DATA!J1010","v":0},{"$f":"DATA!K1010","v":0},{"$f":"DATA!L1010","v":0},{"$f":"DATA!M1010","v":0},{"$f":"DATA!N1010","v":0},{"$f":"DATA!O1010","v":0},{"$f":"DATA!P1010","v":0}]
[{"$f":"DATA!C1011","v":0},{"$f":"DATA!D1011","v":0},{"$f":"DATA!E1011","v":0},{"$f":"DATA!H1011","v":0},{"$f":"DATA!I1011","v":0},{"$f":"DATA!J1011","v":0},{"$f":"DATA!K1011","v":0},{"$f":"DATA!L1011","v":0},{"$f":"DATA!M1011","v":0},{"$f":"DATA!N1011","v":0},{"$f":"DATA!O1011","v":0},{"$f":"DATA!P1011","v":0}]
[{"$f":"DATA!C1012","v":0},{"$f":"DATA!D1012","v":0},{"$f":"DATA!E1012","v":0},{"$f":"DATA!H1012","v":0},{"$f":"DATA!I1012","v":0},{"$f":"DATA!J1012","v":0},{"$f":"DATA!K1012","v":0},{"$f":"DATA!L1012","v":0},{"$f":"DATA!M1012","v":0},{"$f":"DATA!N1012","v":0},{"$f":"DATA!O1012","v":0},{"$f":"DATA!P1012","v":0}]
[{"$f":"DATA!C1013","v":0},{"$f":"DATA!D1013","v":0},{"$f":"DATA!E1013","v":0},{"$f":"DATA!H1013","v":0},{"$f":"DATA!I1013","v":0},{"$f":"DATA!J1013","v":0},{"$f":"DATA!K1013","v":0},{"$f":"DATA!L1013","v":0},{"$f":"DATA!M1013","v":0},{"$f":"DATA!N1013","v":0},{"$f":"DATA!O1013","v":0},{"$f":"DATA!P1013","v":0}]
[{"$f":"DATA!C1014","v":0},{"$f":"DATA!D1014","v":0},{"$f":"DATA!E1014","v":0},{"$f":"DATA!H1014","v":0},{"$f":"DATA!I1014","v":0},{"$f":"DATA!J1014","v":0},{"$f":"DATA!K1014","v":0},{"$f":"DATA!L1014","v":0},{"$f":"DATA!M1014","v":0},{"$f":"DATA!N1014","v":0},{"$f":"DATA!O1014","v":0},{"$f":"DATA!P1014","v":0}]
[{"$f":"DATA!C1015","v":0},{"$f":"DATA!D1015","v":0},{"$f":"DATA!E1015","v":0},{"$f":"DATA!H1015","v":0},{"$f":"DATA!I1015","v":0},{"$f":"DATA!J1015","v":0},{"$f":"DATA!K1015","v":0},{"$f":"DATA!L1015","v":0},{"$f":"DATA!M1015","v":0},{"$f":"DATA!N1015","v":0},{"$f":"DATA!O1015","v":0},{"$f":"DATA!P1015","v":0}]
[{"$f":"DATA!C1016","v":0},{"$f":"DATA!D1016","v":0},{"$f":"DATA!E1016","v":0},{"$f":"DATA!H1016","v":0},{"$f":"DATA!I1016","v":0},{"$f":"DATA!J1016","v":0},{"$f":"DATA!K1016","v":0},{"$f":"DATA!L1016","v":0},{"$f":"DATA!M1016","v":0},{"$f":"DATA!N1016","v":0},{"$f":"DATA!O1016","v":0},{"$f":"DATA!P1016","v":0}]
[{"$f":"DATA!C1017","v":0},{"$f":"DATA!D1017","v":0},{"$f":"DATA!E1017","v":0},{"$f":"DATA!H1017","v":0},{"$f":"DATA!I1017","v":0},{"$f":"DATA!J1017","v":0},{"$f":"DATA!K1017","v":0},{"$f":"DATA!L1017","v":0},{"$f":"DATA!M1017","v":0},{"$f":"DATA!N1017","v":0},{"$f":"DATA!O1017","v":0},{"$f":"DATA!P1017","v":0}]
[{"$f":"DATA!C1018","v":0},{"$f":"DATA!D1018","v":0},{"$f":"DATA!E1018","v":0},{"$f":"DATA!H1018","v":0},{"$f":"DATA!I1018","v":0},{"$f":"DATA!J1018","v":0},{"$f":"DATA!K1018","v":0},{"$f":"DATA!L1018","v":0},{"$f":"DATA!M1018","v":0},{"$f":"DATA!N1018","v":0},{"$f":"DATA!O1018","v":0},{"$f":"DATA!P1018","v":0}]
[{"$f":"DATA!C1019","v":0},{"$f":"DATA!D1019","v":0},{"$f":"DATA!E1019","v":0},{"$f":"DATA!H1019","v":0},{"$f":"DATA!I1019","v":0},{"$f":"DATA!J1019","v":0},{"$f":"DATA!K1019","v":0},{"$f":"DATA!L1019","v":0},{"$f":"DATA!M1019","v":0},{"$f":"DATA!N1019","v":0},{"$f":"DATA!O1019","v":0},{"$f":"DATA!P1019","v":0}]
[{"$f":"DATA!C1020","v":0},{"$f":"DATA!D1020","v":0},{"$f":"DATA!E1020","v":0},{"$f":"DATA!H1020","v":0},{"$f":"DATA!I1020","v":0},{"$f":"DATA!J1020","v":0},{"$f":"DATA!K1020","v":0},{"$f":"DATA!L1020","v":0},{"$f":"DATA!M1020","v":0},{"$f":"DATA!N1020","v":0},{"$f":"DATA!O1020","v":0},{"$f":"DATA!P1020","v":0}]
[{"$f":"DATA!C1021","v":0},{"$f":"DATA!D1021","v":0},{"$f":"DATA!E1021","v":0},{"$f":"DATA!H1021","v":0},{"$f":"DATA!I1021","v":0},{"$f":"DATA!J1021","v":0},{"$f":"DATA!K1021","v":0},{"$f":"DATA!L1021","v":0},{"$f":"DATA!M1021","v":0},{"$f":"DATA!N1021","v":0},{"$f":"DATA!O1021","v":0},{"$f":"DATA!P1021","v":0}]
[{"$f":"DATA!C1022","v":0},{"$f":"DATA!D1022","v":0},{"$f":"DATA!E1022","v":0},{"$f":"DATA!H1022","v":0},{"$f":"DATA!I1022","v":0},{"$f":"DATA!J1022","v":0},{"$f":"DATA!K1022","v":0},{"$f":"DATA!L1022","v":0},{"$f":"DATA!M1022","v":0},{"$f":"DATA!N1022","v":0},{"$f":"DATA!O1022","v":0},{"$f":"DATA!P1022","v":0}]
[{"$f":"DATA!C1023","v":0},{"$f":"DATA!D1023","v":0},{"$f":"DATA!E1023","v":0},{"$f":"DATA!H1023","v":0},{"$f":"DATA!I1023","v":0},{"$f":"DATA!J1023","v":0},{"$f":"DATA!K1023","v":0},{"$f":"DATA!L1023","v":0},{"$f":"DATA!M1023","v":0},{"$f":"DATA!N1023","v":0},{"$f":"DATA!O1023","v":0},{"$f":"DATA!P1023","v":0}]
[{"$f":"DATA!C1024","v":0},{"$f":"DATA!D1024","v":0},{"$f":"DATA!E1024","v":0},{"$f":"DATA!H1024","v":0},{"$f":"DATA!I1024","v":0},{"$f":"DATA!J1024","v":0},{"$f":"DATA!K1024","v":0},{"$f":"DATA!L1024","v":0},{"$f":"DATA!M1024","v":0},{"$f":"DATA!N1024","v":0},{"$f":"DATA!O1024","v":0},{"$f":"DATA!P1024","v":0}]
[{"$f":"DATA!C1025","v":0},{"$f":"DATA!D1025","v":0},{"$f":"DATA!E1025","v":0},{"$f":"DATA!H1025","v":0},{"$f":"DATA!I1025","v":0},{"$f":"DATA!J1025","v":0},{"$f":"DATA!K1025","v":0},{"$f":"DATA!L1025","v":0},{"$f":"DATA!M1025","v":0},{"$f":"DATA!N1025","v":0},{"$f":"DATA!O1025","v":0},{"$f":"DATA!P1025","v":0}]
[{"$f":"DATA!C1026","v":0},{"$f":"DATA!D1026","v":0},{"$f":"DATA!E1026","v":0},{"$f":"DATA!H1026","v":0},{"$f":"DATA!I1026","v":0},{"$f":"DATA!J1026","v":0},{"$f":"DATA!K1026","v":0},{"$f":"DATA!L1026","v":0},{"$f":"DATA!M1026","v":0},{"$f":"DATA!N1026","v":0},{"$f":"DATA!O1026","v":0},{"$f":"DATA!P1026","v":0}]
[{"$f":"DATA!C1027","v":0},{"$f":"DATA!D1027","v":0},{"$f":"DATA!E1027","v":0},{"$f":"DATA!H1027","v":0},{"$f":"DATA!I1027","v":0},{"$f":"DATA!J1027","v":0},{"$f":"DATA!K1027","v":0},{"$f":"DATA!L1027","v":0},{"$f":"DATA!M1027","v":0},{"$f":"DATA!N1027","v":0},{"$f":"DATA!O1027","v":0},{"$f":"DATA!P1027","v":0}]
[{"$f":"DATA!C1028","v":0},{"$f":"DATA!D1028","v":0},{"$f":"DATA!E1028","v":0},{"$f":"DATA!H1028","v":0},{"$f":"DATA!I1028","v":0},{"$f":"DATA!J1028","v":0},{"$f":"DATA!K1028","v":0},{"$f":"DATA!L1028","v":0},{"$f":"DATA!M1028","v":0},{"$f":"DATA!N1028","v":0},{"$f":"DATA!O1028","v":0},{"$f":"DATA!P1028","v":0}]
[{"$f":"DATA!C1029","v":0},{"$f":"DATA!D1029","v":0},{"$f":"DATA!E1029","v":0},{"$f":"DATA!H1029","v":0},{"$f":"DATA!I1029","v":0},{"$f":"DATA!J1029","v":0},{"$f":"DATA!K1029","v":0},{"$f":"DATA!L1029","v":0},{"$f":"DATA!M1029","v":0},{"$f":"DATA!N1029","v":0},{"$f":"DATA!O1029","v":0},{"$f":"DATA!P1029","v":0}]
[{"$f":"DATA!C1030","v":0},{"$f":"DATA!D1030","v":0},{"$f":"DATA!E1030","v":0},{"$f":"DATA!H1030","v":0},{"$f":"DATA!I1030","v":0},{"$f":"DATA!J1030","v":0},{"$f":"DATA!K1030","v":0},{"$f":"DATA!L1030","v":0},{"$f":"DATA!M1030","v":0},{"$f":"DATA!N1030","v":0},{"$f":"DATA!O1030","v":0},{"$f":"DATA!P1030","v":0}]
[{"$f":"DATA!C1031","v":0},{"$f":"DATA!D1031","v":0},{"$f":"DATA!E1031","v":0},{"$f":"DATA!H1031","v":0},{"$f":"DATA!I1031","v":0},{"$f":"DATA!J1031","v":0},{"$f":"DATA!K1031","v":0},{"$f":"DATA!L1031","v":0},{"$f":"DATA!M1031","v":0},{"$f":"DATA!N1031","v":0},{"$f":"DATA!O1031","v":0},{"$f":"DATA!P1031","v":0}]
[{"$f":"DATA!C1032","v":0},{"$f":"DATA!D1032","v":0},{"$f":"DATA!E1032","v":0},{"$f":"DATA!H1032","v":0},{"$f":"DATA!I1032","v":0},{"$f":"DATA!J1032","v":0},{"$f":"DATA!K1032","v":0},{"$f":"DATA!L1032","v":0},{"$f":"DATA!M1032","v":0},{"$f":"DATA!N1032","v":0},{"$f":"DATA!O1032","v":0},{"$f":"DATA!P1032","v":0}]
[{"$f":"DATA!C1033","v":0},{"$f":"DATA!D1033","v":0},{"$f":"DATA!E1033","v":0},{"$f":"DATA!H1033","v":0},{"$f":"DATA!I1033","v":0},{"$f":"DATA!J1033","v":0},{"$f":"DATA!K1033","v":0},{"$f":"DATA!L1033","v":0},{"$f":"DATA!M1033","v":0},{"$f":"DATA!N1033","v":0},{"$f":"DATA!O1033","v":0},{"$f":"DATA!P1033","v":0}]
[{"$f":"DATA!C1034","v":0},{"$f":"DATA!D1034","v":0},{"$f":"DATA!E1034","v":0},{"$f":"DATA!H1034","v":0},{"$f":"DATA!I1034","v":0},{"$f":"DATA!J1034","v":0},{"$f":"DATA!K1034","v":0},{"$f":"DATA!L1034","v":0},{"$f":"DATA!M1034","v":0},{"$f":"DATA!N1034","v":0},{"$f":"DATA!O1034","v":0},{"$f":"DATA!P1034","v":0}]
[{"$f":"DATA!C1035","v":0},{"$f":"DATA!D1035","v":0},{"$f":"DATA!E1035","v":0},{"$f":"DATA!H1035","v":0},{"$f":"DATA!I1035","v":0},{"$f":"DATA!J1035","v":0},{"$f":"DATA!K1035","v":0},{"$f":"DATA!L1035","v":0},{"$f":"DATA!M1035","v":0},{"$f":"DATA!N1035","v":0},{"$f":"DATA!O1035","v":0},{"$f":"DATA!P1035","v":0}]
[{"$f":"DATA!C1036","v":0},{"$f":"DATA!D1036","v":0},{"$f":"DATA!E1036","v":0},{"$f":"DATA!H1036","v":0},{"$f":"DATA!I1036","v":0},{"$f":"DATA!J1036","v":0},{"$f":"DATA!K1036","v":0},{"$f":"DATA!L1036","v":0},{"$f":"DATA!M1036","v":0},{"$f":"DATA!N1036","v":0},{"$f":"DATA!O1036","v":0},{"$f":"DATA!P1036","v":0}]
[{"$f":"DATA!C1037","v":0},{"$f":"DATA!D1037","v":0},{"$f":"DATA!E1037","v":0},{"$f":"DATA!H1037","v":0},{"$f":"DATA!I1037","v":0},{"$f":"DATA!J1037","v":0},{"$f":"DATA!K1037","v":0},{"$f":"DATA!L1037","v":0},{"$f":"DATA!M1037","v":0},{"$f":"DATA!N1037","v":0},{"$f":"DATA!O1037","v":0},{"$f":"DATA!P1037","v":0}]
[{"$f":"DATA!C1038","v":0},{"$f":"DATA!D1038","v":0},{"$f":"DATA!E1038","v":0},{"$f":"DATA!H1038","v":0},{"$f":"DATA!I1038","v":0},{"$f":"DATA!J1038","v":0},{"$f":"DATA!K1038","v":0},{"$f":"DATA!L1038","v":0},{"$f":"DATA!M1038","v":0},{"$f":"DATA!N1038","v":0},{"$f":"DATA!O1038","v":0},{"$f":"DATA!P1038","v":0}]
[{"$f":"DATA!C1039","v":0},{"$f":"DATA!D1039","v":0},{"$f":"DATA!E1039","v":0},{"$f":"DATA!H1039","v":0},{"$f":"DATA!I1039","v":0},{"$f":"DATA!J1039","v":0},{"$f":"DATA!K1039","v":0},{"$f":"DATA!L1039","v":0},{"$f":"DATA!M1039","v":0},{"$f":"DATA!N1039","v":0},{"$f":"DATA!O1039","v":0},{"$f":"DATA!P1039","v":0}]
[{"$f":"DATA!C1040","v":0},{"$f":"DATA!D1040","v":0},{"$f":"DATA!E1040","v":0},{"$f":"DATA!H1040","v":0},{"$f":"DATA!I1040","v":0},{"$f":"DATA!J1040","v":0},{"$f":"DATA!K1040","v":0},{"$f":"DATA!L1040","v":0},{"$f":"DATA!M1040","v":0},{"$f":"DATA!N1040","v":0},{"$f":"DATA!O1040","v":0},{"$f":"DATA!P1040","v":0}]
[{"$f":"DATA!C1041","v":0},{"$f":"DATA!D1041","v":0},{"$f":"DATA!E1041","v":0},{"$f":"DATA!H1041","v":0},{"$f":"DATA!I1041","v":0},{"$f":"DATA!J1041","v":0},{"$f":"DATA!K1041","v":0},{"$f":"DATA!L1041","v":0},{"$f":"DATA!M1041","v":0},{"$f":"DATA!N1041","v":0},{"$f":"DATA!O1041","v":0},{"$f":"DATA!P1041","v":0}]
[{"$f":"DATA!C1042","v":0},{"$f":"DATA!D1042","v":0},{"$f":"DATA!E1042","v":0},{"$f":"DATA!H1042","v":0},{"$f":"DATA!I1042","v":0},{"$f":"DATA!J1042","v":0},{"$f":"DATA!K1042","v":0},{"$f":"DATA!L1042","v":0},{"$f":"DATA!M1042","v":0},{"$f":"DATA!N1042","v":0},{"$f":"DATA!O1042","v":0},{"$f":"DATA!P1042","v":0}]
[{"$f":"DATA!C1043","v":0},{"$f":"DATA!D1043","v":0},{"$f":"DATA!E1043","v":0},{"$f":"DATA!H1043","v":0},{"$f":"DATA!I1043","v":0},{"$f":"DATA!J1043","v":0},{"$f":"DATA!K1043","v":0},{"$f":"DATA!L1043","v":0},{"$f":"DATA!M1043","v":0},{"$f":"DATA!N1043","v":0},{"$f":"DATA!O1043","v":0},{"$f":"DATA!P1043","v":0}]
[{"$f":"DATA!C1044","v":0},{"$f":"DATA!D1044","v":0},{"$f":"DATA!E1044","v":0},{"$f":"DATA!H1044","v":0},{"$f":"DATA!I1044","v":0},{"$f":"DATA!J1044","v":0},{"$f":"DATA!K1044","v":0},{"$f":"DATA!L1044","v":0},{"$f":"DATA!M1044","v":0},{"$f":"DATA!N1044","v":0},{"$f":"DATA!O1044","v":0},{"$f":"DATA!P1044","v":0}]
[{"$f":"DATA!C1045","v":0},{"$f":"DATA!D1045","v":0},{"$f":"DATA!E1045","v":0},{"$f":"DATA!H1045","v":0},{"$f":"DATA!I1045","v":0},{"$f":"DATA!J1045","v":0},{"$f":"DATA!K1045","v":0},{"$f":"DATA!L1045","v":0},{"$f":"DATA!M1045","v":0},{"$f":"DATA!N1045","v":0},{"$f":"DATA!O1045","v":0},{"$f":"DATA!P1045","v":0}]
[{"$f":"DATA!C1046","v":0},{"$f":"DATA!D1046","v":0},{"$f":"DATA!E1046","v":0},{"$f":"DATA!H1046","v":0},{"$f":"DATA!I1046","v":0},{"$f":"DATA!J1046","v":0},{"$f":"DATA!K1046","v":0},{"$f":"DATA!L1046","v":0},{"$f":"DATA!M1046","v":0},{"$f":"DATA!N1046","v":0},{"$f":"DATA!O1046","v":0},{"$f":"DATA!P1046","v":0}]
[{"$f":"DATA!C1047","v":0},{"$f":"DATA!D1047","v":0},{"$f":"DATA!E1047","v":0},{"$f":"DATA!H1047","v":0},{"$f":"DATA!I1047","v":0},{"$f":"DATA!J1047","v":0},{"$f":"DATA!K1047","v":0},{"$f":"DATA!L1047","v":0},{"$f":"DATA!M1047","v":0},{"$f":"DATA!N1047","v":0},{"$f":"DATA!O1047","v":0},{"$f":"DATA!P1047","v":0}]
[{"$f":"DATA!C1048","v":0},{"$f":"DATA!D1048","v":0},{"$f":"DATA!E1048","v":0},{"$f":"DATA!H1048","v":0},{"$f":"DATA!I1048","v":0},{"$f":"DATA!J1048","v":0},{"$f":"DATA!K1048","v":0},{"$f":"DATA!L1048","v":0},{"$f":"DATA!M1048","v":0},{"$f":"DATA!N1048","v":0},{"$f":"DATA!O1048","v":0},{"$f":"DATA!P1048","v":0}]
[{"$f":"DATA!C1049","v":0},{"$f":"DATA!D1049","v":0},{"$f":"DATA!E1049","v":0},{"$f":"DATA!H1049","v":0},{"$f":"DATA!I1049","v":0},{"$f":"DATA!J1049","v":0},{"$f":"DATA!K1049","v":0},{"$f":"DATA!L1049","v":0},{"$f":"DATA!M1049","v":0},{"$f":"DATA!N1049","v":0},{"$f":"DATA!O1049","v":0},{"$f":"DATA!P1049","v":0}]
[{"$f":"DATA!C1050","v":0},{"$f":"DATA!D1050","v":0},{"$f":"DATA!E1050","v":0},{"$f":"DATA!H1050","v":0},{"$f":"DATA!I1050","v":0},{"$f":"DATA!J1050","v":0},{"$f":"DATA!K1050","v":0},{"$f":"DATA!L1050","v":0},{"$f":"DATA!M1050","v":0},{"$f":"DATA!N1050","v":0},{"$f":"DATA!O1050","v":0},{"$f":"DATA!P1050","v":0}]
[{"$f":"DATA!C1051","v":0},{"$f":"DATA!D1051","v":0},{"$f":"DATA!E1051","v":0},{"$f":"DATA!H1051","v":0},{"$f":"DATA!I1051","v":0},{"$f":"DATA!J1051","v":0},{"$f":"DATA!K1051","v":0},{"$f":"DATA!L1051","v":0},{"$f":"DATA!M1051","v":0},{"$f":"DATA!N1051","v":0},{"$f":"DATA!O1051","v":0},{"$f":"DATA!P1051","v":0}]
[{"$f":"DATA!C1052","v":0},{"$f":"DATA!D1052","v":0},{"$f":"DATA!E1052","v":0},{"$f":"DATA!H1052","v":0},{"$f":"DATA!I1052","v":0},{"$f":"DATA!J1052","v":0},{"$f":"DATA!K1052","v":0},{"$f":"DATA!L1052","v":0},{"$f":"DATA!M1052","v":0},{"$f":"DATA!N1052","v":0},{"$f":"DATA!O1052","v":0},{"$f":"DATA!P1052","v":0}]
[{"$f":"DATA!C1053","v":0},{"$f":"DATA!D1053","v":0},{"$f":"DATA!E1053","v":0},{"$f":"DATA!H1053","v":0},{"$f":"DATA!I1053","v":0},{"$f":"DATA!J1053","v":0},{"$f":"DATA!K1053","v":0},{"$f":"DATA!L1053","v":0},{"$f":"DATA!M1053","v":0},{"$f":"DATA!N1053","v":0},{"$f":"DATA!O1053","v":0},{"$f":"DATA!P1053","v":0}]
[{"$f":"DATA!C1054","v":0},{"$f":"DATA!D1054","v":0},{"$f":"DATA!E1054","v":0},{"$f":"DATA!H1054","v":0},{"$f":"DATA!I1054","v":0},{"$f":"DATA!J1054","v":0},{"$f":"DATA!K1054","v":0},{"$f":"DATA!L1054","v":0},{"$f":"DATA!M1054","v":0},{"$f":"DATA!N1054","v":0},{"$f":"DATA!O1054","v":0},{"$f":"DATA!P1054","v":0}]
[{"$f":"DATA!C1055","v":0},{"$f":"DATA!D1055","v":0},{"$f":"DATA!E1055","v":0},{"$f":"DATA!H1055","v":0},{"$f":"DATA!I1055","v":0},{"$f":"DATA!J1055","v":0},{"$f":"DATA!K1055","v":0},{"$f":"DATA!L1055","v":0},{"$f":"DATA!M1055","v":0},{"$f":"DATA!N1055","v":0},{"$f":"DATA!O1055","v":0},{"$f":"DATA!P1055","v":0}]
[{"$f":"DATA!C1056","v":0},{"$f":"DATA!D1056","v":0},{"$f":"DATA!E1056","v":0},{"$f":"DATA!H1056","v":0},{"$f":"DATA!I1056","v":0},{"$f":"DATA!J1056","v":0},{"$f":"DATA!K1056","v":0},{"$f":"DATA!L1056","v":0},{"$f":"DATA!M1056","v":0},{"$f":"DATA!N1056","v":0},{"$f":"DATA!O1056","v":0},{"$f":"DATA!P1056","v":0}]
[{"$f":"DATA!C1057","v":0},{"$f":"DATA!D1057","v":0},{"$f":"DATA!E1057","v":0},{"$f":"DATA!H1057","v":0},{"$f":"DATA!I1057","v":0},{"$f":"DATA!J1057","v":0},{"$f":"DATA!K1057","v":0},{"$f":"DATA!L1057","v":0},{"$f":"DATA!M1057","v":0},{"$f":"DATA!N1057","v":0},{"$f":"DATA!O1057","v":0},{"$f":"DATA!P1057","v":0}]
[{"$f":"DATA!C1058","v":0},{"$f":"DATA!D1058","v":0},{"$f":"DATA!E1058","v":0},{"$f":"DATA!H1058","v":0},{"$f":"DATA!I1058","v":0},{"$f":"DATA!J1058","v":0},{"$f":"DATA!K1058","v":0},{"$f":"DATA!L1058","v":0},{"$f":"DATA!M1058","v":0},{"$f":"DATA!N1058","v":0},{"$f":"DATA!O1058","v":0},{"$f":"DATA!P1058","v":0}]
[{"$f":"DATA!C1059","v":0},{"$f":"DATA!D1059","v":0},{"$f":"DATA!E1059","v":0},{"$f":"DATA!H1059","v":0},{"$f":"DATA!I1059","v":0},{"$f":"DATA!J1059","v":0},{"$f":"DATA!K1059","v":0},{"$f":"DATA!L1059","v":0},{"$f":"DATA!M1059","v":0},{"$f":"DATA!N1059","v":0},{"$f":"DATA!O1059","v":0},{"$f":"DATA!P1059","v":0}]
[{"$f":"DATA!C1060","v":0},{"$f":"DATA!D1060","v":0},{"$f":"DATA!E1060","v":0},{"$f":"DATA!H1060","v":0},{"$f":"DATA!I1060","v":0},{"$f":"DATA!J1060","v":0},{"$f":"DATA!K1060","v":0},{"$f":"DATA!L1060","v":0},{"$f":"DATA!M1060","v":0},{"$f":"DATA!N1060","v":0},{"$f":"DATA!O1060","v":0},{"$f":"DATA!P1060","v":0}]
[{"$f":"DATA!C1061","v":0},{"$f":"DATA!D1061","v":0},{"$f":"DATA!E1061","v":0},{"$f":"DATA!H1061","v":0},{"$f":"DATA!I1061","v":0},{"$f":"DATA!J1061","v":0},{"$f":"DATA!K1061","v":0},{"$f":"DATA!L1061","v":0},{"$f":"DATA!M1061","v":0},{"$f":"DATA!N1061","v":0},{"$f":"DATA!O1061","v":0},{"$f":"DATA!P1061","v":0}]
[{"$f":"DATA!C1062","v":0},{"$f":"DATA!D1062","v":0},{"$f":"DATA!E1062","v":0},{"$f":"DATA!H1062","v":0},{"$f":"DATA!I1062","v":0},{"$f":"DATA!J1062","v":0},{"$f":"DATA!K1062","v":0},{"$f":"DATA!L1062","v":0},{"$f":"DATA!M1062","v":0},{"$f":"DATA!N1062","v":0},{"$f":"DATA!O1062","v":0},{"$f":"DATA!P1062","v":0}]
[{"$f":"DATA!C1063","v":0},{"$f":"DATA!D1063","v":0},{"$f":"DATA!E1063","v":0},{"$f":"DATA!H1063","v":0},{"$f":"DATA!I1063","v":0},{"$f":"DATA!J1063","v":0},{"$f":"DATA!K1063","v":0},{"$f":"DATA!L1063","v":0},{"$f":"DATA!M1063","v":0},{"$f":"DATA!N1063","v":0},{"$f":"DATA!O1063","v":0},{"$f":"DATA!P1063","v":0}]
[{"$f":"DATA!C1064","v":0},{"$f":"DATA!D1064","v":0},{"$f":"DATA!E1064","v":0},{"$f":"DATA!H1064","v":0},{"$f":"DATA!I1064","v":0},{"$f":"DATA!J1064","v":0},{"$f":"DATA!K1064","v":0},{"$f":"DATA!L1064","v":0},{"$f":"DATA!M1064","v":0},{"$f":"DATA!N1064","v":0},{"$f":"DATA!O1064","v":0},{"$f":"DATA!P1064","v":0}]
[{"$f":"DATA!C1065","v":0},{"$f":"DATA!D1065","v":0},{"$f":"DATA!E1065","v":0},{"$f":"DATA!H1065","v":0},{"$f":"DATA!I1065","v":0},{"$f":"DATA!J1065","v":0},{"$f":"DATA!K1065","v":0},{"$f":"DATA!L1065","v":0},{"$f":"DATA!M1065","v":0},{"$f":"DATA!N1065","v":0},{"$f":"DATA!O1065","v":0},{"$f":"DATA!P1065","v":0}]
[{"$f":"DATA!C1066","v":0},{"$f":"DATA!D1066","v":0},{"$f":"DATA!E1066","v":0},{"$f":"DATA!H1066","v":0},{"$f":"DATA!I1066","v":0},{"$f":"DATA!J1066","v":0},{"$f":"DATA!K1066","v":0},{"$f":"DATA!L1066","v":0},{"$f":"DATA!M1066","v":0},{"$f":"DATA!N1066","v":0},{"$f":"DATA!O1066","v":0},{"$f":"DATA!P1066","v":0}]
[{"$f":"DATA!C1067","v":0},{"$f":"DATA!D1067","v":0},{"$f":"DATA!E1067","v":0},{"$f":"DATA!H1067","v":0},{"$f":"DATA!I1067","v":0},{"$f":"DATA!J1067","v":0},{"$f":"DATA!K1067","v":0},{"$f":"DATA!L1067","v":0},{"$f":"DATA!M1067","v":0},{"$f":"DATA!N1067","v":0},{"$f":"DATA!O1067","v":0},{"$f":"DATA!P1067","v":0}]
[{"$f":"DATA!C1068","v":0},{"$f":"DATA!D1068","v":0},{"$f":"DATA!E1068","v":0},{"$f":"DATA!H1068","v":0},{"$f":"DATA!I1068","v":0},{"$f":"DATA!J1068","v":0},{"$f":"DATA!K1068","v":0},{"$f":"DATA!L1068","v":0},{"$f":"DATA!M1068","v":0},{"$f":"DATA!N1068","v":0},{"$f":"DATA!O1068","v":0},{"$f":"DATA!P1068","v":0}]
[{"$f":"DATA!C1069","v":0},{"$f":"DATA!D1069","v":0},{"$f":"DATA!E1069","v":0},{"$f":"DATA!H1069","v":0},{"$f":"DATA!I1069","v":0},{"$f":"DATA!J1069","v":0},{"$f":"DATA!K1069","v":0},{"$f":"DATA!L1069","v":0},{"$f":"DATA!M1069","v":0},{"$f":"DATA!N1069","v":0},{"$f":"DATA!O1069","v":0},{"$f":"DATA!P1069","v":0}]
[{"$f":"DATA!C1070","v":0},{"$f":"DATA!D1070","v":0},{"$f":"DATA!E1070","v":0},{"$f":"DATA!H1070","v":0},{"$f":"DATA!I1070","v":0},{"$f":"DATA!J1070","v":0},{"$f":"DATA!K1070","v":0},{"$f":"DATA!L1070","v":0},{"$f":"DATA!M1070","v":0},{"$f":"DATA!N1070","v":0},{"$f":"DATA!O1070","v":0},{"$f":"DATA!P1070","v":0}]
[{"$f":"DATA!C1071","v":0},{"$f":"DATA!D1071","v":0},{"$f":"DATA!E1071","v":0},{"$f":"DATA!H1071","v":0},{"$f":"DATA!I1071","v":0},{"$f":"DATA!J1071","v":0},{"$f":"DATA!K1071","v":0},{"$f":"DATA!L1071","v":0},{"$f":"DATA!M1071","v":0},{"$f":"DATA!N1071","v":0},{"$f":"DATA!O1071","v":0},{"$f":"DATA!P1071","v":0}]
[{"$f":"DATA!C1072","v":0},{"$f":"DATA!D1072","v":0},{"$f":"DATA!E1072","v":0},{"$f":"DATA!H1072","v":0},{"$f":"DATA!I1072","v":0},{"$f":"DATA!J1072","v":0},{"$f":"DATA!K1072","v":0},{"$f":"DATA!L1072","v":0},{"$f":"DATA!M1072","v":0},{"$f":"DATA!N1072","v":0},{"$f":"DATA!O1072","v":0},{"$f":"DATA!P1072","v":0}]
[{"$f":"DATA!C1073","v":0},{"$f":"DATA!D1073","v":0},{"$f":"DATA!E1073","v":0},{"$f":"DATA!H1073","v":0},{"$f":"DATA!I1073","v":0},{"$f":"DATA!J1073","v":0},{"$f":"DATA!K1073","v":0},{"$f":"DATA!L1073","v":0},{"$f":"DATA!M1073","v":0},{"$f":"DATA!N1073","v":0},{"$f":"DATA!O1073","v":0},{"$f":"DATA!P1073","v":0}]
[{"$f":"DATA!C1074","v":0},{"$f":"DATA!D1074","v":0},{"$f":"DATA!E1074","v":0},{"$f":"DATA!H1074","v":0},{"$f":"DATA!I1074","v":0},{"$f":"DATA!J1074","v":0},{"$f":"DATA!K1074","v":0},{"$f":"DATA!L1074","v":0},{"$f":"DATA!M1074","v":0},{"$f":"DATA!N1074","v":0},{"$f":"DATA!O1074","v":0},{"$f":"DATA!P1074","v":0}]
[{"$f":"DATA!C1075","v":0},{"$f":"DATA!D1075","v":0},{"$f":"DATA!E1075","v":0},{"$f":"DATA!H1075","v":0},{"$f":"DATA!I1075","v":0},{"$f":"DATA!J1075","v":0},{"$f":"DATA!K1075","v":0},{"$f":"DATA!L1075","v":0},{"$f":"DATA!M1075","v":0},{"$f":"DATA!N1075","v":0},{"$f":"DATA!O1075","v":0},{"$f":"DATA!P1075","v":0}]
[{"$f":"DATA!C1076","v":0},{"$f":"DATA!D1076","v":0},{"$f":"DATA!E1076","v":0},{"$f":"DATA!H1076","v":0},{"$f":"DATA!I1076","v":0},{"$f":"DATA!J1076","v":0},{"$f":"DATA!K1076","v":0},{"$f":"DATA!L1076","v":0},{"$f":"DATA!M1076","v":0},{"$f":"DATA!N1076","v":0},{"$f":"DATA!O1076","v":0},{"$f":"DATA!P1076","v":0}]
[{"$f":"DATA!C1077","v":0},{"$f":"DATA!D1077","v":0},{"$f":"DATA!E1077","v":0},{"$f":"DATA!H1077","v":0},{"$f":"DATA!I1077","v":0},{"$f":"DATA!J1077","v":0},{"$f":"DATA!K1077","v":0},{"$f":"DATA!L1077","v":0},{"$f":"DATA!M1077","v":0},{"$f":"DATA!N1077","v":0},{"$f":"DATA!O1077","v":0},{"$f":"DATA!P1077","v":0}]
[{"$f":"DATA!C1078","v":0},{"$f":"DATA!D1078","v":0},{"$f":"DATA!E1078","v":0},{"$f":"DATA!H1078","v":0},{"$f":"DATA!I1078","v":0},{"$f":"DATA!J1078","v":0},{"$f":"DATA!K1078","v":0},{"$f":"DATA!L1078","v":0},{"$f":"DATA!M1078","v":0},{"$f":"DATA!N1078","v":0},{"$f":"DATA!O1078","v":0},{"$f":"DATA!P1078","v":0}]
[{"$f":"DATA!C1079","v":0},{"$f":"DATA!D1079","v":0},{"$f":"DATA!E1079","v":0},{"$f":"DATA!H1079","v":0},{"$f":"DATA!I1079","v":0},{"$f":"DATA!J1079","v":0},{"$f":"DATA!K1079","v":0},{"$f":"DATA!L1079","v":0},{"$f":"DATA!M1079","v":0},{"$f":"DATA!N1079","v":0},{"$f":"DATA!O1079","v":0},{"$f":"DATA!P1079","v":0}]
[{"$f":"DATA!C1080","v":0},{"$f":"DATA!D1080","v":0},{"$f":"DATA!E1080","v":0},{"$f":"DATA!H1080","v":0},{"$f":"DATA!I1080","v":0},{"$f":"DATA!J1080","v":0},{"$f":"DATA!K1080","v":0},{"$f":"DATA!L1080","v":0},{"$f":"DATA!M1080","v":0},{"$f":"DATA!N1080","v":0},{"$f":"DATA!O1080","v":0},{"$f":"DATA!P1080","v":0}]
[{"$f":"DATA!C1081","v":0},{"$f":"DATA!D1081","v":0},{"$f":"DATA!E1081","v":0},{"$f":"DATA!H1081","v":0},{"$f":"DATA!I1081","v":0},{"$f":"DATA!J1081","v":0},{"$f":"DATA!K1081","v":0},{"$f":"DATA!L1081","v":0},{"$f":"DATA!M1081","v":0},{"$f":"DATA!N1081","v":0},{"$f":"DATA!O1081","v":0},{"$f":"DATA!P1081","v":0}]
[{"$f":"DATA!C1082","v":0},{"$f":"DATA!D1082","v":0},{"$f":"DATA!E1082","v":0},{"$f":"DATA!H1082","v":0},{"$f":"DATA!I1082","v":0},{"$f":"DATA!J1082","v":0},{"$f":"DATA!K1082","v":0},{"$f":"DATA!L1082","v":0},{"$f":"DATA!M1082","v":0},{"$f":"DATA!N1082","v":0},{"$f":"DATA!O1082","v":0},{"$f":"DATA!P1082","v":0}]
[{"$f":"DATA!C1083","v":0},{"$f":"DATA!D1083","v":0},{"$f":"DATA!E1083","v":0},{"$f":"DATA!H1083","v":0},{"$f":"DATA!I1083","v":0},{"$f":"DATA!J1083","v":0},{"$f":"DATA!K1083","v":0},{"$f":"DATA!L1083","v":0},{"$f":"DATA!M1083","v":0},{"$f":"DATA!N1083","v":0},{"$f":"DATA!O1083","v":0},{"$f":"DATA!P1083","v":0}]
[{"$f":"DATA!C1084","v":0},{"$f":"DATA!D1084","v":0},{"$f":"DATA!E1084","v":0},{"$f":"DATA!H1084","v":0},{"$f":"DATA!I1084","v":0},{"$f":"DATA!J1084","v":0},{"$f":"DATA!K1084","v":0},{"$f":"DATA!L1084","v":0},{"$f":"DATA!M1084","v":0},{"$f":"DATA!N1084","v":0},{"$f":"DATA!O1084","v":0},{"$f":"DATA!P1084","v":0}]
[{"$f":"DATA!C1085","v":0},{"$f":"DATA!D1085","v":0},{"$f":"DATA!E1085","v":0},{"$f":"DATA!H1085","v":0},{"$f":"DATA!I1085","v":0},{"$f":"DATA!J1085","v":0},{"$f":"DATA!K1085","v":0},{"$f":"DATA!L1085","v":0},{"$f":"DATA!M1085","v":0},{"$f":"DATA!N1085","v":0},{"$f":"DATA!O1085","v":0},{"$f":"DATA!P1085","v":0}]
[{"$f":"DATA!C1086","v":0},{"$f":"DATA!D1086","v":0},{"$f":"DATA!E1086","v":0},{"$f":"DATA!H1086","v":0},{"$f":"DATA!I1086","v":0},{"$f":"DATA!J1086","v":0},{"$f":"DATA!K1086","v":0},{"$f":"DATA!L1086","v":0},{"$f":"DATA!M1086","v":0},{"$f":"DATA!N1086","v":0},{"$f":"DATA!O1086","v":0},{"$f":"DATA!P1086","v":0}]
[{"$f":"DATA!C1087","v":0},{"$f":"DATA!D1087","v":0},{"$f":"DATA!E1087","v":0},{"$f":"DATA!H1087","v":0},{"$f":"DATA!I1087","v":0},{"$f":"DATA!J1087","v":0},{"$f":"DATA!K1087","v":0},{"$f":"DATA!L1087","v":0},{"$f":"DATA!M1087","v":0},{"$f":"DATA!N1087","v":0},{"$f":"DATA!O1087","v":0},{"$f":"DATA!P1087","v":0}]
[{"$f":"DATA!C1088","v":0},{"$f":"DATA!D1088","v":0},{"$f":"DATA!E1088","v":0},{"$f":"DATA!H1088","v":0},{"$f":"DATA!I1088","v":0},{"$f":"DATA!J1088","v":0},{"$f":"DATA!K1088","v":0},{"$f":"DATA!L1088","v":0},{"$f":"DATA!M1088","v":0},{"$f":"DATA!N1088","v":0},{"$f":"DATA!O1088","v":0},{"$f":"DATA!P1088","v":0}]
[{"$f":"DATA!C1089","v":0},{"$f":"DATA!D1089","v":0},{"$f":"DATA!E1089","v":0},{"$f":"DATA!H1089","v":0},{"$f":"DATA!I1089","v":0},{"$f":"DATA!J1089","v":0},{"$f":"DATA!K1089","v":0},{"$f":"DATA!L1089","v":0},{"$f":"DATA!M1089","v":0},{"$f":"DATA!N1089","v":0},{"$f":"DATA!O1089","v":0},{"$f":"DATA!P1089","v":0}]
[{"$f":"DATA!C1090","v":0},{"$f":"DATA!D1090","v":0},{"$f":"DATA!E1090","v":0},{"$f":"DATA!H1090","v":0},{"$f":"DATA!I1090","v":0},{"$f":"DATA!J1090","v":0},{"$f":"DATA!K1090","v":0},{"$f":"DATA!L1090","v":0},{"$f":"DATA!M1090","v":0},{"$f":"DATA!N1090","v":0},{"$f":"DATA!O1090","v":0},{"$f":"DATA!P1090","v":0}]
[{"$f":"DATA!C1091","v":0},{"$f":"DATA!D1091","v":0},{"$f":"DATA!E1091","v":0},{"$f":"DATA!H1091","v":0},{"$f":"DATA!I1091","v":0},{"$f":"DATA!J1091","v":0},{"$f":"DATA!K1091","v":0},{"$f":"DATA!L1091","v":0},{"$f":"DATA!M1091","v":0},{"$f":"DATA!N1091","v":0},{"$f":"DATA!O1091","v":0},{"$f":"DATA!P1091","v":0}]
[{"$f":"DATA!C1092","v":0},{"$f":"DATA!D1092","v":0},{"$f":"DATA!E1092","v":0},{"$f":"DATA!H1092","v":0},{"$f":"DATA!I1092","v":0},{"$f":"DATA!J1092","v":0},{"$f":"DATA!K1092","v":0},{"$f":"DATA!L1092","v":0},{"$f":"DATA!M1092","v":0},{"$f":"DATA!N1092","v":0},{"$f":"DATA!O1092","v":0},{"$f":"DATA!P1092","v":0}]
[{"$f":"DATA!C1093","v":0},{"$f":"DATA!D1093","v":0},{"$f":"DATA!E1093","v":0},{"$f":"DATA!H1093","v":0},{"$f":"DATA!I1093","v":0},{"$f":"DATA!J1093","v":0},{"$f":"DATA!K1093","v":0},{"$f":"DATA!L1093","v":0},{"$f":"DATA!M1093","v":0},{"$f":"DATA!N1093","v":0},{"$f":"DATA!O1093","v":0},{"$f":"DATA!P1093","v":0}]
[{"$f":"DATA!C1094","v":0},{"$f":"DATA!D1094","v":0},{"$f":"DATA!E1094","v":0},{"$f":"DATA!H1094","v":0},{"$f":"DATA!I1094","v":0},{"$f":"DATA!J1094","v":0},{"$f":"DATA!K1094","v":0},{"$f":"DATA!L1094","v":0},{"$f":"DATA!M1094","v":0},{"$f":"DATA!N1094","v":0},{"$f":"DATA!O1094","v":0},{"$f":"DATA!P1094","v":0}]
[{"$f":"DATA!C1095","v":0},{"$f":"DATA!D1095","v":0},{"$f":"DATA!E1095","v":0},{"$f":"DATA!H1095","v":0},{"$f":"DATA!I1095","v":0},{"$f":"DATA!J1095","v":0},{"$f":"DATA!K1095","v":0},{"$f":"DATA!L1095","v":0},{"$f":"DATA!M1095","v":0},{"$f":"DATA!N1095","v":0},{"$f":"DATA!O1095","v":0},{"$f":"DATA!P1095","v":0}]
[{"$f":"DATA!C1096","v":0},{"$f":"DATA!D1096","v":0},{"$f":"DATA!E1096","v":0},{"$f":"DATA!H1096","v":0},{"$f":"DATA!I1096","v":0},{"$f":"DATA!J1096","v":0},{"$f":"DATA!K1096","v":0},{"$f":"DATA!L1096","v":0},{"$f":"DATA!M1096","v":0},{"$f":"DATA!N1096","v":0},{"$f":"DATA!O1096","v":0},{"$f":"DATA!P1096","v":0}]
[{"$f":"DATA!C1097","v":0},{"$f":"DATA!D1097","v":0},{"$f":"DATA!E1097","v":0},{"$f":"DATA!H1097","v":0},{"$f":"DATA!I1097","v":0},{"$f":"DATA!J1097","v":0},{"$f":"DATA!K1097","v":0},{"$f":"DATA!L1097","v":0},{"$f":"DATA!M1097","v":0},{"$f":"DATA!N1097","v":0},{"$f":"DATA!O1097","v":0},{"$f":"DATA!P1097","v":0}]
[{"$f":"DATA!C1098","v":0},{"$f":"DATA!D1098","v":0},{"$f":"DATA!E1098","v":0},{"$f":"DATA!H1098","v":0},{"$f":"DATA!I1098","v":0},{"$f":"DATA!J1098","v":0},{"$f":"DATA!K1098","v":0},{"$f":"DATA!L1098","v":0},{"$f":"DATA!M1098","v":0},{"$f":"DATA!N1098","v":0},{"$f":"DATA!O1098","v":0},{"$f":"DATA!P1098","v":0}]
[{"$f":"DATA!C1099","v":0},{"$f":"DATA!D1099","v":0},{"$f":"DATA!E1099","v":0},{"$f":"DATA!H1099","v":0},{"$f":"DATA!I1099","v":0},{"$f":"DATA!J1099","v":0},{"$f":"DATA!K1099","v":0},{"$f":"DATA!L1099","v":0},{"$f":"DATA!M1099","v":0},{"$f":"DATA!N1099","v":0},{"$f":"DATA!O1099","v":0},{"$f":"DATA!P1099","v":0}]
[{"$f":"DATA!C1100","v":0},{"$f":"DATA!D1100","v":0},{"$f":"DATA!E1100","v":0},{"$f":"DATA!H1100","v":0},{"$f":"DATA!I1100","v":0},{"$f":"DATA!J1100","v":0},{"$f":"DATA!K1100","v":0},{"$f":"DATA!L1100","v":0},{"$f":"DATA!M1100","v":0},{"$f":"DATA!N1100","v":0},{"$f":"DATA!O1100","v":0},{"$f":"DATA!P1100","v":0}]
[{"$f":"DATA!C1101","v":0},{"$f":"DATA!D1101","v":0},{"$f":"DATA!E1101","v":0},{"$f":"DATA!H1101","v":0},{"$f":"DATA!I1101","v":0},{"$f":"DATA!J1101","v":0},{"$f":"DATA!K1101","v":0},{"$f":"DATA!L1101","v":0},{"$f":"DATA!M1101","v":0},{"$f":"DATA!N1101","v":0},{"$f":"DATA!O1101","v":0},{"$f":"DATA!P1101","v":0}]
[{"$f":"DATA!C1102","v":0},{"$f":"DATA!D1102","v":0},{"$f":"DATA!E1102","v":0},{"$f":"DATA!H1102","v":0},{"$f":"DATA!I1102","v":0},{"$f":"DATA!J1102","v":0},{"$f":"DATA!K1102","v":0},{"$f":"DATA!L1102","v":0},{"$f":"DATA!M1102","v":0},{"$f":"DATA!N1102","v":0},{"$f":"DATA!O1102","v":0},{"$f":"DATA!P1102","v":0}]
[{"$f":"DATA!C1103","v":0},{"$f":"DATA!D1103","v":0},{"$f":"DATA!E1103","v":0},{"$f":"DATA!H1103","v":0},{"$f":"DATA!I1103","v":0},{"$f":"DATA!J1103","v":0},{"$f":"DATA!K1103","v":0},{"$f":"DATA!L1103","v":0},{"$f":"DATA!M1103","v":0},{"$f":"DATA!N1103","v":0},{"$f":"DATA!O1103","v":0},{"$f":"DATA!P1103","v":0}]
[{"$f":"DATA!C1104","v":0},{"$f":"DATA!D1104","v":0},{"$f":"DATA!E1104","v":0},{"$f":"DATA!H1104","v":0},{"$f":"DATA!I1104","v":0},{"$f":"DATA!J1104","v":0},{"$f":"DATA!K1104","v":0},{"$f":"DATA!L1104","v":0},{"$f":"DATA!M1104","v":0},{"$f":"DATA!N1104","v":0},{"$f":"DATA!O1104","v":0},{"$f":"DATA!P1104","v":0}]
[{"$f":"DATA!C1105","v":0},{"$f":"DATA!D1105","v":0},{"$f":"DATA!E1105","v":0},{"$f":"DATA!H1105","v":0},{"$f":"DATA!I1105","v":0},{"$f":"DATA!J1105","v":0},{"$f":"DATA!K1105","v":0},{"$f":"DATA!L1105","v":0},{"$f":"DATA!M1105","v":0},{"$f":"DATA!N1105","v":0},{"$f":"DATA!O1105","v":0},{"$f":"DATA!P1105","v":0}]
[{"$f":"DATA!C1106","v":0},{"$f":"DATA!D1106","v":0},{"$f":"DATA!E1106","v":0},{"$f":"DATA!H1106","v":0},{"$f":"DATA!I1106","v":0},{"$f":"DATA!J1106","v":0},{"$f":"DATA!K1106","v":0},{"$f":"DATA!L1106","v":0},{"$f":"DATA!M1106","v":0},{"$f":"DATA!N1106","v":0},{"$f":"DATA!O1106","v":0},{"$f":"DATA!P1106","v":0}]
[{"$f":"DATA!C1107","v":0},{"$f":"DATA!D1107","v":0},{"$f":"DATA!E1107","v":0},{"$f":"DATA!H1107","v":0},{"$f":"DATA!I1107","v":0},{"$f":"DATA!J1107","v":0},{"$f":"DATA!K1107","v":0},{"$f":"DATA!L1107","v":0},{"$f":"DATA!M1107","v":0},{"$f":"DATA!N1107","v":0},{"$f":"DATA!O1107","v":0},{"$f":"DATA!P1107","v":0}]
[{"$f":"DATA!C1108","v":0},{"$f":"DATA!D1108","v":0},{"$f":"DATA!E1108","v":0},{"$f":"DATA!H1108","v":0},{"$f":"DATA!I1108","v":0},{"$f":"DATA!J1108","v":0},{"$f":"DATA!K1108","v":0},{"$f":"DATA!L1108","v":0},{"$f":"DATA!M1108","v":0},{"$f":"DATA!N1108","v":0},{"$f":"DATA!O1108","v":0},{"$f":"DATA!P1108","v":0}]
[{"$f":"DATA!C1109","v":0},{"$f":"DATA!D1109","v":0},{"$f":"DATA!E1109","v":0},{"$f":"DATA!H1109","v":0},{"$f":"DATA!I1109","v":0},{"$f":"DATA!J1109","v":0},{"$f":"DATA!K1109","v":0},{"$f":"DATA!L1109","v":0},{"$f":"DATA!M1109","v":0},{"$f":"DATA!N1109","v":0},{"$f":"DATA!O1109","v":0},{"$f":"DATA!P1109","v":0}]
[{"$f":"DATA!C1110","v":0},{"$f":"DATA!D1110","v":0},{"$f":"DATA!E1110","v":0},{"$f":"DATA!H1110","v":0},{"$f":"DATA!I1110","v":0},{"$f":"DATA!J1110","v":0},{"$f":"DATA!K1110","v":0},{"$f":"DATA!L1110","v":0},{"$f":"DATA!M1110","v":0},{"$f":"DATA!N1110","v":0},{"$f":"DATA!O1110","v":0},{"$f":"DATA!P1110","v":0}]
[{"$f":"DATA!C1111","v":0},{"$f":"DATA!D1111","v":0},{"$f":"DATA!E1111","v":0},{"$f":"DATA!H1111","v":0},{"$f":"DATA!I1111","v":0},{"$f":"DATA!J1111","v":0},{"$f":"DATA!K1111","v":0},{"$f":"DATA!L1111","v":0},{"$f":"DATA!M1111","v":0},{"$f":"DATA!N1111","v":0},{"$f":"DATA!O1111","v":0},{"$f":"DATA!P1111","v":0}]
[{"$f":"DATA!C1112","v":0},{"$f":"DATA!D1112","v":0},{"$f":"DATA!E1112","v":0},{"$f":"DATA!H1112","v":0},{"$f":"DATA!I1112","v":0},{"$f":"DATA!J1112","v":0},{"$f":"DATA!K1112","v":0},{"$f":"DATA!L1112","v":0},{"$f":"DATA!M1112","v":0},{"$f":"DATA!N1112","v":0},{"$f":"DATA!O1112","v":0},{"$f":"DATA!P1112","v":0}]
[{"$f":"DATA!C1113","v":0},{"$f":"DATA!D1113","v":0},{"$f":"DATA!E1113","v":0},{"$f":"DATA!H1113","v":0},{"$f":"DATA!I1113","v":0},{"$f":"DATA!J1113","v":0},{"$f":"DATA!K1113","v":0},{"$f":"DATA!L1113","v":0},{"$f":"DATA!M1113","v":0},{"$f":"DATA!N1113","v":0},{"$f":"DATA!O1113","v":0},{"$f":"DATA!P1113","v":0}]
[{"$f":"DATA!C1114","v":0},{"$f":"DATA!D1114","v":0},{"$f":"DATA!E1114","v":0},{"$f":"DATA!H1114","v":0},{"$f":"DATA!I1114","v":0},{"$f":"DATA!J1114","v":0},{"$f":"DATA!K1114","v":0},{"$f":"DATA!L1114","v":0},{"$f":"DATA!M1114","v":0},{"$f":"DATA!N1114","v":0},{"$f":"DATA!O1114","v":0},{"$f":"DATA!P1114","v":0}]
[{"$f":"DATA!C1115","v":0},{"$f":"DATA!D1115","v":0},{"$f":"DATA!E1115","v":0},{"$f":"DATA!H1115","v":0},{"$f":"DATA!I1115","v":0},{"$f":"DATA!J1115","v":0},{"$f":"DATA!K1115","v":0},{"$f":"DATA!L1115","v":0},{"$f":"DATA!M1115","v":0},{"$f":"DATA!N1115","v":0},{"$f":"DATA!O1115","v":0},{"$f":"DATA!P1115","v":0}]
[{"$f":"DATA!C1116","v":0},{"$f":"DATA!D1116","v":0},{"$f":"DATA!E1116","v":0},{"$f":"DATA!H1116","v":0},{"$f":"DATA!I1116","v":0},{"$f":"DATA!J1116","v":0},{"$f":"DATA!K1116","v":0},{"$f":"DATA!L1116","v":0},{"$f":"DATA!M1116","v":0},{"$f":"DATA!N1116","v":0},{"$f":"DATA!O1116","v":0},{"$f":"DATA!P1116","v":0}]
[{"$f":"DATA!C1117","v":0},{"$f":"DATA!D1117","v":0},{"$f":"DATA!E1117","v":0},{"$f":"DATA!H1117","v":0},{"$f":"DATA!I1117","v":0},{"$f":"DATA!J1117","v":0},{"$f":"DATA!K1117","v":0},{"$f":"DATA!L1117","v":0},{"$f":"DATA!M1117","v":0},{"$f":"DATA!N1117","v":0},{"$f":"DATA!O1117","v":0},{"$f":"DATA!P1117","v":0}]
[{"$f":"DATA!C1118","v":0},{"$f":"DATA!D1118","v":0},{"$f":"DATA!E1118","v":0},{"$f":"DATA!H1118","v":0},{"$f":"DATA!I1118","v":0},{"$f":"DATA!J1118","v":0},{"$f":"DATA!K1118","v":0},{"$f":"DATA!L1118","v":0},{"$f":"DATA!M1118","v":0},{"$f":"DATA!N1118","v":0},{"$f":"DATA!O1118","v":0},{"$f":"DATA!P1118","v":0}]
[{"$f":"DATA!C1119","v":0},{"$f":"DATA!D1119","v":0},{"$f":"DATA!E1119","v":0},{"$f":"DATA!H1119","v":0},{"$f":"DATA!I1119","v":0},{"$f":"DATA!J1119","v":0},{"$f":"DATA!K1119","v":0},{"$f":"DATA!L1119","v":0},{"$f":"DATA!M1119","v":0},{"$f":"DATA!N1119","v":0},{"$f":"DATA!O1119","v":0},{"$f":"DATA!P1119","v":0}]
[{"$f":"DATA!C1120","v":0},{"$f":"DATA!D1120","v":0},{"$f":"DATA!E1120","v":0},{"$f":"DATA!H1120","v":0},{"$f":"DATA!I1120","v":0},{"$f":"DATA!J1120","v":0},{"$f":"DATA!K1120","v":0},{"$f":"DATA!L1120","v":0},{"$f":"DATA!M1120","v":0},{"$f":"DATA!N1120","v":0},{"$f":"DATA!O1120","v":0},{"$f":"DATA!P1120","v":0}]
[{"$f":"DATA!C1121","v":0},{"$f":"DATA!D1121","v":0},{"$f":"DATA!E1121","v":0},{"$f":"DATA!H1121","v":0},{"$f":"DATA!I1121","v":0},{"$f":"DATA!J1121","v":0},{"$f":"DATA!K1121","v":0},{"$f":"DATA!L1121","v":0},{"$f":"DATA!M1121","v":0},{"$f":"DATA!N1121","v":0},{"$f":"DATA!O1121","v":0},{"$f":"DATA!P1121","v":0}]
[{"$f":"DATA!C1122","v":0},{"$f":"DATA!D1122","v":0},{"$f":"DATA!E1122","v":0},{"$f":"DATA!H1122","v":0},{"$f":"DATA!I1122","v":0},{"$f":"DATA!J1122","v":0},{"$f":"DATA!K1122","v":0},{"$f":"DATA!L1122","v":0},{"$f":"DATA!M1122","v":0},{"$f":"DATA!N1122","v":0},{"$f":"DATA!O1122","v":0},{"$f":"DATA!P1122","v":0}]
[{"$f":"DATA!C1123","v":0},{"$f":"DATA!D1123","v":0},{"$f":"DATA!E1123","v":0},{"$f":"DATA!H1123","v":0},{"$f":"DATA!I1123","v":0},{"$f":"DATA!J1123","v":0},{"$f":"DATA!K1123","v":0},{"$f":"DATA!L1123","v":0},{"$f":"DATA!M1123","v":0},{"$f":"DATA!N1123","v":0},{"$f":"DATA!O1123","v":0},{"$f":"DATA!P1123","v":0}]
[{"$f":"DATA!C1124","v":0},{"$f":"DATA!D1124","v":0},{"$f":"DATA!E1124","v":0},{"$f":"DATA!H1124","v":0},{"$f":"DATA!I1124","v":0},{"$f":"DATA!J1124","v":0},{"$f":"DATA!K1124","v":0},{"$f":"DATA!L1124","v":0},{"$f":"DATA!M1124","v":0},{"$f":"DATA!N1124","v":0},{"$f":"DATA!O1124","v":0},{"$f":"DATA!P1124","v":0}]
[{"$f":"DATA!C1125","v":0},{"$f":"DATA!D1125","v":0},{"$f":"DATA!E1125","v":0},{"$f":"DATA!H1125","v":0},{"$f":"DATA!I1125","v":0},{"$f":"DATA!J1125","v":0},{"$f":"DATA!K1125","v":0},{"$f":"DATA!L1125","v":0},{"$f":"DATA!M1125","v":0},{"$f":"DATA!N1125","v":0},{"$f":"DATA!O1125","v":0},{"$f":"DATA!P1125","v":0}]
[{"$f":"DATA!C1126","v":0},{"$f":"DATA!D1126","v":0},{"$f":"DATA!E1126","v":0},{"$f":"DATA!H1126","v":0},{"$f":"DATA!I1126","v":0},{"$f":"DATA!J1126","v":0},{"$f":"DATA!K1126","v":0},{"$f":"DATA!L1126","v":0},{"$f":"DATA!M1126","v":0},{"$f":"DATA!N1126","v":0},{"$f":"DATA!O1126","v":0},{"$f":"DATA!P1126","v":0}]
[{"$f":"DATA!C1127","v":0},{"$f":"DATA!D1127","v":0},{"$f":"DATA!E1127","v":0},{"$f":"DATA!H1127","v":0},{"$f":"DATA!I1127","v":0},{"$f":"DATA!J1127","v":0},{"$f":"DATA!K1127","v":0},{"$f":"DATA!L1127","v":0},{"$f":"DATA!M1127","v":0},{"$f":"DATA!N1127","v":0},{"$f":"DATA!O1127","v":0},{"$f":"DATA!P1127","v":0}]
[{"$f":"DATA!C1128","v":0},{"$f":"DATA!D1128","v":0},{"$f":"DATA!E1128","v":0},{"$f":"DATA!H1128","v":0},{"$f":"DATA!I1128","v":0},{"$f":"DATA!J1128","v":0},{"$f":"DATA!K1128","v":0},{"$f":"DATA!L1128","v":0},{"$f":"DATA!M1128","v":0},{"$f":"DATA!N1128","v":0},{"$f":"DATA!O1128","v":0},{"$f":"DATA!P1128","v":0}]
[{"$f":"DATA!C1129","v":0},{"$f":"DATA!D1129","v":0},{"$f":"DATA!E1129","v":0},{"$f":"DATA!H1129","v":0},{"$f":"DATA!I1129","v":0},{"$f":"DATA!J1129","v":0},{"$f":"DATA!K1129","v":0},{"$f":"DATA!L1129","v":0},{"$f":"DATA!M1129","v":0},{"$f":"DATA!N1129","v":0},{"$f":"DATA!O1129","v":0},{"$f":"DATA!P1129","v":0}]
[{"$f":"DATA!C1130","v":0},{"$f":"DATA!D1130","v":0},{"$f":"DATA!E1130","v":0},{"$f":"DATA!H1130","v":0},{"$f":"DATA!I1130","v":0},{"$f":"DATA!J1130","v":0},{"$f":"DATA!K1130","v":0},{"$f":"DATA!L1130","v":0},{"$f":"DATA!M1130","v":0},{"$f":"DATA!N1130","v":0},{"$f":"DATA!O1130","v":0},{"$f":"DATA!P1130","v":0}]
[{"$f":"DATA!C1131","v":0},{"$f":"DATA!D1131","v":0},{"$f":"DATA!E1131","v":0},{"$f":"DATA!H1131","v":0},{"$f":"DATA!I1131","v":0},{"$f":"DATA!J1131","v":0},{"$f":"DATA!K1131","v":0},{"$f":"DATA!L1131","v":0},{"$f":"DATA!M1131","v":0},{"$f":"DATA!N1131","v":0},{"$f":"DATA!O1131","v":0},{"$f":"DATA!P1131","v":0}]
[{"$f":"DATA!C1132","v":0},{"$f":"DATA!D1132","v":0},{"$f":"DATA!E1132","v":0},{"$f":"DATA!H1132","v":0},{"$f":"DATA!I1132","v":0},{"$f":"DATA!J1132","v":0},{"$f":"DATA!K1132","v":0},{"$f":"DATA!L1132","v":0},{"$f":"DATA!M1132","v":0},{"$f":"DATA!N1132","v":0},{"$f":"DATA!O1132","v":0},{"$f":"DATA!P1132","v":0}]
[{"$f":"DATA!C1133","v":0},{"$f":"DATA!D1133","v":0},{"$f":"DATA!E1133","v":0},{"$f":"DATA!H1133","v":0},{"$f":"DATA!I1133","v":0},{"$f":"DATA!J1133","v":0},{"$f":"DATA!K1133","v":0},{"$f":"DATA!L1133","v":0},{"$f":"DATA!M1133","v":0},{"$f":"DATA!N1133","v":0},{"$f":"DATA!O1133","v":0},{"$f":"DATA!P1133","v":0}]
[{"$f":"DATA!C1134","v":0},{"$f":"DATA!D1134","v":0},{"$f":"DATA!E1134","v":0},{"$f":"DATA!H1134","v":0},{"$f":"DATA!I1134","v":0},{"$f":"DATA!J1134","v":0},{"$f":"DATA!K1134","v":0},{"$f":"DATA!L1134","v":0},{"$f":"DATA!M1134","v":0},{"$f":"DATA!N1134","v":0},{"$f":"DATA!O1134","v":0},{"$f":"DATA!P1134","v":0}]
[{"$f":"DATA!C1135","v":0},{"$f":"DATA!D1135","v":0},{"$f":"DATA!E1135","v":0},{"$f":"DATA!H1135","v":0},{"$f":"DATA!I1135","v":0},{"$f":"DATA!J1135","v":0},{"$f":"DATA!K1135","v":0},{"$f":"DATA!L1135","v":0},{"$f":"DATA!M1135","v":0},{"$f":"DATA!N1135","v":0},{"$f":"DATA!O1135","v":0},{"$f":"DATA!P1135","v":0}]
[{"$f":"DATA!C1136","v":0},{"$f":"DATA!D1136","v":0},{"$f":"DATA!E1136","v":0},{"$f":"DATA!H1136","v":0},{"$f":"DATA!I1136","v":0},{"$f":"DATA!J1136","v":0},{"$f":"DATA!K1136","v":0},{"$f":"DATA!L1136","v":0},{"$f":"DATA!M1136","v":0},{"$f":"DATA!N1136","v":0},{"$f":"DATA!O1136","v":0},{"$f":"DATA!P1136","v":0}]
[{"$f":"DATA!C1137","v":0},{"$f":"DATA!D1137","v":0},{"$f":"DATA!E1137","v":0},{"$f":"DATA!H1137","v":0},{"$f":"DATA!I1137","v":0},{"$f":"DATA!J1137","v":0},{"$f":"DATA!K1137","v":0},{"$f":"DATA!L1137","v":0},{"$f":"DATA!M1137","v":0},{"$f":"DATA!N1137","v":0},{"$f":"DATA!O1137","v":0},{"$f":"DATA!P1137","v":0}]
[{"$f":"DATA!C1138","v":0},{"$f":"DATA!D1138","v":0},{"$f":"DATA!E1138","v":0},{"$f":"DATA!H1138","v":0},{"$f":"DATA!I1138","v":0},{"$f":"DATA!J1138","v":0},{"$f":"DATA!K1138","v":0},{"$f":"DATA!L1138","v":0},{"$f":"DATA!M1138","v":0},{"$f":"DATA!N1138","v":0},{"$f":"DATA!O1138","v":0},{"$f":"DATA!P1138","v":0}]
[{"$f":"DATA!C1139","v":0},{"$f":"DATA!D1139","v":0},{"$f":"DATA!E1139","v":0},{"$f":"DATA!H1139","v":0},{"$f":"DATA!I1139","v":0},{"$f":"DATA!J1139","v":0},{"$f":"DATA!K1139","v":0},{"$f":"DATA!L1139","v":0},{"$f":"DATA!M1139","v":0},{"$f":"DATA!N1139","v":0},{"$f":"DATA!O1139","v":0},{"$f":"DATA!P1139","v":0}]
[{"$f":"DATA!C1140","v":0},{"$f":"DATA!D1140","v":0},{"$f":"DATA!E1140","v":0},{"$f":"DATA!H1140","v":0},{"$f":"DATA!I1140","v":0},{"$f":"DATA!J1140","v":0},{"$f":"DATA!K1140","v":0},{"$f":"DATA!L1140","v":0},{"$f":"DATA!M1140","v":0},{"$f":"DATA!N1140","v":0},{"$f":"DATA!O1140","v":0},{"$f":"DATA!P1140","v":0}]
[{"$f":"DATA!C1141","v":0},{"$f":"DATA!D1141","v":0},{"$f":"DATA!E1141","v":0},{"$f":"DATA!H1141","v":0},{"$f":"DATA!I1141","v":0},{"$f":"DATA!J1141","v":0},{"$f":"DATA!K1141","v":0},{"$f":"DATA!L1141","v":0},{"$f":"DATA!M1141","v":0},{"$f":"DATA!N1141","v":0},{"$f":"DATA!O1141","v":0},{"$f":"DATA!P1141","v":0}]
[{"$f":"DATA!C1142","v":0},{"$f":"DATA!D1142","v":0},{"$f":"DATA!E1142","v":0},{"$f":"DATA!H1142","v":0},{"$f":"DATA!I1142","v":0},{"$f":"DATA!J1142","v":0},{"$f":"DATA!K1142","v":0},{"$f":"DATA!L1142","v":0},{"$f":"DATA!M1142","v":0},{"$f":"DATA!N1142","v":0},{"$f":"DATA!O1142","v":0},{"$f":"DATA!P1142","v":0}]
[{"$f":"DATA!C1143","v":0},{"$f":"DATA!D1143","v":0},{"$f":"DATA!E1143","v":0},{"$f":"DATA!H1143","v":0},{"$f":"DATA!I1143","v":0},{"$f":"DATA!J1143","v":0},{"$f":"DATA!K1143","v":0},{"$f":"DATA!L1143","v":0},{"$f":"DATA!M1143","v":0},{"$f":"DATA!N1143","v":0},{"$f":"DATA!O1143","v":0},{"$f":"DATA!P1143","v":0}]
[{"$f":"DATA!C1144","v":0},{"$f":"DATA!D1144","v":0},{"$f":"DATA!E1144","v":0},{"$f":"DATA!H1144","v":0},{"$f":"DATA!I1144","v":0},{"$f":"DATA!J1144","v":0},{"$f":"DATA!K1144","v":0},{"$f":"DATA!L1144","v":0},{"$f":"DATA!M1144","v":0},{"$f":"DATA!N1144","v":0},{"$f":"DATA!O1144","v":0},{"$f":"DATA!P1144","v":0}]
[{"$f":"DATA!C1145","v":0},{"$f":"DATA!D1145","v":0},{"$f":"DATA!E1145","v":0},{"$f":"DATA!H1145","v":0},{"$f":"DATA!I1145","v":0},{"$f":"DATA!J1145","v":0},{"$f":"DATA!K1145","v":0},{"$f":"DATA!L1145","v":0},{"$f":"DATA!M1145","v":0},{"$f":"DATA!N1145","v":0},{"$f":"DATA!O1145","v":0},{"$f":"DATA!P1145","v":0}]
[{"$f":"DATA!C1146","v":0},{"$f":"DATA!D1146","v":0},{"$f":"DATA!E1146","v":0},{"$f":"DATA!H1146","v":0},{"$f":"DATA!I1146","v":0},{"$f":"DATA!J1146","v":0},{"$f":"DATA!K1146","v":0},{"$f":"DATA!L1146","v":0},{"$f":"DATA!M1146","v":0},{"$f":"DATA!N1146","v":0},{"$f":"DATA!O1146","v":0},{"$f":"DATA!P1146","v":0}]
[{"$f":"DATA!C1147","v":0},{"$f":"DATA!D1147","v":0},{"$f":"DATA!E1147","v":0},{"$f":"DATA!H1147","v":0},{"$f":"DATA!I1147","v":0},{"$f":"DATA!J1147","v":0},{"$f":"DATA!K1147","v":0},{"$f":"DATA!L1147","v":0},{"$f":"DATA!M1147","v":0},{"$f":"DATA!N1147","v":0},{"$f":"DATA!O1147","v":0},{"$f":"DATA!P1147","v":0}]
[{"$f":"DATA!C1148","v":0},{"$f":"DATA!D1148","v":0},{"$f":"DATA!E1148","v":0},{"$f":"DATA!H1148","v":0},{"$f":"DATA!I1148","v":0},{"$f":"DATA!J1148","v":0},{"$f":"DATA!K1148","v":0},{"$f":"DATA!L1148","v":0},{"$f":"DATA!M1148","v":0},{"$f":"DATA!N1148","v":0},{"$f":"DATA!O1148","v":0},{"$f":"DATA!P1148","v":0}]
[{"$f":"DATA!C1149","v":0},{"$f":"DATA!D1149","v":0},{"$f":"DATA!E1149","v":0},{"$f":"DATA!H1149","v":0},{"$f":"DATA!I1149","v":0},{"$f":"DATA!J1149","v":0},{"$f":"DATA!K1149","v":0},{"$f":"DATA!L1149","v":0},{"$f":"DATA!M1149","v":0},{"$f":"DATA!N1149","v":0},{"$f":"DATA!O1149","v":0},{"$f":"DATA!P1149","v":0}]
[{"$f":"DATA!C1150","v":0},{"$f":"DATA!D1150","v":0},{"$f":"DATA!E1150","v":0},{"$f":"DATA!H1150","v":0},{"$f":"DATA!I1150","v":0},{"$f":"DATA!J1150","v":0},{"$f":"DATA!K1150","v":0},{"$f":"DATA!L1150","v":0},{"$f":"DATA!M1150","v":0},{"$f":"DATA!N1150","v":0},{"$f":"DATA!O1150","v":0},{"$f":"DATA!P1150","v":0}]
[{"$f":"DATA!C1151","v":0},{"$f":"DATA!D1151","v":0},{"$f":"DATA!E1151","v":0},{"$f":"DATA!H1151","v":0},{"$f":"DATA!I1151","v":0},{"$f":"DATA!J1151","v":0},{"$f":"DATA!K1151","v":0},{"$f":"DATA!L1151","v":0},{"$f":"DATA!M1151","v":0},{"$f":"DATA!N1151","v":0},{"$f":"DATA!O1151","v":0},{"$f":"DATA!P1151","v":0}]
[{"$f":"DATA!C1152","v":0},{"$f":"DATA!D1152","v":0},{"$f":"DATA!E1152","v":0},{"$f":"DATA!H1152","v":0},{"$f":"DATA!I1152","v":0},{"$f":"DATA!J1152","v":0},{"$f":"DATA!K1152","v":0},{"$f":"DATA!L1152","v":0},{"$f":"DATA!M1152","v":0},{"$f":"DATA!N1152","v":0},{"$f":"DATA!O1152","v":0},{"$f":"DATA!P1152","v":0}]
[{"$f":"DATA!C1153","v":0},{"$f":"DATA!D1153","v":0},{"$f":"DATA!E1153","v":0},{"$f":"DATA!H1153","v":0},{"$f":"DATA!I1153","v":0},{"$f":"DATA!J1153","v":0},{"$f":"DATA!K1153","v":0},{"$f":"DATA!L1153","v":0},{"$f":"DATA!M1153","v":0},{"$f":"DATA!N1153","v":0},{"$f":"DATA!O1153","v":0},{"$f":"DATA!P1153","v":0}]
[{"$f":"DATA!C1154","v":0},{"$f":"DATA!D1154","v":0},{"$f":"DATA!E1154","v":0},{"$f":"DATA!H1154","v":0},{"$f":"DATA!I1154","v":0},{"$f":"DATA!J1154","v":0},{"$f":"DATA!K1154","v":0},{"$f":"DATA!L1154","v":0},{"$f":"DATA!M1154","v":0},{"$f":"DATA!N1154","v":0},{"$f":"DATA!O1154","v":0},{"$f":"DATA!P1154","v":0}]
[{"$f":"DATA!C1155","v":0},{"$f":"DATA!D1155","v":0},{"$f":"DATA!E1155","v":0},{"$f":"DATA!H1155","v":0},{"$f":"DATA!I1155","v":0},{"$f":"DATA!J1155","v":0},{"$f":"DATA!K1155","v":0},{"$f":"DATA!L1155","v":0},{"$f":"DATA!M1155","v":0},{"$f":"DATA!N1155","v":0},{"$f":"DATA!O1155","v":0},{"$f":"DATA!P1155","v":0}]
[{"$f":"DATA!C1156","v":0},{"$f":"DATA!D1156","v":0},{"$f":"DATA!E1156","v":0},{"$f":"DATA!H1156","v":0},{"$f":"DATA!I1156","v":0},{"$f":"DATA!J1156","v":0},{"$f":"DATA!K1156","v":0},{"$f":"DATA!L1156","v":0},{"$f":"DATA!M1156","v":0},{"$f":"DATA!N1156","v":0},{"$f":"DATA!O1156","v":0},{"$f":"DATA!P1156","v":0}]
[{"$f":"DATA!C1157","v":0},{"$f":"DATA!D1157","v":0},{"$f":"DATA!E1157","v":0},{"$f":"DATA!H1157","v":0},{"$f":"DATA!I1157","v":0},{"$f":"DATA!J1157","v":0},{"$f":"DATA!K1157","v":0},{"$f":"DATA!L1157","v":0},{"$f":"DATA!M1157","v":0},{"$f":"DATA!N1157","v":0},{"$f":"DATA!O1157","v":0},{"$f":"DATA!P1157","v":0}]
[{"$f":"DATA!C1158","v":0},{"$f":"DATA!D1158","v":0},{"$f":"DATA!E1158","v":0},{"$f":"DATA!H1158","v":0},{"$f":"DATA!I1158","v":0},{"$f":"DATA!J1158","v":0},{"$f":"DATA!K1158","v":0},{"$f":"DATA!L1158","v":0},{"$f":"DATA!M1158","v":0},{"$f":"DATA!N1158","v":0},{"$f":"DATA!O1158","v":0},{"$f":"DATA!P1158","v":0}]
[{"$f":"DATA!C1159","v":0},{"$f":"DATA!D1159","v":0},{"$f":"DATA!E1159","v":0},{"$f":"DATA!H1159","v":0},{"$f":"DATA!I1159","v":0},{"$f":"DATA!J1159","v":0},{"$f":"DATA!K1159","v":0},{"$f":"DATA!L1159","v":0},{"$f":"DATA!M1159","v":0},{"$f":"DATA!N1159","v":0},{"$f":"DATA!O1159","v":0},{"$f":"DATA!P1159","v":0}]
[{"$f":"DATA!C1160","v":0},{"$f":"DATA!D1160","v":0},{"$f":"DATA!E1160","v":0},{"$f":"DATA!H1160","v":0},{"$f":"DATA!I1160","v":0},{"$f":"DATA!J1160","v":0},{"$f":"DATA!K1160","v":0},{"$f":"DATA!L1160","v":0},{"$f":"DATA!M1160","v":0},{"$f":"DATA!N1160","v":0},{"$f":"DATA!O1160","v":0},{"$f":"DATA!P1160","v":0}]
[{"$f":"DATA!C1161","v":0},{"$f":"DATA!D1161","v":0},{"$f":"DATA!E1161","v":0},{"$f":"DATA!H1161","v":0},{"$f":"DATA!I1161","v":0},{"$f":"DATA!J1161","v":0},{"$f":"DATA!K1161","v":0},{"$f":"DATA!L1161","v":0},{"$f":"DATA!M1161","v":0},{"$f":"DATA!N1161","v":0},{"$f":"DATA!O1161","v":0},{"$f":"DATA!P1161","v":0}]
[{"$f":"DATA!C1162","v":0},{"$f":"DATA!D1162","v":0},{"$f":"DATA!E1162","v":0},{"$f":"DATA!H1162","v":0},{"$f":"DATA!I1162","v":0},{"$f":"DATA!J1162","v":0},{"$f":"DATA!K1162","v":0},{"$f":"DATA!L1162","v":0},{"$f":"DATA!M1162","v":0},{"$f":"DATA!N1162","v":0},{"$f":"DATA!O1162","v":0},{"$f":"DATA!P1162","v":0}]
[{"$f":"DATA!C1163","v":0},{"$f":"DATA!D1163","v":0},{"$f":"DATA!E1163","v":0},{"$f":"DATA!H1163","v":0},{"$f":"DATA!I1163","v":0},{"$f":"DATA!J1163","v":0},{"$f":"DATA!K1163","v":0},{"$f":"DATA!L1163","v":0},{"$f":"DATA!M1163","v":0},{"$f":"DATA!N1163","v":0},{"$f":"DATA!O1163","v":0},{"$f":"DATA!P1163","v":0}]
[{"$f":"DATA!C1164","v":0},{"$f":"DATA!D1164","v":0},{"$f":"DATA!E1164","v":0},{"$f":"DATA!H1164","v":0},{"$f":"DATA!I1164","v":0},{"$f":"DATA!J1164","v":0},{"$f":"DATA!K1164","v":0},{"$f":"DATA!L1164","v":0},{"$f":"DATA!M1164","v":0},{"$f":"DATA!N1164","v":0},{"$f":"DATA!O1164","v":0},{"$f":"DATA!P1164","v":0}]
[{"$f":"DATA!C1165","v":0},{"$f":"DATA!D1165","v":0},{"$f":"DATA!E1165","v":0},{"$f":"DATA!H1165","v":0},{"$f":"DATA!I1165","v":0},{"$f":"DATA!J1165","v":0},{"$f":"DATA!K1165","v":0},{"$f":"DATA!L1165","v":0},{"$f":"DATA!M1165","v":0},{"$f":"DATA!N1165","v":0},{"$f":"DATA!O1165","v":0},{"$f":"DATA!P1165","v":0}]
[{"$f":"DATA!C1166","v":0},{"$f":"DATA!D1166","v":0},{"$f":"DATA!E1166","v":0},{"$f":"DATA!H1166","v":0},{"$f":"DATA!I1166","v":0},{"$f":"DATA!J1166","v":0},{"$f":"DATA!K1166","v":0},{"$f":"DATA!L1166","v":0},{"$f":"DATA!M1166","v":0},{"$f":"DATA!N1166","v":0},{"$f":"DATA!O1166","v":0},{"$f":"DATA!P1166","v":0}]
[{"$f":"DATA!C1167","v":0},{"$f":"DATA!D1167","v":0},{"$f":"DATA!E1167","v":0},{"$f":"DATA!H1167","v":0},{"$f":"DATA!I1167","v":0},{"$f":"DATA!J1167","v":0},{"$f":"DATA!K1167","v":0},{"$f":"DATA!L1167","v":0},{"$f":"DATA!M1167","v":0},{"$f":"DATA!N1167","v":0},{"$f":"DATA!O1167","v":0},{"$f":"DATA!P1167","v":0}]
[{"$f":"DATA!C1168","v":0},{"$f":"DATA!D1168","v":0},{"$f":"DATA!E1168","v":0},{"$f":"DATA!H1168","v":0},{"$f":"DATA!I1168","v":0},{"$f":"DATA!J1168","v":0},{"$f":"DATA!K1168","v":0},{"$f":"DATA!L1168","v":0},{"$f":"DATA!M1168","v":0},{"$f":"DATA!N1168","v":0},{"$f":"DATA!O1168","v":0},{"$f":"DATA!P1168","v":0}]
[{"$f":"DATA!C1169","v":0},{"$f":"DATA!D1169","v":0},{"$f":"DATA!E1169","v":0},{"$f":"DATA!H1169","v":0},{"$f":"DATA!I1169","v":0},{"$f":"DATA!J1169","v":0},{"$f":"DATA!K1169","v":0},{"$f":"DATA!L1169","v":0},{"$f":"DATA!M1169","v":0},{"$f":"DATA!N1169","v":0},{"$f":"DATA!O1169","v":0},{"$f":"DATA!P1169","v":0}]
[{"$f":"DATA!C1170","v":0},{"$f":"DATA!D1170","v":0},{"$f":"DATA!E1170","v":0},{"$f":"DATA!H1170","v":0},{"$f":"DATA!I1170","v":0},{"$f":"DATA!J1170","v":0},{"$f":"DATA!K1170","v":0},{"$f":"DATA!L1170","v":0},{"$f":"DATA!M1170","v":0},{"$f":"DATA!N1170","v":0},{"$f":"DATA!O1170","v":0},{"$f":"DATA!P1170","v":0}]
[{"$f":"DATA!C1171","v":0},{"$f":"DATA!D1171","v":0},{"$f":"DATA!E1171","v":0},{"$f":"DATA!H1171","v":0},{"$f":"DATA!I1171","v":0},{"$f":"DATA!J1171","v":0},{"$f":"DATA!K1171","v":0},{"$f":"DATA!L1171","v":0},{"$f":"DATA!M1171","v":0},{"$f":"DATA!N1171","v":0},{"$f":"DATA!O1171","v":0},{"$f":"DATA!P1171","v":0}]
[{"$f":"DATA!C1172","v":0},{"$f":"DATA!D1172","v":0},{"$f":"DATA!E1172","v":0},{"$f":"DATA!H1172","v":0},{"$f":"DATA!I1172","v":0},{"$f":"DATA!J1172","v":0},{"$f":"DATA!K1172","v":0},{"$f":"DATA!L1172","v":0},{"$f":"DATA!M1172","v":0},{"$f":"DATA!N1172","v":0},{"$f":"DATA!O1172","v":0},{"$f":"DATA!P1172","v":0}]
[{"$f":"DATA!C1173","v":0},{"$f":"DATA!D1173","v":0},{"$f":"DATA!E1173","v":0},{"$f":"DATA!H1173","v":0},{"$f":"DATA!I1173","v":0},{"$f":"DATA!J1173","v":0},{"$f":"DATA!K1173","v":0},{"$f":"DATA!L1173","v":0},{"$f":"DATA!M1173","v":0},{"$f":"DATA!N1173","v":0},{"$f":"DATA!O1173","v":0},{"$f":"DATA!P1173","v":0}]
[{"$f":"DATA!C1174","v":0},{"$f":"DATA!D1174","v":0},{"$f":"DATA!E1174","v":0},{"$f":"DATA!H1174","v":0},{"$f":"DATA!I1174","v":0},{"$f":"DATA!J1174","v":0},{"$f":"DATA!K1174","v":0},{"$f":"DATA!L1174","v":0},{"$f":"DATA!M1174","v":0},{"$f":"DATA!N1174","v":0},{"$f":"DATA!O1174","v":0},{"$f":"DATA!P1174","v":0}]
[{"$f":"DATA!C1175","v":0},{"$f":"DATA!D1175","v":0},{"$f":"DATA!E1175","v":0},{"$f":"DATA!H1175","v":0},{"$f":"DATA!I1175","v":0},{"$f":"DATA!J1175","v":0},{"$f":"DATA!K1175","v":0},{"$f":"DATA!L1175","v":0},{"$f":"DATA!M1175","v":0},{"$f":"DATA!N1175","v":0},{"$f":"DATA!O1175","v":0},{"$f":"DATA!P1175","v":0}]
[{"$f":"DATA!C1176","v":0},{"$f":"DATA!D1176","v":0},{"$f":"DATA!E1176","v":0},{"$f":"DATA!H1176","v":0},{"$f":"DATA!I1176","v":0},{"$f":"DATA!J1176","v":0},{"$f":"DATA!K1176","v":0},{"$f":"DATA!L1176","v":0},{"$f":"DATA!M1176","v":0},{"$f":"DATA!N1176","v":0},{"$f":"DATA!O1176","v":0},{"$f":"DATA!P1176","v":0}]
[{"$f":"DATA!C1177","v":0},{"$f":"DATA!D1177","v":0},{"$f":"DATA!E1177","v":0},{"$f":"DATA!H1177","v":0},{"$f":"DATA!I1177","v":0},{"$f":"DATA!J1177","v":0},{"$f":"DATA!K1177","v":0},{"$f":"DATA!L1177","v":0},{"$f":"DATA!M1177","v":0},{"$f":"DATA!N1177","v":0},{"$f":"DATA!O1177","v":0},{"$f":"DATA!P1177","v":0}]
[{"$f":"DATA!C1178","v":0},{"$f":"DATA!D1178","v":0},{"$f":"DATA!E1178","v":0},{"$f":"DATA!H1178","v":0},{"$f":"DATA!I1178","v":0},{"$f":"DATA!J1178","v":0},{"$f":"DATA!K1178","v":0},{"$f":"DATA!L1178","v":0},{"$f":"DATA!M1178","v":0},{"$f":"DATA!N1178","v":0},{"$f":"DATA!O1178","v":0},{"$f":"DATA!P1178","v":0}]
[{"$f":"DATA!C1179","v":0},{"$f":"DATA!D1179","v":0},{"$f":"DATA!E1179","v":0},{"$f":"DATA!H1179","v":0},{"$f":"DATA!I1179","v":0},{"$f":"DATA!J1179","v":0},{"$f":"DATA!K1179","v":0},{"$f":"DATA!L1179","v":0},{"$f":"DATA!M1179","v":0},{"$f":"DATA!N1179","v":0},{"$f":"DATA!O1179","v":0},{"$f":"DATA!P1179","v":0}]
[{"$f":"DATA!C1180","v":0},{"$f":"DATA!D1180","v":0},{"$f":"DATA!E1180","v":0},{"$f":"DATA!H1180","v":0},{"$f":"DATA!I1180","v":0},{"$f":"DATA!J1180","v":0},{"$f":"DATA!K1180","v":0},{"$f":"DATA!L1180","v":0},{"$f":"DATA!M1180","v":0},{"$f":"DATA!N1180","v":0},{"$f":"DATA!O1180","v":0},{"$f":"DATA!P1180","v":0}]
[{"$f":"DATA!C1181","v":0},{"$f":"DATA!D1181","v":0},{"$f":"DATA!E1181","v":0},{"$f":"DATA!H1181","v":0},{"$f":"DATA!I1181","v":0},{"$f":"DATA!J1181","v":0},{"$f":"DATA!K1181","v":0},{"$f":"DATA!L1181","v":0},{"$f":"DATA!M1181","v":0},{"$f":"DATA!N1181","v":0},{"$f":"DATA!O1181","v":0},{"$f":"DATA!P1181","v":0}]
[{"$f":"DATA!C1182","v":0},{"$f":"DATA!D1182","v":0},{"$f":"DATA!E1182","v":0},{"$f":"DATA!H1182","v":0},{"$f":"DATA!I1182","v":0},{"$f":"DATA!J1182","v":0},{"$f":"DATA!K1182","v":0},{"$f":"DATA!L1182","v":0},{"$f":"DATA!M1182","v":0},{"$f":"DATA!N1182","v":0},{"$f":"DATA!O1182","v":0},{"$f":"DATA!P1182","v":0}]
[{"$f":"DATA!C1183","v":0},{"$f":"DATA!D1183","v":0},{"$f":"DATA!E1183","v":0},{"$f":"DATA!H1183","v":0},{"$f":"DATA!I1183","v":0},{"$f":"DATA!J1183","v":0},{"$f":"DATA!K1183","v":0},{"$f":"DATA!L1183","v":0},{"$f":"DATA!M1183","v":0},{"$f":"DATA!N1183","v":0},{"$f":"DATA!O1183","v":0},{"$f":"DATA!P1183","v":0}]
[{"$f":"DATA!C1184","v":0},{"$f":"DATA!D1184","v":0},{"$f":"DATA!E1184","v":0},{"$f":"DATA!H1184","v":0},{"$f":"DATA!I1184","v":0},{"$f":"DATA!J1184","v":0},{"$f":"DATA!K1184","v":0},{"$f":"DATA!L1184","v":0},{"$f":"DATA!M1184","v":0},{"$f":"DATA!N1184","v":0},{"$f":"DATA!O1184","v":0},{"$f":"DATA!P1184","v":0}]
[{"$f":"DATA!C1185","v":0},{"$f":"DATA!D1185","v":0},{"$f":"DATA!E1185","v":0},{"$f":"DATA!H1185","v":0},{"$f":"DATA!I1185","v":0},{"$f":"DATA!J1185","v":0},{"$f":"DATA!K1185","v":0},{"$f":"DATA!L1185","v":0},{"$f":"DATA!M1185","v":0},{"$f":"DATA!N1185","v":0},{"$f":"DATA!O1185","v":0},{"$f":"DATA!P1185","v":0}]
[{"$f":"DATA!C1186","v":0},{"$f":"DATA!D1186","v":0},{"$f":"DATA!E1186","v":0},{"$f":"DATA!H1186","v":0},{"$f":"DATA!I1186","v":0},{"$f":"DATA!J1186","v":0},{"$f":"DATA!K1186","v":0},{"$f":"DATA!L1186","v":0},{"$f":"DATA!M1186","v":0},{"$f":"DATA!N1186","v":0},{"$f":"DATA!O1186","v":0},{"$f":"DATA!P1186","v":0}]
[{"$f":"DATA!C1187","v":0},{"$f":"DATA!D1187","v":0},{"$f":"DATA!E1187","v":0},{"$f":"DATA!H1187","v":0},{"$f":"DATA!I1187","v":0},{"$f":"DATA!J1187","v":0},{"$f":"DATA!K1187","v":0},{"$f":"DATA!L1187","v":0},{"$f":"DATA!M1187","v":0},{"$f":"DATA!N1187","v":0},{"$f":"DATA!O1187","v":0},{"$f":"DATA!P1187","v":0}]
[{"$f":"DATA!C1188","v":0},{"$f":"DATA!D1188","v":0},{"$f":"DATA!E1188","v":0},{"$f":"DATA!H1188","v":0},{"$f":"DATA!I1188","v":0},{"$f":"DATA!J1188","v":0},{"$f":"DATA!K1188","v":0},{"$f":"DATA!L1188","v":0},{"$f":"DATA!M1188","v":0},{"$f":"DATA!N1188","v":0},{"$f":"DATA!O1188","v":0},{"$f":"DATA!P1188","v":0}]
[{"$f":"DATA!C1189","v":0},{"$f":"DATA!D1189","v":0},{"$f":"DATA!E1189","v":0},{"$f":"DATA!H1189","v":0},{"$f":"DATA!I1189","v":0},{"$f":"DATA!J1189","v":0},{"$f":"DATA!K1189","v":0},{"$f":"DATA!L1189","v":0},{"$f":"DATA!M1189","v":0},{"$f":"DATA!N1189","v":0},{"$f":"DATA!O1189","v":0},{"$f":"DATA!P1189","v":0}]
[{"$f":"DATA!C1190","v":0},{"$f":"DATA!D1190","v":0},{"$f":"DATA!E1190","v":0},{"$f":"DATA!H1190","v":0},{"$f":"DATA!I1190","v":0},{"$f":"DATA!J1190","v":0},{"$f":"DATA!K1190","v":0},{"$f":"DATA!L1190","v":0},{"$f":"DATA!M1190","v":0},{"$f":"DATA!N1190","v":0},{"$f":"DATA!O1190","v":0},{"$f":"DATA!P1190","v":0}]
[{"$f":"DATA!C1191","v":0},{"$f":"DATA!D1191","v":0},{"$f":"DATA!E1191","v":0},{"$f":"DATA!H1191","v":0},{"$f":"DATA!I1191","v":0},{"$f":"DATA!J1191","v":0},{"$f":"DATA!K1191","v":0},{"$f":"DATA!L1191","v":0},{"$f":"DATA!M1191","v":0},{"$f":"DATA!N1191","v":0},{"$f":"DATA!O1191","v":0},{"$f":"DATA!P1191","v":0}]
[{"$f":"DATA!C1192","v":0},{"$f":"DATA!D1192","v":0},{"$f":"DATA!E1192","v":0},{"$f":"DATA!H1192","v":0},{"$f":"DATA!I1192","v":0},{"$f":"DATA!J1192","v":0},{"$f":"DATA!K1192","v":0},{"$f":"DATA!L1192","v":0},{"$f":"DATA!M1192","v":0},{"$f":"DATA!N1192","v":0},{"$f":"DATA!O1192","v":0},{"$f":"DATA!P1192","v":0}]
[{"$f":"DATA!C1193","v":0},{"$f":"DATA!D1193","v":0},{"$f":"DATA!E1193","v":0},{"$f":"DATA!H1193","v":0},{"$f":"DATA!I1193","v":0},{"$f":"DATA!J1193","v":0},{"$f":"DATA!K1193","v":0},{"$f":"DATA!L1193","v":0},{"$f":"DATA!M1193","v":0},{"$f":"DATA!N1193","v":0},{"$f":"DATA!O1193","v":0},{"$f":"DATA!P1193","v":0}]
[{"$f":"DATA!C1194","v":0},{"$f":"DATA!D1194","v":0},{"$f":"DATA!E1194","v":0},{"$f":"DATA!H1194","v":0},{"$f":"DATA!I1194","v":0},{"$f":"DATA!J1194","v":0},{"$f":"DATA!K1194","v":0},{"$f":"DATA!L1194","v":0},{"$f":"DATA!M1194","v":0},{"$f":"DATA!N1194","v":0},{"$f":"DATA!O1194","v":0},{"$f":"DATA!P1194","v":0}]
[{"$f":"DATA!C1195","v":0},{"$f":"DATA!D1195","v":0},{"$f":"DATA!E1195","v":0},{"$f":"DATA!H1195","v":0},{"$f":"DATA!I1195","v":0},{"$f":"DATA!J1195","v":0},{"$f":"DATA!K1195","v":0},{"$f":"DATA!L1195","v":0},{"$f":"DATA!M1195","v":0},{"$f":"DATA!N1195","v":0},{"$f":"DATA!O1195","v":0},{"$f":"DATA!P1195","v":0}]
[{"$f":"DATA!C1196","v":0},{"$f":"DATA!D1196","v":0},{"$f":"DATA!E1196","v":0},{"$f":"DATA!H1196","v":0},{"$f":"DATA!I1196","v":0},{"$f":"DATA!J1196","v":0},{"$f":"DATA!K1196","v":0},{"$f":"DATA!L1196","v":0},{"$f":"DATA!M1196","v":0},{"$f":"DATA!N1196","v":0},{"$f":"DATA!O1196","v":0},{"$f":"DATA!P1196","v":0}]
[{"$f":"DATA!C1197","v":0},{"$f":"DATA!D1197","v":0},{"$f":"DATA!E1197","v":0},{"$f":"DATA!H1197","v":0},{"$f":"DATA!I1197","v":0},{"$f":"DATA!J1197","v":0},{"$f":"DATA!K1197","v":0},{"$f":"DATA!L1197","v":0},{"$f":"DATA!M1197","v":0},{"$f":"DATA!N1197","v":0},{"$f":"DATA!O1197","v":0},{"$f":"DATA!P1197","v":0}]
[{"$f":"DATA!C1198","v":0},{"$f":"DATA!D1198","v":0},{"$f":"DATA!E1198","v":0},{"$f":"DATA!H1198","v":0},{"$f":"DATA!I1198","v":0},{"$f":"DATA!J1198","v":0},{"$f":"DATA!K1198","v":0},{"$f":"DATA!L1198","v":0},{"$f":"DATA!M1198","v":0},{"$f":"DATA!N1198","v":0},{"$f":"DATA!O1198","v":0},{"$f":"DATA!P1198","v":0}]
[{"$f":"DATA!C1199","v":0},{"$f":"DATA!D1199","v":0},{"$f":"DATA!E1199","v":0},{"$f":"DATA!H1199","v":0},{"$f":"DATA!I1199","v":0},{"$f":"DATA!J1199","v":0},{"$f":"DATA!K1199","v":0},{"$f":"DATA!L1199","v":0},{"$f":"DATA!M1199","v":0},{"$f":"DATA!N1199","v":0},{"$f":"DATA!O1199","v":0},{"$f":"DATA!P1199","v":0}]
[{"$f":"DATA!C1200","v":0},{"$f":"DATA!D1200","v":0},{"$f":"DATA!E1200","v":0},{"$f":"DATA!H1200","v":0},{"$f":"DATA!I1200","v":0},{"$f":"DATA!J1200","v":0},{"$f":"DATA!K1200","v":0},{"$f":"DATA!L1200","v":0},{"$f":"DATA!M1200","v":0},{"$f":"DATA!N1200","v":0},{"$f":"DATA!O1200","v":0},{"$f":"DATA!P1200","v":0}]
[{"$f":"DATA!C1201","v":0},{"$f":"DATA!D1201","v":0},{"$f":"DATA!E1201","v":0},{"$f":"DATA!H1201","v":0},{"$f":"DATA!I1201","v":0},{"$f":"DATA!J1201","v":0},{"$f":"DATA!K1201","v":0},{"$f":"DATA!L1201","v":0},{"$f":"DATA!M1201","v":0},{"$f":"DATA!N1201","v":0},{"$f":"DATA!O1201","v":0},{"$f":"DATA!P1201","v":0}]
[{"$f":"DATA!C1202","v":0},{"$f":"DATA!D1202","v":0},{"$f":"DATA!E1202","v":0},{"$f":"DATA!H1202","v":0},{"$f":"DATA!I1202","v":0},{"$f":"DATA!J1202","v":0},{"$f":"DATA!K1202","v":0},{"$f":"DATA!L1202","v":0},{"$f":"DATA!M1202","v":0},{"$f":"DATA!N1202","v":0},{"$f":"DATA!O1202","v":0},{"$f":"DATA!P1202","v":0}]
[{"$f":"DATA!C1203","v":0},{"$f":"DATA!D1203","v":0},{"$f":"DATA!E1203","v":0},{"$f":"DATA!H1203","v":0},{"$f":"DATA!I1203","v":0},{"$f":"DATA!J1203","v":0},{"$f":"DATA!K1203","v":0},{"$f":"DATA!L1203","v":0},{"$f":"DATA!M1203","v":0},{"$f":"DATA!N1203","v":0},{"$f":"DATA!O1203","v":0},{"$f":"DATA!P1203","v":0}]
[{"$f":"DATA!C1204","v":0},{"$f":"DATA!D1204","v":0},{"$f":"DATA!E1204","v":0},{"$f":"DATA!H1204","v":0},{"$f":"DATA!I1204","v":0},{"$f":"DATA!J1204","v":0},{"$f":"DATA!K1204","v":0},{"$f":"DATA!L1204","v":0},{"$f":"DATA!M1204","v":0},{"$f":"DATA!N1204","v":0},{"$f":"DATA!O1204","v":0},{"$f":"DATA!P1204","v":0}]
[{"$f":"DATA!C1205","v":0},{"$f":"DATA!D1205","v":0},{"$f":"DATA!E1205","v":0},{"$f":"DATA!H1205","v":0},{"$f":"DATA!I1205","v":0},{"$f":"DATA!J1205","v":0},{"$f":"DATA!K1205","v":0},{"$f":"DATA!L1205","v":0},{"$f":"DATA!M1205","v":0},{"$f":"DATA!N1205","v":0},{"$f":"DATA!O1205","v":0},{"$f":"DATA!P1205","v":0}]
[{"$f":"DATA!C1206","v":0},{"$f":"DATA!D1206","v":0},{"$f":"DATA!E1206","v":0},{"$f":"DATA!H1206","v":0},{"$f":"DATA!I1206","v":0},{"$f":"DATA!J1206","v":0},{"$f":"DATA!K1206","v":0},{"$f":"DATA!L1206","v":0},{"$f":"DATA!M1206","v":0},{"$f":"DATA!N1206","v":0},{"$f":"DATA!O1206","v":0},{"$f":"DATA!P1206","v":0}]
[{"$f":"DATA!C1207","v":0},{"$f":"DATA!D1207","v":0},{"$f":"DATA!E1207","v":0},{"$f":"DATA!H1207","v":0},{"$f":"DATA!I1207","v":0},{"$f":"DATA!J1207","v":0},{"$f":"DATA!K1207","v":0},{"$f":"DATA!L1207","v":0},{"$f":"DATA!M1207","v":0},{"$f":"DATA!N1207","v":0},{"$f":"DATA!O1207","v":0},{"$f":"DATA!P1207","v":0}]
[{"$f":"DATA!C1208","v":0},{"$f":"DATA!D1208","v":0},{"$f":"DATA!E1208","v":0},{"$f":"DATA!H1208","v":0},{"$f":"DATA!I1208","v":0},{"$f":"DATA!J1208","v":0},{"$f":"DATA!K1208","v":0},{"$f":"DATA!L1208","v":0},{"$f":"DATA!M1208","v":0},{"$f":"DATA!N1208","v":0},{"$f":"DATA!O1208","v":0},{"$f":"DATA!P1208","v":0}]
[{"$f":"DATA!C1209","v":0},{"$f":"DATA!D1209","v":0},{"$f":"DATA!E1209","v":0},{"$f":"DATA!H1209","v":0},{"$f":"DATA!I1209","v":0},{"$f":"DATA!J1209","v":0},{"$f":"DATA!K1209","v":0},{"$f":"DATA!L1209","v":0},{"$f":"DATA!M1209","v":0},{"$f":"DATA!N1209","v":0},{"$f":"DATA!O1209","v":0},{"$f":"DATA!P1209","v":0}]
[{"$f":"DATA!C1210","v":0},{"$f":"DATA!D1210","v":0},{"$f":"DATA!E1210","v":0},{"$f":"DATA!H1210","v":0},{"$f":"DATA!I1210","v":0},{"$f":"DATA!J1210","v":0},{"$f":"DATA!K1210","v":0},{"$f":"DATA!L1210","v":0},{"$f":"DATA!M1210","v":0},{"$f":"DATA!N1210","v":0},{"$f":"DATA!O1210","v":0},{"$f":"DATA!P1210","v":0}]
[{"$f":"DATA!C1211","v":0},{"$f":"DATA!D1211","v":0},{"$f":"DATA!E1211","v":0},{"$f":"DATA!H1211","v":0},{"$f":"DATA!I1211","v":0},{"$f":"DATA!J1211","v":0},{"$f":"DATA!K1211","v":0},{"$f":"DATA!L1211","v":0},{"$f":"DATA!M1211","v":0},{"$f":"DATA!N1211","v":0},{"$f":"DATA!O1211","v":0},{"$f":"DATA!P1211","v":0}]
[{"$f":"DATA!C1212","v":0},{"$f":"DATA!D1212","v":0},{"$f":"DATA!E1212","v":0},{"$f":"DATA!H1212","v":0},{"$f":"DATA!I1212","v":0},{"$f":"DATA!J1212","v":0},{"$f":"DATA!K1212","v":0},{"$f":"DATA!L1212","v":0},{"$f":"DATA!M1212","v":0},{"$f":"DATA!N1212","v":0},{"$f":"DATA!O1212","v":0},{"$f":"DATA!P1212","v":0}]
[{"$f":"DATA!C1213","v":0},{"$f":"DATA!D1213","v":0},{"$f":"DATA!E1213","v":0},{"$f":"DATA!H1213","v":0},{"$f":"DATA!I1213","v":0},{"$f":"DATA!J1213","v":0},{"$f":"DATA!K1213","v":0},{"$f":"DATA!L1213","v":0},{"$f":"DATA!M1213","v":0},{"$f":"DATA!N1213","v":0},{"$f":"DATA!O1213","v":0},{"$f":"DATA!P1213","v":0}]
[{"$f":"DATA!C1214","v":0},{"$f":"DATA!D1214","v":0},{"$f":"DATA!E1214","v":0},{"$f":"DATA!H1214","v":0},{"$f":"DATA!I1214","v":0},{"$f":"DATA!J1214","v":0},{"$f":"DATA!K1214","v":0},{"$f":"DATA!L1214","v":0},{"$f":"DATA!M1214","v":0},{"$f":"DATA!N1214","v":0},{"$f":"DATA!O1214","v":0},{"$f":"DATA!P1214","v":0}]
[{"$f":"DATA!C1215","v":0},{"$f":"DATA!D1215","v":0},{"$f":"DATA!E1215","v":0},{"$f":"DATA!H1215","v":0},{"$f":"DATA!I1215","v":0},{"$f":"DATA!J1215","v":0},{"$f":"DATA!K1215","v":0},{"$f":"DATA!L1215","v":0},{"$f":"DATA!M1215","v":0},{"$f":"DATA!N1215","v":0},{"$f":"DATA!O1215","v":0},{"$f":"DATA!P1215","v":0}]
[{"$f":"DATA!C1216","v":0},{"$f":"DATA!D1216","v":0},{"$f":"DATA!E1216","v":0},{"$f":"DATA!H1216","v":0},{"$f":"DATA!I1216","v":0},{"$f":"DATA!J1216","v":0},{"$f":"DATA!K1216","v":0},{"$f":"DATA!L1216","v":0},{"$f":"DATA!M1216","v":0},{"$f":"DATA!N1216","v":0},{"$f":"DATA!O1216","v":0},{"$f":"DATA!P1216","v":0}]
[{"$f":"DATA!C1217","v":0},{"$f":"DATA!D1217","v":0},{"$f":"DATA!E1217","v":0},{"$f":"DATA!H1217","v":0},{"$f":"DATA!I1217","v":0},{"$f":"DATA!J1217","v":0},{"$f":"DATA!K1217","v":0},{"$f":"DATA!L1217","v":0},{"$f":"DATA!M1217","v":0},{"$f":"DATA!N1217","v":0},{"$f":"DATA!O1217","v":0},{"$f":"DATA!P1217","v":0}]
[{"$f":"DATA!C1218","v":0},{"$f":"DATA!D1218","v":0},{"$f":"DATA!E1218","v":0},{"$f":"DATA!H1218","v":0},{"$f":"DATA!I1218","v":0},{"$f":"DATA!J1218","v":0},{"$f":"DATA!K1218","v":0},{"$f":"DATA!L1218","v":0},{"$f":"DATA!M1218","v":0},{"$f":"DATA!N1218","v":0},{"$f":"DATA!O1218","v":0},{"$f":"DATA!P1218","v":0}]
[{"$f":"DATA!C1219","v":0},{"$f":"DATA!D1219","v":0},{"$f":"DATA!E1219","v":0},{"$f":"DATA!H1219","v":0},{"$f":"DATA!I1219","v":0},{"$f":"DATA!J1219","v":0},{"$f":"DATA!K1219","v":0},{"$f":"DATA!L1219","v":0},{"$f":"DATA!M1219","v":0},{"$f":"DATA!N1219","v":0},{"$f":"DATA!O1219","v":0},{"$f":"DATA!P1219","v":0}]
[{"$f":"DATA!C1220","v":0},{"$f":"DATA!D1220","v":0},{"$f":"DATA!E1220","v":0},{"$f":"DATA!H1220","v":0},{"$f":"DATA!I1220","v":0},{"$f":"DATA!J1220","v":0},{"$f":"DATA!K1220","v":0},{"$f":"DATA!L1220","v":0},{"$f":"DATA!M1220","v":0},{"$f":"DATA!N1220","v":0},{"$f":"DATA!O1220","v":0},{"$f":"DATA!P1220","v":0}]
[{"$f":"DATA!C1221","v":0},{"$f":"DATA!D1221","v":0},{"$f":"DATA!E1221","v":0},{"$f":"DATA!H1221","v":0},{"$f":"DATA!I1221","v":0},{"$f":"DATA!J1221","v":0},{"$f":"DATA!K1221","v":0},{"$f":"DATA!L1221","v":0},{"$f":"DATA!M1221","v":0},{"$f":"DATA!N1221","v":0},{"$f":"DATA!O1221","v":0},{"$f":"DATA!P1221","v":0}]
[{"$f":"DATA!C1222","v":0},{"$f":"DATA!D1222","v":0},{"$f":"DATA!E1222","v":0},{"$f":"DATA!H1222","v":0},{"$f":"DATA!I1222","v":0},{"$f":"DATA!J1222","v":0},{"$f":"DATA!K1222","v":0},{"$f":"DATA!L1222","v":0},{"$f":"DATA!M1222","v":0},{"$f":"DATA!N1222","v":0},{"$f":"DATA!O1222","v":0},{"$f":"DATA!P1222","v":0}]
[{"$f":"DATA!C1223","v":0},{"$f":"DATA!D1223","v":0},{"$f":"DATA!E1223","v":0},{"$f":"DATA!H1223","v":0},{"$f":"DATA!I1223","v":0},{"$f":"DATA!J1223","v":0},{"$f":"DATA!K1223","v":0},{"$f":"DATA!L1223","v":0},{"$f":"DATA!M1223","v":0},{"$f":"DATA!N1223","v":0},{"$f":"DATA!O1223","v":0},{"$f":"DATA!P1223","v":0}]
[{"$f":"DATA!C1224","v":0},{"$f":"DATA!D1224","v":0},{"$f":"DATA!E1224","v":0},{"$f":"DATA!H1224","v":0},{"$f":"DATA!I1224","v":0},{"$f":"DATA!J1224","v":0},{"$f":"DATA!K1224","v":0},{"$f":"DATA!L1224","v":0},{"$f":"DATA!M1224","v":0},{"$f":"DATA!N1224","v":0},{"$f":"DATA!O1224","v":0},{"$f":"DATA!P1224","v":0}]
[{"$f":"DATA!C1225","v":0},{"$f":"DATA!D1225","v":0},{"$f":"DATA!E1225","v":0},{"$f":"DATA!H1225","v":0},{"$f":"DATA!I1225","v":0},{"$f":"DATA!J1225","v":0},{"$f":"DATA!K1225","v":0},{"$f":"DATA!L1225","v":0},{"$f":"DATA!M1225","v":0},{"$f":"DATA!N1225","v":0},{"$f":"DATA!O1225","v":0},{"$f":"DATA!P1225","v":0}]
[{"$f":"DATA!C1226","v":0},{"$f":"DATA!D1226","v":0},{"$f":"DATA!E1226","v":0},{"$f":"DATA!H1226","v":0},{"$f":"DATA!I1226","v":0},{"$f":"DATA!J1226","v":0},{"$f":"DATA!K1226","v":0},{"$f":"DATA!L1226","v":0},{"$f":"DATA!M1226","v":0},{"$f":"DATA!N1226","v":0},{"$f":"DATA!O1226","v":0},{"$f":"DATA!P1226","v":0}]
[{"$f":"DATA!C1227","v":0},{"$f":"DATA!D1227","v":0},{"$f":"DATA!E1227","v":0},{"$f":"DATA!H1227","v":0},{"$f":"DATA!I1227","v":0},{"$f":"DATA!J1227","v":0},{"$f":"DATA!K1227","v":0},{"$f":"DATA!L1227","v":0},{"$f":"DATA!M1227","v":0},{"$f":"DATA!N1227","v":0},{"$f":"DATA!O1227","v":0},{"$f":"DATA!P1227","v":0}]
[{"$f":"DATA!C1228","v":0},{"$f":"DATA!D1228","v":0},{"$f":"DATA!E1228","v":0},{"$f":"DATA!H1228","v":0},{"$f":"DATA!I1228","v":0},{"$f":"DATA!J1228","v":0},{"$f":"DATA!K1228","v":0},{"$f":"DATA!L1228","v":0},{"$f":"DATA!M1228","v":0},{"$f":"DATA!N1228","v":0},{"$f":"DATA!O1228","v":0},{"$f":"DATA!P1228","v":0}]
[{"$f":"DATA!C1229","v":0},{"$f":"DATA!D1229","v":0},{"$f":"DATA!E1229","v":0},{"$f":"DATA!H1229","v":0},{"$f":"DATA!I1229","v":0},{"$f":"DATA!J1229","v":0},{"$f":"DATA!K1229","v":0},{"$f":"DATA!L1229","v":0},{"$f":"DATA!M1229","v":0},{"$f":"DATA!N1229","v":0},{"$f":"DATA!O1229","v":0},{"$f":"DATA!P1229","v":0}]
[{"$f":"DATA!C1230","v":0},{"$f":"DATA!D1230","v":0},{"$f":"DATA!E1230","v":0},{"$f":"DATA!H1230","v":0},{"$f":"DATA!I1230","v":0},{"$f":"DATA!J1230","v":0},{"$f":"DATA!K1230","v":0},{"$f":"DATA!L1230","v":0},{"$f":"DATA!M1230","v":0},{"$f":"DATA!N1230","v":0},{"$f":"DATA!O1230","v":0},{"$f":"DATA!P1230","v":0}]
[{"$f":"DATA!C1231","v":0},{"$f":"DATA!D1231","v":0},{"$f":"DATA!E1231","v":0},{"$f":"DATA!H1231","v":0},{"$f":"DATA!I1231","v":0},{"$f":"DATA!J1231","v":0},{"$f":"DATA!K1231","v":0},{"$f":"DATA!L1231","v":0},{"$f":"DATA!M1231","v":0},{"$f":"DATA!N1231","v":0},{"$f":"DATA!O1231","v":0},{"$f":"DATA!P1231","v":0}]
[{"$f":"DATA!C1232","v":0},{"$f":"DATA!D1232","v":0},{"$f":"DATA!E1232","v":0},{"$f":"DATA!H1232","v":0},{"$f":"DATA!I1232","v":0},{"$f":"DATA!J1232","v":0},{"$f":"DATA!K1232","v":0},{"$f":"DATA!L1232","v":0},{"$f":"DATA!M1232","v":0},{"$f":"DATA!N1232","v":0},{"$f":"DATA!O1232","v":0},{"$f":"DATA!P1232","v":0}]
[{"$f":"DATA!C1233","v":0},{"$f":"DATA!D1233","v":0},{"$f":"DATA!E1233","v":0},{"$f":"DATA!H1233","v":0},{"$f":"DATA!I1233","v":0},{"$f":"DATA!J1233","v":0},{"$f":"DATA!K1233","v":0},{"$f":"DATA!L1233","v":0},{"$f":"DATA!M1233","v":0},{"$f":"DATA!N1233","v":0},{"$f":"DATA!O1233","v":0},{"$f":"DATA!P1233","v":0}]
[{"$f":"DATA!C1234","v":0},{"$f":"DATA!D1234","v":0},{"$f":"DATA!E1234","v":0},{"$f":"DATA!H1234","v":0},{"$f":"DATA!I1234","v":0},{"$f":"DATA!J1234","v":0},{"$f":"DATA!K1234","v":0},{"$f":"DATA!L1234","v":0},{"$f":"DATA!M1234","v":0},{"$f":"DATA!N1234","v":0},{"$f":"DATA!O1234","v":0},{"$f":"DATA!P1234","v":0}]
[{"$f":"DATA!C1235","v":0},{"$f":"DATA!D1235","v":0},{"$f":"DATA!E1235","v":0},{"$f":"DATA!H1235","v":0},{"$f":"DATA!I1235","v":0},{"$f":"DATA!J1235","v":0},{"$f":"DATA!K1235","v":0},{"$f":"DATA!L1235","v":0},{"$f":"DATA!M1235","v":0},{"$f":"DATA!N1235","v":0},{"$f":"DATA!O1235","v":0},{"$f":"DATA!P1235","v":0}]
[{"$f":"DATA!C1236","v":0},{"$f":"DATA!D1236","v":0},{"$f":"DATA!E1236","v":0},{"$f":"DATA!H1236","v":0},{"$f":"DATA!I1236","v":0},{"$f":"DATA!J1236","v":0},{"$f":"DATA!K1236","v":0},{"$f":"DATA!L1236","v":0},{"$f":"DATA!M1236","v":0},{"$f":"DATA!N1236","v":0},{"$f":"DATA!O1236","v":0},{"$f":"DATA!P1236","v":0}]
[{"$f":"DATA!C1237","v":0},{"$f":"DATA!D1237","v":0},{"$f":"DATA!E1237","v":0},{"$f":"DATA!H1237","v":0},{"$f":"DATA!I1237","v":0},{"$f":"DATA!J1237","v":0},{"$f":"DATA!K1237","v":0},{"$f":"DATA!L1237","v":0},{"$f":"DATA!M1237","v":0},{"$f":"DATA!N1237","v":0},{"$f":"DATA!O1237","v":0},{"$f":"DATA!P1237","v":0}]
[{"$f":"DATA!C1238","v":0},{"$f":"DATA!D1238","v":0},{"$f":"DATA!E1238","v":0},{"$f":"DATA!H1238","v":0},{"$f":"DATA!I1238","v":0},{"$f":"DATA!J1238","v":0},{"$f":"DATA!K1238","v":0},{"$f":"DATA!L1238","v":0},{"$f":"DATA!M1238","v":0},{"$f":"DATA!N1238","v":0},{"$f":"DATA!O1238","v":0},{"$f":"DATA!P1238","v":0}]
[{"$f":"DATA!C1239","v":0},{"$f":"DATA!D1239","v":0},{"$f":"DATA!E1239","v":0},{"$f":"DATA!H1239","v":0},{"$f":"DATA!I1239","v":0},{"$f":"DATA!J1239","v":0},{"$f":"DATA!K1239","v":0},{"$f":"DATA!L1239","v":0},{"$f":"DATA!M1239","v":0},{"$f":"DATA!N1239","v":0},{"$f":"DATA!O1239","v":0},{"$f":"DATA!P1239","v":0}]
[{"$f":"DATA!C1240","v":0},{"$f":"DATA!D1240","v":0},{"$f":"DATA!E1240","v":0},{"$f":"DATA!H1240","v":0},{"$f":"DATA!I1240","v":0},{"$f":"DATA!J1240","v":0},{"$f":"DATA!K1240","v":0},{"$f":"DATA!L1240","v":0},{"$f":"DATA!M1240","v":0},{"$f":"DATA!N1240","v":0},{"$f":"DATA!O1240","v":0},{"$f":"DATA!P1240","v":0}]
[{"$f":"DATA!C1241","v":0},{"$f":"DATA!D1241","v":0},{"$f":"DATA!E1241","v":0},{"$f":"DATA!H1241","v":0},{"$f":"DATA!I1241","v":0},{"$f":"DATA!J1241","v":0},{"$f":"DATA!K1241","v":0},{"$f":"DATA!L1241","v":0},{"$f":"DATA!M1241","v":0},{"$f":"DATA!N1241","v":0},{"$f":"DATA!O1241","v":0},{"$f":"DATA!P1241","v":0}]
[{"$f":"DATA!C1242","v":0},{"$f":"DATA!D1242","v":0},{"$f":"DATA!E1242","v":0},{"$f":"DATA!H1242","v":0},{"$f":"DATA!I1242","v":0},{"$f":"DATA!J1242","v":0},{"$f":"DATA!K1242","v":0},{"$f":"DATA!L1242","v":0},{"$f":"DATA!M1242","v":0},{"$f":"DATA!N1242","v":0},{"$f":"DATA!O1242","v":0},{"$f":"DATA!P1242","v":0}]
[{"$f":"DATA!C1243","v":0},{"$f":"DATA!D1243","v":0},{"$f":"DATA!E1243","v":0},{"$f":"DATA!H1243","v":0},{"$f":"DATA!I1243","v":0},{"$f":"DATA!J1243","v":0},{"$f":"DATA!K1243","v":0},{"$f":"DATA!L1243","v":0},{"$f":"DATA!M1243","v":0},{"$f":"DATA!N1243","v":0},{"$f":"DATA!O1243","v":0},{"$f":"DATA!P1243","v":0}]
[{"$f":"DATA!C1244","v":0},{"$f":"DATA!D1244","v":0},{"$f":"DATA!E1244","v":0},{"$f":"DATA!H1244","v":0},{"$f":"DATA!I1244","v":0},{"$f":"DATA!J1244","v":0},{"$f":"DATA!K1244","v":0},{"$f":"DATA!L1244","v":0},{"$f":"DATA!M1244","v":0},{"$f":"DATA!N1244","v":0},{"$f":"DATA!O1244","v":0},{"$f":"DATA!P1244","v":0}]
[{"$f":"DATA!C1245","v":0},{"$f":"DATA!D1245","v":0},{"$f":"DATA!E1245","v":0},{"$f":"DATA!H1245","v":0},{"$f":"DATA!I1245","v":0},{"$f":"DATA!J1245","v":0},{"$f":"DATA!K1245","v":0},{"$f":"DATA!L1245","v":0},{"$f":"DATA!M1245","v":0},{"$f":"DATA!N1245","v":0},{"$f":"DATA!O1245","v":0},{"$f":"DATA!P1245","v":0}]
[{"$f":"DATA!C1246","v":0},{"$f":"DATA!D1246","v":0},{"$f":"DATA!E1246","v":0},{"$f":"DATA!H1246","v":0},{"$f":"DATA!I1246","v":0},{"$f":"DATA!J1246","v":0},{"$f":"DATA!K1246","v":0},{"$f":"DATA!L1246","v":0},{"$f":"DATA!M1246","v":0},{"$f":"DATA!N1246","v":0},{"$f":"DATA!O1246","v":0},{"$f":"DATA!P1246","v":0}]
[{"$f":"DATA!C1247","v":0},{"$f":"DATA!D1247","v":0},{"$f":"DATA!E1247","v":0},{"$f":"DATA!H1247","v":0},{"$f":"DATA!I1247","v":0},{"$f":"DATA!J1247","v":0},{"$f":"DATA!K1247","v":0},{"$f":"DATA!L1247","v":0},{"$f":"DATA!M1247","v":0},{"$f":"DATA!N1247","v":0},{"$f":"DATA!O1247","v":0},{"$f":"DATA!P1247","v":0}]
[{"$f":"DATA!C1248","v":0},{"$f":"DATA!D1248","v":0},{"$f":"DATA!E1248","v":0},{"$f":"DATA!H1248","v":0},{"$f":"DATA!I1248","v":0},{"$f":"DATA!J1248","v":0},{"$f":"DATA!K1248","v":0},{"$f":"DATA!L1248","v":0},{"$f":"DATA!M1248","v":0},{"$f":"DATA!N1248","v":0},{"$f":"DATA!O1248","v":0},{"$f":"DATA!P1248","v":0}]
[{"$f":"DATA!C1249","v":0},{"$f":"DATA!D1249","v":0},{"$f":"DATA!E1249","v":0},{"$f":"DATA!H1249","v":0},{"$f":"DATA!I1249","v":0},{"$f":"DATA!J1249","v":0},{"$f":"DATA!K1249","v":0},{"$f":"DATA!L1249","v":0},{"$f":"DATA!M1249","v":0},{"$f":"DATA!N1249","v":0},{"$f":"DATA!O1249","v":0},{"$f":"DATA!P1249","v":0}]
[{"$f":"DATA!C1250","v":0},{"$f":"DATA!D1250","v":0},{"$f":"DATA!E1250","v":0},{"$f":"DATA!H1250","v":0},{"$f":"DATA!I1250","v":0},{"$f":"DATA!J1250","v":0},{"$f":"DATA!K1250","v":0},{"$f":"DATA!L1250","v":0},{"$f":"DATA!M1250","v":0},{"$f":"DATA!N1250","v":0},{"$f":"DATA!O1250","v":0},{"$f":"DATA!P1250","v":0}]
[{"$f":"DATA!C1251","v":0},{"$f":"DATA!D1251","v":0},{"$f":"DATA!E1251","v":0},{"$f":"DATA!H1251","v":0},{"$f":"DATA!I1251","v":0},{"$f":"DATA!J1251","v":0},{"$f":"DATA!K1251","v":0},{"$f":"DATA!L1251","v":0},{"$f":"DATA!M1251","v":0},{"$f":"DATA!N1251","v":0},{"$f":"DATA!O1251","v":0},{"$f":"DATA!P1251","v":0}]
[{"$f":"DATA!C1252","v":0},{"$f":"DATA!D1252","v":0},{"$f":"DATA!E1252","v":0},{"$f":"DATA!H1252","v":0},{"$f":"DATA!I1252","v":0},{"$f":"DATA!J1252","v":0},{"$f":"DATA!K1252","v":0},{"$f":"DATA!L1252","v":0},{"$f":"DATA!M1252","v":0},{"$f":"DATA!N1252","v":0},{"$f":"DATA!O1252","v":0},{"$f":"DATA!P1252","v":0}]
[{"$f":"DATA!C1253","v":0},{"$f":"DATA!D1253","v":0},{"$f":"DATA!E1253","v":0},{"$f":"DATA!H1253","v":0},{"$f":"DATA!I1253","v":0},{"$f":"DATA!J1253","v":0},{"$f":"DATA!K1253","v":0},{"$f":"DATA!L1253","v":0},{"$f":"DATA!M1253","v":0},{"$f":"DATA!N1253","v":0},{"$f":"DATA!O1253","v":0},{"$f":"DATA!P1253","v":0}]
[{"$f":"DATA!C1254","v":0},{"$f":"DATA!D1254","v":0},{"$f":"DATA!E1254","v":0},{"$f":"DATA!H1254","v":0},{"$f":"DATA!I1254","v":0},{"$f":"DATA!J1254","v":0},{"$f":"DATA!K1254","v":0},{"$f":"DATA!L1254","v":0},{"$f":"DATA!M1254","v":0},{"$f":"DATA!N1254","v":0},{"$f":"DATA!O1254","v":0},{"$f":"DATA!P1254","v":0}]
[{"$f":"DATA!C1255","v":0},{"$f":"DATA!D1255","v":0},{"$f":"DATA!E1255","v":0},{"$f":"DATA!H1255","v":0},{"$f":"DATA!I1255","v":0},{"$f":"DATA!J1255","v":0},{"$f":"DATA!K1255","v":0},{"$f":"DATA!L1255","v":0},{"$f":"DATA!M1255","v":0},{"$f":"DATA!N1255","v":0},{"$f":"DATA!O1255","v":0},{"$f":"DATA!P1255","v":0}]
[{"$f":"DATA!C1256","v":0},{"$f":"DATA!D1256","v":0},{"$f":"DATA!E1256","v":0},{"$f":"DATA!H1256","v":0},{"$f":"DATA!I1256","v":0},{"$f":"DATA!J1256","v":0},{"$f":"DATA!K1256","v":0},{"$f":"DATA!L1256","v":0},{"$f":"DATA!M1256","v":0},{"$f":"DATA!N1256","v":0},{"$f":"DATA!O1256","v":0},{"$f":"DATA!P1256","v":0}]
[{"$f":"DATA!C1257","v":0},{"$f":"DATA!D1257","v":0},{"$f":"DATA!E1257","v":0},{"$f":"DATA!H1257","v":0},{"$f":"DATA!I1257","v":0},{"$f":"DATA!J1257","v":0},{"$f":"DATA!K1257","v":0},{"$f":"DATA!L1257","v":0},{"$f":"DATA!M1257","v":0},{"$f":"DATA!N1257","v":0},{"$f":"DATA!O1257","v":0},{"$f":"DATA!P1257","v":0}]
[{"$f":"DATA!C1258","v":0},{"$f":"DATA!D1258","v":0},{"$f":"DATA!E1258","v":0},{"$f":"DATA!H1258","v":0},{"$f":"DATA!I1258","v":0},{"$f":"DATA!J1258","v":0},{"$f":"DATA!K1258","v":0},{"$f":"DATA!L1258","v":0},{"$f":"DATA!M1258","v":0},{"$f":"DATA!N1258","v":0},{"$f":"DATA!O1258","v":0},{"$f":"DATA!P1258","v":0}]
[{"$f":"DATA!C1259","v":0},{"$f":"DATA!D1259","v":0},{"$f":"DATA!E1259","v":0},{"$f":"DATA!H1259","v":0},{"$f":"DATA!I1259","v":0},{"$f":"DATA!J1259","v":0},{"$f":"DATA!K1259","v":0},{"$f":"DATA!L1259","v":0},{"$f":"DATA!M1259","v":0},{"$f":"DATA!N1259","v":0},{"$f":"DATA!O1259","v":0},{"$f":"DATA!P1259","v":0}]
[{"$f":"DATA!C1260","v":0},{"$f":"DATA!D1260","v":0},{"$f":"DATA!E1260","v":0},{"$f":"DATA!H1260","v":0},{"$f":"DATA!I1260","v":0},{"$f":"DATA!J1260","v":0},{"$f":"DATA!K1260","v":0},{"$f":"DATA!L1260","v":0},{"$f":"DATA!M1260","v":0},{"$f":"DATA!N1260","v":0},{"$f":"DATA!O1260","v":0},{"$f":"DATA!P1260","v":0}]
[{"$f":"DATA!C1261","v":0},{"$f":"DATA!D1261","v":0},{"$f":"DATA!E1261","v":0},{"$f":"DATA!H1261","v":0},{"$f":"DATA!I1261","v":0},{"$f":"DATA!J1261","v":0},{"$f":"DATA!K1261","v":0},{"$f":"DATA!L1261","v":0},{"$f":"DATA!M1261","v":0},{"$f":"DATA!N1261","v":0},{"$f":"DATA!O1261","v":0},{"$f":"DATA!P1261","v":0}]
[{"$f":"DATA!C1262","v":0},{"$f":"DATA!D1262","v":0},{"$f":"DATA!E1262","v":0},{"$f":"DATA!H1262","v":0},{"$f":"DATA!I1262","v":0},{"$f":"DATA!J1262","v":0},{"$f":"DATA!K1262","v":0},{"$f":"DATA!L1262","v":0},{"$f":"DATA!M1262","v":0},{"$f":"DATA!N1262","v":0},{"$f":"DATA!O1262","v":0},{"$f":"DATA!P1262","v":0}]
[{"$f":"DATA!C1263","v":0},{"$f":"DATA!D1263","v":0},{"$f":"DATA!E1263","v":0},{"$f":"DATA!H1263","v":0},{"$f":"DATA!I1263","v":0},{"$f":"DATA!J1263","v":0},{"$f":"DATA!K1263","v":0},{"$f":"DATA!L1263","v":0},{"$f":"DATA!M1263","v":0},{"$f":"DATA!N1263","v":0},{"$f":"DATA!O1263","v":0},{"$f":"DATA!P1263","v":0}]
[{"$f":"DATA!C1264","v":0},{"$f":"DATA!D1264","v":0},{"$f":"DATA!E1264","v":0},{"$f":"DATA!H1264","v":0},{"$f":"DATA!I1264","v":0},{"$f":"DATA!J1264","v":0},{"$f":"DATA!K1264","v":0},{"$f":"DATA!L1264","v":0},{"$f":"DATA!M1264","v":0},{"$f":"DATA!N1264","v":0},{"$f":"DATA!O1264","v":0},{"$f":"DATA!P1264","v":0}]
[{"$f":"DATA!C1265","v":0},{"$f":"DATA!D1265","v":0},{"$f":"DATA!E1265","v":0},{"$f":"DATA!H1265","v":0},{"$f":"DATA!I1265","v":0},{"$f":"DATA!J1265","v":0},{"$f":"DATA!K1265","v":0},{"$f":"DATA!L1265","v":0},{"$f":"DATA!M1265","v":0},{"$f":"DATA!N1265","v":0},{"$f":"DATA!O1265","v":0},{"$f":"DATA!P1265","v":0}]
[{"$f":"DATA!C1266","v":0},{"$f":"DATA!D1266","v":0},{"$f":"DATA!E1266","v":0},{"$f":"DATA!H1266","v":0},{"$f":"DATA!I1266","v":0},{"$f":"DATA!J1266","v":0},{"$f":"DATA!K1266","v":0},{"$f":"DATA!L1266","v":0},{"$f":"DATA!M1266","v":0},{"$f":"DATA!N1266","v":0},{"$f":"DATA!O1266","v":0},{"$f":"DATA!P1266","v":0}]
[{"$f":"DATA!C1267","v":0},{"$f":"DATA!D1267","v":0},{"$f":"DATA!E1267","v":0},{"$f":"DATA!H1267","v":0},{"$f":"DATA!I1267","v":0},{"$f":"DATA!J1267","v":0},{"$f":"DATA!K1267","v":0},{"$f":"DATA!L1267","v":0},{"$f":"DATA!M1267","v":0},{"$f":"DATA!N1267","v":0},{"$f":"DATA!O1267","v":0},{"$f":"DATA!P1267","v":0}]
[{"$f":"DATA!C1268","v":0},{"$f":"DATA!D1268","v":0},{"$f":"DATA!E1268","v":0},{"$f":"DATA!H1268","v":0},{"$f":"DATA!I1268","v":0},{"$f":"DATA!J1268","v":0},{"$f":"DATA!K1268","v":0},{"$f":"DATA!L1268","v":0},{"$f":"DATA!M1268","v":0},{"$f":"DATA!N1268","v":0},{"$f":"DATA!O1268","v":0},{"$f":"DATA!P1268","v":0}]
[{"$f":"DATA!C1269","v":0},{"$f":"DATA!D1269","v":0},{"$f":"DATA!E1269","v":0},{"$f":"DATA!H1269","v":0},{"$f":"DATA!I1269","v":0},{"$f":"DATA!J1269","v":0},{"$f":"DATA!K1269","v":0},{"$f":"DATA!L1269","v":0},{"$f":"DATA!M1269","v":0},{"$f":"DATA!N1269","v":0},{"$f":"DATA!O1269","v":0},{"$f":"DATA!P1269","v":0}]
[{"$f":"DATA!C1270","v":0},{"$f":"DATA!D1270","v":0},{"$f":"DATA!E1270","v":0},{"$f":"DATA!H1270","v":0},{"$f":"DATA!I1270","v":0},{"$f":"DATA!J1270","v":0},{"$f":"DATA!K1270","v":0},{"$f":"DATA!L1270","v":0},{"$f":"DATA!M1270","v":0},{"$f":"DATA!N1270","v":0},{"$f":"DATA!O1270","v":0},{"$f":"DATA!P1270","v":0}]
[{"$f":"DATA!C1271","v":0},{"$f":"DATA!D1271","v":0},{"$f":"DATA!E1271","v":0},{"$f":"DATA!H1271","v":0},{"$f":"DATA!I1271","v":0},{"$f":"DATA!J1271","v":0},{"$f":"DATA!K1271","v":0},{"$f":"DATA!L1271","v":0},{"$f":"DATA!M1271","v":0},{"$f":"DATA!N1271","v":0},{"$f":"DATA!O1271","v":0},{"$f":"DATA!P1271","v":0}]
[{"$f":"DATA!C1272","v":0},{"$f":"DATA!D1272","v":0},{"$f":"DATA!E1272","v":0},{"$f":"DATA!H1272","v":0},{"$f":"DATA!I1272","v":0},{"$f":"DATA!J1272","v":0},{"$f":"DATA!K1272","v":0},{"$f":"DATA!L1272","v":0},{"$f":"DATA!M1272","v":0},{"$f":"DATA!N1272","v":0},{"$f":"DATA!O1272","v":0},{"$f":"DATA!P1272","v":0}]
[{"$f":"DATA!C1273","v":0},{"$f":"DATA!D1273","v":0},{"$f":"DATA!E1273","v":0},{"$f":"DATA!H1273","v":0},{"$f":"DATA!I1273","v":0},{"$f":"DATA!J1273","v":0},{"$f":"DATA!K1273","v":0},{"$f":"DATA!L1273","v":0},{"$f":"DATA!M1273","v":0},{"$f":"DATA!N1273","v":0},{"$f":"DATA!O1273","v":0},{"$f":"DATA!P1273","v":0}]
[{"$f":"DATA!C1274","v":0},{"$f":"DATA!D1274","v":0},{"$f":"DATA!E1274","v":0},{"$f":"DATA!H1274","v":0},{"$f":"DATA!I1274","v":0},{"$f":"DATA!J1274","v":0},{"$f":"DATA!K1274","v":0},{"$f":"DATA!L1274","v":0},{"$f":"DATA!M1274","v":0},{"$f":"DATA!N1274","v":0},{"$f":"DATA!O1274","v":0},{"$f":"DATA!P1274","v":0}]
[{"$f":"DATA!C1275","v":0},{"$f":"DATA!D1275","v":0},{"$f":"DATA!E1275","v":0},{"$f":"DATA!H1275","v":0},{"$f":"DATA!I1275","v":0},{"$f":"DATA!J1275","v":0},{"$f":"DATA!K1275","v":0},{"$f":"DATA!L1275","v":0},{"$f":"DATA!M1275","v":0},{"$f":"DATA!N1275","v":0},{"$f":"DATA!O1275","v":0},{"$f":"DATA!P1275","v":0}]
[{"$f":"DATA!C1276","v":0},{"$f":"DATA!D1276","v":0},{"$f":"DATA!E1276","v":0},{"$f":"DATA!H1276","v":0},{"$f":"DATA!I1276","v":0},{"$f":"DATA!J1276","v":0},{"$f":"DATA!K1276","v":0},{"$f":"DATA!L1276","v":0},{"$f":"DATA!M1276","v":0},{"$f":"DATA!N1276","v":0},{"$f":"DATA!O1276","v":0},{"$f":"DATA!P1276","v":0}]
[{"$f":"DATA!C1277","v":0},{"$f":"DATA!D1277","v":0},{"$f":"DATA!E1277","v":0},{"$f":"DATA!H1277","v":0},{"$f":"DATA!I1277","v":0},{"$f":"DATA!J1277","v":0},{"$f":"DATA!K1277","v":0},{"$f":"DATA!L1277","v":0},{"$f":"DATA!M1277","v":0},{"$f":"DATA!N1277","v":0},{"$f":"DATA!O1277","v":0},{"$f":"DATA!P1277","v":0}]
[{"$f":"DATA!C1278","v":0},{"$f":"DATA!D1278","v":0},{"$f":"DATA!E1278","v":0},{"$f":"DATA!H1278","v":0},{"$f":"DATA!I1278","v":0},{"$f":"DATA!J1278","v":0},{"$f":"DATA!K1278","v":0},{"$f":"DATA!L1278","v":0},{"$f":"DATA!M1278","v":0},{"$f":"DATA!N1278","v":0},{"$f":"DATA!O1278","v":0},{"$f":"DATA!P1278","v":0}]
[{"$f":"DATA!C1279","v":0},{"$f":"DATA!D1279","v":0},{"$f":"DATA!E1279","v":0},{"$f":"DATA!H1279","v":0},{"$f":"DATA!I1279","v":0},{"$f":"DATA!J1279","v":0},{"$f":"DATA!K1279","v":0},{"$f":"DATA!L1279","v":0},{"$f":"DATA!M1279","v":0},{"$f":"DATA!N1279","v":0},{"$f":"DATA!O1279","v":0},{"$f":"DATA!P1279","v":0}]
[{"$f":"DATA!C1280","v":0},{"$f":"DATA!D1280","v":0},{"$f":"DATA!E1280","v":0},{"$f":"DATA!H1280","v":0},{"$f":"DATA!I1280","v":0},{"$f":"DATA!J1280","v":0},{"$f":"DATA!K1280","v":0},{"$f":"DATA!L1280","v":0},{"$f":"DATA!M1280","v":0},{"$f":"DATA!N1280","v":0},{"$f":"DATA!O1280","v":0},{"$f":"DATA!P1280","v":0}]
[{"$f":"DATA!C1281","v":0},{"$f":"DATA!D1281","v":0},{"$f":"DATA!E1281","v":0},{"$f":"DATA!H1281","v":0},{"$f":"DATA!I1281","v":0},{"$f":"DATA!J1281","v":0},{"$f":"DATA!K1281","v":0},{"$f":"DATA!L1281","v":0},{"$f":"DATA!M1281","v":0},{"$f":"DATA!N1281","v":0},{"$f":"DATA!O1281","v":0},{"$f":"DATA!P1281","v":0}]
[{"$f":"DATA!C1282","v":0},{"$f":"DATA!D1282","v":0},{"$f":"DATA!E1282","v":0},{"$f":"DATA!H1282","v":0},{"$f":"DATA!I1282","v":0},{"$f":"DATA!J1282","v":0},{"$f":"DATA!K1282","v":0},{"$f":"DATA!L1282","v":0},{"$f":"DATA!M1282","v":0},{"$f":"DATA!N1282","v":0},{"$f":"DATA!O1282","v":0},{"$f":"DATA!P1282","v":0}]
[{"$f":"DATA!C1283","v":0},{"$f":"DATA!D1283","v":0},{"$f":"DATA!E1283","v":0},{"$f":"DATA!H1283","v":0},{"$f":"DATA!I1283","v":0},{"$f":"DATA!J1283","v":0},{"$f":"DATA!K1283","v":0},{"$f":"DATA!L1283","v":0},{"$f":"DATA!M1283","v":0},{"$f":"DATA!N1283","v":0},{"$f":"DATA!O1283","v":0},{"$f":"DATA!P1283","v":0}]
[{"$f":"DATA!C1284","v":0},{"$f":"DATA!D1284","v":0},{"$f":"DATA!E1284","v":0},{"$f":"DATA!H1284","v":0},{"$f":"DATA!I1284","v":0},{"$f":"DATA!J1284","v":0},{"$f":"DATA!K1284","v":0},{"$f":"DATA!L1284","v":0},{"$f":"DATA!M1284","v":0},{"$f":"DATA!N1284","v":0},{"$f":"DATA!O1284","v":0},{"$f":"DATA!P1284","v":0}]
[{"$f":"DATA!C1285","v":0},{"$f":"DATA!D1285","v":0},{"$f":"DATA!E1285","v":0},{"$f":"DATA!H1285","v":0},{"$f":"DATA!I1285","v":0},{"$f":"DATA!J1285","v":0},{"$f":"DATA!K1285","v":0},{"$f":"DATA!L1285","v":0},{"$f":"DATA!M1285","v":0},{"$f":"DATA!N1285","v":0},{"$f":"DATA!O1285","v":0},{"$f":"DATA!P1285","v":0}]
[{"$f":"DATA!C1286","v":0},{"$f":"DATA!D1286","v":0},{"$f":"DATA!E1286","v":0},{"$f":"DATA!H1286","v":0},{"$f":"DATA!I1286","v":0},{"$f":"DATA!J1286","v":0},{"$f":"DATA!K1286","v":0},{"$f":"DATA!L1286","v":0},{"$f":"DATA!M1286","v":0},{"$f":"DATA!N1286","v":0},{"$f":"DATA!O1286","v":0},{"$f":"DATA!P1286","v":0}]
[{"$f":"DATA!C1287","v":0},{"$f":"DATA!D1287","v":0},{"$f":"DATA!E1287","v":0},{"$f":"DATA!H1287","v":0},{"$f":"DATA!I1287","v":0},{"$f":"DATA!J1287","v":0},{"$f":"DATA!K1287","v":0},{"$f":"DATA!L1287","v":0},{"$f":"DATA!M1287","v":0},{"$f":"DATA!N1287","v":0},{"$f":"DATA!O1287","v":0},{"$f":"DATA!P1287","v":0}]
[{"$f":"DATA!C1288","v":0},{"$f":"DATA!D1288","v":0},{"$f":"DATA!E1288","v":0},{"$f":"DATA!H1288","v":0},{"$f":"DATA!I1288","v":0},{"$f":"DATA!J1288","v":0},{"$f":"DATA!K1288","v":0},{"$f":"DATA!L1288","v":0},{"$f":"DATA!M1288","v":0},{"$f":"DATA!N1288","v":0},{"$f":"DATA!O1288","v":0},{"$f":"DATA!P1288","v":0}]
[{"$f":"DATA!C1289","v":0},{"$f":"DATA!D1289","v":0},{"$f":"DATA!E1289","v":0},{"$f":"DATA!H1289","v":0},{"$f":"DATA!I1289","v":0},{"$f":"DATA!J1289","v":0},{"$f":"DATA!K1289","v":0},{"$f":"DATA!L1289","v":0},{"$f":"DATA!M1289","v":0},{"$f":"DATA!N1289","v":0},{"$f":"DATA!O1289","v":0},{"$f":"DATA!P1289","v":0}]
[{"$f":"DATA!C1290","v":0},{"$f":"DATA!D1290","v":0},{"$f":"DATA!E1290","v":0},{"$f":"DATA!H1290","v":0},{"$f":"DATA!I1290","v":0},{"$f":"DATA!J1290","v":0},{"$f":"DATA!K1290","v":0},{"$f":"DATA!L1290","v":0},{"$f":"DATA!M1290","v":0},{"$f":"DATA!N1290","v":0},{"$f":"DATA!O1290","v":0},{"$f":"DATA!P1290","v":0}]
[{"$f":"DATA!C1291","v":0},{"$f":"DATA!D1291","v":0},{"$f":"DATA!E1291","v":0},{"$f":"DATA!H1291","v":0},{"$f":"DATA!I1291","v":0},{"$f":"DATA!J1291","v":0},{"$f":"DATA!K1291","v":0},{"$f":"DATA!L1291","v":0},{"$f":"DATA!M1291","v":0},{"$f":"DATA!N1291","v":0},{"$f":"DATA!O1291","v":0},{"$f":"DATA!P1291","v":0}]
[{"$f":"DATA!C1292","v":0},{"$f":"DATA!D1292","v":0},{"$f":"DATA!E1292","v":0},{"$f":"DATA!H1292","v":0},{"$f":"DATA!I1292","v":0},{"$f":"DATA!J1292","v":0},{"$f":"DATA!K1292","v":0},{"$f":"DATA!L1292","v":0},{"$f":"DATA!M1292","v":0},{"$f":"DATA!N1292","v":0},{"$f":"DATA!O1292","v":0},{"$f":"DATA!P1292","v":0}]
[{"$f":"DATA!C1293","v":0},{"$f":"DATA!D1293","v":0},{"$f":"DATA!E1293","v":0},{"$f":"DATA!H1293","v":0},{"$f":"DATA!I1293","v":0},{"$f":"DATA!J1293","v":0},{"$f":"DATA!K1293","v":0},{"$f":"DATA!L1293","v":0},{"$f":"DATA!M1293","v":0},{"$f":"DATA!N1293","v":0},{"$f":"DATA!O1293","v":0},{"$f":"DATA!P1293","v":0}]
[{"$f":"DATA!C1294","v":0},{"$f":"DATA!D1294","v":0},{"$f":"DATA!E1294","v":0},{"$f":"DATA!H1294","v":0},{"$f":"DATA!I1294","v":0},{"$f":"DATA!J1294","v":0},{"$f":"DATA!K1294","v":0},{"$f":"DATA!L1294","v":0},{"$f":"DATA!M1294","v":0},{"$f":"DATA!N1294","v":0},{"$f":"DATA!O1294","v":0},{"$f":"DATA!P1294","v":0}]
[{"$f":"DATA!C1295","v":0},{"$f":"DATA!D1295","v":0},{"$f":"DATA!E1295","v":0},{"$f":"DATA!H1295","v":0},{"$f":"DATA!I1295","v":0},{"$f":"DATA!J1295","v":0},{"$f":"DATA!K1295","v":0},{"$f":"DATA!L1295","v":0},{"$f":"DATA!M1295","v":0},{"$f":"DATA!N1295","v":0},{"$f":"DATA!O1295","v":0},{"$f":"DATA!P1295","v":0}]
[{"$f":"DATA!C1296","v":0},{"$f":"DATA!D1296","v":0},{"$f":"DATA!E1296","v":0},{"$f":"DATA!H1296","v":0},{"$f":"DATA!I1296","v":0},{"$f":"DATA!J1296","v":0},{"$f":"DATA!K1296","v":0},{"$f":"DATA!L1296","v":0},{"$f":"DATA!M1296","v":0},{"$f":"DATA!N1296","v":0},{"$f":"DATA!O1296","v":0},{"$f":"DATA!P1296","v":0}]
[{"$f":"DATA!C1297","v":0},{"$f":"DATA!D1297","v":0},{"$f":"DATA!E1297","v":0},{"$f":"DATA!H1297","v":0},{"$f":"DATA!I1297","v":0},{"$f":"DATA!J1297","v":0},{"$f":"DATA!K1297","v":0},{"$f":"DATA!L1297","v":0},{"$f":"DATA!M1297","v":0},{"$f":"DATA!N1297","v":0},{"$f":"DATA!O1297","v":0},{"$f":"DATA!P1297","v":0}]
[{"$f":"DATA!C1298","v":0},{"$f":"DATA!D1298","v":0},{"$f":"DATA!E1298","v":0},{"$f":"DATA!H1298","v":0},{"$f":"DATA!I1298","v":0},{"$f":"DATA!J1298","v":0},{"$f":"DATA!K1298","v":0},{"$f":"DATA!L1298","v":0},{"$f":"DATA!M1298","v":0},{"$f":"DATA!N1298","v":0},{"$f":"DATA!O1298","v":0},{"$f":"DATA!P1298","v":0}]
[{"$f":"DATA!C1299","v":0},{"$f":"DATA!D1299","v":0},{"$f":"DATA!E1299","v":0},{"$f":"DATA!H1299","v":0},{"$f":"DATA!I1299","v":0},{"$f":"DATA!J1299","v":0},{"$f":"DATA!K1299","v":0},{"$f":"DATA!L1299","v":0},{"$f":"DATA!M1299","v":0},{"$f":"DATA!N1299","v":0},{"$f":"DATA!O1299","v":0},{"$f":"DATA!P1299","v":0}]
[{"$f":"DATA!C1300","v":0},{"$f":"DATA!D1300","v":0},{"$f":"DATA!E1300","v":0},{"$f":"DATA!H1300","v":0},{"$f":"DATA!I1300","v":0},{"$f":"DATA!J1300","v":0},{"$f":"DATA!K1300","v":0},{"$f":"DATA!L1300","v":0},{"$f":"DATA!M1300","v":0},{"$f":"DATA!N1300","v":0},{"$f":"DATA!O1300","v":0},{"$f":"DATA!P1300","v":0}]
[{"$f":"DATA!C1301","v":0},{"$f":"DATA!D1301","v":0},{"$f":"DATA!E1301","v":0},{"$f":"DATA!H1301","v":0},{"$f":"DATA!I1301","v":0},{"$f":"DATA!J1301","v":0},{"$f":"DATA!K1301","v":0},{"$f":"DATA!L1301","v":0},{"$f":"DATA!M1301","v":0},{"$f":"DATA!N1301","v":0},{"$f":"DATA!O1301","v":0},{"$f":"DATA!P1301","v":0}]
[{"$f":"DATA!C1302","v":0},{"$f":"DATA!D1302","v":0},{"$f":"DATA!E1302","v":0},{"$f":"DATA!H1302","v":0},{"$f":"DATA!I1302","v":0},{"$f":"DATA!J1302","v":0},{"$f":"DATA!K1302","v":0},{"$f":"DATA!L1302","v":0},{"$f":"DATA!M1302","v":0},{"$f":"DATA!N1302","v":0},{"$f":"DATA!O1302","v":0},{"$f":"DATA!P1302","v":0}]
[{"$f":"DATA!C1303","v":0},{"$f":"DATA!D1303","v":0},{"$f":"DATA!E1303","v":0},{"$f":"DATA!H1303","v":0},{"$f":"DATA!I1303","v":0},{"$f":"DATA!J1303","v":0},{"$f":"DATA!K1303","v":0},{"$f":"DATA!L1303","v":0},{"$f":"DATA!M1303","v":0},{"$f":"DATA!N1303","v":0},{"$f":"DATA!O1303","v":0},{"$f":"DATA!P1303","v":0}]
[{"$f":"DATA!C1304","v":0},{"$f":"DATA!D1304","v":0},{"$f":"DATA!E1304","v":0},{"$f":"DATA!H1304","v":0},{"$f":"DATA!I1304","v":0},{"$f":"DATA!J1304","v":0},{"$f":"DATA!K1304","v":0},{"$f":"DATA!L1304","v":0},{"$f":"DATA!M1304","v":0},{"$f":"DATA!N1304","v":0},{"$f":"DATA!O1304","v":0},{"$f":"DATA!P1304","v":0}]
[{"$f":"DATA!C1305","v":0},{"$f":"DATA!D1305","v":0},{"$f":"DATA!E1305","v":0},{"$f":"DATA!H1305","v":0},{"$f":"DATA!I1305","v":0},{"$f":"DATA!J1305","v":0},{"$f":"DATA!K1305","v":0},{"$f":"DATA!L1305","v":0},{"$f":"DATA!M1305","v":0},{"$f":"DATA!N1305","v":0},{"$f":"DATA!O1305","v":0},{"$f":"DATA!P1305","v":0}]
[{"$f":"DATA!C1306","v":0},{"$f":"DATA!D1306","v":0},{"$f":"DATA!E1306","v":0},{"$f":"DATA!H1306","v":0},{"$f":"DATA!I1306","v":0},{"$f":"DATA!J1306","v":0},{"$f":"DATA!K1306","v":0},{"$f":"DATA!L1306","v":0},{"$f":"DATA!M1306","v":0},{"$f":"DATA!N1306","v":0},{"$f":"DATA!O1306","v":0},{"$f":"DATA!P1306","v":0}]
[{"$f":"DATA!C1307","v":0},{"$f":"DATA!D1307","v":0},{"$f":"DATA!E1307","v":0},{"$f":"DATA!H1307","v":0},{"$f":"DATA!I1307","v":0},{"$f":"DATA!J1307","v":0},{"$f":"DATA!K1307","v":0},{"$f":"DATA!L1307","v":0},{"$f":"DATA!M1307","v":0},{"$f":"DATA!N1307","v":0},{"$f":"DATA!O1307","v":0},{"$f":"DATA!P1307","v":0}]
[{"$f":"DATA!C1308","v":0},{"$f":"DATA!D1308","v":0},{"$f":"DATA!E1308","v":0},{"$f":"DATA!H1308","v":0},{"$f":"DATA!I1308","v":0},{"$f":"DATA!J1308","v":0},{"$f":"DATA!K1308","v":0},{"$f":"DATA!L1308","v":0},{"$f":"DATA!M1308","v":0},{"$f":"DATA!N1308","v":0},{"$f":"DATA!O1308","v":0},{"$f":"DATA!P1308","v":0}]
[{"$f":"DATA!C1309","v":0},{"$f":"DATA!D1309","v":0},{"$f":"DATA!E1309","v":0},{"$f":"DATA!H1309","v":0},{"$f":"DATA!I1309","v":0},{"$f":"DATA!J1309","v":0},{"$f":"DATA!K1309","v":0},{"$f":"DATA!L1309","v":0},{"$f":"DATA!M1309","v":0},{"$f":"DATA!N1309","v":0},{"$f":"DATA!O1309","v":0},{"$f":"DATA!P1309","v":0}]
[{"$f":"DATA!C1310","v":0},{"$f":"DATA!D1310","v":0},{"$f":"DATA!E1310","v":0},{"$f":"DATA!H1310","v":0},{"$f":"DATA!I1310","v":0},{"$f":"DATA!J1310","v":0},{"$f":"DATA!K1310","v":0},{"$f":"DATA!L1310","v":0},{"$f":"DATA!M1310","v":0},{"$f":"DATA!N1310","v":0},{"$f":"DATA!O1310","v":0},{"$f":"DATA!P1310","v":0}]
[{"$f":"DATA!C1311","v":0},{"$f":"DATA!D1311","v":0},{"$f":"DATA!E1311","v":0},{"$f":"DATA!H1311","v":0},{"$f":"DATA!I1311","v":0},{"$f":"DATA!J1311","v":0},{"$f":"DATA!K1311","v":0},{"$f":"DATA!L1311","v":0},{"$f":"DATA!M1311","v":0},{"$f":"DATA!N1311","v":0},{"$f":"DATA!O1311","v":0},{"$f":"DATA!P1311","v":0}]
[{"$f":"DATA!C1312","v":0},{"$f":"DATA!D1312","v":0},{"$f":"DATA!E1312","v":0},{"$f":"DATA!H1312","v":0},{"$f":"DATA!I1312","v":0},{"$f":"DATA!J1312","v":0},{"$f":"DATA!K1312","v":0},{"$f":"DATA!L1312","v":0},{"$f":"DATA!M1312","v":0},{"$f":"DATA!N1312","v":0},{"$f":"DATA!O1312","v":0},{"$f":"DATA!P1312","v":0}]
[{"$f":"DATA!C1313","v":0},{"$f":"DATA!D1313","v":0},{"$f":"DATA!E1313","v":0},{"$f":"DATA!H1313","v":0},{"$f":"DATA!I1313","v":0},{"$f":"DATA!J1313","v":0},{"$f":"DATA!K1313","v":0},{"$f":"DATA!L1313","v":0},{"$f":"DATA!M1313","v":0},{"$f":"DATA!N1313","v":0},{"$f":"DATA!O1313","v":0},{"$f":"DATA!P1313","v":0}]
[{"$f":"DATA!C1314","v":0},{"$f":"DATA!D1314","v":0},{"$f":"DATA!E1314","v":0},{"$f":"DATA!H1314","v":0},{"$f":"DATA!I1314","v":0},{"$f":"DATA!J1314","v":0},{"$f":"DATA!K1314","v":0},{"$f":"DATA!L1314","v":0},{"$f":"DATA!M1314","v":0},{"$f":"DATA!N1314","v":0},{"$f":"DATA!O1314","v":0},{"$f":"DATA!P1314","v":0}]
[{"$f":"DATA!C1315","v":0},{"$f":"DATA!D1315","v":0},{"$f":"DATA!E1315","v":0},{"$f":"DATA!H1315","v":0},{"$f":"DATA!I1315","v":0},{"$f":"DATA!J1315","v":0},{"$f":"DATA!K1315","v":0},{"$f":"DATA!L1315","v":0},{"$f":"DATA!M1315","v":0},{"$f":"DATA!N1315","v":0},{"$f":"DATA!O1315","v":0},{"$f":"DATA!P1315","v":0}]
[{"$f":"DATA!C1316","v":0},{"$f":"DATA!D1316","v":0},{"$f":"DATA!E1316","v":0},{"$f":"DATA!H1316","v":0},{"$f":"DATA!I1316","v":0},{"$f":"DATA!J1316","v":0},{"$f":"DATA!K1316","v":0},{"$f":"DATA!L1316","v":0},{"$f":"DATA!M1316","v":0},{"$f":"DATA!N1316","v":0},{"$f":"DATA!O1316","v":0},{"$f":"DATA!P1316","v":0}]
[{"$f":"DATA!C1317","v":0},{"$f":"DATA!D1317","v":0},{"$f":"DATA!E1317","v":0},{"$f":"DATA!H1317","v":0},{"$f":"DATA!I1317","v":0},{"$f":"DATA!J1317","v":0},{"$f":"DATA!K1317","v":0},{"$f":"DATA!L1317","v":0},{"$f":"DATA!M1317","v":0},{"$f":"DATA!N1317","v":0},{"$f":"DATA!O1317","v":0},{"$f":"DATA!P1317","v":0}]
[{"$f":"DATA!C1318","v":0},{"$f":"DATA!D1318","v":0},{"$f":"DATA!E1318","v":0},{"$f":"DATA!H1318","v":0},{"$f":"DATA!I1318","v":0},{"$f":"DATA!J1318","v":0},{"$f":"DATA!K1318","v":0},{"$f":"DATA!L1318","v":0},{"$f":"DATA!M1318","v":0},{"$f":"DATA!N1318","v":0},{"$f":"DATA!O1318","v":0},{"$f":"DATA!P1318","v":0}]
[{"$f":"DATA!C1319","v":0},{"$f":"DATA!D1319","v":0},{"$f":"DATA!E1319","v":0},{"$f":"DATA!H1319","v":0},{"$f":"DATA!I1319","v":0},{"$f":"DATA!J1319","v":0},{"$f":"DATA!K1319","v":0},{"$f":"DATA!L1319","v":0},{"$f":"DATA!M1319","v":0},{"$f":"DATA!N1319","v":0},{"$f":"DATA!O1319","v":0},{"$f":"DATA!P1319","v":0}]
[{"$f":"DATA!C1320","v":0},{"$f":"DATA!D1320","v":0},{"$f":"DATA!E1320","v":0},{"$f":"DATA!H1320","v":0},{"$f":"DATA!I1320","v":0},{"$f":"DATA!J1320","v":0},{"$f":"DATA!K1320","v":0},{"$f":"DATA!L1320","v":0},{"$f":"DATA!M1320","v":0},{"$f":"DATA!N1320","v":0},{"$f":"DATA!O1320","v":0},{"$f":"DATA!P1320","v":0}]
[{"$f":"DATA!C1321","v":0},{"$f":"DATA!D1321","v":0},{"$f":"DATA!E1321","v":0},{"$f":"DATA!H1321","v":0},{"$f":"DATA!I1321","v":0},{"$f":"DATA!J1321","v":0},{"$f":"DATA!K1321","v":0},{"$f":"DATA!L1321","v":0},{"$f":"DATA!M1321","v":0},{"$f":"DATA!N1321","v":0},{"$f":"DATA!O1321","v":0},{"$f":"DATA!P1321","v":0}]
[{"$f":"DATA!C1322","v":0},{"$f":"DATA!D1322","v":0},{"$f":"DATA!E1322","v":0},{"$f":"DATA!H1322","v":0},{"$f":"DATA!I1322","v":0},{"$f":"DATA!J1322","v":0},{"$f":"DATA!K1322","v":0},{"$f":"DATA!L1322","v":0},{"$f":"DATA!M1322","v":0},{"$f":"DATA!N1322","v":0},{"$f":"DATA!O1322","v":0},{"$f":"DATA!P1322","v":0}]
[{"$f":"DATA!C1323","v":0},{"$f":"DATA!D1323","v":0},{"$f":"DATA!E1323","v":0},{"$f":"DATA!H1323","v":0},{"$f":"DATA!I1323","v":0},{"$f":"DATA!J1323","v":0},{"$f":"DATA!K1323","v":0},{"$f":"DATA!L1323","v":0},{"$f":"DATA!M1323","v":0},{"$f":"DATA!N1323","v":0},{"$f":"DATA!O1323","v":0},{"$f":"DATA!P1323","v":0}]
[{"$f":"DATA!C1324","v":0},{"$f":"DATA!D1324","v":0},{"$f":"DATA!E1324","v":0},{"$f":"DATA!H1324","v":0},{"$f":"DATA!I1324","v":0},{"$f":"DATA!J1324","v":0},{"$f":"DATA!K1324","v":0},{"$f":"DATA!L1324","v":0},{"$f":"DATA!M1324","v":0},{"$f":"DATA!N1324","v":0},{"$f":"DATA!O1324","v":0},{"$f":"DATA!P1324","v":0}]
[{"$f":"DATA!C1325","v":0},{"$f":"DATA!D1325","v":0},{"$f":"DATA!E1325","v":0},{"$f":"DATA!H1325","v":0},{"$f":"DATA!I1325","v":0},{"$f":"DATA!J1325","v":0},{"$f":"DATA!K1325","v":0},{"$f":"DATA!L1325","v":0},{"$f":"DATA!M1325","v":0},{"$f":"DATA!N1325","v":0},{"$f":"DATA!O1325","v":0},{"$f":"DATA!P1325","v":0}]
[{"$f":"DATA!C1326","v":0},{"$f":"DATA!D1326","v":0},{"$f":"DATA!E1326","v":0},{"$f":"DATA!H1326","v":0},{"$f":"DATA!I1326","v":0},{"$f":"DATA!J1326","v":0},{"$f":"DATA!K1326","v":0},{"$f":"DATA!L1326","v":0},{"$f":"DATA!M1326","v":0},{"$f":"DATA!N1326","v":0},{"$f":"DATA!O1326","v":0},{"$f":"DATA!P1326","v":0}]
[{"$f":"DATA!C1327","v":0},{"$f":"DATA!D1327","v":0},{"$f":"DATA!E1327","v":0},{"$f":"DATA!H1327","v":0},{"$f":"DATA!I1327","v":0},{"$f":"DATA!J1327","v":0},{"$f":"DATA!K1327","v":0},{"$f":"DATA!L1327","v":0},{"$f":"DATA!M1327","v":0},{"$f":"DATA!N1327","v":0},{"$f":"DATA!O1327","v":0},{"$f":"DATA!P1327","v":0}]
[{"$f":"DATA!C1328","v":0},{"$f":"DATA!D1328","v":0},{"$f":"DATA!E1328","v":0},{"$f":"DATA!H1328","v":0},{"$f":"DATA!I1328","v":0},{"$f":"DATA!J1328","v":0},{"$f":"DATA!K1328","v":0},{"$f":"DATA!L1328","v":0},{"$f":"DATA!M1328","v":0},{"$f":"DATA!N1328","v":0},{"$f":"DATA!O1328","v":0},{"$f":"DATA!P1328","v":0}]
[{"$f":"DATA!C1329","v":0},{"$f":"DATA!D1329","v":0},{"$f":"DATA!E1329","v":0},{"$f":"DATA!H1329","v":0},{"$f":"DATA!I1329","v":0},{"$f":"DATA!J1329","v":0},{"$f":"DATA!K1329","v":0},{"$f":"DATA!L1329","v":0},{"$f":"DATA!M1329","v":0},{"$f":"DATA!N1329","v":0},{"$f":"DATA!O1329","v":0},{"$f":"DATA!P1329","v":0}]
[{"$f":"DATA!C1330","v":0},{"$f":"DATA!D1330","v":0},{"$f":"DATA!E1330","v":0},{"$f":"DATA!H1330","v":0},{"$f":"DATA!I1330","v":0},{"$f":"DATA!J1330","v":0},{"$f":"DATA!K1330","v":0},{"$f":"DATA!L1330","v":0},{"$f":"DATA!M1330","v":0},{"$f":"DATA!N1330","v":0},{"$f":"DATA!O1330","v":0},{"$f":"DATA!P1330","v":0}]
[{"$f":"DATA!C1331","v":0},{"$f":"DATA!D1331","v":0},{"$f":"DATA!E1331","v":0},{"$f":"DATA!H1331","v":0},{"$f":"DATA!I1331","v":0},{"$f":"DATA!J1331","v":0},{"$f":"DATA!K1331","v":0},{"$f":"DATA!L1331","v":0},{"$f":"DATA!M1331","v":0},{"$f":"DATA!N1331","v":0},{"$f":"DATA!O1331","v":0},{"$f":"DATA!P1331","v":0}]
[{"$f":"DATA!C1332","v":0},{"$f":"DATA!D1332","v":0},{"$f":"DATA!E1332","v":0},{"$f":"DATA!H1332","v":0},{"$f":"DATA!I1332","v":0},{"$f":"DATA!J1332","v":0},{"$f":"DATA!K1332","v":0},{"$f":"DATA!L1332","v":0},{"$f":"DATA!M1332","v":0},{"$f":"DATA!N1332","v":0},{"$f":"DATA!O1332","v":0},{"$f":"DATA!P1332","v":0}]
[{"$f":"DATA!C1333","v":0},{"$f":"DATA!D1333","v":0},{"$f":"DATA!E1333","v":0},{"$f":"DATA!H1333","v":0},{"$f":"DATA!I1333","v":0},{"$f":"DATA!J1333","v":0},{"$f":"DATA!K1333","v":0},{"$f":"DATA!L1333","v":0},{"$f":"DATA!M1333","v":0},{"$f":"DATA!N1333","v":0},{"$f":"DATA!O1333","v":0},{"$f":"DATA!P1333","v":0}]
[{"$f":"DATA!C1334","v":0},{"$f":"DATA!D1334","v":0},{"$f":"DATA!E1334","v":0},{"$f":"DATA!H1334","v":0},{"$f":"DATA!I1334","v":0},{"$f":"DATA!J1334","v":0},{"$f":"DATA!K1334","v":0},{"$f":"DATA!L1334","v":0},{"$f":"DATA!M1334","v":0},{"$f":"DATA!N1334","v":0},{"$f":"DATA!O1334","v":0},{"$f":"DATA!P1334","v":0}]
[{"$f":"DATA!C1335","v":0},{"$f":"DATA!D1335","v":0},{"$f":"DATA!E1335","v":0},{"$f":"DATA!H1335","v":0},{"$f":"DATA!I1335","v":0},{"$f":"DATA!J1335","v":0},{"$f":"DATA!K1335","v":0},{"$f":"DATA!L1335","v":0},{"$f":"DATA!M1335","v":0},{"$f":"DATA!N1335","v":0},{"$f":"DATA!O1335","v":0},{"$f":"DATA!P1335","v":0}]
[{"$f":"DATA!C1336","v":0},{"$f":"DATA!D1336","v":0},{"$f":"DATA!E1336","v":0},{"$f":"DATA!H1336","v":0},{"$f":"DATA!I1336","v":0},{"$f":"DATA!J1336","v":0},{"$f":"DATA!K1336","v":0},{"$f":"DATA!L1336","v":0},{"$f":"DATA!M1336","v":0},{"$f":"DATA!N1336","v":0},{"$f":"DATA!O1336","v":0},{"$f":"DATA!P1336","v":0}]
[{"$f":"DATA!C1337","v":0},{"$f":"DATA!D1337","v":0},{"$f":"DATA!E1337","v":0},{"$f":"DATA!H1337","v":0},{"$f":"DATA!I1337","v":0},{"$f":"DATA!J1337","v":0},{"$f":"DATA!K1337","v":0},{"$f":"DATA!L1337","v":0},{"$f":"DATA!M1337","v":0},{"$f":"DATA!N1337","v":0},{"$f":"DATA!O1337","v":0},{"$f":"DATA!P1337","v":0}]
[{"$f":"DATA!C1338","v":0},{"$f":"DATA!D1338","v":0},{"$f":"DATA!E1338","v":0},{"$f":"DATA!H1338","v":0},{"$f":"DATA!I1338","v":0},{"$f":"DATA!J1338","v":0},{"$f":"DATA!K1338","v":0},{"$f":"DATA!L1338","v":0},{"$f":"DATA!M1338","v":0},{"$f":"DATA!N1338","v":0},{"$f":"DATA!O1338","v":0},{"$f":"DATA!P1338","v":0}]
[{"$f":"DATA!C1339","v":0},{"$f":"DATA!D1339","v":0},{"$f":"DATA!E1339","v":0},{"$f":"DATA!H1339","v":0},{"$f":"DATA!I1339","v":0},{"$f":"DATA!J1339","v":0},{"$f":"DATA!K1339","v":0},{"$f":"DATA!L1339","v":0},{"$f":"DATA!M1339","v":0},{"$f":"DATA!N1339","v":0},{"$f":"DATA!O1339","v":0},{"$f":"DATA!P1339","v":0}]
[{"$f":"DATA!C1340","v":0},{"$f":"DATA!D1340","v":0},{"$f":"DATA!E1340","v":0},{"$f":"DATA!H1340","v":0},{"$f":"DATA!I1340","v":0},{"$f":"DATA!J1340","v":0},{"$f":"DATA!K1340","v":0},{"$f":"DATA!L1340","v":0},{"$f":"DATA!M1340","v":0},{"$f":"DATA!N1340","v":0},{"$f":"DATA!O1340","v":0},{"$f":"DATA!P1340","v":0}]
[{"$f":"DATA!C1341","v":0},{"$f":"DATA!D1341","v":0},{"$f":"DATA!E1341","v":0},{"$f":"DATA!H1341","v":0},{"$f":"DATA!I1341","v":0},{"$f":"DATA!J1341","v":0},{"$f":"DATA!K1341","v":0},{"$f":"DATA!L1341","v":0},{"$f":"DATA!M1341","v":0},{"$f":"DATA!N1341","v":0},{"$f":"DATA!O1341","v":0},{"$f":"DATA!P1341","v":0}]
[{"$f":"DATA!C1342","v":0},{"$f":"DATA!D1342","v":0},{"$f":"DATA!E1342","v":0},{"$f":"DATA!H1342","v":0},{"$f":"DATA!I1342","v":0},{"$f":"DATA!J1342","v":0},{"$f":"DATA!K1342","v":0},{"$f":"DATA!L1342","v":0},{"$f":"DATA!M1342","v":0},{"$f":"DATA!N1342","v":0},{"$f":"DATA!O1342","v":0},{"$f":"DATA!P1342","v":0}]
[{"$f":"DATA!C1343","v":0},{"$f":"DATA!D1343","v":0},{"$f":"DATA!E1343","v":0},{"$f":"DATA!H1343","v":0},{"$f":"DATA!I1343","v":0},{"$f":"DATA!J1343","v":0},{"$f":"DATA!K1343","v":0},{"$f":"DATA!L1343","v":0},{"$f":"DATA!M1343","v":0},{"$f":"DATA!N1343","v":0},{"$f":"DATA!O1343","v":0},{"$f":"DATA!P1343","v":0}]
[{"$f":"DATA!C1344","v":0},{"$f":"DATA!D1344","v":0},{"$f":"DATA!E1344","v":0},{"$f":"DATA!H1344","v":0},{"$f":"DATA!I1344","v":0},{"$f":"DATA!J1344","v":0},{"$f":"DATA!K1344","v":0},{"$f":"DATA!L1344","v":0},{"$f":"DATA!M1344","v":0},{"$f":"DATA!N1344","v":0},{"$f":"DATA!O1344","v":0},{"$f":"DATA!P1344","v":0}]
[{"$f":"DATA!C1345","v":0},{"$f":"DATA!D1345","v":0},{"$f":"DATA!E1345","v":0},{"$f":"DATA!H1345","v":0},{"$f":"DATA!I1345","v":0},{"$f":"DATA!J1345","v":0},{"$f":"DATA!K1345","v":0},{"$f":"DATA!L1345","v":0},{"$f":"DATA!M1345","v":0},{"$f":"DATA!N1345","v":0},{"$f":"DATA!O1345","v":0},{"$f":"DATA!P1345","v":0}]
[{"$f":"DATA!C1346","v":0},{"$f":"DATA!D1346","v":0},{"$f":"DATA!E1346","v":0},{"$f":"DATA!H1346","v":0},{"$f":"DATA!I1346","v":0},{"$f":"DATA!J1346","v":0},{"$f":"DATA!K1346","v":0},{"$f":"DATA!L1346","v":0},{"$f":"DATA!M1346","v":0},{"$f":"DATA!N1346","v":0},{"$f":"DATA!O1346","v":0},{"$f":"DATA!P1346","v":0}]
[{"$f":"DATA!C1347","v":0},{"$f":"DATA!D1347","v":0},{"$f":"DATA!E1347","v":0},{"$f":"DATA!H1347","v":0},{"$f":"DATA!I1347","v":0},{"$f":"DATA!J1347","v":0},{"$f":"DATA!K1347","v":0},{"$f":"DATA!L1347","v":0},{"$f":"DATA!M1347","v":0},{"$f":"DATA!N1347","v":0},{"$f":"DATA!O1347","v":0},{"$f":"DATA!P1347","v":0}]
[{"$f":"DATA!C1348","v":0},{"$f":"DATA!D1348","v":0},{"$f":"DATA!E1348","v":0},{"$f":"DATA!H1348","v":0},{"$f":"DATA!I1348","v":0},{"$f":"DATA!J1348","v":0},{"$f":"DATA!K1348","v":0},{"$f":"DATA!L1348","v":0},{"$f":"DATA!M1348","v":0},{"$f":"DATA!N1348","v":0},{"$f":"DATA!O1348","v":0},{"$f":"DATA!P1348","v":0}]
[{"$f":"DATA!C1349","v":0},{"$f":"DATA!D1349","v":0},{"$f":"DATA!E1349","v":0},{"$f":"DATA!H1349","v":0},{"$f":"DATA!I1349","v":0},{"$f":"DATA!J1349","v":0},{"$f":"DATA!K1349","v":0},{"$f":"DATA!L1349","v":0},{"$f":"DATA!M1349","v":0},{"$f":"DATA!N1349","v":0},{"$f":"DATA!O1349","v":0},{"$f":"DATA!P1349","v":0}]
[{"$f":"DATA!C1350","v":0},{"$f":"DATA!D1350","v":0},{"$f":"DATA!E1350","v":0},{"$f":"DATA!H1350","v":0},{"$f":"DATA!I1350","v":0},{"$f":"DATA!J1350","v":0},{"$f":"DATA!K1350","v":0},{"$f":"DATA!L1350","v":0},{"$f":"DATA!M1350","v":0},{"$f":"DATA!N1350","v":0},{"$f":"DATA!O1350","v":0},{"$f":"DATA!P1350","v":0}]
[{"$f":"DATA!C1351","v":0},{"$f":"DATA!D1351","v":0},{"$f":"DATA!E1351","v":0},{"$f":"DATA!H1351","v":0},{"$f":"DATA!I1351","v":0},{"$f":"DATA!J1351","v":0},{"$f":"DATA!K1351","v":0},{"$f":"DATA!L1351","v":0},{"$f":"DATA!M1351","v":0},{"$f":"DATA!N1351","v":0},{"$f":"DATA!O1351","v":0},{"$f":"DATA!P1351","v":0}]
[{"$f":"DATA!C1352","v":0},{"$f":"DATA!D1352","v":0},{"$f":"DATA!E1352","v":0},{"$f":"DATA!H1352","v":0},{"$f":"DATA!I1352","v":0},{"$f":"DATA!J1352","v":0},{"$f":"DATA!K1352","v":0},{"$f":"DATA!L1352","v":0},{"$f":"DATA!M1352","v":0},{"$f":"DATA!N1352","v":0},{"$f":"DATA!O1352","v":0},{"$f":"DATA!P1352","v":0}]
[{"$f":"DATA!C1353","v":0},{"$f":"DATA!D1353","v":0},{"$f":"DATA!E1353","v":0},{"$f":"DATA!H1353","v":0},{"$f":"DATA!I1353","v":0},{"$f":"DATA!J1353","v":0},{"$f":"DATA!K1353","v":0},{"$f":"DATA!L1353","v":0},{"$f":"DATA!M1353","v":0},{"$f":"DATA!N1353","v":0},{"$f":"DATA!O1353","v":0},{"$f":"DATA!P1353","v":0}]
[{"$f":"DATA!C1354","v":0},{"$f":"DATA!D1354","v":0},{"$f":"DATA!E1354","v":0},{"$f":"DATA!H1354","v":0},{"$f":"DATA!I1354","v":0},{"$f":"DATA!J1354","v":0},{"$f":"DATA!K1354","v":0},{"$f":"DATA!L1354","v":0},{"$f":"DATA!M1354","v":0},{"$f":"DATA!N1354","v":0},{"$f":"DATA!O1354","v":0},{"$f":"DATA!P1354","v":0}]
[{"$f":"DATA!C1355","v":0},{"$f":"DATA!D1355","v":0},{"$f":"DATA!E1355","v":0},{"$f":"DATA!H1355","v":0},{"$f":"DATA!I1355","v":0},{"$f":"DATA!J1355","v":0},{"$f":"DATA!K1355","v":0},{"$f":"DATA!L1355","v":0},{"$f":"DATA!M1355","v":0},{"$f":"DATA!N1355","v":0},{"$f":"DATA!O1355","v":0},{"$f":"DATA!P1355","v":0}]
[{"$f":"DATA!C1356","v":0},{"$f":"DATA!D1356","v":0},{"$f":"DATA!E1356","v":0},{"$f":"DATA!H1356","v":0},{"$f":"DATA!I1356","v":0},{"$f":"DATA!J1356","v":0},{"$f":"DATA!K1356","v":0},{"$f":"DATA!L1356","v":0},{"$f":"DATA!M1356","v":0},{"$f":"DATA!N1356","v":0},{"$f":"DATA!O1356","v":0},{"$f":"DATA!P1356","v":0}]
[{"$f":"DATA!C1357","v":0},{"$f":"DATA!D1357","v":0},{"$f":"DATA!E1357","v":0},{"$f":"DATA!H1357","v":0},{"$f":"DATA!I1357","v":0},{"$f":"DATA!J1357","v":0},{"$f":"DATA!K1357","v":0},{"$f":"DATA!L1357","v":0},{"$f":"DATA!M1357","v":0},{"$f":"DATA!N1357","v":0},{"$f":"DATA!O1357","v":0},{"$f":"DATA!P1357","v":0}]
[{"$f":"DATA!C1358","v":0},{"$f":"DATA!D1358","v":0},{"$f":"DATA!E1358","v":0},{"$f":"DATA!H1358","v":0},{"$f":"DATA!I1358","v":0},{"$f":"DATA!J1358","v":0},{"$f":"DATA!K1358","v":0},{"$f":"DATA!L1358","v":0},{"$f":"DATA!M1358","v":0},{"$f":"DATA!N1358","v":0},{"$f":"DATA!O1358","v":0},{"$f":"DATA!P1358","v":0}]
[{"$f":"DATA!C1359","v":0},{"$f":"DATA!D1359","v":0},{"$f":"DATA!E1359","v":0},{"$f":"DATA!H1359","v":0},{"$f":"DATA!I1359","v":0},{"$f":"DATA!J1359","v":0},{"$f":"DATA!K1359","v":0},{"$f":"DATA!L1359","v":0},{"$f":"DATA!M1359","v":0},{"$f":"DATA!N1359","v":0},{"$f":"DATA!O1359","v":0},{"$f":"DATA!P1359","v":0}]
[{"$f":"DATA!C1360","v":0},{"$f":"DATA!D1360","v":0},{"$f":"DATA!E1360","v":0},{"$f":"DATA!H1360","v":0},{"$f":"DATA!I1360","v":0},{"$f":"DATA!J1360","v":0},{"$f":"DATA!K1360","v":0},{"$f":"DATA!L1360","v":0},{"$f":"DATA!M1360","v":0},{"$f":"DATA!N1360","v":0},{"$f":"DATA!O1360","v":0},{"$f":"DATA!P1360","v":0}]
[{"$f":"DATA!C1361","v":0},{"$f":"DATA!D1361","v":0},{"$f":"DATA!E1361","v":0},{"$f":"DATA!H1361","v":0},{"$f":"DATA!I1361","v":0},{"$f":"DATA!J1361","v":0},{"$f":"DATA!K1361","v":0},{"$f":"DATA!L1361","v":0},{"$f":"DATA!M1361","v":0},{"$f":"DATA!N1361","v":0},{"$f":"DATA!O1361","v":0},{"$f":"DATA!P1361","v":0}]
[{"$f":"DATA!C1362","v":0},{"$f":"DATA!D1362","v":0},{"$f":"DATA!E1362","v":0},{"$f":"DATA!H1362","v":0},{"$f":"DATA!I1362","v":0},{"$f":"DATA!J1362","v":0},{"$f":"DATA!K1362","v":0},{"$f":"DATA!L1362","v":0},{"$f":"DATA!M1362","v":0},{"$f":"DATA!N1362","v":0},{"$f":"DATA!O1362","v":0},{"$f":"DATA!P1362","v":0}]
[{"$f":"DATA!C1363","v":0},{"$f":"DATA!D1363","v":0},{"$f":"DATA!E1363","v":0},{"$f":"DATA!H1363","v":0},{"$f":"DATA!I1363","v":0},{"$f":"DATA!J1363","v":0},{"$f":"DATA!K1363","v":0},{"$f":"DATA!L1363","v":0},{"$f":"DATA!M1363","v":0},{"$f":"DATA!N1363","v":0},{"$f":"DATA!O1363","v":0},{"$f":"DATA!P1363","v":0}]
[{"$f":"DATA!C1364","v":0},{"$f":"DATA!D1364","v":0},{"$f":"DATA!E1364","v":0},{"$f":"DATA!H1364","v":0},{"$f":"DATA!I1364","v":0},{"$f":"DATA!J1364","v":0},{"$f":"DATA!K1364","v":0},{"$f":"DATA!L1364","v":0},{"$f":"DATA!M1364","v":0},{"$f":"DATA!N1364","v":0},{"$f":"DATA!O1364","v":0},{"$f":"DATA!P1364","v":0}]
[{"$f":"DATA!C1365","v":0},{"$f":"DATA!D1365","v":0},{"$f":"DATA!E1365","v":0},{"$f":"DATA!H1365","v":0},{"$f":"DATA!I1365","v":0},{"$f":"DATA!J1365","v":0},{"$f":"DATA!K1365","v":0},{"$f":"DATA!L1365","v":0},{"$f":"DATA!M1365","v":0},{"$f":"DATA!N1365","v":0},{"$f":"DATA!O1365","v":0},{"$f":"DATA!P1365","v":0}]
[{"$f":"DATA!C1366","v":0},{"$f":"DATA!D1366","v":0},{"$f":"DATA!E1366","v":0},{"$f":"DATA!H1366","v":0},{"$f":"DATA!I1366","v":0},{"$f":"DATA!J1366","v":0},{"$f":"DATA!K1366","v":0},{"$f":"DATA!L1366","v":0},{"$f":"DATA!M1366","v":0},{"$f":"DATA!N1366","v":0},{"$f":"DATA!O1366","v":0},{"$f":"DATA!P1366","v":0}]
[{"$f":"DATA!C1367","v":0},{"$f":"DATA!D1367","v":0},{"$f":"DATA!E1367","v":0},{"$f":"DATA!H1367","v":0},{"$f":"DATA!I1367","v":0},{"$f":"DATA!J1367","v":0},{"$f":"DATA!K1367","v":0},{"$f":"DATA!L1367","v":0},{"$f":"DATA!M1367","v":0},{"$f":"DATA!N1367","v":0},{"$f":"DATA!O1367","v":0},{"$f":"DATA!P1367","v":0}]
[{"$f":"DATA!C1368","v":0},{"$f":"DATA!D1368","v":0},{"$f":"DATA!E1368","v":0},{"$f":"DATA!H1368","v":0},{"$f":"DATA!I1368","v":0},{"$f":"DATA!J1368","v":0},{"$f":"DATA!K1368","v":0},{"$f":"DATA!L1368","v":0},{"$f":"DATA!M1368","v":0},{"$f":"DATA!N1368","v":0},{"$f":"DATA!O1368","v":0},{"$f":"DATA!P1368","v":0}]
[{"$f":"DATA!C1369","v":0},{"$f":"DATA!D1369","v":0},{"$f":"DATA!E1369","v":0},{"$f":"DATA!H1369","v":0},{"$f":"DATA!I1369","v":0},{"$f":"DATA!J1369","v":0},{"$f":"DATA!K1369","v":0},{"$f":"DATA!L1369","v":0},{"$f":"DATA!M1369","v":0},{"$f":"DATA!N1369","v":0},{"$f":"DATA!O1369","v":0},{"$f":"DATA!P1369","v":0}]
[{"$f":"DATA!C1370","v":0},{"$f":"DATA!D1370","v":0},{"$f":"DATA!E1370","v":0},{"$f":"DATA!H1370","v":0},{"$f":"DATA!I1370","v":0},{"$f":"DATA!J1370","v":0},{"$f":"DATA!K1370","v":0},{"$f":"DATA!L1370","v":0},{"$f":"DATA!M1370","v":0},{"$f":"DATA!N1370","v":0},{"$f":"DATA!O1370","v":0},{"$f":"DATA!P1370","v":0}]
[{"$f":"DATA!C1371","v":0},{"$f":"DATA!D1371","v":0},{"$f":"DATA!E1371","v":0},{"$f":"DATA!H1371","v":0},{"$f":"DATA!I1371","v":0},{"$f":"DATA!J1371","v":0},{"$f":"DATA!K1371","v":0},{"$f":"DATA!L1371","v":0},{"$f":"DATA!M1371","v":0},{"$f":"DATA!N1371","v":0},{"$f":"DATA!O1371","v":0},{"$f":"DATA!P1371","v":0}]
[{"$f":"DATA!C1372","v":0},{"$f":"DATA!D1372","v":0},{"$f":"DATA!E1372","v":0},{"$f":"DATA!H1372","v":0},{"$f":"DATA!I1372","v":0},{"$f":"DATA!J1372","v":0},{"$f":"DATA!K1372","v":0},{"$f":"DATA!L1372","v":0},{"$f":"DATA!M1372","v":0},{"$f":"DATA!N1372","v":0},{"$f":"DATA!O1372","v":0},{"$f":"DATA!P1372","v":0}]
[{"$f":"DATA!C1373","v":0},{"$f":"DATA!D1373","v":0},{"$f":"DATA!E1373","v":0},{"$f":"DATA!H1373","v":0},{"$f":"DATA!I1373","v":0},{"$f":"DATA!J1373","v":0},{"$f":"DATA!K1373","v":0},{"$f":"DATA!L1373","v":0},{"$f":"DATA!M1373","v":0},{"$f":"DATA!N1373","v":0},{"$f":"DATA!O1373","v":0},{"$f":"DATA!P1373","v":0}]
[{"$f":"DATA!C1374","v":0},{"$f":"DATA!D1374","v":0},{"$f":"DATA!E1374","v":0},{"$f":"DATA!H1374","v":0},{"$f":"DATA!I1374","v":0},{"$f":"DATA!J1374","v":0},{"$f":"DATA!K1374","v":0},{"$f":"DATA!L1374","v":0},{"$f":"DATA!M1374","v":0},{"$f":"DATA!N1374","v":0},{"$f":"DATA!O1374","v":0},{"$f":"DATA!P1374","v":0}]
[{"$f":"DATA!C1375","v":0},{"$f":"DATA!D1375","v":0},{"$f":"DATA!E1375","v":0},{"$f":"DATA!H1375","v":0},{"$f":"DATA!I1375","v":0},{"$f":"DATA!J1375","v":0},{"$f":"DATA!K1375","v":0},{"$f":"DATA!L1375","v":0},{"$f":"DATA!M1375","v":0},{"$f":"DATA!N1375","v":0},{"$f":"DATA!O1375","v":0},{"$f":"DATA!P1375","v":0}]
[{"$f":"DATA!C1376","v":0},{"$f":"DATA!D1376","v":0},{"$f":"DATA!E1376","v":0},{"$f":"DATA!H1376","v":0},{"$f":"DATA!I1376","v":0},{"$f":"DATA!J1376","v":0},{"$f":"DATA!K1376","v":0},{"$f":"DATA!L1376","v":0},{"$f":"DATA!M1376","v":0},{"$f":"DATA!N1376","v":0},{"$f":"DATA!O1376","v":0},{"$f":"DATA!P1376","v":0}]
[{"$f":"DATA!C1377","v":0},{"$f":"DATA!D1377","v":0},{"$f":"DATA!E1377","v":0},{"$f":"DATA!H1377","v":0},{"$f":"DATA!I1377","v":0},{"$f":"DATA!J1377","v":0},{"$f":"DATA!K1377","v":0},{"$f":"DATA!L1377","v":0},{"$f":"DATA!M1377","v":0},{"$f":"DATA!N1377","v":0},{"$f":"DATA!O1377","v":0},{"$f":"DATA!P1377","v":0}]
[{"$f":"DATA!C1378","v":0},{"$f":"DATA!D1378","v":0},{"$f":"DATA!E1378","v":0},{"$f":"DATA!H1378","v":0},{"$f":"DATA!I1378","v":0},{"$f":"DATA!J1378","v":0},{"$f":"DATA!K1378","v":0},{"$f":"DATA!L1378","v":0},{"$f":"DATA!M1378","v":0},{"$f":"DATA!N1378","v":0},{"$f":"DATA!O1378","v":0},{"$f":"DATA!P1378","v":0}]
[{"$f":"DATA!C1379","v":0},{"$f":"DATA!D1379","v":0},{"$f":"DATA!E1379","v":0},{"$f":"DATA!H1379","v":0},{"$f":"DATA!I1379","v":0},{"$f":"DATA!J1379","v":0},{"$f":"DATA!K1379","v":0},{"$f":"DATA!L1379","v":0},{"$f":"DATA!M1379","v":0},{"$f":"DATA!N1379","v":0},{"$f":"DATA!O1379","v":0},{"$f":"DATA!P1379","v":0}]
[{"$f":"DATA!C1380","v":0},{"$f":"DATA!D1380","v":0},{"$f":"DATA!E1380","v":0},{"$f":"DATA!H1380","v":0},{"$f":"DATA!I1380","v":0},{"$f":"DATA!J1380","v":0},{"$f":"DATA!K1380","v":0},{"$f":"DATA!L1380","v":0},{"$f":"DATA!M1380","v":0},{"$f":"DATA!N1380","v":0},{"$f":"DATA!O1380","v":0},{"$f":"DATA!P1380","v":0}]
[{"$f":"DATA!C1381","v":0},{"$f":"DATA!D1381","v":0},{"$f":"DATA!E1381","v":0},{"$f":"DATA!H1381","v":0},{"$f":"DATA!I1381","v":0},{"$f":"DATA!J1381","v":0},{"$f":"DATA!K1381","v":0},{"$f":"DATA!L1381","v":0},{"$f":"DATA!M1381","v":0},{"$f":"DATA!N1381","v":0},{"$f":"DATA!O1381","v":0},{"$f":"DATA!P1381","v":0}]
[{"$f":"DATA!C1382","v":0},{"$f":"DATA!D1382","v":0},{"$f":"DATA!E1382","v":0},{"$f":"DATA!H1382","v":0},{"$f":"DATA!I1382","v":0},{"$f":"DATA!J1382","v":0},{"$f":"DATA!K1382","v":0},{"$f":"DATA!L1382","v":0},{"$f":"DATA!M1382","v":0},{"$f":"DATA!N1382","v":0},{"$f":"DATA!O1382","v":0},{"$f":"DATA!P1382","v":0}]
[{"$f":"DATA!C1383","v":0},{"$f":"DATA!D1383","v":0},{"$f":"DATA!E1383","v":0},{"$f":"DATA!H1383","v":0},{"$f":"DATA!I1383","v":0},{"$f":"DATA!J1383","v":0},{"$f":"DATA!K1383","v":0},{"$f":"DATA!L1383","v":0},{"$f":"DATA!M1383","v":0},{"$f":"DATA!N1383","v":0},{"$f":"DATA!O1383","v":0},{"$f":"DATA!P1383","v":0}]
[{"$f":"DATA!C1384","v":0},{"$f":"DATA!D1384","v":0},{"$f":"DATA!E1384","v":0},{"$f":"DATA!H1384","v":0},{"$f":"DATA!I1384","v":0},{"$f":"DATA!J1384","v":0},{"$f":"DATA!K1384","v":0},{"$f":"DATA!L1384","v":0},{"$f":"DATA!M1384","v":0},{"$f":"DATA!N1384","v":0},{"$f":"DATA!O1384","v":0},{"$f":"DATA!P1384","v":0}]
[{"$f":"DATA!C1385","v":0},{"$f":"DATA!D1385","v":0},{"$f":"DATA!E1385","v":0},{"$f":"DATA!H1385","v":0},{"$f":"DATA!I1385","v":0},{"$f":"DATA!J1385","v":0},{"$f":"DATA!K1385","v":0},{"$f":"DATA!L1385","v":0},{"$f":"DATA!M1385","v":0},{"$f":"DATA!N1385","v":0},{"$f":"DATA!O1385","v":0},{"$f":"DATA!P1385","v":0}]
[{"$f":"DATA!C1386","v":0},{"$f":"DATA!D1386","v":0},{"$f":"DATA!E1386","v":0},{"$f":"DATA!H1386","v":0},{"$f":"DATA!I1386","v":0},{"$f":"DATA!J1386","v":0},{"$f":"DATA!K1386","v":0},{"$f":"DATA!L1386","v":0},{"$f":"DATA!M1386","v":0},{"$f":"DATA!N1386","v":0},{"$f":"DATA!O1386","v":0},{"$f":"DATA!P1386","v":0}]
[{"$f":"DATA!C1387","v":0},{"$f":"DATA!D1387","v":0},{"$f":"DATA!E1387","v":0},{"$f":"DATA!H1387","v":0},{"$f":"DATA!I1387","v":0},{"$f":"DATA!J1387","v":0},{"$f":"DATA!K1387","v":0},{"$f":"DATA!L1387","v":0},{"$f":"DATA!M1387","v":0},{"$f":"DATA!N1387","v":0},{"$f":"DATA!O1387","v":0},{"$f":"DATA!P1387","v":0}]
[{"$f":"DATA!C1388","v":0},{"$f":"DATA!D1388","v":0},{"$f":"DATA!E1388","v":0},{"$f":"DATA!H1388","v":0},{"$f":"DATA!I1388","v":0},{"$f":"DATA!J1388","v":0},{"$f":"DATA!K1388","v":0},{"$f":"DATA!L1388","v":0},{"$f":"DATA!M1388","v":0},{"$f":"DATA!N1388","v":0},{"$f":"DATA!O1388","v":0},{"$f":"DATA!P1388","v":0}]
[{"$f":"DATA!C1389","v":0},{"$f":"DATA!D1389","v":0},{"$f":"DATA!E1389","v":0},{"$f":"DATA!H1389","v":0},{"$f":"DATA!I1389","v":0},{"$f":"DATA!J1389","v":0},{"$f":"DATA!K1389","v":0},{"$f":"DATA!L1389","v":0},{"$f":"DATA!M1389","v":0},{"$f":"DATA!N1389","v":0},{"$f":"DATA!O1389","v":0},{"$f":"DATA!P1389","v":0}]
[{"$f":"DATA!C1390","v":0},{"$f":"DATA!D1390","v":0},{"$f":"DATA!E1390","v":0},{"$f":"DATA!H1390","v":0},{"$f":"DATA!I1390","v":0},{"$f":"DATA!J1390","v":0},{"$f":"DATA!K1390","v":0},{"$f":"DATA!L1390","v":0},{"$f":"DATA!M1390","v":0},{"$f":"DATA!N1390","v":0},{"$f":"DATA!O1390","v":0},{"$f":"DATA!P1390","v":0}]
[{"$f":"DATA!C1391","v":0},{"$f":"DATA!D1391","v":0},{"$f":"DATA!E1391","v":0},{"$f":"DATA!H1391","v":0},{"$f":"DATA!I1391","v":0},{"$f":"DATA!J1391","v":0},{"$f":"DATA!K1391","v":0},{"$f":"DATA!L1391","v":0},{"$f":"DATA!M1391","v":0},{"$f":"DATA!N1391","v":0},{"$f":"DATA!O1391","v":0},{"$f":"DATA!P1391","v":0}]
[{"$f":"DATA!C1392","v":0},{"$f":"DATA!D1392","v":0},{"$f":"DATA!E1392","v":0},{"$f":"DATA!H1392","v":0},{"$f":"DATA!I1392","v":0},{"$f":"DATA!J1392","v":0},{"$f":"DATA!K1392","v":0},{"$f":"DATA!L1392","v":0},{"$f":"DATA!M1392","v":0},{"$f":"DATA!N1392","v":0},{"$f":"DATA!O1392","v":0},{"$f":"DATA!P1392","v":0}]
[{"$f":"DATA!C1393","v":0},{"$f":"DATA!D1393","v":0},{"$f":"DATA!E1393","v":0},{"$f":"DATA!H1393","v":0},{"$f":"DATA!I1393","v":0},{"$f":"DATA!J1393","v":0},{"$f":"DATA!K1393","v":0},{"$f":"DATA!L1393","v":0},{"$f":"DATA!M1393","v":0},{"$f":"DATA!N1393","v":0},{"$f":"DATA!O1393","v":0},{"$f":"DATA!P1393","v":0}]
[{"$f":"DATA!C1394","v":0},{"$f":"DATA!D1394","v":0},{"$f":"DATA!E1394","v":0},{"$f":"DATA!H1394","v":0},{"$f":"DATA!I1394","v":0},{"$f":"DATA!J1394","v":0},{"$f":"DATA!K1394","v":0},{"$f":"DATA!L1394","v":0},{"$f":"DATA!M1394","v":0},{"$f":"DATA!N1394","v":0},{"$f":"DATA!O1394","v":0},{"$f":"DATA!P1394","v":0}]
[{"$f":"DATA!C1395","v":0},{"$f":"DATA!D1395","v":0},{"$f":"DATA!E1395","v":0},{"$f":"DATA!H1395","v":0},{"$f":"DATA!I1395","v":0},{"$f":"DATA!J1395","v":0},{"$f":"DATA!K1395","v":0},{"$f":"DATA!L1395","v":0},{"$f":"DATA!M1395","v":0},{"$f":"DATA!N1395","v":0},{"$f":"DATA!O1395","v":0},{"$f":"DATA!P1395","v":0}]
[{"$f":"DATA!C1396","v":0},{"$f":"DATA!D1396","v":0},{"$f":"DATA!E1396","v":0},{"$f":"DATA!H1396","v":0},{"$f":"DATA!I1396","v":0},{"$f":"DATA!J1396","v":0},{"$f":"DATA!K1396","v":0},{"$f":"DATA!L1396","v":0},{"$f":"DATA!M1396","v":0},{"$f":"DATA!N1396","v":0},{"$f":"DATA!O1396","v":0},{"$f":"DATA!P1396","v":0}]
[{"$f":"DATA!C1397","v":0},{"$f":"DATA!D1397","v":0},{"$f":"DATA!E1397","v":0},{"$f":"DATA!H1397","v":0},{"$f":"DATA!I1397","v":0},{"$f":"DATA!J1397","v":0},{"$f":"DATA!K1397","v":0},{"$f":"DATA!L1397","v":0},{"$f":"DATA!M1397","v":0},{"$f":"DATA!N1397","v":0},{"$f":"DATA!O1397","v":0},{"$f":"DATA!P1397","v":0}]
[{"$f":"DATA!C1398","v":0},{"$f":"DATA!D1398","v":0},{"$f":"DATA!E1398","v":0},{"$f":"DATA!H1398","v":0},{"$f":"DATA!I1398","v":0},{"$f":"DATA!J1398","v":0},{"$f":"DATA!K1398","v":0},{"$f":"DATA!L1398","v":0},{"$f":"DATA!M1398","v":0},{"$f":"DATA!N1398","v":0},{"$f":"DATA!O1398","v":0},{"$f":"DATA!P1398","v":0}]
[{"$f":"DATA!C1399","v":0},{"$f":"DATA!D1399","v":0},{"$f":"DATA!E1399","v":0},{"$f":"DATA!H1399","v":0},{"$f":"DATA!I1399","v":0},{"$f":"DATA!J1399","v":0},{"$f":"DATA!K1399","v":0},{"$f":"DATA!L1399","v":0},{"$f":"DATA!M1399","v":0},{"$f":"DATA!N1399","v":0},{"$f":"DATA!O1399","v":0},{"$f":"DATA!P1399","v":0}]
[{"$f":"DATA!C1400","v":0},{"$f":"DATA!D1400","v":0},{"$f":"DATA!E1400","v":0},{"$f":"DATA!H1400","v":0},{"$f":"DATA!I1400","v":0},{"$f":"DATA!J1400","v":0},{"$f":"DATA!K1400","v":0},{"$f":"DATA!L1400","v":0},{"$f":"DATA!M1400","v":0},{"$f":"DATA!N1400","v":0},{"$f":"DATA!O1400","v":0},{"$f":"DATA!P1400","v":0}]
[{"$f":"DATA!C1401","v":0},{"$f":"DATA!D1401","v":0},{"$f":"DATA!E1401","v":0},{"$f":"DATA!H1401","v":0},{"$f":"DATA!I1401","v":0},{"$f":"DATA!J1401","v":0},{"$f":"DATA!K1401","v":0},{"$f":"DATA!L1401","v":0},{"$f":"DATA!M1401","v":0},{"$f":"DATA!N1401","v":0},{"$f":"DATA!O1401","v":0},{"$f":"DATA!P1401","v":0}]
[{"$f":"DATA!C1402","v":0},{"$f":"DATA!D1402","v":0},{"$f":"DATA!E1402","v":0},{"$f":"DATA!H1402","v":0},{"$f":"DATA!I1402","v":0},{"$f":"DATA!J1402","v":0},{"$f":"DATA!K1402","v":0},{"$f":"DATA!L1402","v":0},{"$f":"DATA!M1402","v":0},{"$f":"DATA!N1402","v":0},{"$f":"DATA!O1402","v":0},{"$f":"DATA!P1402","v":0}]
[{"$f":"DATA!C1403","v":0},{"$f":"DATA!D1403","v":0},{"$f":"DATA!E1403","v":0},{"$f":"DATA!H1403","v":0},{"$f":"DATA!I1403","v":0},{"$f":"DATA!J1403","v":0},{"$f":"DATA!K1403","v":0},{"$f":"DATA!L1403","v":0},{"$f":"DATA!M1403","v":0},{"$f":"DATA!N1403","v":0},{"$f":"DATA!O1403","v":0},{"$f":"DATA!P1403","v":0}]
[{"$f":"DATA!C1404","v":0},{"$f":"DATA!D1404","v":0},{"$f":"DATA!E1404","v":0},{"$f":"DATA!H1404","v":0},{"$f":"DATA!I1404","v":0},{"$f":"DATA!J1404","v":0},{"$f":"DATA!K1404","v":0},{"$f":"DATA!L1404","v":0},{"$f":"DATA!M1404","v":0},{"$f":"DATA!N1404","v":0},{"$f":"DATA!O1404","v":0},{"$f":"DATA!P1404","v":0}]
[{"$f":"DATA!C1405","v":0},{"$f":"DATA!D1405","v":0},{"$f":"DATA!E1405","v":0},{"$f":"DATA!H1405","v":0},{"$f":"DATA!I1405","v":0},{"$f":"DATA!J1405","v":0},{"$f":"DATA!K1405","v":0},{"$f":"DATA!L1405","v":0},{"$f":"DATA!M1405","v":0},{"$f":"DATA!N1405","v":0},{"$f":"DATA!O1405","v":0},{"$f":"DATA!P1405","v":0}]
[{"$f":"DATA!C1406","v":0},{"$f":"DATA!D1406","v":0},{"$f":"DATA!E1406","v":0},{"$f":"DATA!H1406","v":0},{"$f":"DATA!I1406","v":0},{"$f":"DATA!J1406","v":0},{"$f":"DATA!K1406","v":0},{"$f":"DATA!L1406","v":0},{"$f":"DATA!M1406","v":0},{"$f":"DATA!N1406","v":0},{"$f":"DATA!O1406","v":0},{"$f":"DATA!P1406","v":0}]
[{"$f":"DATA!C1407","v":0},{"$f":"DATA!D1407","v":0},{"$f":"DATA!E1407","v":0},{"$f":"DATA!H1407","v":0},{"$f":"DATA!I1407","v":0},{"$f":"DATA!J1407","v":0},{"$f":"DATA!K1407","v":0},{"$f":"DATA!L1407","v":0},{"$f":"DATA!M1407","v":0},{"$f":"DATA!N1407","v":0},{"$f":"DATA!O1407","v":0},{"$f":"DATA!P1407","v":0}]
[{"$f":"DATA!C1408","v":0},{"$f":"DATA!D1408","v":0},{"$f":"DATA!E1408","v":0},{"$f":"DATA!H1408","v":0},{"$f":"DATA!I1408","v":0},{"$f":"DATA!J1408","v":0},{"$f":"DATA!K1408","v":0},{"$f":"DATA!L1408","v":0},{"$f":"DATA!M1408","v":0},{"$f":"DATA!N1408","v":0},{"$f":"DATA!O1408","v":0},{"$f":"DATA!P1408","v":0}]
[{"$f":"DATA!C1409","v":0},{"$f":"DATA!D1409","v":0},{"$f":"DATA!E1409","v":0},{"$f":"DATA!H1409","v":0},{"$f":"DATA!I1409","v":0},{"$f":"DATA!J1409","v":0},{"$f":"DATA!K1409","v":0},{"$f":"DATA!L1409","v":0},{"$f":"DATA!M1409","v":0},{"$f":"DATA!N1409","v":0},{"$f":"DATA!O1409","v":0},{"$f":"DATA!P1409","v":0}]
[{"$f":"DATA!C1410","v":0},{"$f":"DATA!D1410","v":0},{"$f":"DATA!E1410","v":0},{"$f":"DATA!H1410","v":0},{"$f":"DATA!I1410","v":0},{"$f":"DATA!J1410","v":0},{"$f":"DATA!K1410","v":0},{"$f":"DATA!L1410","v":0},{"$f":"DATA!M1410","v":0},{"$f":"DATA!N1410","v":0},{"$f":"DATA!O1410","v":0},{"$f":"DATA!P1410","v":0}]
[{"$f":"DATA!C1411","v":0},{"$f":"DATA!D1411","v":0},{"$f":"DATA!E1411","v":0},{"$f":"DATA!H1411","v":0},{"$f":"DATA!I1411","v":0},{"$f":"DATA!J1411","v":0},{"$f":"DATA!K1411","v":0},{"$f":"DATA!L1411","v":0},{"$f":"DATA!M1411","v":0},{"$f":"DATA!N1411","v":0},{"$f":"DATA!O1411","v":0},{"$f":"DATA!P1411","v":0}]
[{"$f":"DATA!C1412","v":0},{"$f":"DATA!D1412","v":0},{"$f":"DATA!E1412","v":0},{"$f":"DATA!H1412","v":0},{"$f":"DATA!I1412","v":0},{"$f":"DATA!J1412","v":0},{"$f":"DATA!K1412","v":0},{"$f":"DATA!L1412","v":0},{"$f":"DATA!M1412","v":0},{"$f":"DATA!N1412","v":0},{"$f":"DATA!O1412","v":0},{"$f":"DATA!P1412","v":0}]
[{"$f":"DATA!C1413","v":0},{"$f":"DATA!D1413","v":0},{"$f":"DATA!E1413","v":0},{"$f":"DATA!H1413","v":0},{"$f":"DATA!I1413","v":0},{"$f":"DATA!J1413","v":0},{"$f":"DATA!K1413","v":0},{"$f":"DATA!L1413","v":0},{"$f":"DATA!M1413","v":0},{"$f":"DATA!N1413","v":0},{"$f":"DATA!O1413","v":0},{"$f":"DATA!P1413","v":0}]
[{"$f":"DATA!C1414","v":0},{"$f":"DATA!D1414","v":0},{"$f":"DATA!E1414","v":0},{"$f":"DATA!H1414","v":0},{"$f":"DATA!I1414","v":0},{"$f":"DATA!J1414","v":0},{"$f":"DATA!K1414","v":0},{"$f":"DATA!L1414","v":0},{"$f":"DATA!M1414","v":0},{"$f":"DATA!N1414","v":0},{"$f":"DATA!O1414","v":0},{"$f":"DATA!P1414","v":0}]
[{"$f":"DATA!C1415","v":0},{"$f":"DATA!D1415","v":0},{"$f":"DATA!E1415","v":0},{"$f":"DATA!H1415","v":0},{"$f":"DATA!I1415","v":0},{"$f":"DATA!J1415","v":0},{"$f":"DATA!K1415","v":0},{"$f":"DATA!L1415","v":0},{"$f":"DATA!M1415","v":0},{"$f":"DATA!N1415","v":0},{"$f":"DATA!O1415","v":0},{"$f":"DATA!P1415","v":0}]
[{"$f":"DATA!C1416","v":0},{"$f":"DATA!D1416","v":0},{"$f":"DATA!E1416","v":0},{"$f":"DATA!H1416","v":0},{"$f":"DATA!I1416","v":0},{"$f":"DATA!J1416","v":0},{"$f":"DATA!K1416","v":0},{"$f":"DATA!L1416","v":0},{"$f":"DATA!M1416","v":0},{"$f":"DATA!N1416","v":0},{"$f":"DATA!O1416","v":0},{"$f":"DATA!P1416","v":0}]
[{"$f":"DATA!C1417","v":0},{"$f":"DATA!D1417","v":0},{"$f":"DATA!E1417","v":0},{"$f":"DATA!H1417","v":0},{"$f":"DATA!I1417","v":0},{"$f":"DATA!J1417","v":0},{"$f":"DATA!K1417","v":0},{"$f":"DATA!L1417","v":0},{"$f":"DATA!M1417","v":0},{"$f":"DATA!N1417","v":0},{"$f":"DATA!O1417","v":0},{"$f":"DATA!P1417","v":0}]
[{"$f":"DATA!C1418","v":0},{"$f":"DATA!D1418","v":0},{"$f":"DATA!E1418","v":0},{"$f":"DATA!H1418","v":0},{"$f":"DATA!I1418","v":0},{"$f":"DATA!J1418","v":0},{"$f":"DATA!K1418","v":0},{"$f":"DATA!L1418","v":0},{"$f":"DATA!M1418","v":0},{"$f":"DATA!N1418","v":0},{"$f":"DATA!O1418","v":0},{"$f":"DATA!P1418","v":0}]
[{"$f":"DATA!C1419","v":0},{"$f":"DATA!D1419","v":0},{"$f":"DATA!E1419","v":0},{"$f":"DATA!H1419","v":0},{"$f":"DATA!I1419","v":0},{"$f":"DATA!J1419","v":0},{"$f":"DATA!K1419","v":0},{"$f":"DATA!L1419","v":0},{"$f":"DATA!M1419","v":0},{"$f":"DATA!N1419","v":0},{"$f":"DATA!O1419","v":0},{"$f":"DATA!P1419","v":0}]
[{"$f":"DATA!C1420","v":0},{"$f":"DATA!D1420","v":0},{"$f":"DATA!E1420","v":0},{"$f":"DATA!H1420","v":0},{"$f":"DATA!I1420","v":0},{"$f":"DATA!J1420","v":0},{"$f":"DATA!K1420","v":0},{"$f":"DATA!L1420","v":0},{"$f":"DATA!M1420","v":0},{"$f":"DATA!N1420","v":0},{"$f":"DATA!O1420","v":0},{"$f":"DATA!P1420","v":0}]
[{"$f":"DATA!C1421","v":0},{"$f":"DATA!D1421","v":0},{"$f":"DATA!E1421","v":0},{"$f":"DATA!H1421","v":0},{"$f":"DATA!I1421","v":0},{"$f":"DATA!J1421","v":0},{"$f":"DATA!K1421","v":0},{"$f":"DATA!L1421","v":0},{"$f":"DATA!M1421","v":0},{"$f":"DATA!N1421","v":0},{"$f":"DATA!O1421","v":0},{"$f":"DATA!P1421","v":0}]
[{"$f":"DATA!C1422","v":0},{"$f":"DATA!D1422","v":0},{"$f":"DATA!E1422","v":0},{"$f":"DATA!H1422","v":0},{"$f":"DATA!I1422","v":0},{"$f":"DATA!J1422","v":0},{"$f":"DATA!K1422","v":0},{"$f":"DATA!L1422","v":0},{"$f":"DATA!M1422","v":0},{"$f":"DATA!N1422","v":0},{"$f":"DATA!O1422","v":0},{"$f":"DATA!P1422","v":0}]
[{"$f":"DATA!C1423","v":0},{"$f":"DATA!D1423","v":0},{"$f":"DATA!E1423","v":0},{"$f":"DATA!H1423","v":0},{"$f":"DATA!I1423","v":0},{"$f":"DATA!J1423","v":0},{"$f":"DATA!K1423","v":0},{"$f":"DATA!L1423","v":0},{"$f":"DATA!M1423","v":0},{"$f":"DATA!N1423","v":0},{"$f":"DATA!O1423","v":0},{"$f":"DATA!P1423","v":0}]
[{"$f":"DATA!C1424","v":0},{"$f":"DATA!D1424","v":0},{"$f":"DATA!E1424","v":0},{"$f":"DATA!H1424","v":0},{"$f":"DATA!I1424","v":0},{"$f":"DATA!J1424","v":0},{"$f":"DATA!K1424","v":0},{"$f":"DATA!L1424","v":0},{"$f":"DATA!M1424","v":0},{"$f":"DATA!N1424","v":0},{"$f":"DATA!O1424","v":0},{"$f":"DATA!P1424","v":0}]
[{"$f":"DATA!C1425","v":0},{"$f":"DATA!D1425","v":0},{"$f":"DATA!E1425","v":0},{"$f":"DATA!H1425","v":0},{"$f":"DATA!I1425","v":0},{"$f":"DATA!J1425","v":0},{"$f":"DATA!K1425","v":0},{"$f":"DATA!L1425","v":0},{"$f":"DATA!M1425","v":0},{"$f":"DATA!N1425","v":0},{"$f":"DATA!O1425","v":0},{"$f":"DATA!P1425","v":0}]
[{"$f":"DATA!C1426","v":0},{"$f":"DATA!D1426","v":0},{"$f":"DATA!E1426","v":0},{"$f":"DATA!H1426","v":0},{"$f":"DATA!I1426","v":0},{"$f":"DATA!J1426","v":0},{"$f":"DATA!K1426","v":0},{"$f":"DATA!L1426","v":0},{"$f":"DATA!M1426","v":0},{"$f":"DATA!N1426","v":0},{"$f":"DATA!O1426","v":0},{"$f":"DATA!P1426","v":0}]
[{"$f":"DATA!C1427","v":0},{"$f":"DATA!D1427","v":0},{"$f":"DATA!E1427","v":0},{"$f":"DATA!H1427","v":0},{"$f":"DATA!I1427","v":0},{"$f":"DATA!J1427","v":0},{"$f":"DATA!K1427","v":0},{"$f":"DATA!L1427","v":0},{"$f":"DATA!M1427","v":0},{"$f":"DATA!N1427","v":0},{"$f":"DATA!O1427","v":0},{"$f":"DATA!P1427","v":0}]
[{"$f":"DATA!C1428","v":0},{"$f":"DATA!D1428","v":0},{"$f":"DATA!E1428","v":0},{"$f":"DATA!H1428","v":0},{"$f":"DATA!I1428","v":0},{"$f":"DATA!J1428","v":0},{"$f":"DATA!K1428","v":0},{"$f":"DATA!L1428","v":0},{"$f":"DATA!M1428","v":0},{"$f":"DATA!N1428","v":0},{"$f":"DATA!O1428","v":0},{"$f":"DATA!P1428","v":0}]
[{"$f":"DATA!C1429","v":0},{"$f":"DATA!D1429","v":0},{"$f":"DATA!E1429","v":0},{"$f":"DATA!H1429","v":0},{"$f":"DATA!I1429","v":0},{"$f":"DATA!J1429","v":0},{"$f":"DATA!K1429","v":0},{"$f":"DATA!L1429","v":0},{"$f":"DATA!M1429","v":0},{"$f":"DATA!N1429","v":0},{"$f":"DATA!O1429","v":0},{"$f":"DATA!P1429","v":0}]
[{"$f":"DATA!C1430","v":0},{"$f":"DATA!D1430","v":0},{"$f":"DATA!E1430","v":0},{"$f":"DATA!H1430","v":0},{"$f":"DATA!I1430","v":0},{"$f":"DATA!J1430","v":0},{"$f":"DATA!K1430","v":0},{"$f":"DATA!L1430","v":0},{"$f":"DATA!M1430","v":0},{"$f":"DATA!N1430","v":0},{"$f":"DATA!O1430","v":0},{"$f":"DATA!P1430","v":0}]
[{"$f":"DATA!C1431","v":0},{"$f":"DATA!D1431","v":0},{"$f":"DATA!E1431","v":0},{"$f":"DATA!H1431","v":0},{"$f":"DATA!I1431","v":0},{"$f":"DATA!J1431","v":0},{"$f":"DATA!K1431","v":0},{"$f":"DATA!L1431","v":0},{"$f":"DATA!M1431","v":0},{"$f":"DATA!N1431","v":0},{"$f":"DATA!O1431","v":0},{"$f":"DATA!P1431","v":0}]
[{"$f":"DATA!C1432","v":0},{"$f":"DATA!D1432","v":0},{"$f":"DATA!E1432","v":0},{"$f":"DATA!H1432","v":0},{"$f":"DATA!I1432","v":0},{"$f":"DATA!J1432","v":0},{"$f":"DATA!K1432","v":0},{"$f":"DATA!L1432","v":0},{"$f":"DATA!M1432","v":0},{"$f":"DATA!N1432","v":0},{"$f":"DATA!O1432","v":0},{"$f":"DATA!P1432","v":0}]
[{"$f":"DATA!C1433","v":0},{"$f":"DATA!D1433","v":0},{"$f":"DATA!E1433","v":0},{"$f":"DATA!H1433","v":0},{"$f":"DATA!I1433","v":0},{"$f":"DATA!J1433","v":0},{"$f":"DATA!K1433","v":0},{"$f":"DATA!L1433","v":0},{"$f":"DATA!M1433","v":0},{"$f":"DATA!N1433","v":0},{"$f":"DATA!O1433","v":0},{"$f":"DATA!P1433","v":0}]
[{"$f":"DATA!C1434","v":0},{"$f":"DATA!D1434","v":0},{"$f":"DATA!E1434","v":0},{"$f":"DATA!H1434","v":0},{"$f":"DATA!I1434","v":0},{"$f":"DATA!J1434","v":0},{"$f":"DATA!K1434","v":0},{"$f":"DATA!L1434","v":0},{"$f":"DATA!M1434","v":0},{"$f":"DATA!N1434","v":0},{"$f":"DATA!O1434","v":0},{"$f":"DATA!P1434","v":0}]
[{"$f":"DATA!C1435","v":0},{"$f":"DATA!D1435","v":0},{"$f":"DATA!E1435","v":0},{"$f":"DATA!H1435","v":0},{"$f":"DATA!I1435","v":0},{"$f":"DATA!J1435","v":0},{"$f":"DATA!K1435","v":0},{"$f":"DATA!L1435","v":0},{"$f":"DATA!M1435","v":0},{"$f":"DATA!N1435","v":0},{"$f":"DATA!O1435","v":0},{"$f":"DATA!P1435","v":0}]
[{"$f":"DATA!C1436","v":0},{"$f":"DATA!D1436","v":0},{"$f":"DATA!E1436","v":0},{"$f":"DATA!H1436","v":0},{"$f":"DATA!I1436","v":0},{"$f":"DATA!J1436","v":0},{"$f":"DATA!K1436","v":0},{"$f":"DATA!L1436","v":0},{"$f":"DATA!M1436","v":0},{"$f":"DATA!N1436","v":0},{"$f":"DATA!O1436","v":0},{"$f":"DATA!P1436","v":0}]
[{"$f":"DATA!C1437","v":0},{"$f":"DATA!D1437","v":0},{"$f":"DATA!E1437","v":0},{"$f":"DATA!H1437","v":0},{"$f":"DATA!I1437","v":0},{"$f":"DATA!J1437","v":0},{"$f":"DATA!K1437","v":0},{"$f":"DATA!L1437","v":0},{"$f":"DATA!M1437","v":0},{"$f":"DATA!N1437","v":0},{"$f":"DATA!O1437","v":0},{"$f":"DATA!P1437","v":0}]
[{"$f":"DATA!C1438","v":0},{"$f":"DATA!D1438","v":0},{"$f":"DATA!E1438","v":0},{"$f":"DATA!H1438","v":0},{"$f":"DATA!I1438","v":0},{"$f":"DATA!J1438","v":0},{"$f":"DATA!K1438","v":0},{"$f":"DATA!L1438","v":0},{"$f":"DATA!M1438","v":0},{"$f":"DATA!N1438","v":0},{"$f":"DATA!O1438","v":0},{"$f":"DATA!P1438","v":0}]
[{"$f":"DATA!C1439","v":0},{"$f":"DATA!D1439","v":0},{"$f":"DATA!E1439","v":0},{"$f":"DATA!H1439","v":0},{"$f":"DATA!I1439","v":0},{"$f":"DATA!J1439","v":0},{"$f":"DATA!K1439","v":0},{"$f":"DATA!L1439","v":0},{"$f":"DATA!M1439","v":0},{"$f":"DATA!N1439","v":0},{"$f":"DATA!O1439","v":0},{"$f":"DATA!P1439","v":0}]
[{"$f":"DATA!C1440","v":0},{"$f":"DATA!D1440","v":0},{"$f":"DATA!E1440","v":0},{"$f":"DATA!H1440","v":0},{"$f":"DATA!I1440","v":0},{"$f":"DATA!J1440","v":0},{"$f":"DATA!K1440","v":0},{"$f":"DATA!L1440","v":0},{"$f":"DATA!M1440","v":0},{"$f":"DATA!N1440","v":0},{"$f":"DATA!O1440","v":0},{"$f":"DATA!P1440","v":0}]
[{"$f":"DATA!C1441","v":0},{"$f":"DATA!D1441","v":0},{"$f":"DATA!E1441","v":0},{"$f":"DATA!H1441","v":0},{"$f":"DATA!I1441","v":0},{"$f":"DATA!J1441","v":0},{"$f":"DATA!K1441","v":0},{"$f":"DATA!L1441","v":0},{"$f":"DATA!M1441","v":0},{"$f":"DATA!N1441","v":0},{"$f":"DATA!O1441","v":0},{"$f":"DATA!P1441","v":0}]
[{"$f":"DATA!C1442","v":0},{"$f":"DATA!D1442","v":0},{"$f":"DATA!E1442","v":0},{"$f":"DATA!H1442","v":0},{"$f":"DATA!I1442","v":0},{"$f":"DATA!J1442","v":0},{"$f":"DATA!K1442","v":0},{"$f":"DATA!L1442","v":0},{"$f":"DATA!M1442","v":0},{"$f":"DATA!N1442","v":0},{"$f":"DATA!O1442","v":0},{"$f":"DATA!P1442","v":0}]
[{"$f":"DATA!C1443","v":0},{"$f":"DATA!D1443","v":0},{"$f":"DATA!E1443","v":0},{"$f":"DATA!H1443","v":0},{"$f":"DATA!I1443","v":0},{"$f":"DATA!J1443","v":0},{"$f":"DATA!K1443","v":0},{"$f":"DATA!L1443","v":0},{"$f":"DATA!M1443","v":0},{"$f":"DATA!N1443","v":0},{"$f":"DATA!O1443","v":0},{"$f":"DATA!P1443","v":0}]
[{"$f":"DATA!C1444","v":0},{"$f":"DATA!D1444","v":0},{"$f":"DATA!E1444","v":0},{"$f":"DATA!H1444","v":0},{"$f":"DATA!I1444","v":0},{"$f":"DATA!J1444","v":0},{"$f":"DATA!K1444","v":0},{"$f":"DATA!L1444","v":0},{"$f":"DATA!M1444","v":0},{"$f":"DATA!N1444","v":0},{"$f":"DATA!O1444","v":0},{"$f":"DATA!P1444","v":0}]
[{"$f":"DATA!C1445","v":0},{"$f":"DATA!D1445","v":0},{"$f":"DATA!E1445","v":0},{"$f":"DATA!H1445","v":0},{"$f":"DATA!I1445","v":0},{"$f":"DATA!J1445","v":0},{"$f":"DATA!K1445","v":0},{"$f":"DATA!L1445","v":0},{"$f":"DATA!M1445","v":0},{"$f":"DATA!N1445","v":0},{"$f":"DATA!O1445","v":0},{"$f":"DATA!P1445","v":0}]
[{"$f":"DATA!C1446","v":0},{"$f":"DATA!D1446","v":0},{"$f":"DATA!E1446","v":0},{"$f":"DATA!H1446","v":0},{"$f":"DATA!I1446","v":0},{"$f":"DATA!J1446","v":0},{"$f":"DATA!K1446","v":0},{"$f":"DATA!L1446","v":0},{"$f":"DATA!M1446","v":0},{"$f":"DATA!N1446","v":0},{"$f":"DATA!O1446","v":0},{"$f":"DATA!P1446","v":0}]
[{"$f":"DATA!C1447","v":0},{"$f":"DATA!D1447","v":0},{"$f":"DATA!E1447","v":0},{"$f":"DATA!H1447","v":0},{"$f":"DATA!I1447","v":0},{"$f":"DATA!J1447","v":0},{"$f":"DATA!K1447","v":0},{"$f":"DATA!L1447","v":0},{"$f":"DATA!M1447","v":0},{"$f":"DATA!N1447","v":0},{"$f":"DATA!O1447","v":0},{"$f":"DATA!P1447","v":0}]
[{"$f":"DATA!C1448","v":0},{"$f":"DATA!D1448","v":0},{"$f":"DATA!E1448","v":0},{"$f":"DATA!H1448","v":0},{"$f":"DATA!I1448","v":0},{"$f":"DATA!J1448","v":0},{"$f":"DATA!K1448","v":0},{"$f":"DATA!L1448","v":0},{"$f":"DATA!M1448","v":0},{"$f":"DATA!N1448","v":0},{"$f":"DATA!O1448","v":0},{"$f":"DATA!P1448","v":0}]
[{"$f":"DATA!C1449","v":0},{"$f":"DATA!D1449","v":0},{"$f":"DATA!E1449","v":0},{"$f":"DATA!H1449","v":0},{"$f":"DATA!I1449","v":0},{"$f":"DATA!J1449","v":0},{"$f":"DATA!K1449","v":0},{"$f":"DATA!L1449","v":0},{"$f":"DATA!M1449","v":0},{"$f":"DATA!N1449","v":0},{"$f":"DATA!O1449","v":0},{"$f":"DATA!P1449","v":0}]
[{"$f":"DATA!C1450","v":0},{"$f":"DATA!D1450","v":0},{"$f":"DATA!E1450","v":0},{"$f":"DATA!H1450","v":0},{"$f":"DATA!I1450","v":0},{"$f":"DATA!J1450","v":0},{"$f":"DATA!K1450","v":0},{"$f":"DATA!L1450","v":0},{"$f":"DATA!M1450","v":0},{"$f":"DATA!N1450","v":0},{"$f":"DATA!O1450","v":0},{"$f":"DATA!P1450","v":0}]
[{"$f":"DATA!C1451","v":0},{"$f":"DATA!D1451","v":0},{"$f":"DATA!E1451","v":0},{"$f":"DATA!H1451","v":0},{"$f":"DATA!I1451","v":0},{"$f":"DATA!J1451","v":0},{"$f":"DATA!K1451","v":0},{"$f":"DATA!L1451","v":0},{"$f":"DATA!M1451","v":0},{"$f":"DATA!N1451","v":0},{"$f":"DATA!O1451","v":0},{"$f":"DATA!P1451","v":0}]
[{"$f":"DATA!C1452","v":0},{"$f":"DATA!D1452","v":0},{"$f":"DATA!E1452","v":0},{"$f":"DATA!H1452","v":0},{"$f":"DATA!I1452","v":0},{"$f":"DATA!J1452","v":0},{"$f":"DATA!K1452","v":0},{"$f":"DATA!L1452","v":0},{"$f":"DATA!M1452","v":0},{"$f":"DATA!N1452","v":0},{"$f":"DATA!O1452","v":0},{"$f":"DATA!P1452","v":0}]
[{"$f":"DATA!C1453","v":0},{"$f":"DATA!D1453","v":0},{"$f":"DATA!E1453","v":0},{"$f":"DATA!H1453","v":0},{"$f":"DATA!I1453","v":0},{"$f":"DATA!J1453","v":0},{"$f":"DATA!K1453","v":0},{"$f":"DATA!L1453","v":0},{"$f":"DATA!M1453","v":0},{"$f":"DATA!N1453","v":0},{"$f":"DATA!O1453","v":0},{"$f":"DATA!P1453","v":0}]
[{"$f":"DATA!C1454","v":0},{"$f":"DATA!D1454","v":0},{"$f":"DATA!E1454","v":0},{"$f":"DATA!H1454","v":0},{"$f":"DATA!I1454","v":0},{"$f":"DATA!J1454","v":0},{"$f":"DATA!K1454","v":0},{"$f":"DATA!L1454","v":0},{"$f":"DATA!M1454","v":0},{"$f":"DATA!N1454","v":0},{"$f":"DATA!O1454","v":0},{"$f":"DATA!P1454","v":0}]
[{"$f":"DATA!C1455","v":0},{"$f":"DATA!D1455","v":0},{"$f":"DATA!E1455","v":0},{"$f":"DATA!H1455","v":0},{"$f":"DATA!I1455","v":0},{"$f":"DATA!J1455","v":0},{"$f":"DATA!K1455","v":0},{"$f":"DATA!L1455","v":0},{"$f":"DATA!M1455","v":0},{"$f":"DATA!N1455","v":0},{"$f":"DATA!O1455","v":0},{"$f":"DATA!P1455","v":0}]
[{"$f":"DATA!C1456","v":0},{"$f":"DATA!D1456","v":0},{"$f":"DATA!E1456","v":0},{"$f":"DATA!H1456","v":0},{"$f":"DATA!I1456","v":0},{"$f":"DATA!J1456","v":0},{"$f":"DATA!K1456","v":0},{"$f":"DATA!L1456","v":0},{"$f":"DATA!M1456","v":0},{"$f":"DATA!N1456","v":0},{"$f":"DATA!O1456","v":0},{"$f":"DATA!P1456","v":0}]
[{"$f":"DATA!C1457","v":0},{"$f":"DATA!D1457","v":0},{"$f":"DATA!E1457","v":0},{"$f":"DATA!H1457","v":0},{"$f":"DATA!I1457","v":0},{"$f":"DATA!J1457","v":0},{"$f":"DATA!K1457","v":0},{"$f":"DATA!L1457","v":0},{"$f":"DATA!M1457","v":0},{"$f":"DATA!N1457","v":0},{"$f":"DATA!O1457","v":0},{"$f":"DATA!P1457","v":0}]
[{"$f":"DATA!C1458","v":0},{"$f":"DATA!D1458","v":0},{"$f":"DATA!E1458","v":0},{"$f":"DATA!H1458","v":0},{"$f":"DATA!I1458","v":0},{"$f":"DATA!J1458","v":0},{"$f":"DATA!K1458","v":0},{"$f":"DATA!L1458","v":0},{"$f":"DATA!M1458","v":0},{"$f":"DATA!N1458","v":0},{"$f":"DATA!O1458","v":0},{"$f":"DATA!P1458","v":0}]
[{"$f":"DATA!C1459","v":0},{"$f":"DATA!D1459","v":0},{"$f":"DATA!E1459","v":0},{"$f":"DATA!H1459","v":0},{"$f":"DATA!I1459","v":0},{"$f":"DATA!J1459","v":0},{"$f":"DATA!K1459","v":0},{"$f":"DATA!L1459","v":0},{"$f":"DATA!M1459","v":0},{"$f":"DATA!N1459","v":0},{"$f":"DATA!O1459","v":0},{"$f":"DATA!P1459","v":0}]
[{"$f":"DATA!C1460","v":0},{"$f":"DATA!D1460","v":0},{"$f":"DATA!E1460","v":0},{"$f":"DATA!H1460","v":0},{"$f":"DATA!I1460","v":0},{"$f":"DATA!J1460","v":0},{"$f":"DATA!K1460","v":0},{"$f":"DATA!L1460","v":0},{"$f":"DATA!M1460","v":0},{"$f":"DATA!N1460","v":0},{"$f":"DATA!O1460","v":0},{"$f":"DATA!P1460","v":0}]
[{"$f":"DATA!C1461","v":0},{"$f":"DATA!D1461","v":0},{"$f":"DATA!E1461","v":0},{"$f":"DATA!H1461","v":0},{"$f":"DATA!I1461","v":0},{"$f":"DATA!J1461","v":0},{"$f":"DATA!K1461","v":0},{"$f":"DATA!L1461","v":0},{"$f":"DATA!M1461","v":0},{"$f":"DATA!N1461","v":0},{"$f":"DATA!O1461","v":0},{"$f":"DATA!P1461","v":0}]
[{"$f":"DATA!C1462","v":0},{"$f":"DATA!D1462","v":0},{"$f":"DATA!E1462","v":0},{"$f":"DATA!H1462","v":0},{"$f":"DATA!I1462","v":0},{"$f":"DATA!J1462","v":0},{"$f":"DATA!K1462","v":0},{"$f":"DATA!L1462","v":0},{"$f":"DATA!M1462","v":0},{"$f":"DATA!N1462","v":0},{"$f":"DATA!O1462","v":0},{"$f":"DATA!P1462","v":0}]
[{"$f":"DATA!C1463","v":0},{"$f":"DATA!D1463","v":0},{"$f":"DATA!E1463","v":0},{"$f":"DATA!H1463","v":0},{"$f":"DATA!I1463","v":0},{"$f":"DATA!J1463","v":0},{"$f":"DATA!K1463","v":0},{"$f":"DATA!L1463","v":0},{"$f":"DATA!M1463","v":0},{"$f":"DATA!N1463","v":0},{"$f":"DATA!O1463","v":0},{"$f":"DATA!P1463","v":0}]
[{"$f":"DATA!C1464","v":0},{"$f":"DATA!D1464","v":0},{"$f":"DATA!E1464","v":0},{"$f":"DATA!H1464","v":0},{"$f":"DATA!I1464","v":0},{"$f":"DATA!J1464","v":0},{"$f":"DATA!K1464","v":0},{"$f":"DATA!L1464","v":0},{"$f":"DATA!M1464","v":0},{"$f":"DATA!N1464","v":0},{"$f":"DATA!O1464","v":0},{"$f":"DATA!P1464","v":0}]
[{"$f":"DATA!C1465","v":0},{"$f":"DATA!D1465","v":0},{"$f":"DATA!E1465","v":0},{"$f":"DATA!H1465","v":0},{"$f":"DATA!I1465","v":0},{"$f":"DATA!J1465","v":0},{"$f":"DATA!K1465","v":0},{"$f":"DATA!L1465","v":0},{"$f":"DATA!M1465","v":0},{"$f":"DATA!N1465","v":0},{"$f":"DATA!O1465","v":0},{"$f":"DATA!P1465","v":0}]
[{"$f":"DATA!C1466","v":0},{"$f":"DATA!D1466","v":0},{"$f":"DATA!E1466","v":0},{"$f":"DATA!H1466","v":0},{"$f":"DATA!I1466","v":0},{"$f":"DATA!J1466","v":0},{"$f":"DATA!K1466","v":0},{"$f":"DATA!L1466","v":0},{"$f":"DATA!M1466","v":0},{"$f":"DATA!N1466","v":0},{"$f":"DATA!O1466","v":0},{"$f":"DATA!P1466","v":0}]
[{"$f":"DATA!C1467","v":0},{"$f":"DATA!D1467","v":0},{"$f":"DATA!E1467","v":0},{"$f":"DATA!H1467","v":0},{"$f":"DATA!I1467","v":0},{"$f":"DATA!J1467","v":0},{"$f":"DATA!K1467","v":0},{"$f":"DATA!L1467","v":0},{"$f":"DATA!M1467","v":0},{"$f":"DATA!N1467","v":0},{"$f":"DATA!O1467","v":0},{"$f":"DATA!P1467","v":0}]
[{"$f":"DATA!C1468","v":0},{"$f":"DATA!D1468","v":0},{"$f":"DATA!E1468","v":0},{"$f":"DATA!H1468","v":0},{"$f":"DATA!I1468","v":0},{"$f":"DATA!J1468","v":0},{"$f":"DATA!K1468","v":0},{"$f":"DATA!L1468","v":0},{"$f":"DATA!M1468","v":0},{"$f":"DATA!N1468","v":0},{"$f":"DATA!O1468","v":0},{"$f":"DATA!P1468","v":0}]
[{"$f":"DATA!C1469","v":0},{"$f":"DATA!D1469","v":0},{"$f":"DATA!E1469","v":0},{"$f":"DATA!H1469","v":0},{"$f":"DATA!I1469","v":0},{"$f":"DATA!J1469","v":0},{"$f":"DATA!K1469","v":0},{"$f":"DATA!L1469","v":0},{"$f":"DATA!M1469","v":0},{"$f":"DATA!N1469","v":0},{"$f":"DATA!O1469","v":0},{"$f":"DATA!P1469","v":0}]
[{"$f":"DATA!C1470","v":0},{"$f":"DATA!D1470","v":0},{"$f":"DATA!E1470","v":0},{"$f":"DATA!H1470","v":0},{"$f":"DATA!I1470","v":0},{"$f":"DATA!J1470","v":0},{"$f":"DATA!K1470","v":0},{"$f":"DATA!L1470","v":0},{"$f":"DATA!M1470","v":0},{"$f":"DATA!N1470","v":0},{"$f":"DATA!O1470","v":0},{"$f":"DATA!P1470","v":0}]
[{"$f":"DATA!C1471","v":0},{"$f":"DATA!D1471","v":0},{"$f":"DATA!E1471","v":0},{"$f":"DATA!H1471","v":0},{"$f":"DATA!I1471","v":0},{"$f":"DATA!J1471","v":0},{"$f":"DATA!K1471","v":0},{"$f":"DATA!L1471","v":0},{"$f":"DATA!M1471","v":0},{"$f":"DATA!N1471","v":0},{"$f":"DATA!O1471","v":0},{"$f":"DATA!P1471","v":0}]
[{"$f":"DATA!C1472","v":0},{"$f":"DATA!D1472","v":0},{"$f":"DATA!E1472","v":0},{"$f":"DATA!H1472","v":0},{"$f":"DATA!I1472","v":0},{"$f":"DATA!J1472","v":0},{"$f":"DATA!K1472","v":0},{"$f":"DATA!L1472","v":0},{"$f":"DATA!M1472","v":0},{"$f":"DATA!N1472","v":0},{"$f":"DATA!O1472","v":0},{"$f":"DATA!P1472","v":0}]
[{"$f":"DATA!C1473","v":0},{"$f":"DATA!D1473","v":0},{"$f":"DATA!E1473","v":0},{"$f":"DATA!H1473","v":0},{"$f":"DATA!I1473","v":0},{"$f":"DATA!J1473","v":0},{"$f":"DATA!K1473","v":0},{"$f":"DATA!L1473","v":0},{"$f":"DATA!M1473","v":0},{"$f":"DATA!N1473","v":0},{"$f":"DATA!O1473","v":0},{"$f":"DATA!P1473","v":0}]
[{"$f":"DATA!C1474","v":0},{"$f":"DATA!D1474","v":0},{"$f":"DATA!E1474","v":0},{"$f":"DATA!H1474","v":0},{"$f":"DATA!I1474","v":0},{"$f":"DATA!J1474","v":0},{"$f":"DATA!K1474","v":0},{"$f":"DATA!L1474","v":0},{"$f":"DATA!M1474","v":0},{"$f":"DATA!N1474","v":0},{"$f":"DATA!O1474","v":0},{"$f":"DATA!P1474","v":0}]
[{"$f":"DATA!C1475","v":0},{"$f":"DATA!D1475","v":0},{"$f":"DATA!E1475","v":0},{"$f":"DATA!H1475","v":0},{"$f":"DATA!I1475","v":0},{"$f":"DATA!J1475","v":0},{"$f":"DATA!K1475","v":0},{"$f":"DATA!L1475","v":0},{"$f":"DATA!M1475","v":0},{"$f":"DATA!N1475","v":0},{"$f":"DATA!O1475","v":0},{"$f":"DATA!P1475","v":0}]
[{"$f":"DATA!C1476","v":0},{"$f":"DATA!D1476","v":0},{"$f":"DATA!E1476","v":0},{"$f":"DATA!H1476","v":0},{"$f":"DATA!I1476","v":0},{"$f":"DATA!J1476","v":0},{"$f":"DATA!K1476","v":0},{"$f":"DATA!L1476","v":0},{"$f":"DATA!M1476","v":0},{"$f":"DATA!N1476","v":0},{"$f":"DATA!O1476","v":0},{"$f":"DATA!P1476","v":0}]
[{"$f":"DATA!C1477","v":0},{"$f":"DATA!D1477","v":0},{"$f":"DATA!E1477","v":0},{"$f":"DATA!H1477","v":0},{"$f":"DATA!I1477","v":0},{"$f":"DATA!J1477","v":0},{"$f":"DATA!K1477","v":0},{"$f":"DATA!L1477","v":0},{"$f":"DATA!M1477","v":0},{"$f":"DATA!N1477","v":0},{"$f":"DATA!O1477","v":0},{"$f":"DATA!P1477","v":0}]
[{"$f":"DATA!C1478","v":0},{"$f":"DATA!D1478","v":0},{"$f":"DATA!E1478","v":0},{"$f":"DATA!H1478","v":0},{"$f":"DATA!I1478","v":0},{"$f":"DATA!J1478","v":0},{"$f":"DATA!K1478","v":0},{"$f":"DATA!L1478","v":0},{"$f":"DATA!M1478","v":0},{"$f":"DATA!N1478","v":0},{"$f":"DATA!O1478","v":0},{"$f":"DATA!P1478","v":0}]
[{"$f":"DATA!C1479","v":0},{"$f":"DATA!D1479","v":0},{"$f":"DATA!E1479","v":0},{"$f":"DATA!H1479","v":0},{"$f":"DATA!I1479","v":0},{"$f":"DATA!J1479","v":0},{"$f":"DATA!K1479","v":0},{"$f":"DATA!L1479","v":0},{"$f":"DATA!M1479","v":0},{"$f":"DATA!N1479","v":0},{"$f":"DATA!O1479","v":0},{"$f":"DATA!P1479","v":0}]
[{"$f":"DATA!C1480","v":0},{"$f":"DATA!D1480","v":0},{"$f":"DATA!E1480","v":0},{"$f":"DATA!H1480","v":0},{"$f":"DATA!I1480","v":0},{"$f":"DATA!J1480","v":0},{"$f":"DATA!K1480","v":0},{"$f":"DATA!L1480","v":0},{"$f":"DATA!M1480","v":0},{"$f":"DATA!N1480","v":0},{"$f":"DATA!O1480","v":0},{"$f":"DATA!P1480","v":0}]
[{"$f":"DATA!C1481","v":0},{"$f":"DATA!D1481","v":0},{"$f":"DATA!E1481","v":0},{"$f":"DATA!H1481","v":0},{"$f":"DATA!I1481","v":0},{"$f":"DATA!J1481","v":0},{"$f":"DATA!K1481","v":0},{"$f":"DATA!L1481","v":0},{"$f":"DATA!M1481","v":0},{"$f":"DATA!N1481","v":0},{"$f":"DATA!O1481","v":0},{"$f":"DATA!P1481","v":0}]
[{"$f":"DATA!C1482","v":0},{"$f":"DATA!D1482","v":0},{"$f":"DATA!E1482","v":0},{"$f":"DATA!H1482","v":0},{"$f":"DATA!I1482","v":0},{"$f":"DATA!J1482","v":0},{"$f":"DATA!K1482","v":0},{"$f":"DATA!L1482","v":0},{"$f":"DATA!M1482","v":0},{"$f":"DATA!N1482","v":0},{"$f":"DATA!O1482","v":0},{"$f":"DATA!P1482","v":0}]
[{"$f":"DATA!C1483","v":0},{"$f":"DATA!D1483","v":0},{"$f":"DATA!E1483","v":0},{"$f":"DATA!H1483","v":0},{"$f":"DATA!I1483","v":0},{"$f":"DATA!J1483","v":0},{"$f":"DATA!K1483","v":0},{"$f":"DATA!L1483","v":0},{"$f":"DATA!M1483","v":0},{"$f":"DATA!N1483","v":0},{"$f":"DATA!O1483","v":0},{"$f":"DATA!P1483","v":0}]
[{"$f":"DATA!C1484","v":0},{"$f":"DATA!D1484","v":0},{"$f":"DATA!E1484","v":0},{"$f":"DATA!H1484","v":0},{"$f":"DATA!I1484","v":0},{"$f":"DATA!J1484","v":0},{"$f":"DATA!K1484","v":0},{"$f":"DATA!L1484","v":0},{"$f":"DATA!M1484","v":0},{"$f":"DATA!N1484","v":0},{"$f":"DATA!O1484","v":0},{"$f":"DATA!P1484","v":0}]
[{"$f":"DATA!C1485","v":0},{"$f":"DATA!D1485","v":0},{"$f":"DATA!E1485","v":0},{"$f":"DATA!H1485","v":0},{"$f":"DATA!I1485","v":0},{"$f":"DATA!J1485","v":0},{"$f":"DATA!K1485","v":0},{"$f":"DATA!L1485","v":0},{"$f":"DATA!M1485","v":0},{"$f":"DATA!N1485","v":0},{"$f":"DATA!O1485","v":0},{"$f":"DATA!P1485","v":0}]
[{"$f":"DATA!C1486","v":0},{"$f":"DATA!D1486","v":0},{"$f":"DATA!E1486","v":0},{"$f":"DATA!H1486","v":0},{"$f":"DATA!I1486","v":0},{"$f":"DATA!J1486","v":0},{"$f":"DATA!K1486","v":0},{"$f":"DATA!L1486","v":0},{"$f":"DATA!M1486","v":0},{"$f":"DATA!N1486","v":0},{"$f":"DATA!O1486","v":0},{"$f":"DATA!P1486","v":0}]
[{"$f":"DATA!C1487","v":0},{"$f":"DATA!D1487","v":0},{"$f":"DATA!E1487","v":0},{"$f":"DATA!H1487","v":0},{"$f":"DATA!I1487","v":0},{"$f":"DATA!J1487","v":0},{"$f":"DATA!K1487","v":0},{"$f":"DATA!L1487","v":0},{"$f":"DATA!M1487","v":0},{"$f":"DATA!N1487","v":0},{"$f":"DATA!O1487","v":0},{"$f":"DATA!P1487","v":0}]
[{"$f":"DATA!C1488","v":0},{"$f":"DATA!D1488","v":0},{"$f":"DATA!E1488","v":0},{"$f":"DATA!H1488","v":0},{"$f":"DATA!I1488","v":0},{"$f":"DATA!J1488","v":0},{"$f":"DATA!K1488","v":0},{"$f":"DATA!L1488","v":0},{"$f":"DATA!M1488","v":0},{"$f":"DATA!N1488","v":0},{"$f":"DATA!O1488","v":0},{"$f":"DATA!P1488","v":0}]
[{"$f":"DATA!C1489","v":0},{"$f":"DATA!D1489","v":0},{"$f":"DATA!E1489","v":0},{"$f":"DATA!H1489","v":0},{"$f":"DATA!I1489","v":0},{"$f":"DATA!J1489","v":0},{"$f":"DATA!K1489","v":0},{"$f":"DATA!L1489","v":0},{"$f":"DATA!M1489","v":0},{"$f":"DATA!N1489","v":0},{"$f":"DATA!O1489","v":0},{"$f":"DATA!P1489","v":0}]
[{"$f":"DATA!C1490","v":0},{"$f":"DATA!D1490","v":0},{"$f":"DATA!E1490","v":0},{"$f":"DATA!H1490","v":0},{"$f":"DATA!I1490","v":0},{"$f":"DATA!J1490","v":0},{"$f":"DATA!K1490","v":0},{"$f":"DATA!L1490","v":0},{"$f":"DATA!M1490","v":0},{"$f":"DATA!N1490","v":0},{"$f":"DATA!O1490","v":0},{"$f":"DATA!P1490","v":0}]
[{"$f":"DATA!C1491","v":0},{"$f":"DATA!D1491","v":0},{"$f":"DATA!E1491","v":0},{"$f":"DATA!H1491","v":0},{"$f":"DATA!I1491","v":0},{"$f":"DATA!J1491","v":0},{"$f":"DATA!K1491","v":0},{"$f":"DATA!L1491","v":0},{"$f":"DATA!M1491","v":0},{"$f":"DATA!N1491","v":0},{"$f":"DATA!O1491","v":0},{"$f":"DATA!P1491","v":0}]
[{"$f":"DATA!C1492","v":0},{"$f":"DATA!D1492","v":0},{"$f":"DATA!E1492","v":0},{"$f":"DATA!H1492","v":0},{"$f":"DATA!I1492","v":0},{"$f":"DATA!J1492","v":0},{"$f":"DATA!K1492","v":0},{"$f":"DATA!L1492","v":0},{"$f":"DATA!M1492","v":0},{"$f":"DATA!N1492","v":0},{"$f":"DATA!O1492","v":0},{"$f":"DATA!P1492","v":0}]
[{"$f":"DATA!C1493","v":0},{"$f":"DATA!D1493","v":0},{"$f":"DATA!E1493","v":0},{"$f":"DATA!H1493","v":0},{"$f":"DATA!I1493","v":0},{"$f":"DATA!J1493","v":0},{"$f":"DATA!K1493","v":0},{"$f":"DATA!L1493","v":0},{"$f":"DATA!M1493","v":0},{"$f":"DATA!N1493","v":0},{"$f":"DATA!O1493","v":0},{"$f":"DATA!P1493","v":0}]
[{"$f":"DATA!C1494","v":0},{"$f":"DATA!D1494","v":0},{"$f":"DATA!E1494","v":0},{"$f":"DATA!H1494","v":0},{"$f":"DATA!I1494","v":0},{"$f":"DATA!J1494","v":0},{"$f":"DATA!K1494","v":0},{"$f":"DATA!L1494","v":0},{"$f":"DATA!M1494","v":0},{"$f":"DATA!N1494","v":0},{"$f":"DATA!O1494","v":0},{"$f":"DATA!P1494","v":0}]
[{"$f":"DATA!C1495","v":0},{"$f":"DATA!D1495","v":0},{"$f":"DATA!E1495","v":0},{"$f":"DATA!H1495","v":0},{"$f":"DATA!I1495","v":0},{"$f":"DATA!J1495","v":0},{"$f":"DATA!K1495","v":0},{"$f":"DATA!L1495","v":0},{"$f":"DATA!M1495","v":0},{"$f":"DATA!N1495","v":0},{"$f":"DATA!O1495","v":0},{"$f":"DATA!P1495","v":0}]
[{"$f":"DATA!C1496","v":0},{"$f":"DATA!D1496","v":0},{"$f":"DATA!E1496","v":0},{"$f":"DATA!H1496","v":0},{"$f":"DATA!I1496","v":0},{"$f":"DATA!J1496","v":0},{"$f":"DATA!K1496","v":0},{"$f":"DATA!L1496","v":0},{"$f":"DATA!M1496","v":0},{"$f":"DATA!N1496","v":0},{"$f":"DATA!O1496","v":0},{"$f":"DATA!P1496","v":0}]
[{"$f":"DATA!C1497","v":0},{"$f":"DATA!D1497","v":0},{"$f":"DATA!E1497","v":0},{"$f":"DATA!H1497","v":0},{"$f":"DATA!I1497","v":0},{"$f":"DATA!J1497","v":0},{"$f":"DATA!K1497","v":0},{"$f":"DATA!L1497","v":0},{"$f":"DATA!M1497","v":0},{"$f":"DATA!N1497","v":0},{"$f":"DATA!O1497","v":0},{"$f":"DATA!P1497","v":0}]
[{"$f":"DATA!C1498","v":0},{"$f":"DATA!D1498","v":0},{"$f":"DATA!E1498","v":0},{"$f":"DATA!H1498","v":0},{"$f":"DATA!I1498","v":0},{"$f":"DATA!J1498","v":0},{"$f":"DATA!K1498","v":0},{"$f":"DATA!L1498","v":0},{"$f":"DATA!M1498","v":0},{"$f":"DATA!N1498","v":0},{"$f":"DATA!O1498","v":0},{"$f":"DATA!P1498","v":0}]
[{"$f":"DATA!C1499","v":0},{"$f":"DATA!D1499","v":0},{"$f":"DATA!E1499","v":0},{"$f":"DATA!H1499","v":0},{"$f":"DATA!I1499","v":0},{"$f":"DATA!J1499","v":0},{"$f":"DATA!K1499","v":0},{"$f":"DATA!L1499","v":0},{"$f":"DATA!M1499","v":0},{"$f":"DATA!N1499","v":0},{"$f":"DATA!O1499","v":0},{"$f":"DATA!P1499","v":0}]
[{"$f":"DATA!C1500","v":0},{"$f":"DATA!D1500","v":0},{"$f":"DATA!E1500","v":0},{"$f":"DATA!H1500","v":0},{"$f":"DATA!I1500","v":0},{"$f":"DATA!J1500","v":0},{"$f":"DATA!K1500","v":0},{"$f":"DATA!L1500","v":0},{"$f":"DATA!M1500","v":0},{"$f":"DATA!N1500","v":0},{"$f":"DATA!O1500","v":0},{"$f":"DATA!P1500","v":0}]
[{"$f":"DATA!C1501","v":0},{"$f":"DATA!D1501","v":0},{"$f":"DATA!E1501","v":0},{"$f":"DATA!H1501","v":0},{"$f":"DATA!I1501","v":0},{"$f":"DATA!J1501","v":0},{"$f":"DATA!K1501","v":0},{"$f":"DATA!L1501","v":0},{"$f":"DATA!M1501","v":0},{"$f":"DATA!N1501","v":0},{"$f":"DATA!O1501","v":0},{"$f":"DATA!P1501","v":0}]
[{"$f":"DATA!C1502","v":0},{"$f":"DATA!D1502","v":0},{"$f":"DATA!E1502","v":0},{"$f":"DATA!H1502","v":0},{"$f":"DATA!I1502","v":0},{"$f":"DATA!J1502","v":0},{"$f":"DATA!K1502","v":0},{"$f":"DATA!L1502","v":0},{"$f":"DATA!M1502","v":0},{"$f":"DATA!N1502","v":0},{"$f":"DATA!O1502","v":0},{"$f":"DATA!P1502","v":0}]
[{"$f":"DATA!C1503","v":0},{"$f":"DATA!D1503","v":0},{"$f":"DATA!E1503","v":0},{"$f":"DATA!H1503","v":0},{"$f":"DATA!I1503","v":0},{"$f":"DATA!J1503","v":0},{"$f":"DATA!K1503","v":0},{"$f":"DATA!L1503","v":0},{"$f":"DATA!M1503","v":0},{"$f":"DATA!N1503","v":0},{"$f":"DATA!O1503","v":0},{"$f":"DATA!P1503","v":0}]
[{"$f":"DATA!C1504","v":0},{"$f":"DATA!D1504","v":0},{"$f":"DATA!E1504","v":0},{"$f":"DATA!H1504","v":0},{"$f":"DATA!I1504","v":0},{"$f":"DATA!J1504","v":0},{"$f":"DATA!K1504","v":0},{"$f":"DATA!L1504","v":0},{"$f":"DATA!M1504","v":0},{"$f":"DATA!N1504","v":0},{"$f":"DATA!O1504","v":0},{"$f":"DATA!P1504","v":0}]
[{"$f":"DATA!C1505","v":0},{"$f":"DATA!D1505","v":0},{"$f":"DATA!E1505","v":0},{"$f":"DATA!H1505","v":0},{"$f":"DATA!I1505","v":0},{"$f":"DATA!J1505","v":0},{"$f":"DATA!K1505","v":0},{"$f":"DATA!L1505","v":0},{"$f":"DATA!M1505","v":0},{"$f":"DATA!N1505","v":0},{"$f":"DATA!O1505","v":0},{"$f":"DATA!P1505","v":0}]
[{"$f":"DATA!C1506","v":0},{"$f":"DATA!D1506","v":0},{"$f":"DATA!E1506","v":0},{"$f":"DATA!H1506","v":0},{"$f":"DATA!I1506","v":0},{"$f":"DATA!J1506","v":0},{"$f":"DATA!K1506","v":0},{"$f":"DATA!L1506","v":0},{"$f":"DATA!M1506","v":0},{"$f":"DATA!N1506","v":0},{"$f":"DATA!O1506","v":0},{"$f":"DATA!P1506","v":0}]
[{"$f":"DATA!C1507","v":0},{"$f":"DATA!D1507","v":0},{"$f":"DATA!E1507","v":0},{"$f":"DATA!H1507","v":0},{"$f":"DATA!I1507","v":0},{"$f":"DATA!J1507","v":0},{"$f":"DATA!K1507","v":0},{"$f":"DATA!L1507","v":0},{"$f":"DATA!M1507","v":0},{"$f":"DATA!N1507","v":0},{"$f":"DATA!O1507","v":0},{"$f":"DATA!P1507","v":0}]
[{"$f":"DATA!C1508","v":0},{"$f":"DATA!D1508","v":0},{"$f":"DATA!E1508","v":0},{"$f":"DATA!H1508","v":0},{"$f":"DATA!I1508","v":0},{"$f":"DATA!J1508","v":0},{"$f":"DATA!K1508","v":0},{"$f":"DATA!L1508","v":0},{"$f":"DATA!M1508","v":0},{"$f":"DATA!N1508","v":0},{"$f":"DATA!O1508","v":0},{"$f":"DATA!P1508","v":0}]
[{"$f":"DATA!C1509","v":0},{"$f":"DATA!D1509","v":0},{"$f":"DATA!E1509","v":0},{"$f":"DATA!H1509","v":0},{"$f":"DATA!I1509","v":0},{"$f":"DATA!J1509","v":0},{"$f":"DATA!K1509","v":0},{"$f":"DATA!L1509","v":0},{"$f":"DATA!M1509","v":0},{"$f":"DATA!N1509","v":0},{"$f":"DATA!O1509","v":0},{"$f":"DATA!P1509","v":0}]
[{"$f":"DATA!C1510","v":0},{"$f":"DATA!D1510","v":0},{"$f":"DATA!E1510","v":0},{"$f":"DATA!H1510","v":0},{"$f":"DATA!I1510","v":0},{"$f":"DATA!J1510","v":0},{"$f":"DATA!K1510","v":0},{"$f":"DATA!L1510","v":0},{"$f":"DATA!M1510","v":0},{"$f":"DATA!N1510","v":0},{"$f":"DATA!O1510","v":0},{"$f":"DATA!P1510","v":0}]
[{"$f":"DATA!C1511","v":0},{"$f":"DATA!D1511","v":0},{"$f":"DATA!E1511","v":0},{"$f":"DATA!H1511","v":0},{"$f":"DATA!I1511","v":0},{"$f":"DATA!J1511","v":0},{"$f":"DATA!K1511","v":0},{"$f":"DATA!L1511","v":0},{"$f":"DATA!M1511","v":0},{"$f":"DATA!N1511","v":0},{"$f":"DATA!O1511","v":0},{"$f":"DATA!P1511","v":0}]
[{"$f":"DATA!C1512","v":0},{"$f":"DATA!D1512","v":0},{"$f":"DATA!E1512","v":0},{"$f":"DATA!H1512","v":0},{"$f":"DATA!I1512","v":0},{"$f":"DATA!J1512","v":0},{"$f":"DATA!K1512","v":0},{"$f":"DATA!L1512","v":0},{"$f":"DATA!M1512","v":0},{"$f":"DATA!N1512","v":0},{"$f":"DATA!O1512","v":0},{"$f":"DATA!P1512","v":0}]
[{"$f":"DATA!C1513","v":0},{"$f":"DATA!D1513","v":0},{"$f":"DATA!E1513","v":0},{"$f":"DATA!H1513","v":0},{"$f":"DATA!I1513","v":0},{"$f":"DATA!J1513","v":0},{"$f":"DATA!K1513","v":0},{"$f":"DATA!L1513","v":0},{"$f":"DATA!M1513","v":0},{"$f":"DATA!N1513","v":0},{"$f":"DATA!O1513","v":0},{"$f":"DATA!P1513","v":0}]
[{"$f":"DATA!C1514","v":0},{"$f":"DATA!D1514","v":0},{"$f":"DATA!E1514","v":0},{"$f":"DATA!H1514","v":0},{"$f":"DATA!I1514","v":0},{"$f":"DATA!J1514","v":0},{"$f":"DATA!K1514","v":0},{"$f":"DATA!L1514","v":0},{"$f":"DATA!M1514","v":0},{"$f":"DATA!N1514","v":0},{"$f":"DATA!O1514","v":0},{"$f":"DATA!P1514","v":0}]
[{"$f":"DATA!C1515","v":0},{"$f":"DATA!D1515","v":0},{"$f":"DATA!E1515","v":0},{"$f":"DATA!H1515","v":0},{"$f":"DATA!I1515","v":0},{"$f":"DATA!J1515","v":0},{"$f":"DATA!K1515","v":0},{"$f":"DATA!L1515","v":0},{"$f":"DATA!M1515","v":0},{"$f":"DATA!N1515","v":0},{"$f":"DATA!O1515","v":0},{"$f":"DATA!P1515","v":0}]
[{"$f":"DATA!C1516","v":0},{"$f":"DATA!D1516","v":0},{"$f":"DATA!E1516","v":0},{"$f":"DATA!H1516","v":0},{"$f":"DATA!I1516","v":0},{"$f":"DATA!J1516","v":0},{"$f":"DATA!K1516","v":0},{"$f":"DATA!L1516","v":0},{"$f":"DATA!M1516","v":0},{"$f":"DATA!N1516","v":0},{"$f":"DATA!O1516","v":0},{"$f":"DATA!P1516","v":0}]
[{"$f":"DATA!C1517","v":0},{"$f":"DATA!D1517","v":0},{"$f":"DATA!E1517","v":0},{"$f":"DATA!H1517","v":0},{"$f":"DATA!I1517","v":0},{"$f":"DATA!J1517","v":0},{"$f":"DATA!K1517","v":0},{"$f":"DATA!L1517","v":0},{"$f":"DATA!M1517","v":0},{"$f":"DATA!N1517","v":0},{"$f":"DATA!O1517","v":0},{"$f":"DATA!P1517","v":0}]
[{"$f":"DATA!C1518","v":0},{"$f":"DATA!D1518","v":0},{"$f":"DATA!E1518","v":0},{"$f":"DATA!H1518","v":0},{"$f":"DATA!I1518","v":0},{"$f":"DATA!J1518","v":0},{"$f":"DATA!K1518","v":0},{"$f":"DATA!L1518","v":0},{"$f":"DATA!M1518","v":0},{"$f":"DATA!N1518","v":0},{"$f":"DATA!O1518","v":0},{"$f":"DATA!P1518","v":0}]
[{"$f":"DATA!C1519","v":0},{"$f":"DATA!D1519","v":0},{"$f":"DATA!E1519","v":0},{"$f":"DATA!H1519","v":0},{"$f":"DATA!I1519","v":0},{"$f":"DATA!J1519","v":0},{"$f":"DATA!K1519","v":0},{"$f":"DATA!L1519","v":0},{"$f":"DATA!M1519","v":0},{"$f":"DATA!N1519","v":0},{"$f":"DATA!O1519","v":0},{"$f":"DATA!P1519","v":0}]
[{"$f":"DATA!C1520","v":0},{"$f":"DATA!D1520","v":0},{"$f":"DATA!E1520","v":0},{"$f":"DATA!H1520","v":0},{"$f":"DATA!I1520","v":0},{"$f":"DATA!J1520","v":0},{"$f":"DATA!K1520","v":0},{"$f":"DATA!L1520","v":0},{"$f":"DATA!M1520","v":0},{"$f":"DATA!N1520","v":0},{"$f":"DATA!O1520","v":0},{"$f":"DATA!P1520","v":0}]
[{"$f":"DATA!C1521","v":0},{"$f":"DATA!D1521","v":0},{"$f":"DATA!E1521","v":0},{"$f":"DATA!H1521","v":0},{"$f":"DATA!I1521","v":0},{"$f":"DATA!J1521","v":0},{"$f":"DATA!K1521","v":0},{"$f":"DATA!L1521","v":0},{"$f":"DATA!M1521","v":0},{"$f":"DATA!N1521","v":0},{"$f":"DATA!O1521","v":0},{"$f":"DATA!P1521","v":0}]
[{"$f":"DATA!C1522","v":0},{"$f":"DATA!D1522","v":0},{"$f":"DATA!E1522","v":0},{"$f":"DATA!H1522","v":0},{"$f":"DATA!I1522","v":0},{"$f":"DATA!J1522","v":0},{"$f":"DATA!K1522","v":0},{"$f":"DATA!L1522","v":0},{"$f":"DATA!M1522","v":0},{"$f":"DATA!N1522","v":0},{"$f":"DATA!O1522","v":0},{"$f":"DATA!P1522","v":0}]
[{"$f":"DATA!C1523","v":0},{"$f":"DATA!D1523","v":0},{"$f":"DATA!E1523","v":0},{"$f":"DATA!H1523","v":0},{"$f":"DATA!I1523","v":0},{"$f":"DATA!J1523","v":0},{"$f":"DATA!K1523","v":0},{"$f":"DATA!L1523","v":0},{"$f":"DATA!M1523","v":0},{"$f":"DATA!N1523","v":0},{"$f":"DATA!O1523","v":0},{"$f":"DATA!P1523","v":0}]
[{"$f":"DATA!C1524","v":0},{"$f":"DATA!D1524","v":0},{"$f":"DATA!E1524","v":0},{"$f":"DATA!H1524","v":0},{"$f":"DATA!I1524","v":0},{"$f":"DATA!J1524","v":0},{"$f":"DATA!K1524","v":0},{"$f":"DATA!L1524","v":0},{"$f":"DATA!M1524","v":0},{"$f":"DATA!N1524","v":0},{"$f":"DATA!O1524","v":0},{"$f":"DATA!P1524","v":0}]
[{"$f":"DATA!C1525","v":0},{"$f":"DATA!D1525","v":0},{"$f":"DATA!E1525","v":0},{"$f":"DATA!H1525","v":0},{"$f":"DATA!I1525","v":0},{"$f":"DATA!J1525","v":0},{"$f":"DATA!K1525","v":0},{"$f":"DATA!L1525","v":0},{"$f":"DATA!M1525","v":0},{"$f":"DATA!N1525","v":0},{"$f":"DATA!O1525","v":0},{"$f":"DATA!P1525","v":0}]
[{"$f":"DATA!C1526","v":0},{"$f":"DATA!D1526","v":0},{"$f":"DATA!E1526","v":0},{"$f":"DATA!H1526","v":0},{"$f":"DATA!I1526","v":0},{"$f":"DATA!J1526","v":0},{"$f":"DATA!K1526","v":0},{"$f":"DATA!L1526","v":0},{"$f":"DATA!M1526","v":0},{"$f":"DATA!N1526","v":0},{"$f":"DATA!O1526","v":0},{"$f":"DATA!P1526","v":0}]
[{"$f":"DATA!C1527","v":0},{"$f":"DATA!D1527","v":0},{"$f":"DATA!E1527","v":0},{"$f":"DATA!H1527","v":0},{"$f":"DATA!I1527","v":0},{"$f":"DATA!J1527","v":0},{"$f":"DATA!K1527","v":0},{"$f":"DATA!L1527","v":0},{"$f":"DATA!M1527","v":0},{"$f":"DATA!N1527","v":0},{"$f":"DATA!O1527","v":0},{"$f":"DATA!P1527","v":0}]
[{"$f":"DATA!C1528","v":0},{"$f":"DATA!D1528","v":0},{"$f":"DATA!E1528","v":0},{"$f":"DATA!H1528","v":0},{"$f":"DATA!I1528","v":0},{"$f":"DATA!J1528","v":0},{"$f":"DATA!K1528","v":0},{"$f":"DATA!L1528","v":0},{"$f":"DATA!M1528","v":0},{"$f":"DATA!N1528","v":0},{"$f":"DATA!O1528","v":0},{"$f":"DATA!P1528","v":0}]
[{"$f":"DATA!C1529","v":0},{"$f":"DATA!D1529","v":0},{"$f":"DATA!E1529","v":0},{"$f":"DATA!H1529","v":0},{"$f":"DATA!I1529","v":0},{"$f":"DATA!J1529","v":0},{"$f":"DATA!K1529","v":0},{"$f":"DATA!L1529","v":0},{"$f":"DATA!M1529","v":0},{"$f":"DATA!N1529","v":0},{"$f":"DATA!O1529","v":0},{"$f":"DATA!P1529","v":0}]
[{"$f":"DATA!C1530","v":0},{"$f":"DATA!D1530","v":0},{"$f":"DATA!E1530","v":0},{"$f":"DATA!H1530","v":0},{"$f":"DATA!I1530","v":0},{"$f":"DATA!J1530","v":0},{"$f":"DATA!K1530","v":0},{"$f":"DATA!L1530","v":0},{"$f":"DATA!M1530","v":0},{"$f":"DATA!N1530","v":0},{"$f":"DATA!O1530","v":0},{"$f":"DATA!P1530","v":0}]
[{"$f":"DATA!C1531","v":0},{"$f":"DATA!D1531","v":0},{"$f":"DATA!E1531","v":0},{"$f":"DATA!H1531","v":0},{"$f":"DATA!I1531","v":0},{"$f":"DATA!J1531","v":0},{"$f":"DATA!K1531","v":0},{"$f":"DATA!L1531","v":0},{"$f":"DATA!M1531","v":0},{"$f":"DATA!N1531","v":0},{"$f":"DATA!O1531","v":0},{"$f":"DATA!P1531","v":0}]
[{"$f":"DATA!C1532","v":0},{"$f":"DATA!D1532","v":0},{"$f":"DATA!E1532","v":0},{"$f":"DATA!H1532","v":0},{"$f":"DATA!I1532","v":0},{"$f":"DATA!J1532","v":0},{"$f":"DATA!K1532","v":0},{"$f":"DATA!L1532","v":0},{"$f":"DATA!M1532","v":0},{"$f":"DATA!N1532","v":0},{"$f":"DATA!O1532","v":0},{"$f":"DATA!P1532","v":0}]
[{"$f":"DATA!C1533","v":0},{"$f":"DATA!D1533","v":0},{"$f":"DATA!E1533","v":0},{"$f":"DATA!H1533","v":0},{"$f":"DATA!I1533","v":0},{"$f":"DATA!J1533","v":0},{"$f":"DATA!K1533","v":0},{"$f":"DATA!L1533","v":0},{"$f":"DATA!M1533","v":0},{"$f":"DATA!N1533","v":0},{"$f":"DATA!O1533","v":0},{"$f":"DATA!P1533","v":0}]
[{"$f":"DATA!C1534","v":0},{"$f":"DATA!D1534","v":0},{"$f":"DATA!E1534","v":0},{"$f":"DATA!H1534","v":0},{"$f":"DATA!I1534","v":0},{"$f":"DATA!J1534","v":0},{"$f":"DATA!K1534","v":0},{"$f":"DATA!L1534","v":0},{"$f":"DATA!M1534","v":0},{"$f":"DATA!N1534","v":0},{"$f":"DATA!O1534","v":0},{"$f":"DATA!P1534","v":0}]
[{"$f":"DATA!C1535","v":0},{"$f":"DATA!D1535","v":0},{"$f":"DATA!E1535","v":0},{"$f":"DATA!H1535","v":0},{"$f":"DATA!I1535","v":0},{"$f":"DATA!J1535","v":0},{"$f":"DATA!K1535","v":0},{"$f":"DATA!L1535","v":0},{"$f":"DATA!M1535","v":0},{"$f":"DATA!N1535","v":0},{"$f":"DATA!O1535","v":0},{"$f":"DATA!P1535","v":0}]
[{"$f":"DATA!C1536","v":0},{"$f":"DATA!D1536","v":0},{"$f":"DATA!E1536","v":0},{"$f":"DATA!H1536","v":0},{"$f":"DATA!I1536","v":0},{"$f":"DATA!J1536","v":0},{"$f":"DATA!K1536","v":0},{"$f":"DATA!L1536","v":0},{"$f":"DATA!M1536","v":0},{"$f":"DATA!N1536","v":0},{"$f":"DATA!O1536","v":0},{"$f":"DATA!P1536","v":0}]
[{"$f":"DATA!C1537","v":0},{"$f":"DATA!D1537","v":0},{"$f":"DATA!E1537","v":0},{"$f":"DATA!H1537","v":0},{"$f":"DATA!I1537","v":0},{"$f":"DATA!J1537","v":0},{"$f":"DATA!K1537","v":0},{"$f":"DATA!L1537","v":0},{"$f":"DATA!M1537","v":0},{"$f":"DATA!N1537","v":0},{"$f":"DATA!O1537","v":0},{"$f":"DATA!P1537","v":0}]
[{"$f":"DATA!C1538","v":0},{"$f":"DATA!D1538","v":0},{"$f":"DATA!E1538","v":0},{"$f":"DATA!H1538","v":0},{"$f":"DATA!I1538","v":0},{"$f":"DATA!J1538","v":0},{"$f":"DATA!K1538","v":0},{"$f":"DATA!L1538","v":0},{"$f":"DATA!M1538","v":0},{"$f":"DATA!N1538","v":0},{"$f":"DATA!O1538","v":0},{"$f":"DATA!P1538","v":0}]
[{"$f":"DATA!C1539","v":0},{"$f":"DATA!D1539","v":0},{"$f":"DATA!E1539","v":0},{"$f":"DATA!H1539","v":0},{"$f":"DATA!I1539","v":0},{"$f":"DATA!J1539","v":0},{"$f":"DATA!K1539","v":0},{"$f":"DATA!L1539","v":0},{"$f":"DATA!M1539","v":0},{"$f":"DATA!N1539","v":0},{"$f":"DATA!O1539","v":0},{"$f":"DATA!P1539","v":0}]
[{"$f":"DATA!C1540","v":0},{"$f":"DATA!D1540","v":0},{"$f":"DATA!E1540","v":0},{"$f":"DATA!H1540","v":0},{"$f":"DATA!I1540","v":0},{"$f":"DATA!J1540","v":0},{"$f":"DATA!K1540","v":0},{"$f":"DATA!L1540","v":0},{"$f":"DATA!M1540","v":0},{"$f":"DATA!N1540","v":0},{"$f":"DATA!O1540","v":0},{"$f":"DATA!P1540","v":0}]
[{"$f":"DATA!C1541","v":0},{"$f":"DATA!D1541","v":0},{"$f":"DATA!E1541","v":0},{"$f":"DATA!H1541","v":0},{"$f":"DATA!I1541","v":0},{"$f":"DATA!J1541","v":0},{"$f":"DATA!K1541","v":0},{"$f":"DATA!L1541","v":0},{"$f":"DATA!M1541","v":0},{"$f":"DATA!N1541","v":0},{"$f":"DATA!O1541","v":0},{"$f":"DATA!P1541","v":0}]
[{"$f":"DATA!C1542","v":0},{"$f":"DATA!D1542","v":0},{"$f":"DATA!E1542","v":0},{"$f":"DATA!H1542","v":0},{"$f":"DATA!I1542","v":0},{"$f":"DATA!J1542","v":0},{"$f":"DATA!K1542","v":0},{"$f":"DATA!L1542","v":0},{"$f":"DATA!M1542","v":0},{"$f":"DATA!N1542","v":0},{"$f":"DATA!O1542","v":0},{"$f":"DATA!P1542","v":0}]
[{"$f":"DATA!C1543","v":0},{"$f":"DATA!D1543","v":0},{"$f":"DATA!E1543","v":0},{"$f":"DATA!H1543","v":0},{"$f":"DATA!I1543","v":0},{"$f":"DATA!J1543","v":0},{"$f":"DATA!K1543","v":0},{"$f":"DATA!L1543","v":0},{"$f":"DATA!M1543","v":0},{"$f":"DATA!N1543","v":0},{"$f":"DATA!O1543","v":0},{"$f":"DATA!P1543","v":0}]
[{"$f":"DATA!C1544","v":0},{"$f":"DATA!D1544","v":0},{"$f":"DATA!E1544","v":0},{"$f":"DATA!H1544","v":0},{"$f":"DATA!I1544","v":0},{"$f":"DATA!J1544","v":0},{"$f":"DATA!K1544","v":0},{"$f":"DATA!L1544","v":0},{"$f":"DATA!M1544","v":0},{"$f":"DATA!N1544","v":0},{"$f":"DATA!O1544","v":0},{"$f":"DATA!P1544","v":0}]
[{"$f":"DATA!C1545","v":0},{"$f":"DATA!D1545","v":0},{"$f":"DATA!E1545","v":0},{"$f":"DATA!H1545","v":0},{"$f":"DATA!I1545","v":0},{"$f":"DATA!J1545","v":0},{"$f":"DATA!K1545","v":0},{"$f":"DATA!L1545","v":0},{"$f":"DATA!M1545","v":0},{"$f":"DATA!N1545","v":0},{"$f":"DATA!O1545","v":0},{"$f":"DATA!P1545","v":0}]
[{"$f":"DATA!C1546","v":0},{"$f":"DATA!D1546","v":0},{"$f":"DATA!E1546","v":0},{"$f":"DATA!H1546","v":0},{"$f":"DATA!I1546","v":0},{"$f":"DATA!J1546","v":0},{"$f":"DATA!K1546","v":0},{"$f":"DATA!L1546","v":0},{"$f":"DATA!M1546","v":0},{"$f":"DATA!N1546","v":0},{"$f":"DATA!O1546","v":0},{"$f":"DATA!P1546","v":0}]
[{"$f":"DATA!C1547","v":0},{"$f":"DATA!D1547","v":0},{"$f":"DATA!E1547","v":0},{"$f":"DATA!H1547","v":0},{"$f":"DATA!I1547","v":0},{"$f":"DATA!J1547","v":0},{"$f":"DATA!K1547","v":0},{"$f":"DATA!L1547","v":0},{"$f":"DATA!M1547","v":0},{"$f":"DATA!N1547","v":0},{"$f":"DATA!O1547","v":0},{"$f":"DATA!P1547","v":0}]
[{"$f":"DATA!C1548","v":0},{"$f":"DATA!D1548","v":0},{"$f":"DATA!E1548","v":0},{"$f":"DATA!H1548","v":0},{"$f":"DATA!I1548","v":0},{"$f":"DATA!J1548","v":0},{"$f":"DATA!K1548","v":0},{"$f":"DATA!L1548","v":0},{"$f":"DATA!M1548","v":0},{"$f":"DATA!N1548","v":0},{"$f":"DATA!O1548","v":0},{"$f":"DATA!P1548","v":0}]
[{"$f":"DATA!C1549","v":0},{"$f":"DATA!D1549","v":0},{"$f":"DATA!E1549","v":0},{"$f":"DATA!H1549","v":0},{"$f":"DATA!I1549","v":0},{"$f":"DATA!J1549","v":0},{"$f":"DATA!K1549","v":0},{"$f":"DATA!L1549","v":0},{"$f":"DATA!M1549","v":0},{"$f":"DATA!N1549","v":0},{"$f":"DATA!O1549","v":0},{"$f":"DATA!P1549","v":0}]
[{"$f":"DATA!C1550","v":0},{"$f":"DATA!D1550","v":0},{"$f":"DATA!E1550","v":0},{"$f":"DATA!H1550","v":0},{"$f":"DATA!I1550","v":0},{"$f":"DATA!J1550","v":0},{"$f":"DATA!K1550","v":0},{"$f":"DATA!L1550","v":0},{"$f":"DATA!M1550","v":0},{"$f":"DATA!N1550","v":0},{"$f":"DATA!O1550","v":0},{"$f":"DATA!P1550","v":0}]
[{"$f":"DATA!C1551","v":0},{"$f":"DATA!D1551","v":0},{"$f":"DATA!E1551","v":0},{"$f":"DATA!H1551","v":0},{"$f":"DATA!I1551","v":0},{"$f":"DATA!J1551","v":0},{"$f":"DATA!K1551","v":0},{"$f":"DATA!L1551","v":0},{"$f":"DATA!M1551","v":0},{"$f":"DATA!N1551","v":0},{"$f":"DATA!O1551","v":0},{"$f":"DATA!P1551","v":0}]
[{"$f":"DATA!C1552","v":0},{"$f":"DATA!D1552","v":0},{"$f":"DATA!E1552","v":0},{"$f":"DATA!H1552","v":0},{"$f":"DATA!I1552","v":0},{"$f":"DATA!J1552","v":0},{"$f":"DATA!K1552","v":0},{"$f":"DATA!L1552","v":0},{"$f":"DATA!M1552","v":0},{"$f":"DATA!N1552","v":0},{"$f":"DATA!O1552","v":0},{"$f":"DATA!P1552","v":0}]
[{"$f":"DATA!C1553","v":0},{"$f":"DATA!D1553","v":0},{"$f":"DATA!E1553","v":0},{"$f":"DATA!H1553","v":0},{"$f":"DATA!I1553","v":0},{"$f":"DATA!J1553","v":0},{"$f":"DATA!K1553","v":0},{"$f":"DATA!L1553","v":0},{"$f":"DATA!M1553","v":0},{"$f":"DATA!N1553","v":0},{"$f":"DATA!O1553","v":0},{"$f":"DATA!P1553","v":0}]
[{"$f":"DATA!C1554","v":0},{"$f":"DATA!D1554","v":0},{"$f":"DATA!E1554","v":0},{"$f":"DATA!H1554","v":0},{"$f":"DATA!I1554","v":0},{"$f":"DATA!J1554","v":0},{"$f":"DATA!K1554","v":0},{"$f":"DATA!L1554","v":0},{"$f":"DATA!M1554","v":0},{"$f":"DATA!N1554","v":0},{"$f":"DATA!O1554","v":0},{"$f":"DATA!P1554","v":0}]
[{"$f":"DATA!C1555","v":0},{"$f":"DATA!D1555","v":0},{"$f":"DATA!E1555","v":0},{"$f":"DATA!H1555","v":0},{"$f":"DATA!I1555","v":0},{"$f":"DATA!J1555","v":0},{"$f":"DATA!K1555","v":0},{"$f":"DATA!L1555","v":0},{"$f":"DATA!M1555","v":0},{"$f":"DATA!N1555","v":0},{"$f":"DATA!O1555","v":0},{"$f":"DATA!P1555","v":0}]
[{"$f":"DATA!C1556","v":0},{"$f":"DATA!D1556","v":0},{"$f":"DATA!E1556","v":0},{"$f":"DATA!H1556","v":0},{"$f":"DATA!I1556","v":0},{"$f":"DATA!J1556","v":0},{"$f":"DATA!K1556","v":0},{"$f":"DATA!L1556","v":0},{"$f":"DATA!M1556","v":0},{"$f":"DATA!N1556","v":0},{"$f":"DATA!O1556","v":0},{"$f":"DATA!P1556","v":0}]
[{"$f":"DATA!C1557","v":0},{"$f":"DATA!D1557","v":0},{"$f":"DATA!E1557","v":0},{"$f":"DATA!H1557","v":0},{"$f":"DATA!I1557","v":0},{"$f":"DATA!J1557","v":0},{"$f":"DATA!K1557","v":0},{"$f":"DATA!L1557","v":0},{"$f":"DATA!M1557","v":0},{"$f":"DATA!N1557","v":0},{"$f":"DATA!O1557","v":0},{"$f":"DATA!P1557","v":0}]
[{"$f":"DATA!C1558","v":0},{"$f":"DATA!D1558","v":0},{"$f":"DATA!E1558","v":0},{"$f":"DATA!H1558","v":0},{"$f":"DATA!I1558","v":0},{"$f":"DATA!J1558","v":0},{"$f":"DATA!K1558","v":0},{"$f":"DATA!L1558","v":0},{"$f":"DATA!M1558","v":0},{"$f":"DATA!N1558","v":0},{"$f":"DATA!O1558","v":0},{"$f":"DATA!P1558","v":0}]
[{"$f":"DATA!C1559","v":0},{"$f":"DATA!D1559","v":0},{"$f":"DATA!E1559","v":0},{"$f":"DATA!H1559","v":0},{"$f":"DATA!I1559","v":0},{"$f":"DATA!J1559","v":0},{"$f":"DATA!K1559","v":0},{"$f":"DATA!L1559","v":0},{"$f":"DATA!M1559","v":0},{"$f":"DATA!N1559","v":0},{"$f":"DATA!O1559","v":0},{"$f":"DATA!P1559","v":0}]
[{"$f":"DATA!C1560","v":0},{"$f":"DATA!D1560","v":0},{"$f":"DATA!E1560","v":0},{"$f":"DATA!H1560","v":0},{"$f":"DATA!I1560","v":0},{"$f":"DATA!J1560","v":0},{"$f":"DATA!K1560","v":0},{"$f":"DATA!L1560","v":0},{"$f":"DATA!M1560","v":0},{"$f":"DATA!N1560","v":0},{"$f":"DATA!O1560","v":0},{"$f":"DATA!P1560","v":0}]
[{"$f":"DATA!C1561","v":0},{"$f":"DATA!D1561","v":0},{"$f":"DATA!E1561","v":0},{"$f":"DATA!H1561","v":0},{"$f":"DATA!I1561","v":0},{"$f":"DATA!J1561","v":0},{"$f":"DATA!K1561","v":0},{"$f":"DATA!L1561","v":0},{"$f":"DATA!M1561","v":0},{"$f":"DATA!N1561","v":0},{"$f":"DATA!O1561","v":0},{"$f":"DATA!P1561","v":0}]
[{"$f":"DATA!C1562","v":0},{"$f":"DATA!D1562","v":0},{"$f":"DATA!E1562","v":0},{"$f":"DATA!H1562","v":0},{"$f":"DATA!I1562","v":0},{"$f":"DATA!J1562","v":0},{"$f":"DATA!K1562","v":0},{"$f":"DATA!L1562","v":0},{"$f":"DATA!M1562","v":0},{"$f":"DATA!N1562","v":0},{"$f":"DATA!O1562","v":0},{"$f":"DATA!P1562","v":0}]
[{"$f":"DATA!C1563","v":0},{"$f":"DATA!D1563","v":0},{"$f":"DATA!E1563","v":0},{"$f":"DATA!H1563","v":0},{"$f":"DATA!I1563","v":0},{"$f":"DATA!J1563","v":0},{"$f":"DATA!K1563","v":0},{"$f":"DATA!L1563","v":0},{"$f":"DATA!M1563","v":0},{"$f":"DATA!N1563","v":0},{"$f":"DATA!O1563","v":0},{"$f":"DATA!P1563","v":0}]
[{"$f":"DATA!C1564","v":0},{"$f":"DATA!D1564","v":0},{"$f":"DATA!E1564","v":0},{"$f":"DATA!H1564","v":0},{"$f":"DATA!I1564","v":0},{"$f":"DATA!J1564","v":0},{"$f":"DATA!K1564","v":0},{"$f":"DATA!L1564","v":0},{"$f":"DATA!M1564","v":0},{"$f":"DATA!N1564","v":0},{"$f":"DATA!O1564","v":0},{"$f":"DATA!P1564","v":0}]
[{"$f":"DATA!C1565","v":0},{"$f":"DATA!D1565","v":0},{"$f":"DATA!E1565","v":0},{"$f":"DATA!H1565","v":0},{"$f":"DATA!I1565","v":0},{"$f":"DATA!J1565","v":0},{"$f":"DATA!K1565","v":0},{"$f":"DATA!L1565","v":0},{"$f":"DATA!M1565","v":0},{"$f":"DATA!N1565","v":0},{"$f":"DATA!O1565","v":0},{"$f":"DATA!P1565","v":0}]
[{"$f":"DATA!C1566","v":0},{"$f":"DATA!D1566","v":0},{"$f":"DATA!E1566","v":0},{"$f":"DATA!H1566","v":0},{"$f":"DATA!I1566","v":0},{"$f":"DATA!J1566","v":0},{"$f":"DATA!K1566","v":0},{"$f":"DATA!L1566","v":0},{"$f":"DATA!M1566","v":0},{"$f":"DATA!N1566","v":0},{"$f":"DATA!O1566","v":0},{"$f":"DATA!P1566","v":0}]
[{"$f":"DATA!C1567","v":0},{"$f":"DATA!D1567","v":0},{"$f":"DATA!E1567","v":0},{"$f":"DATA!H1567","v":0},{"$f":"DATA!I1567","v":0},{"$f":"DATA!J1567","v":0},{"$f":"DATA!K1567","v":0},{"$f":"DATA!L1567","v":0},{"$f":"DATA!M1567","v":0},{"$f":"DATA!N1567","v":0},{"$f":"DATA!O1567","v":0},{"$f":"DATA!P1567","v":0}]
[{"$f":"DATA!C1568","v":0},{"$f":"DATA!D1568","v":0},{"$f":"DATA!E1568","v":0},{"$f":"DATA!H1568","v":0},{"$f":"DATA!I1568","v":0},{"$f":"DATA!J1568","v":0},{"$f":"DATA!K1568","v":0},{"$f":"DATA!L1568","v":0},{"$f":"DATA!M1568","v":0},{"$f":"DATA!N1568","v":0},{"$f":"DATA!O1568","v":0},{"$f":"DATA!P1568","v":0}]
[{"$f":"DATA!C1569","v":0},{"$f":"DATA!D1569","v":0},{"$f":"DATA!E1569","v":0},{"$f":"DATA!H1569","v":0},{"$f":"DATA!I1569","v":0},{"$f":"DATA!J1569","v":0},{"$f":"DATA!K1569","v":0},{"$f":"DATA!L1569","v":0},{"$f":"DATA!M1569","v":0},{"$f":"DATA!N1569","v":0},{"$f":"DATA!O1569","v":0},{"$f":"DATA!P1569","v":0}]
[{"$f":"DATA!C1570","v":0},{"$f":"DATA!D1570","v":0},{"$f":"DATA!E1570","v":0},{"$f":"DATA!H1570","v":0},{"$f":"DATA!I1570","v":0},{"$f":"DATA!J1570","v":0},{"$f":"DATA!K1570","v":0},{"$f":"DATA!L1570","v":0},{"$f":"DATA!M1570","v":0},{"$f":"DATA!N1570","v":0},{"$f":"DATA!O1570","v":0},{"$f":"DATA!P1570","v":0}]
[{"$f":"DATA!C1571","v":0},{"$f":"DATA!D1571","v":0},{"$f":"DATA!E1571","v":0},{"$f":"DATA!H1571","v":0},{"$f":"DATA!I1571","v":0},{"$f":"DATA!J1571","v":0},{"$f":"DATA!K1571","v":0},{"$f":"DATA!L1571","v":0},{"$f":"DATA!M1571","v":0},{"$f":"DATA!N1571","v":0},{"$f":"DATA!O1571","v":0},{"$f":"DATA!P1571","v":0}]
[{"$f":"DATA!C1572","v":0},{"$f":"DATA!D1572","v":0},{"$f":"DATA!E1572","v":0},{"$f":"DATA!H1572","v":0},{"$f":"DATA!I1572","v":0},{"$f":"DATA!J1572","v":0},{"$f":"DATA!K1572","v":0},{"$f":"DATA!L1572","v":0},{"$f":"DATA!M1572","v":0},{"$f":"DATA!N1572","v":0},{"$f":"DATA!O1572","v":0},{"$f":"DATA!P1572","v":0}]
[{"$f":"DATA!C1573","v":0},{"$f":"DATA!D1573","v":0},{"$f":"DATA!E1573","v":0},{"$f":"DATA!H1573","v":0},{"$f":"DATA!I1573","v":0},{"$f":"DATA!J1573","v":0},{"$f":"DATA!K1573","v":0},{"$f":"DATA!L1573","v":0},{"$f":"DATA!M1573","v":0},{"$f":"DATA!N1573","v":0},{"$f":"DATA!O1573","v":0},{"$f":"DATA!P1573","v":0}]
[{"$f":"DATA!C1574","v":0},{"$f":"DATA!D1574","v":0},{"$f":"DATA!E1574","v":0},{"$f":"DATA!H1574","v":0},{"$f":"DATA!I1574","v":0},{"$f":"DATA!J1574","v":0},{"$f":"DATA!K1574","v":0},{"$f":"DATA!L1574","v":0},{"$f":"DATA!M1574","v":0},{"$f":"DATA!N1574","v":0},{"$f":"DATA!O1574","v":0},{"$f":"DATA!P1574","v":0}]
[{"$f":"DATA!C1575","v":0},{"$f":"DATA!D1575","v":0},{"$f":"DATA!E1575","v":0},{"$f":"DATA!H1575","v":0},{"$f":"DATA!I1575","v":0},{"$f":"DATA!J1575","v":0},{"$f":"DATA!K1575","v":0},{"$f":"DATA!L1575","v":0},{"$f":"DATA!M1575","v":0},{"$f":"DATA!N1575","v":0},{"$f":"DATA!O1575","v":0},{"$f":"DATA!P1575","v":0}]
[{"$f":"DATA!C1576","v":0},{"$f":"DATA!D1576","v":0},{"$f":"DATA!E1576","v":0},{"$f":"DATA!H1576","v":0},{"$f":"DATA!I1576","v":0},{"$f":"DATA!J1576","v":0},{"$f":"DATA!K1576","v":0},{"$f":"DATA!L1576","v":0},{"$f":"DATA!M1576","v":0},{"$f":"DATA!N1576","v":0},{"$f":"DATA!O1576","v":0},{"$f":"DATA!P1576","v":0}]
[{"$f":"DATA!C1577","v":0},{"$f":"DATA!D1577","v":0},{"$f":"DATA!E1577","v":0},{"$f":"DATA!H1577","v":0},{"$f":"DATA!I1577","v":0},{"$f":"DATA!J1577","v":0},{"$f":"DATA!K1577","v":0},{"$f":"DATA!L1577","v":0},{"$f":"DATA!M1577","v":0},{"$f":"DATA!N1577","v":0},{"$f":"DATA!O1577","v":0},{"$f":"DATA!P1577","v":0}]
[{"$f":"DATA!C1578","v":0},{"$f":"DATA!D1578","v":0},{"$f":"DATA!E1578","v":0},{"$f":"DATA!H1578","v":0},{"$f":"DATA!I1578","v":0},{"$f":"DATA!J1578","v":0},{"$f":"DATA!K1578","v":0},{"$f":"DATA!L1578","v":0},{"$f":"DATA!M1578","v":0},{"$f":"DATA!N1578","v":0},{"$f":"DATA!O1578","v":0},{"$f":"DATA!P1578","v":0}]
[{"$f":"DATA!C1579","v":0},{"$f":"DATA!D1579","v":0},{"$f":"DATA!E1579","v":0},{"$f":"DATA!H1579","v":0},{"$f":"DATA!I1579","v":0},{"$f":"DATA!J1579","v":0},{"$f":"DATA!K1579","v":0},{"$f":"DATA!L1579","v":0},{"$f":"DATA!M1579","v":0},{"$f":"DATA!N1579","v":0},{"$f":"DATA!O1579","v":0},{"$f":"DATA!P1579","v":0}]
[{"$f":"DATA!C1580","v":0},{"$f":"DATA!D1580","v":0},{"$f":"DATA!E1580","v":0},{"$f":"DATA!H1580","v":0},{"$f":"DATA!I1580","v":0},{"$f":"DATA!J1580","v":0},{"$f":"DATA!K1580","v":0},{"$f":"DATA!L1580","v":0},{"$f":"DATA!M1580","v":0},{"$f":"DATA!N1580","v":0},{"$f":"DATA!O1580","v":0},{"$f":"DATA!P1580","v":0}]
[{"$f":"DATA!C1581","v":0},{"$f":"DATA!D1581","v":0},{"$f":"DATA!E1581","v":0},{"$f":"DATA!H1581","v":0},{"$f":"DATA!I1581","v":0},{"$f":"DATA!J1581","v":0},{"$f":"DATA!K1581","v":0},{"$f":"DATA!L1581","v":0},{"$f":"DATA!M1581","v":0},{"$f":"DATA!N1581","v":0},{"$f":"DATA!O1581","v":0},{"$f":"DATA!P1581","v":0}]
[{"$f":"DATA!C1582","v":0},{"$f":"DATA!D1582","v":0},{"$f":"DATA!E1582","v":0},{"$f":"DATA!H1582","v":0},{"$f":"DATA!I1582","v":0},{"$f":"DATA!J1582","v":0},{"$f":"DATA!K1582","v":0},{"$f":"DATA!L1582","v":0},{"$f":"DATA!M1582","v":0},{"$f":"DATA!N1582","v":0},{"$f":"DATA!O1582","v":0},{"$f":"DATA!P1582","v":0}]
[{"$f":"DATA!C1583","v":0},{"$f":"DATA!D1583","v":0},{"$f":"DATA!E1583","v":0},{"$f":"DATA!H1583","v":0},{"$f":"DATA!I1583","v":0},{"$f":"DATA!J1583","v":0},{"$f":"DATA!K1583","v":0},{"$f":"DATA!L1583","v":0},{"$f":"DATA!M1583","v":0},{"$f":"DATA!N1583","v":0},{"$f":"DATA!O1583","v":0},{"$f":"DATA!P1583","v":0}]
[{"$f":"DATA!C1584","v":0},{"$f":"DATA!D1584","v":0},{"$f":"DATA!E1584","v":0},{"$f":"DATA!H1584","v":0},{"$f":"DATA!I1584","v":0},{"$f":"DATA!J1584","v":0},{"$f":"DATA!K1584","v":0},{"$f":"DATA!L1584","v":0},{"$f":"DATA!M1584","v":0},{"$f":"DATA!N1584","v":0},{"$f":"DATA!O1584","v":0},{"$f":"DATA!P1584","v":0}]
[{"$f":"DATA!C1585","v":0},{"$f":"DATA!D1585","v":0},{"$f":"DATA!E1585","v":0},{"$f":"DATA!H1585","v":0},{"$f":"DATA!I1585","v":0},{"$f":"DATA!J1585","v":0},{"$f":"DATA!K1585","v":0},{"$f":"DATA!L1585","v":0},{"$f":"DATA!M1585","v":0},{"$f":"DATA!N1585","v":0},{"$f":"DATA!O1585","v":0},{"$f":"DATA!P1585","v":0}]
[{"$f":"DATA!C1586","v":0},{"$f":"DATA!D1586","v":0},{"$f":"DATA!E1586","v":0},{"$f":"DATA!H1586","v":0},{"$f":"DATA!I1586","v":0},{"$f":"DATA!J1586","v":0},{"$f":"DATA!K1586","v":0},{"$f":"DATA!L1586","v":0},{"$f":"DATA!M1586","v":0},{"$f":"DATA!N1586","v":0},{"$f":"DATA!O1586","v":0},{"$f":"DATA!P1586","v":0}]
[{"$f":"DATA!C1587","v":0},{"$f":"DATA!D1587","v":0},{"$f":"DATA!E1587","v":0},{"$f":"DATA!H1587","v":0},{"$f":"DATA!I1587","v":0},{"$f":"DATA!J1587","v":0},{"$f":"DATA!K1587","v":0},{"$f":"DATA!L1587","v":0},{"$f":"DATA!M1587","v":0},{"$f":"DATA!N1587","v":0},{"$f":"DATA!O1587","v":0},{"$f":"DATA!P1587","v":0}]
[{"$f":"DATA!C1588","v":0},{"$f":"DATA!D1588","v":0},{"$f":"DATA!E1588","v":0},{"$f":"DATA!H1588","v":0},{"$f":"DATA!I1588","v":0},{"$f":"DATA!J1588","v":0},{"$f":"DATA!K1588","v":0},{"$f":"DATA!L1588","v":0},{"$f":"DATA!M1588","v":0},{"$f":"DATA!N1588","v":0},{"$f":"DATA!O1588","v":0},{"$f":"DATA!P1588","v":0}]
[{"$f":"DATA!C1589","v":0},{"$f":"DATA!D1589","v":0},{"$f":"DATA!E1589","v":0},{"$f":"DATA!H1589","v":0},{"$f":"DATA!I1589","v":0},{"$f":"DATA!J1589","v":0},{"$f":"DATA!K1589","v":0},{"$f":"DATA!L1589","v":0},{"$f":"DATA!M1589","v":0},{"$f":"DATA!N1589","v":0},{"$f":"DATA!O1589","v":0},{"$f":"DATA!P1589","v":0}]
[{"$f":"DATA!C1590","v":0},{"$f":"DATA!D1590","v":0},{"$f":"DATA!E1590","v":0},{"$f":"DATA!H1590","v":0},{"$f":"DATA!I1590","v":0},{"$f":"DATA!J1590","v":0},{"$f":"DATA!K1590","v":0},{"$f":"DATA!L1590","v":0},{"$f":"DATA!M1590","v":0},{"$f":"DATA!N1590","v":0},{"$f":"DATA!O1590","v":0},{"$f":"DATA!P1590","v":0}]
[{"$f":"DATA!C1591","v":0},{"$f":"DATA!D1591","v":0},{"$f":"DATA!E1591","v":0},{"$f":"DATA!H1591","v":0},{"$f":"DATA!I1591","v":0},{"$f":"DATA!J1591","v":0},{"$f":"DATA!K1591","v":0},{"$f":"DATA!L1591","v":0},{"$f":"DATA!M1591","v":0},{"$f":"DATA!N1591","v":0},{"$f":"DATA!O1591","v":0},{"$f":"DATA!P1591","v":0}]
[{"$f":"DATA!C1592","v":0},{"$f":"DATA!D1592","v":0},{"$f":"DATA!E1592","v":0},{"$f":"DATA!H1592","v":0},{"$f":"DATA!I1592","v":0},{"$f":"DATA!J1592","v":0},{"$f":"DATA!K1592","v":0},{"$f":"DATA!L1592","v":0},{"$f":"DATA!M1592","v":0},{"$f":"DATA!N1592","v":0},{"$f":"DATA!O1592","v":0},{"$f":"DATA!P1592","v":0}]
[{"$f":"DATA!C1593","v":0},{"$f":"DATA!D1593","v":0},{"$f":"DATA!E1593","v":0},{"$f":"DATA!H1593","v":0},{"$f":"DATA!I1593","v":0},{"$f":"DATA!J1593","v":0},{"$f":"DATA!K1593","v":0},{"$f":"DATA!L1593","v":0},{"$f":"DATA!M1593","v":0},{"$f":"DATA!N1593","v":0},{"$f":"DATA!O1593","v":0},{"$f":"DATA!P1593","v":0}]
[{"$f":"DATA!C1594","v":0},{"$f":"DATA!D1594","v":0},{"$f":"DATA!E1594","v":0},{"$f":"DATA!H1594","v":0},{"$f":"DATA!I1594","v":0},{"$f":"DATA!J1594","v":0},{"$f":"DATA!K1594","v":0},{"$f":"DATA!L1594","v":0},{"$f":"DATA!M1594","v":0},{"$f":"DATA!N1594","v":0},{"$f":"DATA!O1594","v":0},{"$f":"DATA!P1594","v":0}]
[{"$f":"DATA!C1595","v":0},{"$f":"DATA!D1595","v":0},{"$f":"DATA!E1595","v":0},{"$f":"DATA!H1595","v":0},{"$f":"DATA!I1595","v":0},{"$f":"DATA!J1595","v":0},{"$f":"DATA!K1595","v":0},{"$f":"DATA!L1595","v":0},{"$f":"DATA!M1595","v":0},{"$f":"DATA!N1595","v":0},{"$f":"DATA!O1595","v":0},{"$f":"DATA!P1595","v":0}]
[{"$f":"DATA!C1596","v":0},{"$f":"DATA!D1596","v":0},{"$f":"DATA!E1596","v":0},{"$f":"DATA!H1596","v":0},{"$f":"DATA!I1596","v":0},{"$f":"DATA!J1596","v":0},{"$f":"DATA!K1596","v":0},{"$f":"DATA!L1596","v":0},{"$f":"DATA!M1596","v":0},{"$f":"DATA!N1596","v":0},{"$f":"DATA!O1596","v":0},{"$f":"DATA!P1596","v":0}]
[{"$f":"DATA!C1597","v":0},{"$f":"DATA!D1597","v":0},{"$f":"DATA!E1597","v":0},{"$f":"DATA!H1597","v":0},{"$f":"DATA!I1597","v":0},{"$f":"DATA!J1597","v":0},{"$f":"DATA!K1597","v":0},{"$f":"DATA!L1597","v":0},{"$f":"DATA!M1597","v":0},{"$f":"DATA!N1597","v":0},{"$f":"DATA!O1597","v":0},{"$f":"DATA!P1597","v":0}]
[{"$f":"DATA!C1598","v":0},{"$f":"DATA!D1598","v":0},{"$f":"DATA!E1598","v":0},{"$f":"DATA!H1598","v":0},{"$f":"DATA!I1598","v":0},{"$f":"DATA!J1598","v":0},{"$f":"DATA!K1598","v":0},{"$f":"DATA!L1598","v":0},{"$f":"DATA!M1598","v":0},{"$f":"DATA!N1598","v":0},{"$f":"DATA!O1598","v":0},{"$f":"DATA!P1598","v":0}]
[{"$f":"DATA!C1599","v":0},{"$f":"DATA!D1599","v":0},{"$f":"DATA!E1599","v":0},{"$f":"DATA!H1599","v":0},{"$f":"DATA!I1599","v":0},{"$f":"DATA!J1599","v":0},{"$f":"DATA!K1599","v":0},{"$f":"DATA!L1599","v":0},{"$f":"DATA!M1599","v":0},{"$f":"DATA!N1599","v":0},{"$f":"DATA!O1599","v":0},{"$f":"DATA!P1599","v":0}]
[{"$f":"DATA!C1600","v":0},{"$f":"DATA!D1600","v":0},{"$f":"DATA!E1600","v":0},{"$f":"DATA!H1600","v":0},{"$f":"DATA!I1600","v":0},{"$f":"DATA!J1600","v":0},{"$f":"DATA!K1600","v":0},{"$f":"DATA!L1600","v":0},{"$f":"DATA!M1600","v":0},{"$f":"DATA!N1600","v":0},{"$f":"DATA!O1600","v":0},{"$f":"DATA!P1600","v":0}]
[{"$f":"DATA!C1601","v":0},{"$f":"DATA!D1601","v":0},{"$f":"DATA!E1601","v":0},{"$f":"DATA!H1601","v":0},{"$f":"DATA!I1601","v":0},{"$f":"DATA!J1601","v":0},{"$f":"DATA!K1601","v":0},{"$f":"DATA!L1601","v":0},{"$f":"DATA!M1601","v":0},{"$f":"DATA!N1601","v":0},{"$f":"DATA!O1601","v":0},{"$f":"DATA!P1601","v":0}]
[{"$f":"DATA!C1602","v":0},{"$f":"DATA!D1602","v":0},{"$f":"DATA!E1602","v":0},{"$f":"DATA!H1602","v":0},{"$f":"DATA!I1602","v":0},{"$f":"DATA!J1602","v":0},{"$f":"DATA!K1602","v":0},{"$f":"DATA!L1602","v":0},{"$f":"DATA!M1602","v":0},{"$f":"DATA!N1602","v":0},{"$f":"DATA!O1602","v":0},{"$f":"DATA!P1602","v":0}]
[{"$f":"DATA!C1603","v":0},{"$f":"DATA!D1603","v":0},{"$f":"DATA!E1603","v":0},{"$f":"DATA!H1603","v":0},{"$f":"DATA!I1603","v":0},{"$f":"DATA!J1603","v":0},{"$f":"DATA!K1603","v":0},{"$f":"DATA!L1603","v":0},{"$f":"DATA!M1603","v":0},{"$f":"DATA!N1603","v":0},{"$f":"DATA!O1603","v":0},{"$f":"DATA!P1603","v":0}]
[{"$f":"DATA!C1604","v":0},{"$f":"DATA!D1604","v":0},{"$f":"DATA!E1604","v":0},{"$f":"DATA!H1604","v":0},{"$f":"DATA!I1604","v":0},{"$f":"DATA!J1604","v":0},{"$f":"DATA!K1604","v":0},{"$f":"DATA!L1604","v":0},{"$f":"DATA!M1604","v":0},{"$f":"DATA!N1604","v":0},{"$f":"DATA!O1604","v":0},{"$f":"DATA!P1604","v":0}]
[{"$f":"DATA!C1605","v":0},{"$f":"DATA!D1605","v":0},{"$f":"DATA!E1605","v":0},{"$f":"DATA!H1605","v":0},{"$f":"DATA!I1605","v":0},{"$f":"DATA!J1605","v":0},{"$f":"DATA!K1605","v":0},{"$f":"DATA!L1605","v":0},{"$f":"DATA!M1605","v":0},{"$f":"DATA!N1605","v":0},{"$f":"DATA!O1605","v":0},{"$f":"DATA!P1605","v":0}]
[{"$f":"DATA!C1606","v":0},{"$f":"DATA!D1606","v":0},{"$f":"DATA!E1606","v":0},{"$f":"DATA!H1606","v":0},{"$f":"DATA!I1606","v":0},{"$f":"DATA!J1606","v":0},{"$f":"DATA!K1606","v":0},{"$f":"DATA!L1606","v":0},{"$f":"DATA!M1606","v":0},{"$f":"DATA!N1606","v":0},{"$f":"DATA!O1606","v":0},{"$f":"DATA!P1606","v":0}]
[{"$f":"DATA!C1607","v":0},{"$f":"DATA!D1607","v":0},{"$f":"DATA!E1607","v":0},{"$f":"DATA!H1607","v":0},{"$f":"DATA!I1607","v":0},{"$f":"DATA!J1607","v":0},{"$f":"DATA!K1607","v":0},{"$f":"DATA!L1607","v":0},{"$f":"DATA!M1607","v":0},{"$f":"DATA!N1607","v":0},{"$f":"DATA!O1607","v":0},{"$f":"DATA!P1607","v":0}]
[{"$f":"DATA!C1608","v":0},{"$f":"DATA!D1608","v":0},{"$f":"DATA!E1608","v":0},{"$f":"DATA!H1608","v":0},{"$f":"DATA!I1608","v":0},{"$f":"DATA!J1608","v":0},{"$f":"DATA!K1608","v":0},{"$f":"DATA!L1608","v":0},{"$f":"DATA!M1608","v":0},{"$f":"DATA!N1608","v":0},{"$f":"DATA!O1608","v":0},{"$f":"DATA!P1608","v":0}]
[{"$f":"DATA!C1609","v":0},{"$f":"DATA!D1609","v":0},{"$f":"DATA!E1609","v":0},{"$f":"DATA!H1609","v":0},{"$f":"DATA!I1609","v":0},{"$f":"DATA!J1609","v":0},{"$f":"DATA!K1609","v":0},{"$f":"DATA!L1609","v":0},{"$f":"DATA!M1609","v":0},{"$f":"DATA!N1609","v":0},{"$f":"DATA!O1609","v":0},{"$f":"DATA!P1609","v":0}]
[{"$f":"DATA!C1610","v":0},{"$f":"DATA!D1610","v":0},{"$f":"DATA!E1610","v":0},{"$f":"DATA!H1610","v":0},{"$f":"DATA!I1610","v":0},{"$f":"DATA!J1610","v":0},{"$f":"DATA!K1610","v":0},{"$f":"DATA!L1610","v":0},{"$f":"DATA!M1610","v":0},{"$f":"DATA!N1610","v":0},{"$f":"DATA!O1610","v":0},{"$f":"DATA!P1610","v":0}]
[{"$f":"DATA!C1611","v":0},{"$f":"DATA!D1611","v":0},{"$f":"DATA!E1611","v":0},{"$f":"DATA!H1611","v":0},{"$f":"DATA!I1611","v":0},{"$f":"DATA!J1611","v":0},{"$f":"DATA!K1611","v":0},{"$f":"DATA!L1611","v":0},{"$f":"DATA!M1611","v":0},{"$f":"DATA!N1611","v":0},{"$f":"DATA!O1611","v":0},{"$f":"DATA!P1611","v":0}]
[{"$f":"DATA!C1612","v":0},{"$f":"DATA!D1612","v":0},{"$f":"DATA!E1612","v":0},{"$f":"DATA!H1612","v":0},{"$f":"DATA!I1612","v":0},{"$f":"DATA!J1612","v":0},{"$f":"DATA!K1612","v":0},{"$f":"DATA!L1612","v":0},{"$f":"DATA!M1612","v":0},{"$f":"DATA!N1612","v":0},{"$f":"DATA!O1612","v":0},{"$f":"DATA!P1612","v":0}]
[{"$f":"DATA!C1613","v":0},{"$f":"DATA!D1613","v":0},{"$f":"DATA!E1613","v":0},{"$f":"DATA!H1613","v":0},{"$f":"DATA!I1613","v":0},{"$f":"DATA!J1613","v":0},{"$f":"DATA!K1613","v":0},{"$f":"DATA!L1613","v":0},{"$f":"DATA!M1613","v":0},{"$f":"DATA!N1613","v":0},{"$f":"DATA!O1613","v":0},{"$f":"DATA!P1613","v":0}]
[{"$f":"DATA!C1614","v":0},{"$f":"DATA!D1614","v":0},{"$f":"DATA!E1614","v":0},{"$f":"DATA!H1614","v":0},{"$f":"DATA!I1614","v":0},{"$f":"DATA!J1614","v":0},{"$f":"DATA!K1614","v":0},{"$f":"DATA!L1614","v":0},{"$f":"DATA!M1614","v":0},{"$f":"DATA!N1614","v":0},{"$f":"DATA!O1614","v":0},{"$f":"DATA!P1614","v":0}]
[{"$f":"DATA!C1615","v":0},{"$f":"DATA!D1615","v":0},{"$f":"DATA!E1615","v":0},{"$f":"DATA!H1615","v":0},{"$f":"DATA!I1615","v":0},{"$f":"DATA!J1615","v":0},{"$f":"DATA!K1615","v":0},{"$f":"DATA!L1615","v":0},{"$f":"DATA!M1615","v":0},{"$f":"DATA!N1615","v":0},{"$f":"DATA!O1615","v":0},{"$f":"DATA!P1615","v":0}]
[{"$f":"DATA!C1616","v":0},{"$f":"DATA!D1616","v":0},{"$f":"DATA!E1616","v":0},{"$f":"DATA!H1616","v":0},{"$f":"DATA!I1616","v":0},{"$f":"DATA!J1616","v":0},{"$f":"DATA!K1616","v":0},{"$f":"DATA!L1616","v":0},{"$f":"DATA!M1616","v":0},{"$f":"DATA!N1616","v":0},{"$f":"DATA!O1616","v":0},{"$f":"DATA!P1616","v":0}]
[{"$f":"DATA!C1617","v":0},{"$f":"DATA!D1617","v":0},{"$f":"DATA!E1617","v":0},{"$f":"DATA!H1617","v":0},{"$f":"DATA!I1617","v":0},{"$f":"DATA!J1617","v":0},{"$f":"DATA!K1617","v":0},{"$f":"DATA!L1617","v":0},{"$f":"DATA!M1617","v":0},{"$f":"DATA!N1617","v":0},{"$f":"DATA!O1617","v":0},{"$f":"DATA!P1617","v":0}]
[{"$f":"DATA!C1618","v":0},{"$f":"DATA!D1618","v":0},{"$f":"DATA!E1618","v":0},{"$f":"DATA!H1618","v":0},{"$f":"DATA!I1618","v":0},{"$f":"DATA!J1618","v":0},{"$f":"DATA!K1618","v":0},{"$f":"DATA!L1618","v":0},{"$f":"DATA!M1618","v":0},{"$f":"DATA!N1618","v":0},{"$f":"DATA!O1618","v":0},{"$f":"DATA!P1618","v":0}]
[{"$f":"DATA!C1619","v":0},{"$f":"DATA!D1619","v":0},{"$f":"DATA!E1619","v":0},{"$f":"DATA!H1619","v":0},{"$f":"DATA!I1619","v":0},{"$f":"DATA!J1619","v":0},{"$f":"DATA!K1619","v":0},{"$f":"DATA!L1619","v":0},{"$f":"DATA!M1619","v":0},{"$f":"DATA!N1619","v":0},{"$f":"DATA!O1619","v":0},{"$f":"DATA!P1619","v":0}]
[{"$f":"DATA!C1620","v":0},{"$f":"DATA!D1620","v":0},{"$f":"DATA!E1620","v":0},{"$f":"DATA!H1620","v":0},{"$f":"DATA!I1620","v":0},{"$f":"DATA!J1620","v":0},{"$f":"DATA!K1620","v":0},{"$f":"DATA!L1620","v":0},{"$f":"DATA!M1620","v":0},{"$f":"DATA!N1620","v":0},{"$f":"DATA!O1620","v":0},{"$f":"DATA!P1620","v":0}]
[{"$f":"DATA!C1621","v":0},{"$f":"DATA!D1621","v":0},{"$f":"DATA!E1621","v":0},{"$f":"DATA!H1621","v":0},{"$f":"DATA!I1621","v":0},{"$f":"DATA!J1621","v":0},{"$f":"DATA!K1621","v":0},{"$f":"DATA!L1621","v":0},{"$f":"DATA!M1621","v":0},{"$f":"DATA!N1621","v":0},{"$f":"DATA!O1621","v":0},{"$f":"DATA!P1621","v":0}]
[{"$f":"DATA!C1622","v":0},{"$f":"DATA!D1622","v":0},{"$f":"DATA!E1622","v":0},{"$f":"DATA!H1622","v":0},{"$f":"DATA!I1622","v":0},{"$f":"DATA!J1622","v":0},{"$f":"DATA!K1622","v":0},{"$f":"DATA!L1622","v":0},{"$f":"DATA!M1622","v":0},{"$f":"DATA!N1622","v":0},{"$f":"DATA!O1622","v":0},{"$f":"DATA!P1622","v":0}]
[{"$f":"DATA!C1623","v":0},{"$f":"DATA!D1623","v":0},{"$f":"DATA!E1623","v":0},{"$f":"DATA!H1623","v":0},{"$f":"DATA!I1623","v":0},{"$f":"DATA!J1623","v":0},{"$f":"DATA!K1623","v":0},{"$f":"DATA!L1623","v":0},{"$f":"DATA!M1623","v":0},{"$f":"DATA!N1623","v":0},{"$f":"DATA!O1623","v":0},{"$f":"DATA!P1623","v":0}]
[{"$f":"DATA!C1624","v":0},{"$f":"DATA!D1624","v":0},{"$f":"DATA!E1624","v":0},{"$f":"DATA!H1624","v":0},{"$f":"DATA!I1624","v":0},{"$f":"DATA!J1624","v":0},{"$f":"DATA!K1624","v":0},{"$f":"DATA!L1624","v":0},{"$f":"DATA!M1624","v":0},{"$f":"DATA!N1624","v":0},{"$f":"DATA!O1624","v":0},{"$f":"DATA!P1624","v":0}]
[{"$f":"DATA!C1625","v":0},{"$f":"DATA!D1625","v":0},{"$f":"DATA!E1625","v":0},{"$f":"DATA!H1625","v":0},{"$f":"DATA!I1625","v":0},{"$f":"DATA!J1625","v":0},{"$f":"DATA!K1625","v":0},{"$f":"DATA!L1625","v":0},{"$f":"DATA!M1625","v":0},{"$f":"DATA!N1625","v":0},{"$f":"DATA!O1625","v":0},{"$f":"DATA!P1625","v":0}]
[{"$f":"DATA!C1626","v":0},{"$f":"DATA!D1626","v":0},{"$f":"DATA!E1626","v":0},{"$f":"DATA!H1626","v":0},{"$f":"DATA!I1626","v":0},{"$f":"DATA!J1626","v":0},{"$f":"DATA!K1626","v":0},{"$f":"DATA!L1626","v":0},{"$f":"DATA!M1626","v":0},{"$f":"DATA!N1626","v":0},{"$f":"DATA!O1626","v":0},{"$f":"DATA!P1626","v":0}]
[{"$f":"DATA!C1627","v":0},{"$f":"DATA!D1627","v":0},{"$f":"DATA!E1627","v":0},{"$f":"DATA!H1627","v":0},{"$f":"DATA!I1627","v":0},{"$f":"DATA!J1627","v":0},{"$f":"DATA!K1627","v":0},{"$f":"DATA!L1627","v":0},{"$f":"DATA!M1627","v":0},{"$f":"DATA!N1627","v":0},{"$f":"DATA!O1627","v":0},{"$f":"DATA!P1627","v":0}]
[{"$f":"DATA!C1628","v":0},{"$f":"DATA!D1628","v":0},{"$f":"DATA!E1628","v":0},{"$f":"DATA!H1628","v":0},{"$f":"DATA!I1628","v":0},{"$f":"DATA!J1628","v":0},{"$f":"DATA!K1628","v":0},{"$f":"DATA!L1628","v":0},{"$f":"DATA!M1628","v":0},{"$f":"DATA!N1628","v":0},{"$f":"DATA!O1628","v":0},{"$f":"DATA!P1628","v":0}]
[{"$f":"DATA!C1629","v":0},{"$f":"DATA!D1629","v":0},{"$f":"DATA!E1629","v":0},{"$f":"DATA!H1629","v":0},{"$f":"DATA!I1629","v":0},{"$f":"DATA!J1629","v":0},{"$f":"DATA!K1629","v":0},{"$f":"DATA!L1629","v":0},{"$f":"DATA!M1629","v":0},{"$f":"DATA!N1629","v":0},{"$f":"DATA!O1629","v":0},{"$f":"DATA!P1629","v":0}]
[{"$f":"DATA!C1630","v":0},{"$f":"DATA!D1630","v":0},{"$f":"DATA!E1630","v":0},{"$f":"DATA!H1630","v":0},{"$f":"DATA!I1630","v":0},{"$f":"DATA!J1630","v":0},{"$f":"DATA!K1630","v":0},{"$f":"DATA!L1630","v":0},{"$f":"DATA!M1630","v":0},{"$f":"DATA!N1630","v":0},{"$f":"DATA!O1630","v":0},{"$f":"DATA!P1630","v":0}]
[{"$f":"DATA!C1631","v":0},{"$f":"DATA!D1631","v":0},{"$f":"DATA!E1631","v":0},{"$f":"DATA!H1631","v":0},{"$f":"DATA!I1631","v":0},{"$f":"DATA!J1631","v":0},{"$f":"DATA!K1631","v":0},{"$f":"DATA!L1631","v":0},{"$f":"DATA!M1631","v":0},{"$f":"DATA!N1631","v":0},{"$f":"DATA!O1631","v":0},{"$f":"DATA!P1631","v":0}]
[{"$f":"DATA!C1632","v":0},{"$f":"DATA!D1632","v":0},{"$f":"DATA!E1632","v":0},{"$f":"DATA!H1632","v":0},{"$f":"DATA!I1632","v":0},{"$f":"DATA!J1632","v":0},{"$f":"DATA!K1632","v":0},{"$f":"DATA!L1632","v":0},{"$f":"DATA!M1632","v":0},{"$f":"DATA!N1632","v":0},{"$f":"DATA!O1632","v":0},{"$f":"DATA!P1632","v":0}]
[{"$f":"DATA!C1633","v":0},{"$f":"DATA!D1633","v":0},{"$f":"DATA!E1633","v":0},{"$f":"DATA!H1633","v":0},{"$f":"DATA!I1633","v":0},{"$f":"DATA!J1633","v":0},{"$f":"DATA!K1633","v":0},{"$f":"DATA!L1633","v":0},{"$f":"DATA!M1633","v":0},{"$f":"DATA!N1633","v":0},{"$f":"DATA!O1633","v":0},{"$f":"DATA!P1633","v":0}]
[{"$f":"DATA!C1634","v":0},{"$f":"DATA!D1634","v":0},{"$f":"DATA!E1634","v":0},{"$f":"DATA!H1634","v":0},{"$f":"DATA!I1634","v":0},{"$f":"DATA!J1634","v":0},{"$f":"DATA!K1634","v":0},{"$f":"DATA!L1634","v":0},{"$f":"DATA!M1634","v":0},{"$f":"DATA!N1634","v":0},{"$f":"DATA!O1634","v":0},{"$f":"DATA!P1634","v":0}]
[{"$f":"DATA!C1635","v":0},{"$f":"DATA!D1635","v":0},{"$f":"DATA!E1635","v":0},{"$f":"DATA!H1635","v":0},{"$f":"DATA!I1635","v":0},{"$f":"DATA!J1635","v":0},{"$f":"DATA!K1635","v":0},{"$f":"DATA!L1635","v":0},{"$f":"DATA!M1635","v":0},{"$f":"DATA!N1635","v":0},{"$f":"DATA!O1635","v":0},{"$f":"DATA!P1635","v":0}]
[{"$f":"DATA!C1636","v":0},{"$f":"DATA!D1636","v":0},{"$f":"DATA!E1636","v":0},{"$f":"DATA!H1636","v":0},{"$f":"DATA!I1636","v":0},{"$f":"DATA!J1636","v":0},{"$f":"DATA!K1636","v":0},{"$f":"DATA!L1636","v":0},{"$f":"DATA!M1636","v":0},{"$f":"DATA!N1636","v":0},{"$f":"DATA!O1636","v":0},{"$f":"DATA!P1636","v":0}]
[{"$f":"DATA!C1637","v":0},{"$f":"DATA!D1637","v":0},{"$f":"DATA!E1637","v":0},{"$f":"DATA!H1637","v":0},{"$f":"DATA!I1637","v":0},{"$f":"DATA!J1637","v":0},{"$f":"DATA!K1637","v":0},{"$f":"DATA!L1637","v":0},{"$f":"DATA!M1637","v":0},{"$f":"DATA!N1637","v":0},{"$f":"DATA!O1637","v":0},{"$f":"DATA!P1637","v":0}]